Workbook
Name ____________so02: [1]List4!#REF!
Name ____________so02: [1]List4!#REF!
Name ____________so1: #REF!
Name ____________so1: #REF!
Name ____________so10: #REF!
Name ____________so10: #REF!
Name ____________so4: #REF!
Name ____________so5: #REF!
Name ___________so02: [1]List4!#REF!
Name ___________so1: #REF!
Name ___________so10: #REF!
Name ___________so4: #REF!
Name ___________so5: #REF!
Name __________so02: [1]List4!#REF!
Name __________so1: #REF!
Name __________so10: #REF!
Name __________so4: #REF!
Name __________so5: #REF!
Name _________so02: [1]List4!#REF!
Name _________so1: #REF!
Name _________so10: #REF!
Name _________so4: #REF!
Name _________so5: #REF!
Name ________so02: [1]List4!#REF!
Name ________so1: #REF!
Name ________so10: #REF!
Name ________so4: #REF!
Name ________so5: #REF!
Name _______so02: [1]List4!#REF!
Name _______so1: #REF!
Name _______so10: #REF!
Name _______so4: #REF!
Name _______so5: #REF!
Name ______so02: [1]List4!#REF!
Name ______so1: #REF!
Name ______so10: #REF!
Name ______so4: #REF!
Name ______so5: #REF!
Name _____so02: [1]List4!#REF!
Name _____so1: #REF!
Name _____so10: #REF!
Name _____so4: #REF!
Name _____so5: #REF!
Name ____so02: [1]List4!#REF!
Name ____so1: #REF!
Name ____so10: #REF!
Name ____so4: #REF!
Name ____so5: #REF!
Name ___so02: [1]List4!#REF!
Name ___so1: #REF!
Name ___so10: #REF!
Name ___so4: #REF!
Name ___so5: #REF!
Name __so02: [1]List4!#REF!
Name __so1: #REF!
Name __so10: #REF!
Name __so4: #REF!
Name __so5: #REF!
Name _so02: [1]List4!#REF!
Name _so1: #REF!

Sheet Celkový súhrn
A1: Celkový súhrn
A3: Dobudovanie a intenzifikácia ČOV Levoča
A5: Položka | B5: Cena bez DPH [EUR]
A6: Stavebné objekty (SO) | B6: =Rekapitulácia!B57 -> 0
A7: Prevádzkové súbory (PS) | B7: =Rekapitulácia!B68 -> 0
A8: Spolu SO+PS | B8: =SUM(B6:B7) -> 0
A10: Všeobecné položky | B10: ='Všeobecné pol.'!D7 -> 0
A12: Celková cena EUR bez DPH | B12: =B8+B10 -> 0
A13: DPH 20% | B13: =B12*0.2 -> 0
A14: Celková cena EUR vrátane DPH | B14: =SUM(B12:B13) -> 0

Sheet Všeobecné pol.
A1: DOBUDOVANIE A INTENZIFIKÁCIA ČOV LEVOČA
A2: Všeobecné položky
A4: P.č. | B4: Názov položky | C4: Merná jednotka | D4: Cena celkom (EUR)
A5: 1 | B5: Dokumentácia skutočného vyhotovenia, porealizačné geodetické zameranie vrátane geometrických plánov | C5: p.s. | D5: 0
A6: 2 | B6: Manipulačné a prevádzkové poriadky stavby, vrátane zmien | C6: p.s. | D6: 0
B7: Všeobecné položky celkom | D7: =SUM(D5:D6) -> 0

Sheet Rekapitulácia
A1: Rekapitulácia
A3: Stavba: Dobudovanie a intenzifikácia ČOV Levoča
A5: Stavebné objekty
A6: Názov SO | B6: Cena bez DPH [EUR]
A7: SO-01 Príjmová komora žumpových vôd | B7: ='SO-01'!G100 -> 0
A8: SO-02 Mechanické predčistenie | B8: =SUBTOTAL(9,B9:B12) -> 0
A9: architektúra | B9: ='SO-02'!G205 -> 0
A10: elektročasť | B10: ='SO-02 eli'!F100 -> 0
A11: VZT | B11: ='SO-02 vzt'!H31 -> 0
A12: ZTI | B12: ='so02 zti'!F52 -> 0
A13: SO-03 Čerpacia stanica | B13: ='SO-03'!G108 -> 0
A14: SO-04 Združený objekt biologického čistenia | B14: =SUBTOTAL(9,B15:B16) -> 0
A15: architektúra | B15: ='SO-04'!G78 -> 0
A16: elektročasť | B16: ='SO-04 eli'!F43 -> 0
A17: SO-05 Združený objekt dúcharne a prevádzkovej budovy | B17: =SUBTOTAL(9,B18:B21) -> 0
A18: architektúra | B18: ='SO-05'!G160 -> 0
A19: elektročasť | B19: ='SO-05 eli'!F113 -> 0
A20: VZT | B20: ='SO-05 vzt'!H49 -> 0
A21: ZTI | B21: ='SO-05 zti'!F106 -> 0
A22: SO-06 Dávkovanie síranu železitého | B22: ='SO-06'!G43 -> 0
A23: SO-07 Dosadzovacie nádrže | B23: ='SO-07'!G92 -> 0
A24: SO-08 Nádrže kalového hospodárstva | B24: =SUBTOTAL(9,B25:B26) -> 0
A25: architektúra | B25: ='SO-08'!G46 -> 0
A26: elektročasť | B26: ='SO-08 eli'!F85 -> 0
A27: SO-09 Strojovňa zahustenia a odvodnenia kalu | B27: =SUBTOTAL(9,B28:B31) -> 0
A28: architektúra | B28: ='SO-09'!G196 -> 0
A29: elektročasť | B29: ='SO-09 eli'!F79 -> 0
A30: VZT | B30: ='SO-09 vzt'!H34 -> 0
A31: ZTI | B31: ='SO-09 zti'!F80 -> 0
A32: SO-10 Krytá skládka kalu | B32: =SUBTOTAL(9,B33:B34) -> 0
A33: architektúra | B33: ='SO-10'!G68 -> 0
A34: elektročasť | B34: ='SO-10 eli'!F45 -> 0
A35: SO-11 Čerpacia stanica kalových vôd | B35: ='SO-11'!G44 -> 0
A36: SO-12 Merný žľab | B36: =SUBTOTAL(9,B37:B38) -> 0
A37: architektúra | B37: ='SO-12'!G46 -> 0
A38: elektročasť | B38: ='SO-12 eli'!F45 -> 0
A39: SO-13 Prepojovacie potrubia | B39: =SUBTOTAL(9,B40:B41) -> 0
A40: SO-13.1 Prepojovacie potrubia | B40: ='SO-13.1'!F38 -> 0
A41: SO-13.2 Dočasné prepojovacie potrubia | B41: ='SO-13.2'!F85 -> 0
A42: SO-14 Kanalizácia | B42: ='SO-14'!F24 -> 0
A43: SO-15 Rozvody úžitkovej vody | B43: =SUBTOTAL(9,B44:B46) -> 0
A44: SO-15.1 Potrubné rozvody | B44: ='SO-15.1'!F27 -> 0
A45: SO-15.2 Rozvody úžitkovej vody - stavebné objekty | B45: ='SO-15.2'!G69 -> 0
A46: elektročasť | B46: ='SO-15 eli'!F33 -> 0
A47: SO-16 Rozvody pitnej vody | B47: =SUBTOTAL(9,B48:B49) -> 0
A48: SO-16.1 Rozvody pitnej vody | B48: ='SO-16.1'!F27 -> 0
A49: SO-16.2 Rozvody pitnej vody - stavebné objekty | B49: ='SO-16.2'!G48 -> 0
A50: SO-17 Káblová prípojka VN 22 kV | B50: ='SO-17'!F47 -> 0
A51: SO-18 Trafostanica | B51: ='SO-18'!F30 -> 0
A52: SO-19 Sekundárne káblové rozvody NN | B52: ='SO-19'!F33 -> 0
A53: SO-20 Vonkajšie osvetlenie a uzemňovacia sústava | B53: ='SO-20'!F43 -> 0
A54: SO-21 Komunikácie a spevnené plochy | B54: =SUBTOTAL(9,B55:B56) -> 0
A55: SO-21 Komunikácie a spevnené plochy - 1. časť | B55: ='SO-21 1.časť'!G48 -> 0
A56: SO-21 Komunikácie a spevnené plochy - 2. časť | B56: ='SO-21 2.časť'!G60 -> 0
A57: SPOLU: | B57: =SUBTOTAL(9,B7:B56) -> 0
A60: Prevádzkové súbory
A61: Názov PS | B61: Cena bez DPH [EUR]
A62: PS-01 Mechanické predčistenie | B62: ='PS-01 rúry'!H118 -> 0
A63: PS-02 Biologické čistenie a rozvod tlakového vzduchu | B63: ='PS-02 rúry'!H161 -> 0
A64: PS-03 Dodsadzovacie nádrže | B64: ='PS-03 rúry'!H31 -> 0
A65: PS-04 Kalové hospodárstvo | B65: ='PS04-demontážne práce'!H29 -> 0
A66: PS-05 Prevádzkový rozvod silnoprúdu | B66: ='PS05 PRS'!F62 -> 0
A67: PS-06 MaR a ASRTP | B67: ='PS 06 MaR a ASRTP'!F64 -> 0
A68: SPOLU: | B68: =SUBTOTAL(9,B62:B67) -> 0
A70: Náklady na stavbu celkom : | B70: =B57+B68 -> 0

Sheet SO-01
A1: DOBUDOVANIE A INTENZIFIKÁCIA ČOV LEVOČA
A2: SO - 01 PRÍJMOVÁ KOMORA ŽUMPOVÝCH VÔD
A4: ČP | B4: Kód položky | C4: Popis | D4: MJ | E4: Množstvo | F4: J. cena (EUR) | G4: Celková cena (EUR) | H4: Hmotnosť celkom | I4: Suť celkom
A5: 0 | B5: HSV | C5: Práce a dodávky HSV | G5: =G6+G15+G24+G26+G31+G33+G38+G54 -> 0 | H5: =H6+H15+H24+H26+H31+H33+H38+H54 -> 200.866 | I5: =I6+I15+I24+I26+I31+I33+I38+I54 -> 2.219
A6: 0 | B6: 1 | C6: Zemné práce | G6: =SUM(G7:G14) -> 0 | H6: =SUM(H7:H14) -> 0.031
A7: 1 | B7: 131201101 | C7: Výkop nezapaženej jamy v hornine 3, do 100 m3 | D7: m3 | E7: 86.24 | F7: 0 | G7: =E7*F7 -> 0
A8: 2 | B8: 131201109 | C8: Hĺbenie nezapažených jám a zárezov. Príplatok za lepivosť horniny 3 | D8: m3 | E8: 25.872 | F8: 0 | G8: =E8*F8 -> 0
A9: 3 | B9: 151101201 | C9: Paženie stien bez rozopretia alebo vzopretia, príložné hĺbky do 4m | D9: m2 | E9: 44.296 | F9: 0 | G9: =E9*F9 -> 0 | H9: 0.031
A10: 4 | B10: 151101211 | C10: Odstránenie paženia stien príložné hĺbky do 4 m | D10: m2 | E10: 44.296 | F10: 0 | G10: =E10*F10 -> 0
A11: 5 | B11: 174101001 | C11: Zásyp sypaninou so zhutnením jám, šachiet, rýh, zárezov alebo okolo objektov do 100 m3 | D11: m3 | E11: 31.041 | F11: 0 | G11: =E11*F11 -> 0
A12: 6 | B12: 162301101 | C12: Vodorovné premiestnenie výkopku po spevnenej ceste z horniny tr.1-4, do 100 m3 na vzdialenosť do 500 m | D12: m3 | E12: 55.199 | F12: 0 | G12: =E12*F12 -> 0
A13: 7 | B13: 171201201 | C13: Uloženie sypaniny na skládky do 100 m3 | D13: m3 | E13: 55.199 | F13: 0 | G13: =E13*F13 -> 0
A14: 8 | B14: 171209002 | C14: Poplatok za skladovanie - zemina a kamenivo (17 05) ostatné | D14: t | E14: 82.799 | F14: 0 | G14: =E14*F14 -> 0
A15: 0 | B15: 3 | C15: Zvislé a kompletné konštrukcie | G15: =SUM(G16:G23) -> 0 | H15: =SUM(H16:H23) -> 123.906
A16: 9 | B16: 380311531 | C16: Kompletné konštrukcie čistiarní odpadových vôd z betónu prostého tr. C 12/15, hr. 80-150 mm | D16: m3 | E16: 3.116 | F16: 0 | G16: =E16*F16 -> 0 | H16: 10.265
A17: 10 | B17: 380326232 | C17: Kompletné konštrukcie čistiarní odpadových vôd zo železobetónu vodostavebného C 25/30, hr. 150-300 mm, vrátane tesnenia pracovných škár | D17: m3 | E17: 20.291 | F17: 0 | G17: =E17*F17 -> 0 | H17: 68.782
A18: 11 | B18: 380326233 | C18: Kompletné konštrukcie čistiarní odpadových vôd zo železobetónu vodostavebného C 25/30, hr. nad 300 mm, vrátane tesnenia pracovných škár | D18: m3 | E18: 10.032 | F18: 0 | G18: =E18*F18 -> 0 | H18: 28.695
A19: 12 | B19: 380311762 | C19: Kompletné konštrukcie čistiarní odpad. vôd z betónu prostého tr. C 20/25, hr. nad 150 do 300 mm | D19: m3 | E19: 4.406 | F19: 0 | G19: =E19*F19 -> 0 | H19: 12.414
A20: 13 | B20: 380356211 | C20: Debnenie kompl. konštrukcií čistiarní odpad. vôd z plôch rovinných zhotovenie | D20: m2 | E20: 137.248 | F20: 0 | G20: =E20*F20 -> 0 | H20: 0.579
A21: 14 | B21: 380356212 | C21: Debnenie kompl. konštrukcií čistiarní odpad. vôd z plôch rovinných odstránenie | D21: m2 | E21: 137.248 | F21: 0 | G21: =E21*F21 -> 0
A22: 15 | B22: 380361002 | C22: Výstuž komplet. konstr. čist., odpadových vôd a nádrží zo zvarovaných sietí KARI | D22: t | E22: 0.065 | F22: 0 | G22: =E22*F22 -> 0 | H22: 0.066
A23: 16 | B23: 380361006 | C23: Výstuž komplet. konstr. čist., odpadových vôd a nádrží z ocele B500 B | D23: t | E23: 3.065 | F23: 0 | G23: =E23*F23 -> 0 | H23: 3.105
A24: 0 | B24: 4 | C24: Vodorovné konštrukcie | G24: =G25 -> 0 | H24: =H25 -> 2.444
A25: 17 | B25: 451571111 | C25: Lôžko pod dlažby zo štrkopiesku hr.vrstvy do 100 mm | D25: m2 | E25: 11.5 | F25: 0 | G25: =E25*F25 -> 0 | H25: 2.444
A26: 0 | B26: 5 | C26: Komunikácie | G26: =SUM(G27:G30) -> 0 | H26: =SUM(H27:H30) -> 20.043
A27: 18 | B27: 567114311 | C27: Podklad z podkladového betónu PB III tr. C 12/15 hr. 100 mm-betonová plocha okolo PK a SŠ | D27: m2 | E27: 19.95 | F27: 0 | G27: =E27*F27 -> 0 | H27: 5.386
A28: 19 | B28: 581130115 | C28: Kryt cementobetónový cestných komunikácií skupiny CB I pre TDZ I a II, hr. 200 mm | D28: m2 | E28: 19.95 | F28: 0 | G28: =E28*F28 -> 0 | H28: 10.8
A29: 20 | B29: 596811320 | C29: Kladenie betónovej dlažby komunikacií pre peších do lôžka z kameniva, veľ. do 0,25 m2 plochy do 50 m2 | D29: m2 | E29: 11.5 | F29: 0 | G29: =E29*F29 -> 0 | H29: 1.162
A30: 21 | B30: 592270000100 | C30: Tvárnica priekopová a melioračná, doska obkladová betónová TBM 2-50, rozmer 500x500x100 mm | D30: ks | E30: 46.46 | F30: 0 | G30: =E30*F30 -> 0 | H30: 2.695
A31: 0 | B31: 6 | C31: Úpravy povrchov, podlahy, osadenie | G31: =G32 -> 0 | H31: =H32 -> 1.395
A32: 22 | B32: 612462413 | C32: Vnútorná sanačná omietka stien BAUMIT Sanova trasová omietka WTA, hr. 30 mm | D32: m2 | E32: 34 | F32: 0 | G32: =E32*F32 -> 0 | H32: 1.395
A33: 0 | B33: 8 | C33: Rúrové vedenie | G33: =SUM(G34:G37) -> 0 | H33: =SUM(H34:H37) -> 0.081
A34: 23 | B34: 877414250 | C34: Montáž kanalizačného PP šachtového prechodu DN 300 mm | D34: ks | E34: 1 | F34: 0 | G34: =E34*F34 -> 0
A35: 24 | B35: 286540133000 | C35: Šachtová prechodka X-Stream PP, DN 300 mm pre gravitačnú kanalizáciu, WAVIN | D35: ks | E35: 1 | F35: 0 | G35: =E35*F35 -> 0 | H35: 0.001
A36: 25 | B36: 877441251 | C36: Montáž šachtovej prechodky na potrubie z kanalizačných odstredivo liatych sklolaminátových rúr DN 600 mm | D36: ks | E36: 2 | F36: 0 | G36: =E36*F36 -> 0
A37: 26 | B37: 286410023300 | C37: Šachtový prechod tzp C s golierom pre sklolaminát PN 1 DN 600 mm, SN 10000, HOBAS, pol.č. "7" | D37: ks | E37: 2 | F37: 0 | G37: =E37*F37 -> 0 | H37: 0.08
A38: 0 | B38: 9 | C38: Ostatné konštrukcie a práce-búranie | G38: =SUM(G39:G53) -> 0 | H38: =SUM(H39:H53) -> 52.966 | I38: =SUM(I39:I53) -> 2.219
A39: 27 | B39: 917762111 | C39: Osadenie cestného obrubníka betónového ležatého do lôžka z betónu prosteho tr. C 12/15 s bočnou oporou | D39: m | E39: 13.5 | F39: 0 | G39: =E39*F39 -> 0 | H39: 2.221
A40: 28 | B40: 592170003800 | C40: Obrubník SEMMELROCK cestný so skosením, lxšxv 1000x150x250 mm, sivá | D40: ks | E40: 13.635 | F40: 0 | G40: =E40*F40 -> 0 | H40: 1.104
A41: 29 | B41: 933901111 | C41: Skúšky vodotesnosti betónovej nádrže akéhokoľvek druhu a tvaru, s obsahom do 1000 m3 | D41: m3 | E41: 48.186 | F41: 0 | G41: =E41*F41 -> 0
A42: 30 | B42: 082110000200 | C42: Voda pitná pre priemysel a služby | D42: m3 | E42: 49.632 | F42: 0 | G42: =E42*F42 -> 0 | H42: 49.632
A43: 31 | B43: 938902071 | C43: Očistenie povrchu betónových konštrukcií tlakovou vodou | D43: m2 | E43: 34 | F43: 0 | G43: =E43*F43 -> 0
A44: 32 | B44: 938902051 | C44: Očistenie povrchu betónových konštrukcií otryskaním - pod izoláciu | D44: m2 | E44: 34 | F44: 0 | G44: =E44*F44 -> 0
A45: 33 | B45: 961043111 | C45: Búranie základov z betónu prostého alebo preloženého kameňom, -2,20000t-betóny VŠ, vo vnútry a podkladný betón | D45: m3 | E45: 0.78 | F45: 0 | G45: =E45*F45 -> 0 | I45: 1.716
A46: 34 | B46: 974049153 | C46: Vysekanie rýh v betónových stenách do hĺbky 100 mm a š. do 100 mm, -0,02200t-drážka v dne VŠ | D46: m | E46: 1.2 | F46: 0 | G46: =E46*F46 -> 0 | I46: 0.026
A47: 35 | B47: 974049154 | C47: Vysekanie rýh v betónových stenách do hĺbky 100 mm a š. do 150 mm, -0,03300t-drážka v dne SŠ | D47: m | E47: 1 | F47: 0 | G47: =E47*F47 -> 0 | I47: 0.033
A48: 36 | B48: 959941131 | C48: Chemická kotva s kotevným svorníkom tesnená chemickou ampulkou do betónu, ŽB, kameňa, HIT-RE 500 V3, M16x150 | D48: ks | E48: 28 | F48: 0 | G48: =E48*F48 -> 0 | H48: =0.00032*28 -> 0.009
A49: 37 | B49: PC | C49: Odstránenie pôvodnej - jestvujúcej betonovej sútokovej šachty, poožka uvádzaná s výmerou na obostavaný priestor | D49: m3 | E49: 10 | F49: 0 | G49: =E49*F49 -> 0
A50: 38 | B50: 976071111 | C50: Vybúranie kovových madiel a zábradlí, -0,03700t | D50: m | E50: 12 | F50: 0 | G50: =E50*F50 -> 0 | I50: 0.444
A51: 39 | B51: 979081111 | C51: Odvoz sutiny a vybúraných hmôt na skládku do 1 km | D51: t | E51: 2.219 | F51: 0 | G51: =E51*F51 -> 0
A52: 40 | B52: 979081121 | C52: Odvoz sutiny a vybúraných hmôt na skládku za každý ďalší 1 km | D52: t | E52: 31.066 | F52: 0 | G52: =E52*F52 -> 0
A53: 41 | B53: 979089012 | C53: Poplatok za skladovanie - betón, tehly, dlaždice (17 01) ostatné | D53: t | E53: 2.219 | F53: 0 | G53: =E53*F53 -> 0
A54: 0 | B54: 99 | C54: Presun hmôt HSV | G54: =G55 -> 0
A55: 42 | B55: 998142251 | C55: Presun hmôt pre obj.8141, 8142,8143,zvislá nosná konštr.monolitická betónová,výšky do 25 m | D55: t | E55: 200.866 | F55: 0 | G55: =E55*F55 -> 0
A56: 0 | B56: PSV | C56: Práce a dodávky PSV | G56: =G57+G64+G69 -> 0 | H56: =H57+H64+H69 -> 1.015
A57: 0 | B57: 711 | C57: Izolácie proti vode a vlhkosti | G57: =SUM(G58:G63) -> 0 | H57: =SUM(H58:H63) -> 0.037
A58: 43 | B58: 711113220 | C58: Zhotovenie náteru kryštalickou izoláciou Xypex na ploche vodorovnej | D58: m2 | E58: 5.25 | F58: 0 | G58: =E58*F58 -> 0 | H58: 0.002
A59: 44 | B59: 245640000300 | C59: Náter izolačný XYPEX CONCENTRATE XC5, kryštalická izolácia, HYDROSTOP | D59: kg | E59: 3.938 | F59: 0 | G59: =E59*F59 -> 0 | H59: 0.004
A60: 45 | B60: 711113225 | C60: Zhotovenie náteru kryštalickou izoláciou Xypex na ploche zvislej | D60: m2 | E60: 28.75 | F60: 0 | G60: =E60*F60 -> 0 | H60: 0.009
A61: 46 | B61: 245640000300 | C61: Náter izolačný XYPEX CONCENTRATE XC5, kryštalická izolácia, HYDROSTOP | D61: kg | E61: 21.563 | F61: 0 | G61: =E61*F61 -> 0 | H61: 0.022
A62: 47 | B62: 998711101 | C62: Presun hmôt pre izoláciu proti vode v objektoch výšky do 6 m | D62: t | E62: 0.037 | F62: 0 | G62: =E62*F62 -> 0
A63: 48 | B63: 998711192 | C63: Izolácia proti vode, prípl.za presun nad vymedz. najväčšiu dopravnú vzdialenosť do 100 m | D63: t | E63: 0.037 | F63: 0 | G63: =E63*F63 -> 0
B64: 713 | C64: Izolácie tepelné | G64: =SUM(G65:G68) -> 0 | H64: =SUM(H65:H68) -> 0.009
A65: 49 | B65: 713132213 | C65: Montáž tepelnej izolácie podzemných stien a základov xps kotvením-styrodur medzi stenou SŠ a stenou VŠ | D65: m2 | E65: 5.064 | F65: 0 | G65: =E65*F65 -> 0 | H65: 0.001
A66: 50 | B66: 283750000700 | C66: Doska XPS STYRODUR 2800 C hr. 50 mm, zateplenie soklov, suterénov, podláh, ISOVER | D66: m2 | E66: 5.165 | F66: 0 | G66: =E66*F66 -> 0 | H66: 0.008
A67: 51 | B67: 998713101 | C67: Presun hmôt pre izolácie tepelné v objektoch výšky do 6 m | D67: t | E67: 0.009 | F67: 0 | G67: =E67*F67 -> 0
A68: 52 | B68: 998713192 | C68: Izolácie tepelné, prípl.za presun nad vymedz. najväčšiu dopravnú vzdial. do 100 m | D68: t | E68: 0.009 | F68: 0 | G68: =E68*F68 -> 0
A69: 0 | B69: 767 | C69: Konštrukcie doplnkové kovové | G69: =SUM(G70:G92) -> 0 | H69: =SUM(H70:H92) -> 0.969
A70: 53 | B70: 767162110 | C70: Montáž zábradlia rovného z profilovej ocele do muriva, s hmotnosťou 1 m zábradlia do 20 kg | D70: m | E70: 12.1 | F70: 0 | G70: =E70*F70 -> 0 | H70: 0.001
A71: 54 | B71: PC 1 | C71: Dodávka zábradlia na korune ČS vo vyhotovení nerez pol.č. "10" | D71: m | E71: 12.1 | F71: 0 | G71: =E71*F71 -> 0 | H71: 0.166
A72: 55 | B72: 767510111 | C72: Montáž kanálových krytov osadenie krytov | D72: kg | E72: 480 | F72: 0 | G72: =E72*F72 -> 0 | H72: 0.024
A73: 56 | B73: PC 2 | C73: Dodávka prekrytia komory nerezovým plechom rozmeru 960x610x5 mm | D73: ks | E73: 1 | F73: 0 | G73: =E73*F73 -> 0 | H73: 0.024
A74: 57 | B74: PC 3 | C74: Dodávka prekrytia komory nerezovým plechom rozmeru 960x910x5 mm | D74: ks | E74: 1 | F74: 0 | G74: =E74*F74 -> 0 | H74: 0.035
A75: 58 | B75: PC 4 | C75: Dodávka prekrytia nerezovým plechom s 1 výstuhou rozmeru 1860x660x5 mm | D75: ks | E75: 1 | F75: 0 | G75: =E75*F75 -> 0 | H75: 0.049
A76: 59 | B76: PC 5 | C76: Dodávka prekrytia nerezovým plechom s 2 výstuhami rozmeru 1860x650x5 mm | D76: ks | E76: 2 | F76: 0 | G76: =E76*F76 -> 0 | H76: 0.096
A77: 60 | B77: PC 6 | C77: Dodávka prekrytia nerezovým plechom nepravideľným s 1 výstuhou rozmerov 1060x790x1760x520x5 mm | D77: ks | E77: 1 | F77: 0 | G77: =E77*F77 -> 0 | H77: 0.047
A78: 61 | B78: PC 7 | C78: Dodávka prekrytia nerezovým plechom s 1 výstuhou rozmeru 960x715x5 mm | D78: ks | E78: 2 | F78: 0 | G78: =E78*F78 -> 0 | H78: 0.058
A79: 62 | B79: PC 8 | C79: Dodávka prekrytia nerezovým plechom s 2 výstuhami a výrezom pre ovládaciu tyč uzáveru rozmeru 960x715x5 mm | D79: ks | E79: 2 | F79: 0 | G79: =E79*F79 -> 0 | H79: 0.058
A80: 63 | B80: PC 9 | C80: Dodávka prekrytia nerezovým plechom s 1 výstuhou rozmeru 910x735x5 mm | D80: ks | E80: 2 | F80: 0 | G80: =E80*F80 -> 0 | H80: 0.056
A81: 64 | B81: PC 10 | C81: Dodávka prekrytia nerezovým plechom s 2 výstuhami rozmeru 910x765x5 mm | D81: ks | E81: 2 | F81: 0 | G81: =E81*F81 -> 0 | H81: 0.056
A82: 65 | B82: 767833100 | C82: Montáž rebríkov do muriva s bočnicami z profilovej ocele, z rúrok alebo z tenkostenných profilov | D82: m | E82: 5.3 | F82: 0 | G82: =E82*F82 -> 0
A83: 66 | B83: PC 11 | C83: Dodávka rebríka PKŽV dĺžky 1400 mm vo vyhotovení nerez | D83: ks | E83: 1 | F83: 0 | G83: =E83*F83 -> 0 | H83: 0.024
A84: 67 | B84: PC 12 | C84: Dodávka rebríka SŠ dĺžky 1400 mm vo vyhotovení nerez | D84: ks | E84: 1 | F84: 0 | G84: =E84*F84 -> 0 | H84: 0.024
A85: 68 | B85: PC 13 | C85: Dodávka rebríka na korunu ČS dĺžky 2500 mm vo vyhotovení nerez | D85: ks | E85: 1 | F85: 0 | G85: =E85*F85 -> 0 | H85: 0.035
A86: 69 | B86: 767995103 | C86: Montáž ostatných atypických kovových stavebných doplnkových konštrukcií nad 10 do 20 kg | D86: kg | E86: 140.82 | F86: 0 | G86: =E86*F86 -> 0 | H86: 0.008
A87: 70 | B87: 132310002100 | C87: Profil nerez L rozmer 50x50x4 mm, akosť ocele 1.4301 | D87: kg | E87: 101.8 | F87: 0 | G87: =E87*F87 -> 0 | H87: 0.102
A88: 71 | B88: 132310002101 | C88: Profil nerez L rozmer 50x30x4 mm, akosť ocele 1.4301 | D88: kg | E88: 39.02 | F88: 0 | G88: =E88*F88 -> 0 | H88: 0.039
A89: 72 | B89: 767995105 | C89: Montáž ostatných atypických kovových stavebných doplnkových konštrukcií nad 50 do 100 kg | D89: kg | E89: 63.98 | F89: 0 | G89: =E89*F89 -> 0 | H89: 0.003
A90: 73 | B90: 132310000800 | C90: Tyč oceľová prierezu L 60x60x5 mm, ozn. 10 000, podľa EN ISO S185 | D90: t | E90: 0.064 | F90: 0 | G90: =E90*F90 -> 0 | H90: 0.064
A91: 74 | B91: 998767102 | C91: Presun hmôt pre kovové stavebné doplnkové konštrukcie v objektoch výšky nad 6 do 12 m | D91: t | E91: 0.969 | F91: 0 | G91: =E91*F91 -> 0
A92: 75 | B92: 998767192 | C92: Kovové stav.dopln.konštr., prípl.za presun nad najväčšiu dopr. vzdial. do 100 m | D92: t | E92: 0.969 | F92: 0 | G92: =E92*F92 -> 0
A93: 0 | B93: M | C93: Práce a dodávky M | G93: =G94 -> 0
A94: 0 | B94: 23-M | C94: Montáže potrubia | G94: =SUM(G95:G98) -> 0
A95: 76 | B95: PC 14 | C95: Vláknocementová pažnica HRD 150-FU 2/300 | D95: ks | E95: 1 | F95: 0 | G95: =E95*F95 -> 0
A96: 77 | B96: PC 15 | C96: Modulárne reťazové tesnenie Z x GKD 315 | D96: ks | E96: 1 | F96: 0 | G96: =E96*F96 -> 0
A97: 78 | B97: PC 16 | C97: Vláknocementová pažnica HRD 300-FU 2/300 | D97: ks | E97: 2 | F97: 0 | G97: =E97*F97 -> 0
A98: 79 | B98: PC 17 | C98: Modulárne reťazové tesnenie Z x GKD 440 | D98: ks | E98: 2 | F98: 0 | G98: =E98*F98 -> 0
C100: Náklad na stavebný objekt - celkom : | G100: =G93+G56+G5 -> 0

Sheet SO-02
A1: DOBUDOVANIE A INTENZIFIKÁCIA ČOV LEVOČA
A2: SO - 02 MECHANICKÉ PREDČISTENIE
A4: ČP | B4: Kód položky | C4: Popis | D4: MJ | E4: Množstvo | F4: J. cena (EUR) | G4: Celková cena (EUR) | H4: Hmotnosť celkom
A5: 0 | B5: HSV | C5: Práce a dodávky HSV | G5: =G6+G20+G42+G56+G60+G76+G87 -> 0 | H5: =H6+H20+H42+H56+H60+H76+H87 -> 1514.469
A6: 0 | B6: 1 | C6: Zemné práce | G6: =SUM(G7:G19) -> 0 | H6: =SUM(H7:H19) -> 0.754
A7: 1 | B7: 115001103 | C7: Odvedenie vody potrubím pri priemere potrubia DN nad 150 do 250 | D7: m | E7: 80 | F7: 0 | G7: =E7*F7 -> 0 | H7: 0.754
A8: 2 | B8: 115101201 | C8: Čerpanie vody na dopravnú výšku do 10 m s priemerným prítokom litrov za minútu nad 100 do 500 l | D8: hod | E8: 2880 | F8: 0 | G8: =E8*F8 -> 0
A9: 3 | B9: 115101301 | C9: Pohotovosť záložnej čerpacej súpravy pre výšku do 10 m, s prítokom litrov za minútu nad 100 do 500 l | D9: deň | E9: 120 | F9: 0 | G9: =E9*F9 -> 0
A10: 4 | B10: 131201202 | C10: Výkop zapaženej jamy v hornine 3, nad 100 do 1000 m3 | D10: m3 | E10: 924.002 | F10: 0 | G10: =E10*F10 -> 0
A11: 5 | B11: 131201209 | C11: Príplatok za lepivosť pri hĺbení zapažených jám a zárezov s urovnaním dna v hornine 3 | D11: m3 | E11: 277.201 | F11: 0 | G11: =E11*F11 -> 0
A12: 6 | B12: 132201101 | C12: Výkop ryhy do šírky 600 mm v horn.3 do 100 m3 | D12: m3 | E12: 83.516 | F12: 0 | G12: =E12*F12 -> 0
A13: 7 | B13: 132201109 | C13: Príplatok k cene za lepivosť pri hĺbení rýh šírky do 600 mm zapažených i nezapažených s urovnaním dna v hornine 3 | D13: m3 | E13: 25.055 | F13: 0 | G13: =E13*F13 -> 0
A14: 8 | B14: 162301141 | C14: Vodorovné premiestnenie výkopku po spevnenej ceste z horniny tr.1-4, nad 1000 do 10000 m3 na vzdialenosť nad 50 do 500 m | D14: m3 | E14: 1007.518 | F14: 0 | G14: =E14*F14 -> 0
A15: 9 | B15: 171201203 | C15: Uloženie sypaniny na skládky nad 1000 do 10000 m3 | D15: m3 | E15: 1007.518 | F15: 0 | G15: =E15*F15 -> 0
A16: 10 | B16: 171209002 | C16: Poplatok za skladovanie - zemina a kamenivo (17 05) ostatné | D16: t | E16: 1511.277 | F16: 0 | G16: =E16*F16 -> 0
A17: 11 | B17: 167101102 | C17: Nakladanie neuľahnutého výkopku z hornín tr.1-4 nad 100 do 1000 m3 | D17: m3 | E17: 287.492 | F17: 0 | G17: =E17*F17 -> 0
A18: 12 | B18: 162301121 | C18: Vodorovné premiestnenie výkopku po spevnenej ceste z horniny tr.1-4, nad 100 do 1000 m3 na vzdialenosť nad 50 do 500 m | D18: m3 | E18: 287.492 | F18: 0 | G18: =E18*F18 -> 0
A19: 13 | B19: 174101002 | C19: Zásyp sypaninou so zhutnením jám, šachiet, rýh, zárezov alebo okolo objektov nad 100 do 1000 m3 | D19: m3 | E19: 287.492 | F19: 0 | G19: =E19*F19 -> 0
A20: 0 | B20: 2 | C20: Zakladanie | G20: =SUM(G21:G41) -> 0 | H20: =SUM(H21:H41) -> 513.296
A21: 14 | B21: 231942221 | C21: Oceľové štetovnice pre štetové steny baranené alebo nasadené rezanie pozdľžne na skládke | D21: m | E21: 30 | F21: 0 | G21: =E21*F21 -> 0 | H21: 0.004
A22: 15 | B22: 231942231 | C22: Oceľové štetovnice pre štetové steny baranené alebo nasadené rezanie otvorov na skládke | D22: ks | E22: 118 | F22: 0 | G22: =E22*F22 -> 0 | H22: 0.001
A23: 16 | B23: 231942321 | C23: Oceľové štetovnice pre štetové steny baranené alebo nasadené zváranie pozdľžne na skládke | D23: m | E23: 30 | F23: 0 | G23: =E23*F23 -> 0 | H23: 0.034
A24: 17 | B24: 231943111 | C24: Steny baranené z oceľových štetovníc z terénu nastraženie pri dľžke štetovníc do 10 m | D24: m2 | E24: 386.4 | F24: 0 | G24: =E24*F24 -> 0 | H24: 0.058
A25: 18 | B25: 231943211 | C25: Steny baranené z oceľových štetovníc z terénu zabaranenie na dľžku do 10 m | D25: m2 | E25: 386.4 | F25: 0 | G25: =E25*F25 -> 0
A26: 19 | B26: 134600000100 | C26: Profil oceľový hrubý na štetovnice (neopracovaný) LARSEN (10 370) 3n | D26: t | E26: 59.892 | F26: 0 | G26: =E26*F26 -> 0 | H26: 59.892
A27: 20 | B27: 237941111 | C27: Vytiahnutie štetovnicových stien z oceľových štetovníc zabaranených do 2 rokov, do 10m | D27: m2 | E27: 386.4 | F27: 0 | G27: =E27*F27 -> 0
A28: 21 | B28: 242111113 | C28: Osadenie plášťa vodárenskej studne z betónových skruží celokruhových DN 1000 | D28: m | E28: 4 | F28: 0 | G28: =E28*F28 -> 0 | H28: 0.099
A29: 22 | B29: 592250000500 | C29: Prefabrikát betónový pre studne, skruž kruhová TBH 2-100, DN 1000, dĺžka 1000 mm, hr. steny 90 mm | D29: ks | E29: 4.04 | F29: 0 | G29: =E29*F29 -> 0 | H29: 2.868
A30: 23 | B30: 212752126 | C30: Trativody z flexodrenážnych rúr DN 125 | D30: m | E30: 23.625 | F30: 0 | G30: =E30*F30 -> 0 | H30: 5.888
A31: 24 | B31: 271571111 | C31: Vankúše zhutnené pod základy zo štrkopiesku | D31: m3 | E31: 77.068 | F31: 0 | G31: =E31*F31 -> 0 | H31: 159.253
A32: 25 | B32: 289971412 | C32: Geomreža pre stabilizáciu podkladu tuhá jednoosá z PE, ťah. 50-65 KN/m | D32: m2 | E32: 289.005 | F32: 0 | G32: =E32*F32 -> 0 | H32: 0.711
A33: 26 | B33: 273313521 | C33: Betón základových dosiek, prostý tr. C 12/15-podkladný betón | D33: m3 | E33: 32.841 | F33: 0 | G33: =E33*F33 -> 0 | H33: 77.365
A34: 27 | B34: 273351217 | C34: Debnenie stien základových dosiek, zhotovenie-tradičné | D34: m2 | E34: 23.415 | F34: 0 | G34: =E34*F34 -> 0 | H34: 0.095
A35: 28 | B35: 273351218 | C35: Debnenie stien základových dosiek, odstránenie-tradičné | D35: m2 | E35: 23.415 | F35: 0 | G35: =E35*F35 -> 0
A36: 29 | B36: 274321411 | C36: Betón základových pásov, železový (bez výstuže) tr. C 25/30 | D36: m3 | E36: 83.78 | F36: 0 | G36: =E36*F36 -> 0 | H36: =2.41572*E36 -> 202.389
A37: 30 | B37: 274351217 | C37: Debnenie stien základových pásov, zhotovenie-tradičné | D37: m2 | E37: 211.55 | F37: 0 | G37: =E37*F37 -> 0 | H37: =0.00407*211.55 -> 0.861
A38: 31 | B38: 274351218 | C38: Debnenie stien základových pásov, odstránenie-tradičné | D38: m2 | E38: 211.55 | F38: 0 | G38: =E38*F38 -> 0
A39: 32 | B39: 274361821 | C39: Výstuž základových pásov z ocele B500 B | D39: t | E39: 3.527 | F39: 0 | G39: =E39*F39 -> 0 | H39: =1.01895*E39 -> 3.594
A40: 33 | B40: 289971211 | C40: Zhotovenie vrstvy z geotextílie na upravenom povrchu sklon do 1 : 5 , šírky od 0 do 3 m | D40: m2 | E40: 285.34 | F40: 0 | G40: =E40*F40 -> 0 | H40: 0.009
A41: 34 | B41: 693110001500 | C41: Geotextília polypropylénová Tatratex GTX N PP 600, šírka 3,5 m, dĺžka 60 m, hrúbka 4,3 mm, netkaná, MIVA | D41: m2 | E41: 291.047 | F41: 0 | G41: =E41*F41 -> 0 | H41: 0.175
A42: 0 | B42: 3 | C42: Zvislé a kompletné konštrukcie | G42: =SUM(G43:G55) -> 0 | H42: =SUM(H43:H55) -> 857.416
A43: 35 | B43: 311231299 | C43: Murivo nosné z tehál pálených dierovaných CDm dĺžky 240mm P 10-20 MC 15 | D43: m3 | E43: 8.943 | F43: 0 | G43: =E43*F43 -> 0 | H43: 14.57
A44: 36 | B44: 341321410 | C44: Betón stien a priečok, železový (bez výstuže) tr. C 25/30 | D44: m3 | E44: 124.15 | F44: 0 | G44: =E44*F44 -> 0 | H44: =2.40177*E44 -> 298.18
A45: 37 | B45: 341351107 | C45: Debnenie stien a priečok obojstranné zhotovenie-tradičné | D45: m2 | E45: 998.148 | F45: 0 | G45: =E45*F45 -> 0 | H45: 7.017
A46: 38 | B46: 341351108 | C46: Debnenie stien a priečok obojstranné odstránenie-tradičné | D46: m2 | E46: 998.148 | F46: 0 | G46: =E46*F46 -> 0
A47: 39 | B47: 341361821 | C47: Výstuž stien a priečok z betonárskej ocele B500 B | D47: t | E47: 15.516 | F47: 0 | G47: =E47*F47 -> 0 | H47: =1.01555*E47 -> 15.757
A48: 40 | B48: 341362021 | C48: Výstuž stien a priečok zo zváraných sietí KARI | D48: t | E48: 0.097 | F48: 0 | G48: =E48*F48 -> 0 | H48: 0.117
A49: 41 | B49: 380326232 | C49: Kompletné konštrukcie čistiarní odpadových vôd zo železobetónu vodostavebného C 25/30, hr. 150-300 mm-podlahy "P1" a "P2" | D49: m3 | E49: 62.94 | F49: 0 | G49: =E49*F49 -> 0 | H49: 148.419
A50: 42 | B50: 380361002 | C50: Výstuž komplet. konstr. čist., odpadových vôd a nádrží zo zvarovaných sietí KARI | D50: t | E50: 3.04 | F50: 0 | G50: =E50*F50 -> 0 | H50: =1.0129*E50 -> 3.079
A51: 43 | B51: 380326232a | C51: Kompletné konštrukcie čistiarní odpadových vôd zo železobetónu vodostavebného C 25/30, hr. 150-300 mm-nádrž a prítokový žľab | D51: m3 | E51: 93.784 | F51: 0 | G51: =E51*F51 -> 0 | H51: 221.153
A52: 44 | B52: 380326233 | C52: Kompletné konštrukcie čistiarní odpadových vôd zo železobetónu vodostavebného C 25/30, hr. nad 300 mm | D52: m3 | E52: 57.038 | F52: 0 | G52: =E52*F52 -> 0 | H52: 134.433
A53: 45 | B53: 380356211 | C53: Debnenie kompl. konštrukcií čistiarní odpad. vôd z plôch rovinných zhotovenie | D53: m2 | E53: 371.826 | F53: 0 | G53: =E53*F53 -> 0 | H53: 1.569
A54: 46 | B54: 380356212 | C54: Debnenie kompl. konštrukcií čistiarní odpad. vôd z plôch rovinných odstránenie | D54: m2 | E54: 371.826 | F54: 0 | G54: =E54*F54 -> 0
A55: 47 | B55: 380361006 | C55: Výstuž komplet. konstr. čist., odpadových vôd a nádrží z betonárskej ocele B500 B-nádrž a prítokový žľab | D55: t | E55: 12.955 | F55: 0 | G55: =E55*F55 -> 0 | H55: 13.122
A56: 0 | B56: 5 | C56: Komunikácie | G56: =SUM(G57:G59) -> 0 | H56: =SUM(H57:H59) -> 34.301
A57: 48 | B57: 564271111 | C57: Podklad alebo podsyp zo štrkopiesku s rozprestretím, vlhčením a zhutnením, po zhutnení hr. 250 mm-okapový chodník | D57: m2 | E57: 47.4 | F57: 0 | G57: =E57*F57 -> 0 | H57: 26.354
A58: 49 | B58: 596811320 | C58: Kladenie betónovej dlažby komunikacií pre peších do lôžka z kameniva, veľ. do 0,25 m2 plochy do 50 m2 | D58: m2 | E58: 23.7 | F58: 0 | G58: =E58*F58 -> 0 | H58: 2.394
A59: 50 | B59: 592270000100 | C59: Tvárnica priekopová a melioračná, doska obkladová betónová TBM 2-50, rozmer 500x500x100 mm | D59: ks | E59: 95.748 | F59: 0 | G59: =E59*F59 -> 0 | H59: 5.553
A60: 0 | B60: 6 | C60: Úpravy povrchov, podlahy, osadenie | G60: =SUM(G61:G75) -> 0 | H60: =SUM(H61:H75) -> 100.241
A61: 51 | B61: 611460121 | C61: Príprava vnútorného podkladu stropov penetráciou základnou | D61: m2 | E61: 11.27 | F61: 0 | G61: =E61*F61 -> 0 | H61: 0.015
A62: 52 | B62: 611460242 | C62: Vnútorná omietka stropov vápennocementová jadrová (hrubá), hr. 15 mm | D62: m2 | E62: 11.27 | F62: 0 | G62: =E62*F62 -> 0 | H62: 0.331
A63: 53 | B63: 612460121 | C63: Príprava vnútorného podkladu stien penetráciou základnou | D63: m2 | E63: 376.864 | F63: 0 | G63: =E63*F63 -> 0 | H63: 0.513
A64: 54 | B64: 612460212 | C64: Vnútorná omietka stien vápenná jadrová (hrubá), hr. 15 mm | D64: m2 | E64: 376.864 | F64: 0 | G64: =E64*F64 -> 0 | H64: 8.762
A65: 55 | B65: 622466115 | C65: Príprava vonkajšieho podkladu stien BAUMIT, penetračný náter Baumit BetonKontakt | D65: m2 | E65: 437.45 | F65: 0 | G65: =E65*F65 -> 0 | H65: 0.175
A66: 56 | B66: 622466183 | C66: Vonkajšia omietka stien štuková BAUMIT, strojné miešanie, ručné nanášanie, VivaExterior, hr. 3 mm | D66: m2 | E66: 437.45 | F66: 0 | G66: =E66*F66 -> 0 | H66: 2.603
A67: 57 | B67: 625251255 | C67: Kontaktný zatepľovací systém hr. 140 mm BAUMIT OPEN - štandardné riešenie (biely EPS-F), zatĺkacie kotvy | D67: m2 | E67: 437.45 | F67: 0 | G67: =E67*F67 -> 0 | H67: 5.599
A68: 58 | B68: 631315661 | C68: Mazanina z betónu prostého (m3) tr. C 20/25 hr.nad 120 do 240 mm-P3 | D68: m3 | E68: 10.1 | F68: 0 | G68: =E68*F68 -> 0 | H68: 22.629
A69: 59 | B69: 632452245 | C69: Cementový poter (vhodný aj ako spádový), pevnosti v tlaku 25 MPa, hr. 30 mm-P1, P3 | D69: m2 | E69: 252.11 | F69: 0 | G69: =E69*F69 -> 0 | H69: 16.705
A70: 60 | B70: 632452248 | C70: Cementový poter (vhodný aj ako spádový), pevnosti v tlaku 25 MPa, hr. 47 mm-P2 | D70: m2 | E70: 11.3 | F70: 0 | G70: =E70*F70 -> 0 | H70: 1.12
A71: 61 | B71: 632452254 | C71: Cementový poter (vhodný aj ako spádový), pevnosti v tlaku 25 MPa, hr. 75 mm-P1 | D71: m2 | E71: 192.7 | F71: 0 | G71: =E71*F71 -> 0 | H71: 31.774
A72: 62 | B72: 632452255 | C72: Cementový poter (vhodný aj ako spádový), pevnosti v tlaku 25 MPa, hr. 80 mm-P4, P5 | D72: m2 | E72: 40.29 | F72: 0 | G72: =E72*F72 -> 0 | H72: 7.085
... A75: 65 | B75: 553310000200 | C75: Kontrazárubňa kovová šxv 900x1970 mm, hrúbka steny 100-300 mm | D75: ks | E75: 1 | F75: 0 | G75: =E75*F75 -> 0 | H75: 0.01
B76: 9 | C76: Ostatné konštrukcie a práce-búranie | G76: =SUM(G77:G86) -> 0 | H76: =SUM(H77:H86) -> 8.461
A77: 66 | B77: 938902071 | C77: Očistenie povrchu betónových konštrukcií tlakovou vodou | D77: m2 | E77: 478.04 | F77: 0 | G77: =E77*F77 -> 0
A78: 67 | B78: 938902051 | C78: Očistenie povrchu betónových konštrukcií otryskaním - pod izoláciu | D78: m2 | E78: 478.04 | F78: 0 | G78: =E78*F78 -> 0
A79: 68 | B79: 941941051 | C79: Montáž lešenia ľahkého pracovného radového s podlahami šírky nad 1,20 m do 1,50 m, výšky do 10 m | D79: m2 | E79: 324.8 | F79: 0 | G79: =E79*F79 -> 0 | H79: =0.02572*E79 -> 8.354
A80: 69 | B80: 941941391 | C80: Príplatok za prvý a každý ďalší i začatý mesiac použitia lešenia ľahkého pracovného radového s podlahami šírky nad 1,20 do 1,50 m, výšky do 10 m | D80: m2 | E80: 974.4 | F80: 0 | G80: =E80*F80 -> 0
A81: 70 | B81: 941944851 | C81: Demontáž lešenia ľahkého pracovného radového bez podláh šírky nad 1,20 do 1,50 m, výšky do 10 m | D81: m2 | E81: 324.8 | F81: 0 | G81: =E81*F81 -> 0
A82: 71 | B82: 939941212 | C82: Tesniaci plech do pracovných škár betonových konštrukcií s bitúmenovým povrchom obojstranným šírky 150 mm | D82: m | E82: 88 | F82: 0 | G82: =E82*F82 -> 0 | H82: 0.107
A83: 72 | B83: 877441251.S | C83: Montáž šachtovej prechodky na potrubie z kanalizačných odstredivo liatych sklolaminátových rúr DN 600 mm | D83: ks | E83: 1 | F83: 0 | G83: =E83*F83 -> 0
A84: 73 | B84: KP | C84: Šachtový prechod typ C s golierom pre sklolaminát PN 1 DN 600 mm | D84: ks | E84: 1 | F84: 0 | G84: =E84*F84 -> 0
A85: 74 | B85: 877326100.S | C85: Montáž kanalizačnej PVC-U šachtovej prechodky DN 150 | D85: ks | E85: 4 | F85: 0 | G85: =E85*F85 -> 0
A86: 75 | B86: KP | C86: Prechodka šachtová PVC-U, DN 150/160 hladká pre gravitačnú kanalizáciu | D86: ks | E86: 4 | F86: 0 | G86: =E86*F86 -> 0
B87: 99 | C87: Presun hmôt HSV | G87: =G88 -> 0
A88: 76 | B88: 998012022 | C88: Presun hmôt pre budovy (801, 803, 812), zvislá konštr. monolit. betónová výšky do 12 m | D88: t | E88: 1514.469 | F88: 0 | G88: =E88*F88 -> 0
A89: 0 | B89: PSV | C89: Práce a dodávky PSV | G89: =G90+G94+G101+G109+G121+G129+G156+G163+G167+G171 -> 0 | H89: =H90+H94+H101+H109+H121+H129+H156+H163+H167+H171 -> 42.004
A90: 0 | B90: 711 | C90: Izolácie proti vode a vlhkosti | G90: =SUM(G91:G93) -> 0 | H90: =SUM(H91:H93) -> 1.673
A91: 77 | B91: 711113131 | C91: Izolácie proti zemnej vlhkosti a povrchovej vode Schomburg AQUAFIN 2K hr. 2 mm na ploche vodorovnej | D91: m2 | E91: 478.04 | F91: 0 | G91: =E91*F91 -> 0 | H91: 1.673
A92: 78 | B92: 998711102 | C92: Presun hmôt pre izoláciu proti vode v objektoch výšky nad 6 do 12 m | D92: t | E92: 1.673 | F92: 0 | G92: =E92*F92 -> 0
A93: 79 | B93: 998711192 | C93: Izolácia proti vode, prípl.za presun nad vymedz. najväčšiu dopravnú vzdialenosť do 100 m | D93: t | E93: 1.673 | F93: 0 | G93: =E93*F93 -> 0
B94: 712 | C94: Izolácie striech, povlakové krytiny | G94: =SUM(G95:G100) -> 0 | H94: =SUM(H95:H100) -> 1.503
A95: 80 | B95: 712290020 | C95: Zhotovenie parozábrany pre strechy šikmé do 30° | D95: m2 | E95: 366.96 | F95: 0 | G95: =E95*F95 -> 0
A96: 81 | B96: 283230006800 | C96: Parotesné zábrany DELTA-REFLEX PLUS, š. 1,5 m s imtegrovaným lepiacim pásom, hliníková vrstva uložená medzi vysoko transparentnou PES fóliou a PE fóliou s vystužujúcou mriežkou (180g/m2), DORKEN | D96: m2 | E96: 422.004 | F96: 0 | G96: =E96*F96 -> 0 | H96: 1.342
A97: 82 | B97: 712461701 | C97: Zhotovenie povlakovej krytiny striech šikmých do 30° fóliou položenou voľne | D97: m2 | E97: 366.96 | F97: 0 | G97: =E97*F97 -> 0 | H97: 0.081
A98: 83 | B98: 283230005700 | C98: Poistná hydroizolačná fólia s difúzne otvoreným podvrstvením | D98: m2 | E98: 422.004 | F98: 0 | G98: =E98*F98 -> 0 | H98: 0.08
A99: 84 | B99: 998712102 | C99: Presun hmôt pre izoláciu povlakovej krytiny v objektoch výšky nad 6 do 12 m | D99: t | E99: 1.503 | F99: 0 | G99: =E99*F99 -> 0
A100: 85 | B100: 998712192 | C100: Izolácia z povlak.krytín, prípl.za presun nad vymedz. najväčšiu dopravnú vzdialenosť do 100 m | D100: t | E100: 1.503 | F100: 0 | G100: =E100*F100 -> 0
B101: 713 | C101: Izolácie tepelné | G101: =SUM(G102:G108) -> 0 | H101: =SUM(H102:H108) -> 10.106
A102: 86 | B102: 713122111 | C102: Montáž tepelnej izolácie podláh polystyrénom, kladeným voľne v jednej vrstve-elektrorozvodňa | D102: m2 | E102: 11.3 | F102: 0 | G102: =E102*F102 -> 0
A103: 87 | B103: 2837650130 | C103: Styrodur 2500 C extrudovaný polystyrén - XPS, hrúbka 50mm, podlahy, ISOVER | D103: m2 | E103: 11.3 | F103: 0 | G103: =E103*F103 -> 0
...

Sheet SO-02 eli
A1: DOBUDOVANIE A INTENZIFIKÁCIA ČOV LEVOČA
A2: SO-02 MECHANICKÉ PREDČISTENIE - ELEKTROSTAVEBNÁ ČASŤ
A4: Pol. | B4: NÁZOV POLOŽKY | C4: Jedn. | D4: Mn. | E4: J. cena (EUR) | F4: Celková cena (EUR)
B6: DODÁVKA
A7: 2 | B7: Rozvádzač na povrch RS02 vrátane výzbroja, osadenia a zapojenia | C7: ks | D7: 1 | E7: 0 | F7: =D7*E7 -> 0
A8: 3 | B8: Svietidlo LED, min. 1x47W vrátane závesného systému - IP65 | C8: ks | D8: 28 | E8: 0 | F8: =D8*E8 -> 0
A9: 4 | B9: Svietidlo na stenu E27/60W, vrátane LED žiarovky 10W, svietiace do polpriestoru smerom k zemi - min IP44 | C9: ks | D9: 4 | E9: 0 | F9: =D9*E9 -> 0
A10: 5 | B10: Svietidlo núdzové na povrch LED 4W pre netrvalé svietenie s batériou pre napájanie po dobu 1h - IP44 | C10: ks | D10: 8 | E10: 0 | F10: =D10*E10 -> 0
A11: 6 | B11: Svietidlo LED nastenné reflektorové 1x100W - IP65 | C11: ks | D11: 2 | E11: 0 | F11: =D11*E11 -> 0
A12: 7 | B12: Zásuvková skriňa 2x230V/16A, 1x400V/16A, 1x400V/32A s priestorom pre istenie, vrátane ističov, osadenia a zapojenia - IP44 | C12: ks | D12: 4 | E12: 0 | F12: =D12*E12 -> 0
A13: 8 | B13: Zásuvka 400V/16A na povrch - IP44 | C13: ks | D13: 3 | E13: 0 | F13: =D13*E13 -> 0
A14: 9 | B14: Spínač jednopólový zapustený č.1 10A/250V, IP44 vrátane inštalačnej krabice do zateplenia | C14: ks | D14: 6 | E14: 0 | F14: =D14*E14 -> 0
A15: 10 | B15: Spínač striedavý na povrch č.6 10A/250V - IP55 | C15: ks | D15: 4 | E15: 0 | F15: =D15*E15 -> 0
A16: 11 | B16: Spínač striedavý na povrch č.7 10A/250V - IP55 | C16: ks | D16: 1 | E16: 0 | F16: =D16*E16 -> 0
A17: 12 | B17: Priestorový termostat na povrch 0-35°C - IP54 | C17: ks | D17: 2 | E17: 0 | F17: =D17*E17 -> 0
A18: 13 | B18: Regulátor teploty a vlhkosti, výstupné relé 8A/250V - IP65 | C18: ks | D18: 1 | E18: 0 | F18: =D18*E18 -> 0
... A48: 44 | B48: Spojovací materiál pre ochranné a doplnkové pospájanie (HUS, svorky, Cu pásik, káblové oká, vejárovité podložky) | C48: ks | D48: 1 | E48: 0 | F48: =D48*E48 -> 0
B50: MONTÁŽ A DEMONTÁŽ BEZ DODÁVKY
A51: 1 | B51: Zapojenie trojfázového spotrebiča (ventilátor) | C51: ks | D51: 3 | E51: 0 | F51: =D51*E51 -> 0
B52: MONTÁŽ
A53: 2 | B53: Rozvádzač na povrch RS02 vrátane výzbroja, osadenia a zapojenia | C53: ks | D53: 1 | E53: 0 | F53: =D53*E53 -> 0
A54: 3 | B54: Svietidlo LED na povrch, min.1x20W - IP65 | C54: ks | D54: 28 | E54: 0 | F54: =D54*E54 -> 0
A55: 4 | B55: Svietidlo na stenu E27/60W, vrátane LED žiarovky 10W, svietiace do polpriestoru smerom k zemi - min IP44 | C55: ks | D55: 4 | E55: 0 | F55: =D55*E55 -> 0
A56: 5 | B56: Svietidlo núdzové na povrch LED 4W pre netrvalé svietenie s batériou pre napájanie po dobu 1h - IP44 | C56: ks | D56: 8 | E56: 0 | F56: =D56*E56 -> 0
A57: 6 | B57: Svietidlo LED nastenné reflektorové 1x100W - IP65 | C57: ks | D57: 2 | E57: 0 | F57: =D57*E57 -> 0
A58: 7 | B58: Zásuvková skriňa 2x230V/16A, 1x400V/16A, 1x400V/32A s priestorom pre istenie, vrátane ističov, osadenia a zapojenia - IP44 | C58: ks | D58: 4 | E58: 0 | F58: =D58*E58 -> 0
A59: 8 | B59: Zásuvka 400V/16A na povrch - IP44 | C59: ks | D59: 3 | E59: 0 | F59: =D59*E59 -> 0
A60: 9 | B60: Spínač jednopólový zapustený č.1 10A/250V, IP44 vrátane inštalačnej krabice do zateplenia | C60: ks | D60: 6 | E60: 0 | F60: =D60*E60 -> 0
A61: 10 | B61: Spínač striedavý na povrch č.6 10A/250V - IP55 | C61: ks | D61: 4 | E61: 0 | F61: =D61*E61 -> 0
A62: 11 | B62: Spínač striedavý na povrch č.7 10A/250V - IP55 | C62: ks | D62: 1 | E62: 0 | F62: =D62*E62 -> 0
A63: 12 | B63: Priestorový termostat na povrch 0-35°C - IP54 | C63: ks | D63: 2 | E63: 0 | F63: =D63*E63 -> 0
A64: 13 | B64: Regulátor teploty a vlhkosti, výstupné relé 8A/250V - IP65 | C64: ks | D64: 1 | E64: 0 | F64: =D64*E64 -> 0
... A94: 44 | B94: Spojovací materiál pre ochranné a doplnkové pospájanie (HUS, svorky, Cu pásik, káblové oká, vejárovité podložky) | C94: ks | D94: 1 | E94: 0 | F94: =D94*E94 -> 0
B95: ZEMNÉ PRÁCE
A96: 45 | B96: Výkop a zásyp kábelovej ryhy 35/80cm v zemi - zemina tr.4 | C96: m | D96: 12 | E96: 0 | F96: =D96*E96 -> 0
B97: HODINOVÁ SADZBA
A98: 46 | B98: Odborná prehliadka a skúška (Revízia) | C98: h | D98: 16 | E98: 0 | F98: =D98*E98 -> 0
B100: Náklady celkom: | F100: =SUM(F7:F98) -> 0

Sheet SO-02 vzt
A1: DOBUDOVANIE A INTENZIFIKÁCIA ČOV LEVOČA
A2: SO-02 MECHANICKÉ PREDČISTENIE - VZDUCHOTECHNIKA
A4: Stroje a zariadenia
A5: Pozícia | B5: Názov pozície | C5: Materiál | D5: Rozmer [mm] | E5: MJ | F5: Počet | G5: J. cena (EUR) | H5: Celková cena (EUR)
A7: 1 | B7: Axiálny ventilátor nástenný ELEKTRODESIGN | E7: kpl | F7: 2 | G7: 0 | H7: =G7*F7 -> 0
B8: HXTR/4-450 (alebo ekvivalent) (6910m3/h; 0,45kW; 400V; 0,9A) - 2ks
B9: Žalúzia samotiažna TRKS-450 Elektrodesign (alebo ekvivalent) - 2ks | C9: pozink | D9: &450
B10: Protidažďová žalúzia 1000x500 - 2ks | C10: pozink | D10: 1000x500
B11: Potrubie (nasávací otvor) 1000x500-300 - 2ks | C11: pozink | D11: 1000x500
B12: Žalúziová klapka samočinná - 2ks | C12: pozink | D12: 1000x500
B13: vrátane:
B14: tesniaci a spojovací materiál
B15: pomocné konštrukcie
A17: 2 | B17: Axiálny ventilátor nástenný ELEKTRODESIGN | E17: kpl | F17: 1 | G17: 0 | H17: =G17*F17 -> 0
B18: HXTR/4-355 (alebo ekvivalent) (2980m3/h; 0,145kW; 400V; 0,4A) - 1ks
B19: Žalúzia samotiažna TRKS-355 Elektrodesign (alebo ekvivalent) - 1ks | C19: pozink | D19: &355
B20: Protidažďová žalúzia 500x500 - 1ks | C20: pozink | D20: 500x500
B21: Potrubie (nasávací otvor) 500x500-300 - 1ks | C21: pozink | D21: 500x500
B22: Žalúziová klapka samočinná 500x500 - 1ks | C22: pozink | D22: 500x500
B23: vrátane:
B24: tesniaci a spojovací materiál
B25: pomocné konštrukcie
B27: Dodávka celkom: | H27: =SUM(H7:H25) -> 0
A29: 3 | B29: Montáž celkom: | E29: % | G29: 20 | H29: =G29*H27/100 -> 0
B31: Náklady celkom: | H31: =H27+H29 -> 0

Sheet so02 zti
A1: DOBUDOVANIE A INTENZIFIKÁCIA ČOV LEVOČA
A2: SO-02 MECHANICKÉ PREDČISTENIE - ZDRAVOTECHNIKA
A4: Pol. | B4: Popis položky, stavebného dielu, remesla, | C4: Množstvo | D4: Merná | E4: J. cena (EUR) | F4: Celková cena (EUR)
A5: číslo | B5: výkaz-výmer | C5: výmera | D5: jednotka
B7: PRÁCE A DODÁVKY HSV
B8: 1 - ZEMNE PRÁCE
A9: 1 | B9: Hĺbenie rýh šírka do 2 m v hornine 3, vr. naloženia, vyloženia, odvozu výkopku a prebytočnej zeminy, uloženia na skládke, všetkých poplatkov | C9: 19.3 | D9: m3 | E9: 0 | F9: =C9*E9 -> 0
A10: 2 | B10: Zásyp zhutnený rýh do 100 m3 | C10: 5.5 | D10: m3 | E10: 0 | F10: =C10*E10 -> 0
B11: 1 - ZEMNE PRÁCE spolu : | F11: =SUM(F9:F10) -> 0
B13: 4 - VODOROVNÉ KONŠTRUKCIE
A14: 3 | B14: Lôžko pod potrubie a obsyp potr. v otv. výkope z piesku | C14: 13.8 | D14: m3 | E14: 0 | F14: =C14*E14 -> 0
B15: 4 - VODOROVNÉ KONŠTRUKCIE spolu :
F16: =SUM(F14) -> 0
B17: 8 - RÚROVÉ VEDENIA
B18: Kanalizácia
A19: 4 | B19: PVC-U rúra hrdlová DN 110 | C19: 1.6 | D19: m | E19: 0 | F19: =C19*E19 -> 0
A20: 5 | B20: PVC-U rúra hrdlová DN 160 | C20: 5 | D20: m | E20: 0 | F20: =C20*E20 -> 0
A21: 6 | B21: PVC-U rúra hrdlová DN 200 | C21: 17.5 | D21: m | E21: 0 | F21: =C21*E21 -> 0
A22: 7 | B22: Redukcia PVC-U DN110/160 | C22: 6 | D22: ks | E22: 0 | F22: =C22*E22 -> 0
A23: 8 | B23: Redukcia PVC-U DN160/200 | C23: 1 | D23: ks | E23: 0 | F23: =C23*E23 -> 0
A24: 9 | B24: Koleno DN160 - 87,5° | C24: 6 | D24: ks | E24: 0 | F24: =C24*E24 -> 0
A25: 10 | B25: Koleno DN200 - 30° | C25: 1 | D25: ks | E25: 0 | F25: =C25*E25 -> 0
A26: 11 | B26: Koleno DN200 - 45° | C26: 2 | D26: ks | E26: 0 | F26: =C26*E26 -> 0
A27: 12 | B27: Odbočka DN200/160 - 45° | C27: 1 | D27: ks | E27: 0 | F27: =C27*E27 -> 0
A28: 13 | B28: Montáž potrubia z kanaliz. rúr PVC-U v otv. výkope DN 110, vrátane tvaroviek | C28: 1.6 | D28: m | E28: 0 | F28: =C28*E28 -> 0
A29: 14 | B29: Montáž potrubia z kanaliz. rúr PVC-U v otv. výkope DN 160, vrátane tvaroviek | C29: 5 | D29: m | E29: 0 | F29: =C29*E29 -> 0
A30: 15 | B30: Montáž potrubia z kanaliz. rúr PVC-U v otv. výkope DN 200, vrátane tvaroviek | C30: 17.5 | D30: m | E30: 0 | F30: =C30*E30 -> 0
... A37: 21 | B37: Veľkokapacitná odvodňovacie žľaby Mea SV1000 so spádom 0,5% : | C37: 29 | D37: m | E37: 0 | F37: =C37*E37 -> 0
B38: vrátane čelných dosiek a roštov - dodávka a montáž
A39: 22 | B39: SV1001 | C39: 2 | D39: ks | E39: 0 | F39: =C39*E39 -> 0
A40: 23 | B40: SV1002 | C40: 2 | D40: ks | E40: 0 | F40: =C40*E40 -> 0
A41: 24 | B41: SV1003 | C41: 2 | D41: ks | E41: 0 | F41: =C41*E41 -> 0
A42: 25 | B42: SV1004 | C42: 5 | D42: ks | E42: 0 | F42: =C42*E42 -> 0
A43: 26 | B43: SV1005 | C43: 2 | D43: ks | E43: 0 | F43: =C43*E43 -> 0
A44: 27 | B44: SV1005/A | C44: 4 | D44: ks | E44: 0 | F44: =C44*E44 -> 0
A45: 28 | B45: SV1006 | C45: 2 | D45: ks | E45: 0 | F45: =C45*E45 -> 0
A46: 29 | B46: SV1007 | C46: 2 | D46: ks | E46: 0 | F46: =C46*E46 -> 0
A47: 30 | B47: SV1008 | C47: 2 | D47: ks | E47: 0 | F47: =C47*E47 -> 0
A48: 31 | B48: SV1009 | C48: 4 | D48: ks | E48: 0 | F48: =C48*E48 -> 0
A49: 32 | B49: SV1010/A | C49: 2 | D49: ks | E49: 0 | F49: =C49*E49 -> 0
B50: 8 - RÚROVÉ VEDENIA spolu: | F50: =SUM(F19:F49) -> 0
B52: Náklady celkom: | F52: =F11+F16+F50 -> 0

Sheet SO-03
A1: DOBUDOVANIE A INTENZIFIKÁCIA ČOV LEVOČA
A2: SO - 03 ČERPACIA STANICA
A4: ČP | B4: Kód položky | C4: Popis | D4: MJ | E4: Množstvo | F4: J. cena (EUR) | G4: Celková cena (EUR) | H4: Hmotnosť celkom
A5: 0 | B5: HSV | C5: Práce a dodávky HSV | G5: =G6+G18+G21+G35+G37+G40+G45+G51 -> 0 | H5: =H6+H18+H21+H35+H37+H40+H45+H51 -> 276.628
A6: 0 | B6: 1 | C6: Zemné práce | G6: =SUM(G7:G17) -> 0 | H6: =SUM(H7:H17) -> 0.599
A7: 1 | B7: 115001102 | C7: Odvedenie vody potrubím pri priemere potrubia DN nad 100 do 150 | D7: m | E7: 50 | F7: 0 | G7: =E7*F7 -> 0 | H7: 0.397
A8: 2 | B8: 115101201 | C8: Čerpanie vody na dopravnú výšku do 10 m s priemerným prítokom litrov za minútu nad 100 do 500 l | D8: hod | E8: 1440 | F8: 0 | G8: =E8*F8 -> 0
A9: 3 | B9: 115101301 | C9: Pohotovosť záložnej čerpacej súpravy pre výšku do 10 m, s prítokom litrov za minútu nad 100 do 500 l | D9: deň | E9: 60 | F9: 0 | G9: =E9*F9 -> 0
A10: 4 | B10: 131201102 | C10: Výkop nezapaženej jamy v hornine 3, nad 100 do 1000 m3 | D10: m3 | E10: 228.389 | F10: 0 | G10: =E10*F10 -> 0
A11: 5 | B11: 131201109 | C11: Hĺbenie nezapažených jám a zárezov. Príplatok za lepivosť horniny 3 | D11: m3 | E11: 68.517 | F11: 0 | G11: =E11*F11 -> 0
A12: 6 | B12: 151201202 | C12: Paženie stien výkopu bez rozopretia alebo vzopretia, záťažné hĺbky do 8 m | D12: m2 | E12: 135.24 | F12: 0 | G12: =E12*F12 -> 0 | H12: 0.202
A13: 7 | B13: 151201212 | C13: Odstránemie paženia stien výkopov, záťažné hĺbky do 8 m | D13: m2 | E13: 135.24 | F13: 0 | G13: =E13*F13 -> 0
A14: 8 | B14: 174101002 | C14: Zásyp sypaninou so zhutnením jám, šachiet, rýh, zárezov alebo okolo objektov nad 100 do 1000 m3 | D14: m3 | E14: 109.858 | F14: 0 | G14: =E14*F14 -> 0
A15: 9 | B15: 162301121 | C15: Vodorovné premiestnenie výkopku po spevnenej ceste z horniny tr.1-4, nad 100 do 1000 m3 na vzdialenosť nad 50 do 500 m | D15: m3 | E15: 118.531 | F15: 0 | G15: =E15*F15 -> 0
A16: 10 | B16: 171201202 | C16: Uloženie sypaniny na skládky nad 100 do 1000 m3 | D16: m3 | E16: 118.531 | F16: 0 | G16: =E16*F16 -> 0
A17: 11 | B17: 171209002 | C17: Poplatok za skladovanie - zemina a kamenivo (17 05) ostatné | D17: t | E17: 177.797 | F17: 0 | G17: =E17*F17 -> 0
A18: 0 | B18: 2 | C18: Zakladanie | G18: =SUM(G19:G20) -> 0 | H18: =SUM(H19:H20) -> 0.675
A19: 12 | B19: 242111110 | C19: Osadenie plášťa vodárenskej studne z betónových skruží celokruhových DN 600 mm | D19: m | E19: 2 | F19: 0 | G19: =E19*F19 -> 0 | H19: 0.069
A20: 13 | B20: 592250000500 | C20: Prefabrikát betónový pre studne, skruž kruhová TBH 1-600, DN 600, dĺžka 1000 mm, hr. steny 90 mm | D20: ks | E20: 2.02 | F20: 0 | G20: =E20*F20 -> 0 | H20: =0.3*E20 -> 0.606
A21: 0 | B21: 3 | C21: Zvislé a kompletné konštrukcie | G21: =SUM(G22:G34) -> 0 | H21: =SUM(H22:H34) -> 196.966
A22: 14 | B22: 317941121 | C22: Osadenie oceľových valcovaných nosníkov (na murive) I, IE,U,UE,L do č.12 alebo výšky do 120 mm | D22: t | E22: 0.108 | F22: 0 | G22: =E22*F22 -> 0 | H22: 0.002
A23: 15 | B23: 133810000800 | C23: Profil nerez IPN 120, akosť ocele 1.4301-podpera rámov prekrytia pol.č. "9.9" | D23: kg | E23: 107.67 | F23: 0 | G23: =E23*F23 -> 0 | H23: 0.108
A24: 16 | B24: 317941123 | C24: Osadenie oceľových valcovaných nosníkov (na murive) I, IE,U,UE,L č.14-22 alebo výšky do 220 mm | D24: t | E24: 0.517 | F24: 0 | G24: =E24*F24 -> 0 | H24: 0.009
A25: 17 | B25: 145640001400 | C25: Profil jäklový nerezový štvorcový rozmer 110x110x4 mm, akosť ocele 1.4301-nosná konštrukcia pre kladkostroj | D25: m | E25: 11.248 | F25: 0 | G25: =E25*F25 -> 0 | H25: 0.146
A26: 18 | B26: 133840001200 | C26: Profil nerez UPN 160, akosť ocele 1.4301-nosná konštrukcia pre kladkostroj | D26: kg | E26: 222.642 | F26: 0 | G26: =E26*F26 -> 0 | H26: 0.223
A27: 19 | B27: 133810000801 | C27: Profil nerez IPE 220, akosť ocele 1.4301-nosná konštrukcia pre kladkostroj | D27: kg | E27: 148.03 | F27: 0 | G27: =E27*F27 -> 0 | H27: 0.148
A28: 20 | B28: 380311531 | C28: Kompletné konštrukcie čistiarní odpadových vôd z betónu prostého tr. C 12/15, hr. 80-150 mm-podkladný betón | D28: m3 | E28: 2.419 | F28: 0 | G28: =E28*F28 -> 0 | H28: 7.969
A29: 21 | B29: 380311641 | C29: Kompletné konštrukcie čistiarní odpad. vôd z betónu prostého tr. C 16/20, hr. nad 80 do 150 mm-výplňový betón a obetónovanie | D29: m3 | E29: 12.367 | F29: 0 | G29: =E29*F29 -> 0 | H29: 40.232
A30: 22 | B30: 380326232 | C30: Kompletné konštrukcie čistiarní odpadových vôd zo železobetónu vodostavebného C 25/30, hr. 150-300 mm, vrátane tesnenia pracovných škár | D30: m3 | E30: 32.406 | F30: 0 | G30: =E30*F30 -> 0 | H30: 109.849
A31: 23 | B31: 380326233 | C31: Kompletné konštrukcie čistiarní odpadových vôd zo železobetónu vodostavebného C 25/30, hr. nad 300 mm, vrátane tesnenia pracovných škár | D31: m3 | E31: 11.505 | F31: 0 | G31: =E31*F31 -> 0 | H31: 32.908
A32: 24 | B32: 380356211 | C32: Debnenie kompl. konštrukcií čistiarní odpad. vôd z plôch rovinných zhotovenie | D32: m2 | E32: 271.649 | F32: 0 | G32: =E32*F32 -> 0 | H32: 1.146
A33: 25 | B33: 380356212 | C33: Debnenie kompl. konštrukcií čistiarní odpad. vôd z plôch rovinných odstránenie | D33: m2 | E33: 271.649 | F33: 0 | G33: =E33*F33 -> 0
A34: 26 | B34: 380361006 | C34: Výstuž komplet. konstr. čist., odpadových vôd a nádrží z ocele B500 B | D34: t | E34: 4.172 | F34: 0 | G34: =E34*F34 -> 0 | H34: 4.226
A35: 0 | B35: 4 | C35: Vodorovné konštrukcie | G35: =G36 -> 0 | H35: =H36 -> 1.116
A36: 27 | B36: 451571111 | C36: Lôžko pod dlažby zo štrkopiesku hr.vrstvy do 100 mm | D36: m2 | E36: 5.25 | F36: 0 | G36: =E36*F36 -> 0 | H36: 1.116
A37: 0 | B37: 5 | C37: Komunikácie | G37: =SUM(G38:G39) -> 0 | H37: =SUM(H38:H39) -> 1.76
A38: 28 | B38: 596811320 | C38: Kladenie betónovej dlažby komunikacií pre peších do lôžka z kameniva, veľ. do 0,25 m2 plochy do 50 m2 | D38: m2 | E38: 5.25 | F38: 0 | G38: =E38*F38 -> 0 | H38: 0.53
A39: 29 | B39: 592270000100 | C39: Tvárnica priekopová a melioračná, doska obkladová betónová TBM 2-50, rozmer 500x500x100 mm | D39: ks | E39: 21.21 | F39: 0 | G39: =E39*F39 -> 0 | H39: 1.23
A40: 0 | B40: 8 | C40: Rúrové vedenie | G40: =SUM(G41:G44) -> 0 | H40: =SUM(H41:H44) -> 0.082
A41: 30 | B41: 877356102 | C41: Montáž kanalizačnej PVC-U šachtovej prechodky DN 200 | D41: ks | E41: 1 | F41: 0 | G41: =E41*F41 -> 0 | H41: 0.001
A42: 31 | B42: 286510010500 | C42: Prechodka šachtová PVC-U, DN 200/240 hladká pre gravitačnú kanalizáciu KG potrubia, WAVIN, pol.č. "5" | D42: ks | E42: 1 | F42: 0 | G42: =E42*F42 -> 0 | H42: 0.001
A43: 32 | B43: 877441251 | C43: Montáž šachtovej prechodky na potrubie z kanalizačných odstredivo liatych sklolaminátových rúr DN 600 mm | D43: ks | E43: 1 | F43: 0 | G43: =E43*F43 -> 0
A44: 33 | B44: 286410023300 | C44: Šachtový prechod tzp C s golierom pre sklolaminát PN 1 DN 600 mm, SN 10000, HOBAS, pol.č. "6" | D44: ks | E44: 1 | F44: 0 | G44: =E44*F44 -> 0 | H44: 0.08
A45: 0 | B45: 9 | C45: Ostatné konštrukcie a práce-búranie | G45: =SUM(G46:G50) -> 0 | H45: =SUM(H46:H50) -> 75.43
A46: 34 | B46: 933901111 | C46: Skúšky vodotesnosti betónovej nádrže akéhokoľvek druhu a tvaru, s obsahom do 1000 m3 | D46: m3 | E46: 71.94 | F46: 0 | G46: =E46*F46 -> 0
A47: 35 | B47: 082110000200 | C47: Voda pitná pre priemysel a služby | D47: m3 | E47: 74.098 | F47: 0 | G47: =E47*F47 -> 0 | H47: 74.098
A48: 36 | B48: 941941051 | C48: Montáž lešenia ľahkého pracovného radového s podlahami šírky nad 1,20 m do 1,50 m, výšky do 10 m | D48: m2 | E48: 51.8 | F48: 0 | G48: =E48*F48 -> 0 | H48: =0.02572*E48 -> 1.332
A49: 37 | B49: 941941391 | C49: Príplatok za prvý a každý ďalší i začatý mesiac použitia lešenia ľahkého pracovného radového s podlahami šírky nad 1,20 do 1,50 m, výšky do 10 m | D49: m2 | E49: 155.4 | F49: 0 | G49: =E49*F49 -> 0
A50: 38 | B50: 941944851 | C50: Demontáž lešenia ľahkého pracovného radového bez podláh šírky nad 1,20 do 1,50 m, výšky do 10 m | D50: m2 | E50: 51.8 | F50: 0 | G50: =E50*F50 -> 0
A51: 0 | B51: 99 | C51: Presun hmôt HSV | G51: =G52 -> 0
A52: 39 | B52: 998142251 | C52: Presun hmôt pre obj.8141, 8142,8143,zvislá nosná konštr.monolitická betónová,výšky do 25 m | D52: t | E52: 276.628 | F52: 0 | G52: =E52*F52 -> 0
A53: 0 | B53: PSV | C53: Práce a dodávky PSV | G53: =G54+G59 -> 0 | H53: =H54+H59 -> 2.112
A54: 0 | B54: 713 | C54: Izolácie tepelné | G54: =SUM(G55:G58) -> 0 | H54: =SUM(H55:H58) -> 0.029
A55: 40 | B55: 713132213 | C55: Montáž tepelnej izolácie podzemných stien a základov xps kotvením-styrodur medzi stenou ČS a stenou budovy mechanického predčistenia | D55: m2 | E55: 17.55 | F55: 0 | G55: =E55*F55 -> 0 | H55: 0.002
A56: 41 | B56: 283750000700 | C56: Doska XPS STYRODUR 2800 C hr. 50 mm, zateplenie soklov, suterénov, podláh, ISOVER | D56: m2 | E56: 17.901 | F56: 0 | G56: =E56*F56 -> 0 | H56: 0.027
A57: 42 | B57: 998713101 | C57: Presun hmôt pre izolácie tepelné v objektoch výšky do 6 m | D57: t | E57: 0.029 | F57: 0 | G57: =E57*F57 -> 0
A58: 43 | B58: 998713192 | C58: Izolácie tepelné, prípl.za presun nad vymedz. najväčšiu dopravnú vzdial. do 100 m | D58: t | E58: 0.029 | F58: 0 | G58: =E58*F58 -> 0
A59: 0 | B59: 767 | C59: Konštrukcie doplnkové kovové | G59: =SUM(G60:G92) -> 0 | H59: =SUM(H60:H92) -> 2.083
A60: 44 | B60: 767162110 | C60: Montáž zábradlia rovného z profilovej ocele do muriva, s hmotnosťou 1 m zábradlia do 20 kg | D60: m | E60: 10.6 | F60: 0 | G60: =E60*F60 -> 0 | H60: 0.001
A61: 45 | B61: PC 1 | C61: Dodávka zábradlia na korune ČS vo vyhotovení nerez pol.č. "10" | D61: m | E61: 10.6 | F61: 0 | G61: =E61*F61 -> 0 | H61: 0.146
A62: 46 | B62: 767832100 | C62: Montáž rebríkov do betonového muriva | D62: m | E62: 11.2 | F62: 0 | G62: =E62*F62 -> 0 | H62: 0.001
A63: 47 | B63: PC 2 | C63: Dodávka rebríka dĺžky 3050 mm s madlom pre výstup na korunu ČS vo vyhotovení nerez pol.č. "11" | D63: ks | E63: 1 | F63: 0 | G63: =E63*F63 -> 0 | H63: 0.04
A64: 48 | B64: PC 3 | C64: Dodávka rebríka dĺžky 1800 mm k pochôdznej lávke merného žľabu vo vyhotovení nerez pol.č. "18" | D64: ks | E64: 1 | F64: 0 | G64: =E64*F64 -> 0 | H64: 0.0275
A65: 49 | B65: PC 4 | C65: Dodávka rebríka dĺžky 2520 mm od pochôdznej lávky merného žľabu po dno vo vyhotovení nerez pol.č. "19" | D65: ks | E65: 1 | F65: 0 | G65: =E65*F65 -> 0 | H65: 0.033
A66: 50 | B66: PC 5 | C66: Dodávka rebríka dĺžky 3500 mm do odtokovej časti ČS vo vyhotovení nerez pol.č. "21" | D66: ks | E66: 1 | F66: 0 | G66: =E66*F66 -> 0 | H66: 0.049
A67: 51 | B67: 767995101 | C67: Montáž ostatných atypických kovových stavebných doplnkových konštrukcií do 5 kg | D67: kg | E67: 37.06 | F67: 0 | G67: =E67*F67 -> 0 | H67: 0.003
A68: 52 | B68: PC 6 | C68: Dodávka oceľovej platne "P1" rozmeru 250 x 250 x 8 mm | D68: ks | E68: 6 | F68: 0 | G68: =E68*F68 -> 0 | H68: 0.024
A69: 53 | B69: PC 7 | C69: Dodávka oceľovej platne "P2" rozmeru 170 x 190 x 8 mm | D69: ks | E69: 2 | F69: 0 | G69: =E69*F69 -> 0 | H69: 0.004
A70: 54 | B70: PC 8 | C70: Dodávka oceľovej platne "P3" rozmeru 200 x 200 x 5 mm | D70: ks | E70: 6 | F70: 0 | G70: =E70*F70 -> 0 | H70: 0.009
A71: 55 | B71: PC 9 | C71: Dodávka oceľovej platne "P4" rozmeru 160 x 160 x 5 mm | D71: ks | E71: 2 | F71: 0 | G71: =E71*F71 -> 0 | H71: 0.002
... A90: 74 | B90: PC 20 | C90: Dodávka nerezového žľabu vrátane podpier vo vyhotovení nerez, pol. č."14" a "15" pre osadenie merného profilu vrátane utesnenia | D90: ks | E90: 1 | F90: 0 | G90: =E90*F90 -> 0 | H90: 0.55
A91: 75 | B91: 998767101 | C91: Presun hmôt pre kovové stavebné doplnkové konštrukcie v objektoch výšky do 6 m | D91: t | E91: 2.083 | F91: 0 | G91: =E91*F91 -> 0
A92: 76 | B92: 998767192 | C92: Kovové stav.dopln.konštr., prípl.za presun nad najväčšiu dopr. vzdial. do 100 m | D92: t | E92: 2.083 | F92: 0 | G92: =E92*F92 -> 0
A93: 0 | B93: M | C93: Práce a dodávky M | G93: =G94 -> 0 | H93: =H94 -> 0.151
A94: 0 | B94: 23-M | C94: Montáže potrubia | G94: =SUM(G95:G106) -> 0 | H94: =SUM(H95:H106) -> 0.151
A95: 77 | B95: 230140099 | C95: Montáž rúrok D x t 304 x 3, z nehrdzavejúcej ocele tr. 17-vodotesný prestup pol.č. "7" | D95: m | E95: 0.9 | F95: 0 | G95: =E95*F95 -> 0
A96: 78 | B96: 142120002900 | C96: Rúra oceľová bezšvová nerezová d 304,0 mm, hr. steny 3,0 mm, ozn. 17 240, podľa EN 1.4301, ASTM 304 | D96: m | E96: 0.9 | F96: 0 | G96: =E96*F96 -> 0 | H96: 0.02
A97: 79 | B97: 319430005000 | C97: Príruba navarovacia plochá nerezová DN 300, PN10, D 323,9 mm, s redukovanou hrúbkou 15 mm akosť ocele 1.4301 | D97: ks | E97: 2 | F97: 0 | G97: =E97*F97 -> 0 | H97: 0.028
A98: 80 | B98: 319440031300 | C98: Príruba zaslepovacia nerezová DN 300, PN10, D 304 mm, hr. steny 15 mm, akosť ocele 1.4301 | D98: ks | E98: 1 | F98: 0 | G98: =E98*F98 -> 0 | H98: 0.025
A99: 81 | B99: PC 20 | C99: Vláknocementová pažnica HRD 400-FU 2/300 | D99: ks | E99: 1 | F99: 0 | G99: =E99*F99 -> 0
A100: 82 | B100: PC 21 | C100: Modulárne reťazové tesnenie Z x GKD 440 | D100: ks | E100: 1 | F100: 0 | G100: =E100*F100 -> 0
A101: 83 | B101: 230140106 | C101: Montáž rúrok D x t 354 x 3, z nehrdzavejúcej ocele tr. 17-vodotesný prestup pol.č. "4" | D101: m | E101: 0.9 | F101: 0 | G101: =E101*F101 -> 0
A102: 84 | B102: 142120003900 | C102: Rúra oceľová bezšvová nerezová d 354,0 mm, hr. steny 3,0 mm, ozn. 17 240, podľa EN 1.4301, ASTM 304 | D102: m | E102: 0.9 | F102: 0 | G102: =E102*F102 -> 0 | H102: 0.024
A103: 85 | B103: 319430005100 | C103: Príruba navarovacia plochá nerezová DN 350, PN10, D 355,6 mm, s redukovanou hrúbkou 15 mm akosť ocele 1.4301 | D103: ks | E103: 2 | F103: 0 | G103: =E103*F103 -> 0 | H103: 0.041
A104: 86 | B104: 319440031400 | C104: Príruba zaslepovacia nerezová DN 350, PN10, D 354 mm, hr. steny 15 mm, akosť ocele 1.4301 | D104: ks | E104: 1 | F104: 0 | G104: =E104*F104 -> 0 | H104: 0.013
A105: 87 | B105: PC 22 | C105: Vláknocementová pažnica HRD 450-FU 2/300 | D105: ks | E105: 1 | F105: 0 | G105: =E105*F105 -> 0
A106: 88 | B106: PC 23 | C106: Modulárne reťazové tesnenie Z x GKD 440 | D106: ks | E106: 1 | F106: 0 | G106: =E106*F106 -> 0
C108: Náklad na stavebný objekt - celkom : | G108: =G93+G53+G5 -> 0

Sheet SO-04
A1: DOBUDOVANIE A INTENZIFIKÁCIA ČOV LEVOČA
A2: SO - 04 ZDRUŽENÝ OBJEKT BIOLOGICKÉHO ČISTENIA
A4: ČP | B4: Kód položky | C4: Popis | D4: MJ | E4: Množstvo | F4: J. cena (EUR) | G4: Celková cena (EUR) | H4: Hmotnosť celkom
A5: 0 | B5: HSV | C5: Práce a dodávky HSV | G5: =G6+G17+G27+G43+G49+G55+G65 -> 0 | H5: =H6+H17+H27+H43+H49+H55 -> 103.079
A6: 0 | B6: 1 | C6: Zemné práce | G6: =SUM(G7:G16) -> 0
A7: 1 | B7: 115001102 | C7: Odvedenie vody potrubím pri priemere potrubia DN nad 100 do 150 + presun hmôt | D7: m | E7: 50 | F7: 0 | G7: =E7*F7 -> 0
A8: 2 | B8: 115101201 | C8: Čerpanie vody na dopravnú výšku do 10 m s priemerným prítokom litrov za minútu nad 100 do 500 l | D8: hod | E8: 2880 | F8: 0 | G8: =E8*F8 -> 0
A9: 3 | B9: 115101301 | C9: Pohotovosť záložnej čerpacej súpravy pre výšku do 10 m, s prítokom litrov za minútu nad 100 do 500 l | D9: deň | E9: 120 | F9: 0 | G9: =E9*F9 -> 0
A10: 4 | B10: 131201203 | C10: Výkop zapaženej jamy v hornine 3, nad 1000 do 10000 m3 | D10: m3 | E10: 5445.28 | F10: 0 | G10: =E10*F10 -> 0
A11: 5 | B11: 131201209 | C11: Príplatok za lepivosť pri hĺbení zapažených jám a zárezov s urovnaním dna v hornine 3 | D11: m3 | E11: 1633.584 | F11: 0 | G11: =E11*F11 -> 0
A12: 6 | B12: 174101003 | C12: Zásyp sypaninou so zhutnením jám, šachiet, rýh, zárezov alebo okolo objektov nad 1000 do 10000 m3 | D12: m3 | E12: 997.14 | F12: 0 | G12: =E12*F12 -> 0
A13: 7 | B13: 175101202 | C13: Obsyp objektov | D13: m3 | E13: 330.16 | F13: 0 | G13: =E13*F13 -> 0
A14: 8 | B14: 162301141 | C14: Vodorovné premiestnenie výkopku po spevnenej ceste z horniny tr.1-4, nad 1000 do 10000 m3 na vzdialenosť nad 50 do 500 m | D14: m3 | E14: 4117.98 | F14: 0 | G14: =E14*F14 -> 0
A15: 9 | B15: 171201203 | C15: Uloženie sypaniny na skládky nad 1000 do 10000 m3 | D15: m3 | E15: 4117.98 | F15: 0 | G15: =E15*F15 -> 0
A16: 10 | B16: 171209002 | C16: Poplatok za skladovanie zeminy | D16: t | E16: 5353.374 | F16: 0 | G16: =E16*F16 -> 0
A17: 0 | B17: 2 | C17: Zakladanie | G17: =SUM(G18:G24) -> 0
A18: 11 | B18: KP | C18: Paženie jám štetovnicovou stenou zo štetovníc LARSEN IIIn | D18: m2 | E18: 1320 | F18: 0 | G18: =E18*F18 -> 0
C19: - nastraženie a zabaranenie štetovníc
C20: - dodávka štetovníc ( dvojnásobná obratovosť )
C21: - zváranie a pozdĺžne rezanie štetovníc
C22: - rezanie otvorov, vytiahnutie štetovníc
C23: - presun hmôt
A24: 12 | B24: KP | C24: Plášť vodárenskej studne z betónových skruží celokruhových DN 1000 | D24: m | E24: 10 | F24: 0 | G24: =E24*F24 -> 0
C25: - osadenie a dodávka skruží TBH 1000/100
C26: - presun hmôt
B27: 3 | C27: Zvislé a kompletné konštrukcie | G27: =SUM(G28:G39) -> 0
A28: 13 | B28: KP | C28: Kompletné konštrukcie čistiarní odpadových vôd z betónu prostého tr. C 12/15 - podkladný betón | D28: m3 | E28: 146 | F28: 0 | G28: =E28*F28 -> 0
C29: - zriadenie konštr. + dodávka bet. = 146,0 m3
C30: - zriadenie a odstránenie debnenia = 99,67 m2
C31: - presun hmôt = 329,63 t
A32: 14 | B32: KP | C32: Kompletné konštrukcie čistiarní odpadových vôd zo železobetónu vodostavebného C 30/37, - konštr. nádrže | D32: m3 | E32: 1451.65 | F32: 0 | G32: =E32*F32 -> 0
C33: - zriadenie konštr. + dodávka bet.= 1 451,65 m3
C34: - zriadenie a odstránenie debnenia = 3 420,23 m2
C35: - výstuž kompletných konštrukcií = 203,6 t
C36: - osadenie a dodávka tesnenia pracovnej škáry oceľ. plechom 160/0,6m s bituménovým povlakom 0,5mm = 357,90 m
C37: - osadenie a dodávka tesniacich členov TRICOSAL elastomer AM 500 + FAE50 , LINK-SEAL a dilatácii
C38: - presun hmôt = 3 972,77 t
A39: 15 | B39: KP | C39: Kompletné konštrukcie čistiarní odpad. vôd z betónu prostého tr. C 25/30, hr.nad 80 do 150 mm - výplňový betón v dne | D39: m3 | E39: 3 | F39: 0 | G39: =E39*F39 -> 0
C40: - zriadenie konštr. + dodávka bet.
C41: - zriadenie a odstránenie debnenia
C42: - presun hmôt
B43: 4 | C43: Vodorovné konštrukcie | G43: =SUM(G44:G48) -> 0
A44: 16 | B44: KP | C44: Prestupové kusy pre potrubie DN do 600 mm nerezové | D44: kg | E44: 1067.02 | F44: 0 | G44: =E44*F44 -> 0
C45: - osadenie a dodávka PK
C46: - presun hmôt
A47: 17 | B47: KP | C47: Montáž šachtovej prechodky na potrubie z kanalizačných odstredivo liatych sklolaminátových rúr DN 400 mm | D47: ks | E47: 2 | F47: 0 | G47: =E47*F47 -> 0
A48: 18 | B48: KP | C48: Šachtový prechod typ C pre sklolaminát PN 1 DN 400 mm | D48: ks | E48: 2 | F48: 0 | G48: =E48*F48 -> 0
B49: 5 | C49: Komunikácie | G49: =SUM(G50) -> 0
A50: 19 | B50: KP | C50: Komunikácie pre peších - bet. dlažba 500 x 500 x 100 vrátane obrubníkov | D50: m2 | E50: 165.3 | F50: 0 | G50: =E50*F50 -> 0
C51: - podkladné lôžka zo štrkodrvy hr. 100 + 150 mm = 165,30 m2
C52: - kladenie a dodávka bet. tvárnic 500 x 500 x 100 = 165,30 m2
C53: - osadenie a dodávka obrubníkov 100 x 200 x 50 = 170,0m
C54: - presun hmôt 162,98 t
A55: 0 | B55: 9 | C55: Ostatné konštrukcie a práce | G55: =SUM(G56:G64) -> 0 | H55: =SUM(H56:H64) -> 103.079
A56: 20 | B56: KP | C56: Vyčistenie objektov | D56: m2 | E56: 1128.1 | F56: 0 | G56: =E56*F56 -> 0
A57: 21 | B57: KP | C57: Skúška vodotesnosti nádrží vrátane dodávky vody | D57: m3 | E57: 4805 | F57: 0 | G57: =E57*F57 -> 0
A58: 22 | B58: KP | C58: Zhotovenie a dodávka tesnenia dilatačnej škáry z polystyrénu hr. 50mm | D58: m2 | E58: 152.4 | F58: 0 | G58: =E58*F58 -> 0
A59: 23 | B59: KP | C59: Izolácia proti zem. vlhkosti a agresivite | D59: m2 | E59: 1930.31 | F59: 0 | G59: =E59*F59 -> 0
A60: 24 | B60: KP | C60: Náter bet.konšťr. kryštalický - vnútorný | D60: m2 | E60: 2451.39 | F60: 0 | G60: =E60*F60 -> 0
A61: 25 | B61: 938902051 | C61: Príprava podkladu bet. konštr. pod kryštalický náter a izolácciu proti vode | D61: m2 | E61: 4381.7 | F61: 0 | G61: =E61*F61 -> 0
A62: 26 | B62: 942941021 | C62: Montáž lešenia ťažkého s podlahami v. do 10 m | D62: m2 | E62: 1374.38 | F62: 0 | G62: =E62*F62 -> 0 | H62: =0.039*E62 -> 53.601
A63: 27 | B63: 942941191 | C63: Prir. za prvý a ďalší mesiac použitia lešenia | D63: m2 | E63: 6871.9 | F63: 0 | G63: =E63*F63 -> 0
A64: 28 | B64: 942941821 | C64: Demontáž lešenia ťažkého | D64: m2 | E64: 1374.38 | F64: 0 | G64: =E64*F64 -> 0 | H64: =0.036*E64 -> 49.478
A65: 0 | B65: 99 | C65: Presun hmôt HSV | G65: =G66 -> 0
A66: 29 | B66: 998012021 | C66: Presun hmôt pre nádrže (814),zvislá konštr. monolit. betónová výšky do 6 m | D66: t | E66: 103.079 | F66: 0 | G66: =E66*F66 -> 0
B67: PSV | C67: Práce a dodávky PSV | G67: =G68 -> 0
A68: 0 | B68: 767 | C68: Konštrukcie doplnkové kovové | G68: =SUM(G69:G76) -> 0 | H68: 3.879
A69: 30 | B69: KP | C69: Montáž a dodávka zábradlia rovného, schodišťa - nerez | D69: kg | E69: 2254.89 | F69: 0 | G69: =E69*F69 -> 0 | H69: 2.255
A70: 31 | B70: KP | C70: Montáž a dodávka podiest, pororoštov - nerez | D70: kg | E70: 937.47 | F70: 0 | G70: =E70*F70 -> 0 | H70: 0.937
A71: 32 | B71: KP | C71: Montáž a dodávka rebríkov - nerez | D71: kg | E71: 177.96 | F71: 0 | G71: =E71*F71 -> 0 | H71: 0.178
A72: 33 | B72: 767995105 | C72: Montáž ostatných atypických kovových stavebných doplnkových konštrukcií nad 50 do 100 kg | D72: kg | E72: 208.8 | F72: 0 | G72: =E72*F72 -> 0 | H72: 0.209
A73: 34 | B73: R | C73: Dodávka poklopu na otvor 700x900 mm vo vyhotovení nerez | D73: ks | E73: 2 | F73: 0 | G73: =E73*F73 -> 0 | H73: 0.2
A74: 35 | B74: R | C74: Dodávka mreže rozmeru 500x500 mm vo vyhotovení nerez | D74: ks | E74: 2 | F74: 0 | G74: =E74*F74 -> 0 | H74: 0.1
A75: 36 | B75: 998767101 | C75: Presun hmôt pre kovové stavebné doplnkové konštrukcie v objektoch výšky do 6 m | D75: t | E75: 3.879 | F75: 0 | G75: =E75*F75 -> 0
A76: 37 | B76: 998767192 | C76: Kovové stav.dopln.konštr., prípl.za presun nad najväčšiu dopr. vzdial. do 100 m | D76: t | E76: 3.879 | F76: 0 | G76: =E76*F76 -> 0
C78: Náklad na stavebný objekt - celkom : | G78: =G67+G5 -> 0

Sheet SO-04 eli
A1: DOBUDOVANIE A INTENZIFIKÁCIA ČOV LEVOČA
A2: SO-04 ZDRUŽENÝ OBJEKT BIOLOGICKÉHO ČISTENIA - ELEKTROSTAVEBNÁ ČASŤ
A4: Pol. | B4: NÁZOV POLOŽKY | C4: Jedn. | D4: Mn. | E4: J. cena (EUR) | F4: Celková cena (EUR)
B5: DODÁVKA
A6: 1 | B6: Pilierový plastový rozvádzač so zásuvkami 2x230V/16A, 1x400V/16A, 1x400V/32A s priestorom pre istenie, vrátane ističov pre zásuvky a pre jeden svetelný okruh a prúdového chrániča, osadenia a zapojenia - IP65 | C6: ks | D6: 4 | E6: 0 | F6: =D6*E6 -> 0
A7: 2 | B7: Svietidlo LED na povrch, min.34W - IP65 | C7: ks | D7: 2 | E7: 0 | F7: =D7*E7 -> 0
A8: 3 | B8: Spínač jednopólový na povrch č.1 10A/250V - IP55 | C8: ks | D8: 2 | E8: 0 | F8: =D8*E8 -> 0
A9: 4 | B9: CYKY-J 5x6 v zemi vrátane ukončenia | C9: m | D9: 230 | E9: 0 | F9: =D9*E9 -> 0
A10: 5 | B10: CYKY-J 3x1,5 v PVC žľabe resp. v zemi vrátane ukončenia | C10: m | D10: 100 | E10: 0 | F10: =D10*E10 -> 0
A11: 6 | B11: CYKY-O 2x1,5 PVC žľabe vrátane ukončenia | C11: m | D11: 2 | E11: 0 | F11: =D11*E11 -> 0
A12: 7 | B12: Krabica plastová na povrch vrátane svoriek - IP 54 | C12: ks | D12: 2 | E12: 0 | F12: =D12*E12 -> 0
A13: 8 | B13: Vodič FeZn ø10 v betóne a v zemi | C13: m | D13: 350 | E13: 0 | F13: =D13*E13 -> 0
A14: 9 | B14: Vodič FeZn 30x4mm v betóne a v zemi | C14: m | D14: 260 | E14: 0 | F14: =D14*E14 -> 0
A15: 10 | B15: Svorka odbočná SR03 | C15: ks | D15: 60 | E15: 0 | F15: =D15*E15 -> 0
A16: 11 | B16: Svorka odbočná SR02 | C16: ks | D16: 32 | E16: 0 | F16: =D16*E16 -> 0
A17: 12 | B17: Svorka pripájacia SP2 nerezová V4A | C17: ks | D17: 21 | E17: 0 | F17: =D17*E17 -> 0
A18: 13 | B18: Zvar
A19: 14 | B19: Pasívna antikorózna ochrana prechodov vodičov FeZn do zeme a do betónu | C19: ks | D19: 1 | E19: 0 | F19: =D19*E19 -> 0
A20: 15 | B20: Vodič pre ochranné a doplnkové pospájanie CY 6 Z/Ž v PVC žľabe a trubke | C20: m | D20: 40 | E20: 0 | F20: =D20*E20 -> 0
A21: 16 | B21: Spojovací materiál pre ochranné a doplnkové pospájanie (HUS, svorky, Cu pásik, káblové oká, vejárovité podložky) | C21: ks | D21: 1 | E21: 0 | F21: =D21*E21 -> 0
B23: MONTÁŽ
A24: 1 | B24: Pilierový plastový rozvádzač so zásuvkami 2x230V/16A, 1x400V/16A, 1x400V/32A s priestorom pre istenie, vrátane ističov pre zásuvky a pre jeden svetelný okruh a prúdového chrániča, osadenia a zapojenia - IP65 | C24: ks | D24: 4 | E24: 0 | F24: =D24*E24 -> 0
A25: 2 | B25: Svietidlo LED na povrch, min.34W - IP65 | C25: ks | D25: 2 | E25: 0 | F25: =D25*E25 -> 0
A26: 3 | B26: Spínač jednopólový na povrch č.1 10A/250V - IP55 | C26: ks | D26: 2 | E26: 0 | F26: =D26*E26 -> 0
A27: 4 | B27: CYKY-J 5x6 v zemi vrátane ukončenia | C27: m | D27: 230 | E27: 0 | F27: =D27*E27 -> 0
A28: 5 | B28: CYKY-J 3x1,5 v PVC žľabe resp. v zemi vrátane ukončenia | C28: m | D28: 100 | E28: 0 | F28: =D28*E28 -> 0
A29: 6 | B29: CYKY-O 2x1,5 PVC žľabe vrátane ukončenia | C29: m | D29: 2 | E29: 0 | F29: =D29*E29 -> 0
A30: 7 | B30: Krabica plastová na povrch vrátane svoriek - IP 54 | C30: ks | D30: 2 | E30: 0 | F30: =D30*E30 -> 0
A31: 8 | B31: Vodič FeZn ø10 v betóne a v zemi | C31: m | D31: 350 | E31: 0 | F31: =D31*E31 -> 0
A32: 9 | B32: Vodič FeZn 30x4mm v betóne a v zemi | C32: m | D32: 260 | E32: 0 | F32: =D32*E32 -> 0
A33: 10 | B33: Svorka odbočná SR03 | C33: ks | D33: 60 | E33: 0 | F33: =D33*E33 -> 0
A34: 11 | B34: Svorka odbočná SR02 | C34: ks | D34: 32 | E34: 0 | F34: =D34*E34 -> 0
A35: 12 | B35: Svorka pripájacia SP2 nerezová V4A | C35: ks | D35: 21 | E35: 0 | F35: =D35*E35 -> 0
... A39: 16 | B39: Spojovací materiál pre ochranné a doplnkové pospájanie (HUS, svorky, Cu pásik, káblové oká, vejárovité podložky) | C39: ks | D39: 1 | E39: 0 | F39: =D39*E39 -> 0
B40: HODINOVÁ SADZBA
A41: 17 | B41: Odborná prehliadka a skúška (Revízia) | C41: h | D41: 8 | E41: 0 | F41: =D41*E41 -> 0
B43: Náklady celkom: | F43: =SUM(F6:F41) -> 0

Sheet SO-05
A1: DOBUDOVANIE A INTENZIFIKÁCIA ČOV LEVOČA
A2: SO - 05 ZDRUŽENÝ OBJEKT DÚCHÁRNE A PREVÁDZKOVEJ BUDOVY
A4: ČP | B4: Kód položky | C4: Popis | D4: MJ | E4: Množstvo | F4: J. cena (EUR) | G4: Celková cena (EUR) | H4: Hmotnosť celkom
A5: 0 | B5: HSV | C5: Práce a dodávky HSV | G5: =G6+G12+G26+G30+G34+G38+G55+G48 -> 0 | H5: =H6+H12+H26+H30+H34+H38+H55+H48 -> 986.319
A6: 0 | B6: 1 | C6: Zemné práce | G6: =SUM(G7:G11) -> 0
A7: 1 | B7: 131201102 | C7: Výkop nezapaženej jamy v hornine 3, nad 100 do 1000 m3 | D7: m3 | E7: 535.06 | F7: 0 | G7: =E7*F7 -> 0
A8: 2 | B8: 131201109 | C8: Hĺbenie nezapažených jám a zárezov. Príplatok za lepivosť horniny 3 | D8: m3 | E8: 160.518 | F8: 0 | G8: =E8*F8 -> 0
A9: 3 | B9: 162301121 | C9: Vodorovné premiestnenie výkopku po spevnenej ceste z horniny tr.1-4, nad 100 do 1000 m3 na vzdialenosť nad 50 do 500 m | D9: m3 | E9: 535.06 | F9: 0 | G9: =E9*F9 -> 0
A10: 4 | B10: 171201202 | C10: Uloženie sypaniny na skládky nad 100 do 1000 m3 | D10: m3 | E10: 535.06 | F10: 0 | G10: =E10*F10 -> 0
A11: 5 | B11: 171209002 | C11: Poplatok za skladovanie zeminy | D11: t | E11: 695.578 | F11: 0 | G11: =E11*F11 -> 0
A12: 0 | B12: 2 | C12: Zakladanie | G12: =SUM(G13:G25) -> 0 | H12: =SUM(H13:H25) -> 867.696
A13: 6 | B13: 273313611 | C13: Betón základových dosiek, prostý tr. C 16/20 - podkladný betón | D13: m3 | E13: 10.23 | F13: 0 | G13: =E13*F13 -> 0 | H13: 22.506
A14: 7 | B14: 273356021 | C14: Debnenie základových konštrukcií pre plochy rovinné zhotovenie | D14: m2 | E14: 5.1 | F14: 0 | G14: =E14*F14 -> 0 | H14: 0.066
A15: 8 | B15: 273356022 | C15: Debnenie základových konštrukcií rovinné odstránenie | D15: m2 | E15: 5.1 | F15: 0 | G15: =E15*F15 -> 0
A16: 9 | B16: 274313711 | C16: Betón základových pásov, prostý tr. C 25/30 | D16: m3 | E16: 89.36 | F16: 0 | G16: =E16*F16 -> 0 | H16: 196.592
A17: 10 | B17: 274351217 | C17: Debnenie stien základových pásov, zhotovenie-tradičné | D17: m2 | E17: 241.56 | F17: 0 | G17: =E17*F17 -> 0 | H17: 0.07
A18: 11 | B18: 274351218 | C18: Debnenie stien základových pásov, odstránenie-tradičné | D18: m2 | E18: 241.56 | F18: 0 | G18: =E18*F18 -> 0
A19: 12 | B19: 273326242 | C19: Základové dosky z betónu železového vodostavebného C 30/37 | D19: m3 | E19: 37.88 | F19: 0 | G19: =E19*F19 -> 0 | H19: 83.336
A20: 13 | B20: 273356021 | C20: Debnenie základových konštrukcií pre plochy rovinné zhotovenie | D20: m2 | E20: 47.97 | F20: 0 | G20: =E20*F20 -> 0 | H20: 0.066
A21: 14 | B21: 273356022 | C21: Debnenie základových konštrukcií rovinné odstránenie | D21: m2 | E21: 47.97 | F21: 0 | G21: =E21*F21 -> 0
A22: 15 | B22: 273362021 | C22: Výstuž základových dosiek, zákl. pod stroje - sieťovina | D22: t | E22: 1.446 | F22: 0 | G22: =E22*F22 -> 0 | H22: 1.518
A23: 16 | B23: 1327011000 | C23: Oceľové vlákna do betónu DRAMIX RL 45/50-BN - uvažované 75 kg/m3 betónu | D23: t | E23: 1.389 | F23: 0 | G23: =E23*F23 -> 0 | H23: 1.458
A24: 17 | B24: 278382552 | C24: Základy pod stroje do 5 m3 z betónu s rozptýlenou výstužou tr. C 25/30, zložitosť II, včetne debnenia | D24: m3 | E24: 3.88 | F24: 0 | G24: =E24*F24 -> 0 | H24: 10.077
A25: 18 | B25: KP | C25: Štrkodrva fr. 32-63 | D25: m3 | E25: 334.55 | F25: 0 | G25: =E25*F25 -> 0 | H25: 552.007
A26: 0 | B26: 3 | C26: Zvislé a kompletné konštrukcie | G26: =SUM(G27:G29) -> 0 | H26: =SUM(H27:H28) -> 31.982
A27: 19 | B27: 311234560 | C27: Murivo nosné + priečky z tehál POROTHERM | D27: m3 | E27: 83.89 | F27: 0 | G27: =E27*F27 -> 0 | H27: 31.982
A28: 20 | B28: KP | C28: Keramické preklady POROTHERM + presun hmôt | D28: kpl | E28: 1 | F28: 0 | G28: =E28*F28 -> 0
A29: 21 | B29: KP | C29: Osadenie a dodávka SDK priečky v m.č.1.07,1.06,1.03 | D29: m2 | E29: 6.75 | F29: 0 | G29: =E29*F29 -> 0
A30: 0 | B30: 4 | C30: Vodorovné konštrukcie | G30: =SUM(G31:G33) -> 0 | H30: =SUM(H31:H32) -> 0.246
A31: 22 | B31: 413941123 | C31: Osadenie oceľových valcovaných nosníkov I, IE, U, UE, L č. 14-22, alebo výšky do 220 mm | D31: t | E31: 0.225 | F31: 0 | G31: =E31*F31 -> 0 | H31: 0.003
A32: 23 | B32: 1348051500 | C32: Tyč oceľová hrubá prierezu I 200 mm ozn. 10 370 - oceľový nosník kladkostroja | D32: t | E32: 0.243 | F32: 0 | G32: =E32*F32 -> 0 | H32: 0.243
A33: 24 | B33: KP | C33: Betón vencov železový tr. C 30/37 vrátane debnenia, výstuže, presun hmôt | D33: m3 | E33: 8.28 | F33: 0 | G33: =E33*F33 -> 0
B34: 5 | C34: Komunikácie | G34: =SUM(G35:G37) -> 0 | H34: =SUM(H35:H37) -> 19.058
A35: 25 | B35: 564271111 | C35: Podklad alebo podsyp zo štrkopiesku s rozprestretím, vlhčením a zhutnením, po zhutnení hr. 250 mm | D35: m2 | E35: 21.575 | F35: 0 | G35: =E35*F35 -> 0 | H35: 11.461
A36: 26 | B36: 596811111 | C36: Kladenie dlažby betónovej komunikácií pre peších do lôžka z kameniva ťaženého - okapový chodník | D36: m2 | E36: 21.575 | F36: 0 | G36: =E36*F36 -> 0 | H36: 2.29
A37: 27 | B37: 5922763000 | C37: Tvárnica betónová doska obklad. TBM 2-50 50x50x10 | D37: ks | E37: 87.163 | F37: 0 | G37: =E37*F37 -> 0 | H37: 5.307
A38: 0 | B38: 6 | C38: Úpravy povrchov, podlahy, osadenie | G38: =SUM(G39:G47) -> 0 | H38: =SUM(H39:H47) -> 35.62
A39: 28 | B39: 612460252 | C39: Vnútorná omietka vápenná alebo vápennocementová v podlaží a v schodisku hladká | D39: m2 | E39: 329.15 | F39: 0 | G39: =E39*F39 -> 0 | H39: 12.162
A40: 29 | B40: 622464293 | C40: Vonkajšia omietka stien tenkovrstvová BAUMIT, silikátová, Baumit openTop, škrabaná, hr. 3 mm | D40: m2 | E40: 323.179 | F40: 0 | G40: =E40*F40 -> 0 | H40: 1.561
A41: 30 | B41: 625251359 | C41: Kontaktný zatepľovací systém hr. 150 mm BAUMIT STAR - minerálne riešenie, zatĺkacie kotvy | D41: m2 | E41: 45.892 | F41: 0 | G41: =E41*F41 -> 0 | H41: 1.547
A42: 31 | B42: 625251364 | C42: Kontaktný zatepľovací systém hr. 240 mm BAUMIT STAR - minerálne riešenie, zatĺkacie kotvy | D42: m2 | E42: 277.287 | F42: 0 | G42: =E42*F42 -> 0 | H42: 12.173
A43: 32 | B43: 632450419 | C43: Cementový poter CEMIX 30 MPa, ozn. 030, finálna vrstva s požiadavkou na vyššiu pevnosť, hr. 55 mm roznášacia vrstva | D43: m2 | E43: 73.28 | F43: 0 | G43: =E43*F43 -> 0 | H43: 7.694
A44: 33 | B44: 642942111 | C44: Osadenie oceľovej dverovej zárubne alebo rámu, plochy otvoru do 2,5 m2 | D44: ks | E44: 3 | F44: 0 | G44: =E44*F44 -> 0 | H44: 0.053
A45: 34 | B45: 5533198600 | C45: Zárubňa oceľová CgU 90x197x25cm L | D45: ks | E45: 3 | F45: 0 | G45: =E45*F45 -> 0 | H45: 0.029
A46: 35 | B46: PC 1 | C46: Osadenie a dodávka prekrytia energokanála rozmeru 300x7700 mm - vyhotovenie nerez | D46: ks | E46: 1 | F46: 0 | G46: =E46*F46 -> 0 | H46: 0.19
A47: 36 | B47: PC 2 | C47: Osadenie a dodávka prekrytia žľabu energokanála rozmeru 300x11700 mm - vyhotovenie nerez | D47: ks | E47: 1 | F47: 0 | G47: =E47*F47 -> 0 | H47: 0.211
A48: 0 | B48: 9 | C48: Ostatné konštrukcie a práce | G48: =SUM(G49:G54) -> 0 | H48: =SUM(H49:H54) -> 31.717
A49: 37 | B49: 941941041 | C49: Zriadenie lešenia ľahkého s podlahami š. 1,2m v, do 10 m | D49: m2 | E49: 200.18 | F49: 0 | G49: =E49*F49 -> 0 | H49: =0.026*E49 -> 5.205
A50: 38 | B50: 941941291 | C50: Prir. za prvý a ďalší mesiac použitia lešenia | D50: m2 | E50: 1000.9 | F50: 0 | G50: =E50*F50 -> 0
A51: 39 | B51: 942941021 | C51: Montáž lešenia ťažkého s podlahami v. do 10 m | D51: m2 | E51: 284.89 | F51: 0 | G51: =E51*F51 -> 0 | H51: =0.039*E51 -> 11.111
A52: 40 | B52: 942941191 | C52: Prir. za prvý a ďalší mesiac použitia lešenia | D52: m2 | E52: 1424.45 | F52: 0 | G52: =E52*F52 -> 0
A53: 41 | B53: 941941841 | C53: Demontáž lešenia ľahkého s podlahami | D53: m2 | E53: 200.18 | F53: 0 | G53: =E53*F53 -> 0 | H53: =0.0257*E53 -> 5.145
A54: 42 | B54: 942941821 | C54: Demontáž lešenia ťažkého | D54: m2 | E54: 284.89 | F54: 0 | G54: =E54*F54 -> 0 | H54: =0.036*E54 -> 10.256
A55: 0 | B55: 99 | C55: Presun hmôt HSV | G55: =G56 -> 0
A56: 43 | B56: 998012021 | C56: Presun hmôt pre budovy (801, 803, 812), zvislá konštr. monolit. betónová výšky do 6 m | D56: t | E56: 986.319 | F56: 0 | G56: =E56*F56 -> 0
A57: 0 | B57: PSV | C57: Práce a dodávky PSV | G57: =G58+G71+G78+G90+G95+G107+G123+G133+G141+G146+G150 -> 0 | H57: =H58+H71+H78+H90+H95+H107+H123+H133+H141+H146+H150 -> 20.339
A58: 0 | B58: 711 | C58: Izolácie proti vode a vlhkosti | G58: =SUM(G59:G70) -> 0 | H58: =SUM(H59:H70) -> 1.428
A59: 44 | B59: 7111 | C59: Zhotovenie izolácie proti zemnej vlhkosti vodorovná a zvislá náterom penetračným za studena | D59: m2 | E59: 223.18 | F59: 0 | G59: =E59*F59 -> 0
A60: 45 | B60: 1116315000 | C60: Lak asfaltový ALP-PENETRAL v sudoch | D60: t | E60: 0.161 | F60: 0 | G60: =E60*F60 -> 0 | H60: =E60 -> 0.161
A61: 46 | B61: 711121131 | C61: Zhotovenie izolácie proti zemnej vlhkosti vodorovná a zvislá asfaltovým náterom za tepla | D61: m2 | E61: 223.18 | F61: 0 | G61: =E61*F61 -> 0 | H61: 0.02
A62: 47 | B62: 1116174000 | C62: Asfalt polofúkaný BITUMAX 10 v sudoch do 250kg | D62: t | E62: 0.738 | F62: 0 | G62: =E62*F62 -> 0 | H62: =E62 -> 0.738
A63: 48 | B63: 71147 | C63: Zhotovenie izolácie proti tlakovej vode PVC fóliou položenou voľne na vodorovnej ploche so zvarením spoju | D63: m2 | E63: 180.26 | F63: 0 | G63: =E63*F63 -> 0 | H63: 0.004
A64: 49 | B64: 2833000210 | C64: FATRAFOL-TPO 803 izol.základov proti vlhkosti, tlak.vode, radonu, hydroizolačná fólia hr.1,50 mm, š.1,3m hnedá | D64: m2 | E64: 180.26 | F64: 0 | G64: =E64*F64 -> 0 | H64: 0.327
A65: 50 | B65: 711491171 | C65: Zhotovenie podkladnej vrstvy izolácie z textílie na ploche vodorovnej, pre izolácie proti zemnej vlhkosti, podpovrchovej a tlakovej vode | D65: m2 | E65: 180.26 | F65: 0 | G65: =E65*F65 -> 0
A66: 51 | B66: 6936651800 | C66: Geotextília netkaná polypropylénová Tatratex PP 600 | D66: m2 | E66: 180.26 | F66: 0 | G66: =E66*F66 -> 0 | H66: 0.089
A67: 52 | B67: 711491172 | C67: Zhotovenie ochrannej vrstvy izolácie z textílie na ploche vodorovnej, pre izolácie proti zemnej vlhkosti, podpovrchovej a tlakovej vode | D67: m2 | E67: 180.26 | F67: 0 | G67: =E67*F67 -> 0
A68: 53 | B68: 6936651800 | C68: Geotextília netkaná polypropylénová Tatratex PP 600 | D68: m2 | E68: 180.26 | F68: 0 | G68: =E68*F68 -> 0 | H68: 0.089
A69: 54 | B69: 998711101 | C69: Presun hmôt pre izoláciu proti vode v objektoch výšky do 6 m | D69: t | E69: 1.428 | F69: 0 | G69: =E69*F69 -> 0
A70: 55 | B70: 998711192 | C70: Izolácia proti vode, prípl.za presun nad vymedz. najväčšiu dopravnú vzdialenosť do 100 m | D70: t | E70: 1.428 | F70: 0 | G70: =E70*F70 -> 0
A71: 0 | B71: 712 | C71: Izolácie striech | G71: =SUM(G72:G77) -> 0 | H71: =SUM(H72:H77) -> 0.067
A72: 56 | B72: 712290020 | C72: Zhotovenie parozábrany pre strechy šikmé do 30° | D72: m2 | E72: 170.518 | F72: 0 | G72: =E72*F72 -> 0
A73: 57 | B73: 2832990190 | C73: Parozábrana Fatrapar E hr.0,15mm, š.2m, balenie: 200m2 | D73: m2 | E73: 196.096 | F73: 0 | G73: =E73*F73 -> 0 | H73: 0.035
A74: 58 | B74: 712461701 | C74: Zhotovenie povlakovej krytiny striech šikmých do 30° fóliou položenou voľne | D74: m2 | E74: 71.1 | F74: 0 | G74: =E74*F74 -> 0 | H74: 0.016
A75: 59 | B75: 283230005700 | C75: Poistná hydroizolačná fólia s difúzne otvoreným podvrstvením | D75: m2 | E75: 81.765 | F75: 0 | G75: =E75*F75 -> 0 | H75: 0.016
A76: 60 | B76: 998712101 | C76: Presun hmôt pre izoláciu povlakovej krytiny v objektoch výšky do 6 m | D76: t | E76: 0.067 | F76: 0 | G76: =E76*F76 -> 0
A77: 61 | B77: 998712192 | C77: Izolácia z povlak.krytín, prípl.za presun nad vymedz. najväčšiu dopravnú vzdialenosť do 100 m | D77: t | E77: 0.067 | F77: 0 | G77: =E77*F77 -> 0
A78: 0 | B78: 713 | C78: Izolácie tepelné | G78: =SUM(G79:G89) -> 0 | H78: =SUM(H79:H89) -> 3.572
A79: 62 | B79: 713122111 | C79: Montáž tepelnej izolácie podláh polystyrénom, kladeným voľne v jednej vrstve | D79: m2 | E79: 122.28 | F79: 0 | G79: =E79*F79 -> 0
A80: 63 | B80: 2837500180 | C80: Styrodur 3000 CS extrudovaný polystyrén - XPS hrúbka 150 mm | D80: m2 | E80: 122.28 | F80: 0 | G80: =E80*F80 -> 0 | H80: 0.395
A81: 64 | B81: 713141151 | C81: Montáž tepelnej izolácie striech plochých do 10° minerálnou vlnou, jednovrstvová kladenými voľne | D81: m2 | E81: 142.2 | F81: 0 | G81: =E81*F81 -> 0
A82: 65 | B82: 6314150280 | C82: Tepelná izolácia striech NOBASIL MPS PLUS, čadičová minerálna izolácia - doska 120x600x1000 mm | D82: m2 | E82: 72.522 | F82: 0 | G82: =E82*F82 -> 0 | H82: 1.044
A83: 66 | B83: 6314150290 | C83: Tepelná izolácia šikmých striech NOBASIL MPS PLUS, čadičová minerálna izolácia - doska 140x600x1000 mm | D83: m2 | E83: 72.522 | F83: 0 | G83: =E83*F83 -> 0 | H83: 0.914
A84: 67 | B84: 713142151 | C84: Montáž tepelnej izolácie striech plochých do 10° polystyrénom, jednovrstvová kladenými voľne | D84: m2 | E84: 198.836 | F84: 0 | G84: =E84*F84 -> 0
A85: 68 | B85: 2837653407 | C85: EPS Roof 70S penový polystyrén hrúbka 200 mm | D85: m2 | E85: 202.813 | F85: 0 | G85: =E85*F85 -> 0 | H85: 0.588
A86: 69 | B86: 713142151 | C86: Montáž tepelnej izolácie striech plochých do 10° polystyrénom, jednovrstvová kladenými voľne | D86: m2 | E86: 99.418 | F86: 0 | G86: =E86*F86 -> 0
A87: 70 | B87: 2837653510 | C87: EPS ISO-Roof 100S penový polystyrén EPS+kašír fólia V60S35 hrúbka 50 mm | D87: m2 | E87: 101.406 | F87: 0 | G87: =E87*F87 -> 0 | H87: 0.631
A88: 71 | B88: 998713101 | C88: Presun hmôt pre izolácie tepelné v objektoch výšky do 6 m | D88: t | E88: 3.572 | F88: 0 | G88: =E88*F88 -> 0
A89: 72 | B89: 998713192 | C89: Izolácie tepelné, prípl.za presun nad vymedz. najväčšiu dopravnú vzdial. do 100 m | D89: t | E89: 3.572 | F89: 0 | G89: =E89*F89 -> 0
A90: 0 | B90: 763 | C90: Konštrukcie - drevostavby | G90: =SUM(G91:G94) -> 0 | H90: =SUM(H91:H94) -> 1.403
A91: 73 | B91: 763138273 | C91: Akustický podhľad SDK Rigips Gyptone Big, doska Big Quatro 47, TI 50 mm | D91: m2 | E91: 57.18 | F91: 0 | G91: =E91*F91 -> 0 | H91: 1.03
A92: 74 | B92: 763138281 | C92: Akustický podhľad SDK Rigips Rigiton, doska Rigiton Climafit RL, TI 50 mm - impregnovaný | D92: m2 | E92: 16.1 | F92: 0 | G92: =E92*F92 -> 0 | H92: 0.373
A93: 75 | B93: 998763301 | C93: Presun hmôt pre sádrokartónové konštrukcie v objektoch výšky do 7 m | D93: t | E93: 1.403 | F93: 0 | G93: =E93*F93 -> 0
A94: 76 | B94: 998763391 | C94: Príplatok za presun (69) nad vymedzenú najväčšiu dopravnú vzdialenosť, sadrokartonových konštrukcií po stavenisku do 1 km | D94: t | E94: 1.403 | F94: 0 | G94: =E94*F94 -> 0
A95: 0 | B95: 764 | C95: Konštrukcie klampiarske | G95: =SUM(G96:G106) -> 0 | H95: =SUM(H96:H106) -> 2.202
A96: 77 | B96: 764171712 | C96: Krytina LINDAB - trapézový systém T-50, šírka 1020 mm, hr. 0,5 mm, sklon strechy do 30° | D96: m2 | E96: 154.76 | F96: 0 | G96: =E96*F96 -> 0 | H96: 0.806
A97: 78 | B97: 764171715 | C97: Krytina LINDAB - trapézový systém T-60, šírka 920 mm, hr. 0,6 mm, sklon strechy do 30° - podkladná vrstva | D97: m2 | E97: 170.518 | F97: 0 | G97: =E97*F97 -> 0 | H97: 1.166
A98: 79 | B98: 764322230 | C98: Oplechovanie z pozinkovaného PZ plechu, odkvapov na strechách s tvrdou krytinou r.š. 400 mm | D98: m | E98: 56 | F98: 0 | G98: =E98*F98 -> 0 | H98: 0.003
A99: 80 | B99: 764352227 | C99: Žľaby z pozinkovaného PZ plechu, pododkvapové polkruhové r.š. 330 mm | D99: m | E99: 56 | F99: 0 | G99: =E99*F99 -> 0 | H99: 0.138
A100: 81 | B100: 764410750 | C100: Oplechovanie parapetov z hliníkového farebného Al plechu, vrátane rohov r.š. 330 mm | D100: m | E100: 15.8 | F100: 0 | G100: =E100*F100 -> 0 | H100: 0.022
A101: 82 | B101: 764430 | C101: Oplechovanie muriva a atík z pozinkovaného PZ plechu, vrátane rohov r.š. 800 mm | D101: m | E101: 6 | F101: 0 | G101: =E101*F101 -> 0 | H101: 0.004
...

Sheet SO-05 eli
A1: DOBUDOVANIE A INTENZIFIKÁCIA ČOV LEVOČA
A2: SO-05 ZDRUŽENÝ OBJEKT DÚCHARNE A PREVÁDZKOVEJ BUDOVY - ELEKTROSTAVEBNÁ ČASŤ
A4: Položka | B4: NÁZOV POLOŽKY | C4: Jed | D4: Mn | E4: J. cena (EUR) | F4: Celková cena (EUR)
B5: DODÁVKA
A6: 4 | B6: Rozvádzač na povrch RS05 vrátane výzbroja, osadenia a zapojenia | C6: ks | D6: 1 | E6: 0 | F6: =E6*D6 -> 0
A7: 5 | B7: Svietidlo LED, min. 1x47W vrátane závesného systému - IP65 | C7: ks | D7: 8 | E7: 0 | F7: =E7*D7 -> 0
A8: 6 | B8: Svietidlo na stenu E27/60W, vrátane LED žiarovky 10W, svietiace do polpriestoru smerom k zemi - min IP44 | C8: ks | D8: 4 | E8: 0 | F8: =E8*D8 -> 0
A9: 7 | B9: Svietidlo LED do podhladu, 35W, 3750lm, 4000K - IP20 | C9: ks | D9: 6 | E9: 0 | F9: =E9*D9 -> 0
A10: 8 | B10: Svietidlo LED do podhladu, 14W, 1050lm, 4000K - IP20 | C10: ks | D10: 21 | E10: 0 | F10: =E10*D10 -> 0
A11: 9 | B11: Svietidlo LED do podhladu, 14W, 1050lm, 4000K - IP44 | C11: ks | D11: 2 | E11: 0 | F11: =E11*D11 -> 0
A12: 10 | B12: Svietidlo LED na stenu, 10W, 1100lm, 4000K - IP65 | C12: ks | D12: 1 | E12: 0 | F12: =E12*D12 -> 0
A13: 11 | B13: Svietidlo núdzové na povrch LED 4W pre netrvalé svietenie s batériou pre napájanie po dobu 1h - min. IP44 | C13: ks | D13: 2 | E13: 0 | F13: =E13*D13 -> 0
A14: 12 | B14: Svietidlo LED núdzové do podhľadu pre netrvalé svietenie s batériou pre napájanie po dobru 1h - IP20 | C14: ks | D14: 2 | E14: 0 | F14: =E14*D14 -> 0
A15: 13 | B15: Zásuvková skriňa 2x230V/16A, 1x400V/16A, 1x400V/32A s priestorom pre istenie, vrátane ističov, osadenia a zapojenia - IP44 | C15: ks | D15: 1 | E15: 0 | F15: =E15*D15 -> 0
A16: 14 | B16: Spínač jednopólový zapustený č.1 10A/250V, IP44 vrátane inštalačnej krabice do zateplenia | C16: ks | D16: 4 | E16: 0 | F16: =E16*D16 -> 0
A17: 15 | B17: Spínač jednopólový na povrch č.1 10A/250V - IP55 | C17: ks | D17: 2 | E17: 0 | F17: =E17*D17 -> 0
... A53: 51 | B53: Spojovací materiál pre ochranné a doplnkové pospájanie (HUS, svorky, Cu pásik, káblové oká, vejárovité podložky) | C53: ks | D53: 1 | E53: 0 | F53: =E53*D53 -> 0
B55: PODRUŽNÝ MATERIÁL 3% Z CELKOVEJ SUMY MATERIÁLU | C55: % | D55: 3 | E55: =SUM(F6:F53) -> 0 | F55: =D55*E55/100 -> 0
B57: MONTÁŽ A DEMONTÁŽ BEZ DODÁVKY
A58: 1 | B58: Zapojenie trojfázového spotrebiča (ventilátor) | C58: ks | D58: 3 | E58: 0 | F58: =E58*D58 -> 0
A59: 2 | B59: Zapojenie jednofázového spotrebiča (ventilátor) | C59: ks | D59: 4 | E59: 0 | F59: =E59*D59 -> 0
A60: 3 | B60: Rezania drážok,sekacie práce a vyčistenie vybur.mater (3x1,5cm) | C60: m | D60: 180 | E60: 0 | F60: =E60*D60 -> 0
B61: MONTÁŽ
A62: 4 | B62: Rozvádzač na povrch RS05 vrátane výzbroja, osadenia a zapojenia | C62: ks | D62: 1 | E62: 0 | F62: =E62*D62 -> 0
A63: 5 | B63: Svietidlo LED, min. 1x47W vrátane závesného systému - IP65 | C63: ks | D63: 8 | E63: 0 | F63: =E63*D63 -> 0
A64: 6 | B64: Svietidlo na stenu E27/60W, vrátane LED žiarovky 10W, svietiace do polpriestoru smerom k zemi - min IP44 | C64: ks | D64: 4 | E64: 0 | F64: =E64*D64 -> 0
A65: 7 | B65: Svietidlo LED do podhladu, 35W, 3750lm, 4000K - IP20 | C65: ks | D65: 6 | E65: 0 | F65: =E65*D65 -> 0
A66: 8 | B66: Svietidlo LED do podhladu, 14W, 1050lm, 4000K - IP20 | C66: ks | D66: 21 | E66: 0 | F66: =E66*D66 -> 0
A67: 9 | B67: Svietidlo LED do podhladu, 14W, 1050lm, 4000K - IP44 | C67: ks | D67: 2 | E67: 0 | F67: =E67*D67 -> 0
A68: 10 | B68: Svietidlo LED na stenu, 10W, 1100lm, 4000K - IP65 | C68: ks | D68: 1 | E68: 0 | F68: =E68*D68 -> 0
A69: 11 | B69: Svietidlo núdzové na povrch LED 4W pre netrvalé svietenie s batériou pre napájanie po dobu 1h - min. IP44 | C69: ks | D69: 2 | E69: 0 | F69: =E69*D69 -> 0
A70: 12 | B70: Svietidlo LED núdzové do podhľadu pre netrvalé svietenie s batériou pre napájanie po dobru 1h - IP20 | C70: ks | D70: 2 | E70: 0 | F70: =E70*D70 -> 0
A71: 13 | B71: Zásuvková skriňa 2x230V/16A, 1x400V/16A, 1x400V/32A s priestorom pre istenie, vrátane ističov, osadenia a zapojenia - IP44 | C71: ks | D71: 1 | E71: 0 | F71: =E71*D71 -> 0
A72: 14 | B72: Spínač jednopólový zapustený č.1 10A/250V, IP44 vrátane inštalačnej krabice do zateplenia | C72: ks | D72: 4 | E72: 0 | F72: =E72*D72 -> 0
A73: 15 | B73: Spínač jednopólový na povrch č.1 10A/250V - IP55 | C73: ks | D73: 2 | E73: 0 | F73: =E73*D73 -> 0
... A109: 51 | B109: Spojovací materiál pre ochranné a doplnkové pospájanie (HUS, svorky, Cu pásik, káblové oká, vejárovité podložky) | C109: ks | D109: 1 | E109: 0 | F109: =E109*D109 -> 0
B110: HODINOVÁ SADZBA
A111: 52 | B111: Odborná prehliadka a skúška (Revízia) | C111: h | D111: 16 | E111: 0 | F111: =E111*D111 -> 0
B113: Náklady celkom: | F113: =SUM(F6:F111) -> 0

Sheet SO-05 vzt
A1: DOBUDOVANIE A INTENZIFIKÁCIA ČOV LEVOČA
A2: SO-05 ZDRUŽENÝ OBJEKT DUCHÁRNE A PREVÁDZKOVEJ BUDOVY - VZDUCHOTECHNIKA
A4: Pozícia | B4: Názov pozície | C4: Materiál | D4: Rozmer [mm] | E4: MJ | F4: Počet | G4: J. cena (EUR) | H4: Celková cena (EUR)
A6: 1 | B6: Axiálny ventilátor potrubný ELEKTRODESIGN | D6: &500 | E6: 2 | F6: ks | G6: 0 | H6: =G6*E6 -> 0
B7: TXTR/4-500 (alebo ekvivalent) (9950 m3/h, 0,90 kW; 400V; 1,7A)
A8: 2 | B8: Sacia dýza TAD 500 Elektrodesign (alebo ekvivalent) | C8: ocel | D8: &500 | E8: 2 | F8: ks | G8: 0 | H8: =G8*E8 -> 0
A9: 3 | B9: Ochranná mriežka DEF 500T Elektrodesign (alebo ekvivalent) | C9: ocel | D9: &500 | E9: 2 | F9: ks | G9: 0 | H9: =G9*E9 -> 0
A10: 4 | B10: Tlmič hluku rúrový TAA 500 Elektrodesign (alebo ekvivalent) | C10: ocel | D10: &700 | E10: 2 | F10: ks | G10: 0 | H10: =G10*E10 -> 0
A11: 5 | B11: Žalúziová klapka samočinná PER-500 W Elektrodesign (alebo ekvivalent) | C11: plast | D11: &500 | E11: 2 | F11: ks | G11: 0 | H11: =G11*E11 -> 0
A12: 6 | B12: Protidažďová žalúzia | C12: pozink | D12: 1000x1000 | E12: 2 | F12: ks | G12: 0 | H12: =G12*E12 -> 0
A13: 7 | B13: Tlmič hluku v potrubí 1000 x 1000 + 5 vložiek | C13: pozink | D13: 1000x1000 | E13: 2 | F13: ks | G13: 0 | H13: =G13*E13 -> 0
A14: 8 | B14: Žalúziová klapka samočinná | C14: pozink | D14: 1000x1000 | E14: 2 | F14: ks | G14: 0 | H14: =G14*E14 -> 0
B15: vrátane:
B16: tesniaci a spojovací materiál
B17: pomocné konštrukcie
A19: 9 | B19: Axiálny ventilátor nástenný ELEKTRODESIGN | D19: &400 | E19: 1 | F19: ks | G19: 0 | H19: =G19*E19 -> 0
B20: HXBR/6-400 (alebo ekvivalent) (3387 m3/h, 90 Pa, 0,125 kW; 230V)
A21: 10 | B21: Žalúziová klapka samočinná TRKS-400 Elektrodesign (alebo ekvivalent) | C21: pozink | D21: &400 | E21: 1 | F21: ks | G21: 0 | H21: =G21*E21 -> 0
A22: 11 | B22: Protidažďová žalúzia | C22: pozink | D22: 600x500 | E22: 1 | F22: ks | G22: 0 | H22: =G22*E22 -> 0
A23: 12 | B23: Potrubie (nasávací otvor) 600x500-400 | C23: pozink | D23: 600x500 | E23: 1 | F23: ks | G23: 0 | H23: =G23*E23 -> 0
A24: 13 | B24: Žalúziová klapka samočinná | C24: pozink | D24: 600x500 | E24: 1 | F24: ks | G24: 0 | H24: =G24*E24 -> 0
B25: vrátane:
B26: tesniaci a spojovací materiál
B27: pomocné konštrukcie
A29: 14 | B29: Malý axiálny ventilátor nástenný ELEKTRODESIGN | C29: plast | D29: &118 | E29: 2 | F29: ks | G29: 0 | H29: =G29*E29 -> 0
B30: SILENT 200 CRZ (alebo ekvivalent) (180 m3/h, 16W; 230V)
A31: 15 | B31: Žalúziová klapka samočinná PER-125 W Elektrodesign (alebo ekvivalent) | C31: plast | D31: &125 | E31: 2 | F31: ks | G31: 0 | H31: =G31*E31 -> 0
A32: 16 | B32: Dverná mriežka PT 489 B (alebo ekvivalent) | C32: plast | D32: 445x82 | E32: 4 | F32: ks | G32: 0 | H32: =G32*E32 -> 0
B33: vrátane:
B34: tesniaci a spojovací materiál
B35: pomocné konštrukcie
A37: 17 | B37: Malý axiálny ventilátor nástenný ELEKTRODESIGN | C37: plast | D37: &99 | E37: 2 | F37: ks | G37: 0 | H37: =G37*E37 -> 0
B38: SILENT 100 CRZ (alebo ekvivalent) (95 m3/h, 8W; 230V)
A39: 18 | B39: Žalúziová klapka samočinná PER-100 W Elektrodesign (alebo ekvivalent) | C39: plast | D39: &100 | E39: 2 | F39: ks | G39: 0 | H39: =G39*E39 -> 0
A40: 19 | B40: Dverná mriežka PT 489 B (alebo ekvivalent) | C40: plast | D40: 445x82 | E40: 4 | F40: ks | G40: 0 | H40: =G40*E40 -> 0
B41: vrátane:
B42: tesniaci a spojovací materiál
B43: pomocné konštrukcie
B45: Dodávka celkom: | H45: =SUM(H6:H44) -> 0
A47: 20 | B47: Montáž celkom: | F47: % | G47: 20 | H47: =G47*H45/100 -> 0
B49: Náklady celkom: | H49: =H45+H47 -> 0

Sheet SO-05 zti
A1: DOBUDOVANIE A INTENZIFIKÁCIA ČOV LEVOČA
A2: SO-05 ZDRUŽENÝ OBJEKT DUCHÁRNE A PREVŹDZKOVEJ BUDOVY - ZDRAVOTECHNIKA
A4: Pol. | B4: Popis položky, stavebného dielu, remesla, | C4: Množstvo | D4: Merná | E4: J. cena (EUR) | F4: Celková cena (EUR)
A5: číslo | B5: výkaz-výmer | C5: výmera | D5: jednotka
B7: PRÁCE A DODÁVKY HSV
B8: 1 - ZEMNE PRÁCE
A9: 1 | B9: Hĺbenie rýh šírka do 2 m v hornine 3, vr. naloženia, vyloženia, odvozu výkopku a prebytočnej zeminy, uloženia na skládke, všetkých poplatkov | C9: 21 | D9: m3 | E9: 0 | F9: =E9*C9 -> 0
A10: 2 | B10: Zásyp zhutnený rýh do 100 m3 | C10: 12.9 | D10: m3 | E10: 0 | F10: =E10*C10 -> 0
B11: 1 - ZEMNE PRÁCE spolu : | F11: =SUM(F9:F10) -> 0
B13: 4 - VODOROVNÉ KONŠTRUKCIE
A14: 3 | B14: Lôžko pod potrubie a obsyp potr. v otv. výkope z piesku | C14: 8.1 | D14: m3 | E14: 0 | F14: =E14*C14 -> 0
B15: 4 - VODOROVNÉ KONŠTRUKCIE spolu : | F15: =SUM(F14) -> 0
B17: 8 - RÚROVÉ VEDENIA
B18: Kanalizácia
A19: 4 | B19: Potrubie kanal. z PVC-U rúr hrdlových odpadné D 40x1,8 | C19: 2.5 | D19: m | E19: 0 | F19: =E19*C19 -> 0
A20: 5 | B20: Potrubie kanal. z PVC-U rúr hrdlových odpadné D 50x1,8 | C20: 5 | D20: m | E20: 0 | F20: =E20*C20 -> 0
A21: 6 | B21: Potrubie kanal. z PVC-U rúr hrdlových odpadné D 75x1,8 | C21: 1.5 | D21: m | E21: 0 | F21: =E21*C21 -> 0
A22: 7 | B22: Potrubie kanal. z PVC-U rúr hrdlových odpadné D 110x2,2 | C22: 19.5 | D22: m | E22: 0 | F22: =E22*C22 -> 0
A23: 8 | B23: Potrubie kanal. z PVC-U rúr hrdlových odpadné D 110x3,2 | C23: 3 | D23: m | E23: 0 | F23: =E23*C23 -> 0
A24: 9 | B24: Potrubie kanal. z PVC-U rúr hrdlových odpadné D 160x4,7 | C24: 8 | D24: m | E24: 0 | F24: =E24*C24 -> 0
A25: 10 | B25: Potrubie kanal. z PVC-U rúr hrdlových odpadné D 200x5,9 | C25: 1.6 | D25: m | E25: 0 | F25: =E25*C25 -> 0
A26: 11 | B26: Čistiaca tvarovka D110 | C26: 3 | D26: ks | E26: 0 | F26: =E26*C26 -> 0
A27: 12 | B27: Odbočka D110/50 | C27: 2 | D27: ks | E27: 0 | F27: =E27*C27 -> 0
A28: 13 | B28: Odbočka D110/75 | C28: 1 | D28: ks | E28: 0 | F28: =E28*C28 -> 0
A29: 14 | B29: Odbočka D110/110 (zvislá) | C29: 2 | D29: ks | E29: 0 | F29: =E29*C29 -> 0
A30: 15 | B30: Odbočka D110/110/50 ľavá (zvislá) | C30: 1 | D30: ks | E30: 0 | F30: =E30*C30 -> 0
... A50: 35 | B50: Skúška tesnosti kanalizácie vodou do DN 200 | C50: 9.6 | D50: m | E50: 0 | F50: =E50*C50 -> 0
B51: 8 - RÚROVÉ VEDENIA - Kanalizácia spolu : | F51: =SUM(F19:F50) -> 0
B53: Vodovod
A54: 36 | B54: Plasthlinikové potrubie D 32 vrátane všetkých tvaroviek | C54: 3.5 | D54: m | E54: 0 | F54: =E54*C54 -> 0
A55: 37 | B55: Plasthlinikové potrubie D 25 vrátane všetkých tvaroviek | C55: 21 | D55: m | E55: 0 | F55: =E55*C55 -> 0
A56: 38 | B56: Plasthlinikové potrubie D 20 vrátane všetkých tvaroviek | C56: 20 | D56: m | E56: 0 | F56: =E56*C56 -> 0
A57: 39 | B57: Plasthlinikové potrubie D 15 vrátane všetkých tvaroviek | C57: 24.5 | D57: m | E57: 0 | F57: =E57*C57 -> 0
A58: 40 | B58: Oceľová chránička DN 50 | C58: 1 | D58: m | E58: 0 | F58: =E58*C58 -> 0
A59: 41 | B59: Ochrana potrubia izoláciou hr. 20 mm - pr. 15-32mm | C59: 7 | D59: m2 | E59: 0 | F59: =E59*C59 -> 0
A60: 42 | B60: Guľový ventil DN 15 | C60: 1 | D60: ks | E60: 0 | F60: =E60*C60 -> 0
A61: 43 | B61: Guľový ventil DN 20 | C61: 3 | D61: ks | E61: 0 | F61: =E61*C61 -> 0
A62: 44 | B62: Guľový ventil DN 25 | C62: 4 | D62: ks | E62: 0 | F62: =E62*C62 -> 0
A63: 45 | B63: Guľový ventil DN 32 | C63: 1 | D63: ks | E63: 0 | F63: =E63*C63 -> 0
A64: 46 | B64: Ventil so spät. klapkou | C64: 1 | D64: ks | E64: 0 | F64: =E64*C64 -> 0
A65: 47 | B65: Ventil T 66 DN 15 | C65: 4 | D65: ks | E65: 0 | F65: =E65*C65 -> 0
... A69: 51 | B69: Preplach a dezinfekcia potrubia do DN 50 | C69: 69 | D69: m | E69: 0 | F69: =E69*C69 -> 0
B70: 8 - RÚROVÉ VEDENIA - Vodovod spolu : | F70: =SUM(F54:F69) -> 0
B71: 8 - RÚROVÉ VEDENIA spolu : | F71: =F70+F51 -> 0
B72: PRÁCE A DODÁVKY HSP spolu : | F72: =F71+F15+F11 -> 0
B74: PRÁCE A DODÁVKY PSV
B75: 72 - ZDRAVOTNO - TECHNICKÉ INŠTALÁCIE
B76: 725 - Zariaďovacie predmety
A77: 52 | B77: Zách. misa so spodným odpadom + nádržka + sedátko | C77: 3 | D77: súbor | E77: 0 | F77: =E77*C77 -> 0
A78: 53 | B78: Montáž záchodovým mís kombinovaných | C78: 3 | D78: súbor | E78: 0 | F78: =E78*C78 -> 0
A79: 54 | B79: Príplatok za použitie silikónového tmelu 0,30 kg/ks | C79: 3 | D79: ks | E79: 0 | F79: =E79*C79 -> 0
A80: 55 | B80: Pisoárová mušľa | C80: 1 | D80: súbor | E80: 0 | F80: =E80*C80 -> 0
A81: 56 | B81: Montáž pisoárov keramických | C81: 1 | D81: súbor | E81: 0 | F81: =E81*C81 -> 0
A82: 57 | B82: Pisoárový ventil podomietkový 10051 1/2" | C82: 1 | D82: súbor | E82: 0 | F82: =E82*C82 -> 0
A83: 58 | B83: Príplatok za použitie silikónového tmelu 0,6 kg/ks | C83: 1 | D83: ks | E83: 0 | F83: =E83*C83 -> 0
A84: 59 | B84: Umývadlo malé so zápachovou uzávierkou | C84: 4 | D84: súbor | E84: 0 | F84: =E84*C84 -> 0
A85: 60 | B85: Umývadlo so zápachovou uzávierkou | C85: 4 | D85: súbor | E85: 0 | F85: =E85*C85 -> 0
A86: 61 | B86: Montáž umývadiel keramických so záp. uzáv. | C86: 4 | D86: súbor | E86: 0 | F86: =E86*C86 -> 0
A87: 62 | B87: Sprchový kút so zápachovou uzávierkou a vaňou 900x900 mm | C87: 2 | D87: súbor | E87: 0 | F87: =E87*C87 -> 0
A88: 63 | B88: Montáž sprchového kúta | C88: 2 | D88: súbor | E88: 0 | F88: =E88*C88 -> 0
... A102: 77 | B102: Montáž výlevky s vodovodnou batériou | C102: 1 | D102: súbor | E102: 0 | F102: =E102*C102 -> 0
B103: 725 - Zariaďovacie predmety spolu : | F103: =SUM(F77:F102) -> 0
B104: PRÁCE A DODÁVKY PSP spolu : | F104: =F103 -> 0
B106: Náklady celkom: | F106: =F72+F104 -> 0

Sheet SO-06
A1: DOBUDOVANIE A INTENZIFIKÁCIA ČOV LEVOČA
A2: SO - 06 DÁVKOVANIE SÍRANU ŽELEZITÉHO
A4: ČP | B4: Kód položky | C4: Popis | D4: MJ | E4: Množstvo | F4: J. cena (EUR) | G4: Celková cena (EUR) | H4: Hmotnosť celkom
A5: 0 | B5: HSV | C5: Práce a dodávky HSV | G5: =G6+G12+G18+G29+G33+G37 -> 0 | H5: =H6+H12+H18+H29+H37 -> 97.233
A6: 0 | B6: 1 | C6: Zemné práce | G6: =SUM(G7:G11) -> 0
A7: 1 | B7: 131201101 | C7: Výkop nezapaženej jamy v hornine 3, do 100 m3 | D7: m3 | E7: 43.42 | F7: 0 | G7: =E7*F7 -> 0
A8: 2 | B8: 131201109 | C8: Hĺbenie nezapažených jám a zárezov. Príplatok za lepivosť horniny 3 | D8: m3 | E8: 13.026 | F8: 0 | G8: =E8*F8 -> 0
A9: 3 | B9: 162301101 | C9: Vodorovné premiestnenie výkopku po spevnenej ceste z horniny tr.1-4, do 100 m3 na vzdialenosť do 500 m | D9: m3 | E9: 43.42 | F9: 0 | G9: =E9*F9 -> 0
A10: 4 | B10: 171201201 | C10: Uloženie sypaniny na skládky do 100 m3 | D10: m3 | E10: 43.42 | F10: 0 | G10: =E10*F10 -> 0
A11: 5 | B11: 171209002 | C11: Poplatok za skladovanie zeminy | D11: t | E11: 56.446 | F11: 0 | G11: =E11*F11 -> 0
A12: 0 | B12: 2 | C12: Zakladanie | G12: =SUM(G13:G17) -> 0 | H12: =SUM(H13:H17) -> 97.217
A13: 6 | B13: 211971110 | C13: Zhotovenie opláštenia výplne z geotextílie, v ryhe alebo v záreze v rovine o sklone do 1:2,5 | D13: m2 | E13: 36.18 | F13: 0 | G13: =E13*F13 -> 0 | H13: 0.01
A14: 7 | B14: 693 | C14: Geotextília netkaná polypropylénová Tatratex PP 600 | D14: m2 | E14: 36.18 | F14: 0 | G14: =E14*F14 -> 0 | H14: 0.02
A15: 8 | B15: 211971121 | C15: Zhotov. oplášt. výplne z geotext. v ryhe alebo v záreze na ploche zvislej pri rozvinutej šírke oplášt. od 0 do 2, 5 m | D15: m2 | E15: 29.04 | F15: 0 | G15: =E15*F15 -> 0 | H15: 0.01
A16: 9 | B16: 693 | C16: Geotextília netkaná polypropylénová Tatratex PP 600 | D16: m2 | E16: 29.04 | F16: 0 | G16: =E16*F16 -> 0 | H16: 0.017
A17: 10 | B17: 271571111 | C17: Vankúše zhutnené pod základy zo štrkopiesku - výmena podložia | D17: m3 | E17: 47.03 | F17: 0 | G17: =E17*F17 -> 0 | H17: 97.16
A18: 0 | B18: 3 | C18: Zvislé a kompletné konštrukcie | G18: =SUM(G19:G23) -> 0
A19: 11 | B19: KP | C19: Kompletné konštrukcie čistiarní odpadových vôd z betónu prostého tr. C 12/15 - podkladný betón | D19: m3 | E19: 3.15 | F19: 0 | G19: =E19*F19 -> 0
C20: - zriadenie konštr. + dodávka bet. = 3,15 m3
C21: - zriadenie a odstránenie debnenia = 2,26 m2
C22: - presun hmôt = 7,11 t
A23: 12 | B23: KP | C23: Kompletné konštrukcie čistiarní odpadových vôd zo železobetónu vodostavebného C 30/37, | D23: m3 | E23: 15.48 | F23: 0 | G23: =E23*F23 -> 0
C24: - zriadenie konštr. + dodávka bet.= 15,48 m3
C25: - zriadenie a odstránenie debnenia = 19,3 m2
C26: - výstuž kompletných konštrukcií = 1,107t
C27: - osadenie a dodávka tesnenia pracovnej škáry oceľ. plechom 160/0,6m s bituménovým povlakom 0,5mm = 21,0 m
C28: - presun hmôt = 38,391 t
A29: 0 | B29: 8 | C29: Rúrové vedenie | G29: =SUM(G30:G32) -> 0 | H29: =SUM(H30:H32) -> 0.016
A30: 13 | B30: 871324004 | C30: Montáž kanalizačného potrubia z polypropylénových hladkých rúr SN 10 DN 150 mm | D30: m | E30: 5.6 | F30: 0 | G30: =E30*F30 -> 0
A31: 14 | B31: 2860014540 | C31: MASTER rúra 150/1m - PP hladký kanalizačný systém SN10 PIPELIFE | D31: ks | E31: 5.6 | F31: 0 | G31: =E31*F31 -> 0 | H31: 0.016
A32: 15 | B32: KP | C32: Osadenie a dodávka bodovej vpuste s rámom a roštom vo vyhotovení nerez | D32: ks | E32: 1 | F32: 0 | G32: =E32*F32 -> 0
A33: 0 | B33: 9 | C33: Ostatné konštrukcie a práce | G33: =SUM(G34:G35) -> 0
A34: 16 | B34: KP | C34: Izolácia proti zem. vlhkosti a agresivite | D34: m2 | E34: 15.26 | F34: 0 | G34: =E34*F34 -> 0
A35: 17 | B35: 938902051 | C35: Príprava podkladu bet. konštr. pod kryštalický náter a izolácciu proti vode | D35: m2 | E35: 15.26 | F35: 0 | G35: =E35*F35 -> 0
A37: 0 | B37: 99 | C37: Presun hmôt HSV | G37: =G38 -> 0
A38: 18 | B38: 998142251 | C38: Presun hmôt pre obj.8141, 8142,8143,zvislá nosná konštr.monolitická betónová,výšky do 25 m | D38: t | E38: 97.233 | F38: 0 | G38: =E38*F38 -> 0
A39: 0 | B39: PSV | C39: Práce a dodávky PSV | G39: =G40 -> 0
A40: 0 | B40: 783 | C40: Dokončovacie práce - nátery | G40: =G41 -> 0
A41: 19 | B41: 783832120 | C41: Nátery síranuvzdorné omietok a betonových povrchov jednonásobné | D41: m2 | E41: 33.32 | F41: 0 | G41: =E41*F41 -> 0
C43: Náklad na stavebný objekt - celkom : | G43: =G39+G5 -> 0

Sheet SO-07
A1: DOBUDOVANIE A INTENZIFIKÁCIA ČOV LEVOČA
A2: SO - 07 DOSADZOVACIE NÁDRŽE
A4: ČP | B4: Kód položky | C4: Popis | D4: MJ | E4: Množstvo | F4: J. cena (EUR) | G4: Celková cena (EUR) | H4: Hmotnosť celkom
A5: 0 | B5: HSV | C5: Práce a dodávky HSV | G5: =G6+G16+G26+G41+G45+G51+G58+G67 -> 0 | H5: =H6+H16+H26+H41+H51+H58 -> 64.577
A6: 0 | B6: 1 | C6: Zemné práce | G6: =SUM(G7:G15) -> 0
A7: 1 | B7: 115001102 | C7: Odvedenie vody potrubím pri priemere potrubia DN nad 100 do 150 | D7: m | E7: 50 | F7: 0 | G7: =E7*F7 -> 0
A8: 2 | B8: 115101201 | C8: Čerpanie vody na dopravnú výšku do 10 m s priemerným prítokom litrov za minútu nad 100 do 500 l | D8: hod | E8: 2160 | F8: 0 | G8: =E8*F8 -> 0
A9: 3 | B9: 115101301 | C9: Pohotovosť záložnej čerpacej súpravy pre výšku do 10 m, s prítokom litrov za minútu nad 100 do 500 l | D9: deň | E9: 90 | F9: 0 | G9: =E9*F9 -> 0
A10: 4 | B10: 131201203 | C10: Výkop zapaženej jamy v hornine 3, nad 1000 do 10000 m3 | D10: m3 | E10: 5355.92 | F10: 0 | G10: =E10*F10 -> 0
A11: 5 | B11: 131201209 | C11: Príplatok za lepivosť pri hĺbení zapažených jám a zárezov s urovnaním dna v hornine 3 | D11: m3 | E11: 1606.776 | F11: 0 | G11: =E11*F11 -> 0
A12: 6 | B12: 174101003 | C12: Zásyp sypaninou so zhutnením jám, šachiet, rýh, zárezov alebo okolo objektov nad 1000 do 10000 m3 | D12: m3 | E12: 3002.07 | F12: 0 | G12: =E12*F12 -> 0
A13: 7 | B13: 162301141 | C13: Vodorovné premiestnenie výkopku po spevnenej ceste z horniny tr.1-4, nad 1000 do 10000 m3 na vzdialenosť nad 50 do 500 m | D13: m3 | E13: 2353.85 | F13: 0 | G13: =E13*F13 -> 0
A14: 8 | B14: 171201203 | C14: Uloženie sypaniny na skládky nad 1000 do 10000 m3 | D14: m3 | E14: 2353.85 | F14: 0 | G14: =E14*F14 -> 0
A15: 9 | B15: 171209002 | C15: Poplatok za skladovanie zeminy | D15: t | E15: 3060.005 | F15: 0 | G15: =E15*F15 -> 0
A16: 0 | B16: 2 | C16: Zakladanie | G16: =SUM(G17:G23) -> 0
A17: 10 | B17: KP | C17: Paženie jám štetovnicovou stenou zo štetovníc LARSEN IIIn | D17: m2 | E17: 1089 | F17: 0 | G17: =E17*F17 -> 0
C18: - nastraženie a zabaranenie štetovníc
C19: - dodávka štetovníc ( dvojnásobná obratovosť )
C20: - zváranie a pozdĺžne rezanie štetovníc
C21: - rezanie otvorov, vytiahnutie štetovníc
C22: - presun hmôt
A23: 11 | B23: KP | C23: Plášť vodárenskej studne z betónových skruží celokruhových DN 1000 | D23: m | E23: 7 | F23: 0 | G23: =E23*F23 -> 0
C24: - osadenie a dodávka skruží TBH 1000/100
C25: - presun hmôt
A26: 0 | B26: 3 | C26: Zvislé a kompletné konštrukcie | G26: =SUM(G27:G37) -> 0
A27: 12 | B27: KP | C27: Kompletné konštrukcie čistiarní odpadových vôd z betónu prostého tr. C 12/15 - podkladný betón | D27: m3 | E27: 168.6 | F27: 0 | G27: =E27*F27 -> 0
C28: - zriadenie konštr. + dodávka bet.= 168,60 m3
C29: - zriadenie a odstránenie debnenia = 81,04 m2
C30: - presun hmôt = 380,514 t
A31: 13 | B31: KP | C31: Kompletné konštrukcie čistiarní odpadových vôd zo železobetónu vodostavebného C 30/37, - konštr. nádrže | D31: m3 | E31: 760 | F31: 0 | G31: =E31*F31 -> 0
C32: - zriadenie konštr. + dodávka bet. = 760,0 m3
C33: - zriadenie a odstránenie debnenia = 1 448,02 m2
C34: - výstuž kompletných konštrukcií = 66,535
C35: - osadenie a dodávka tesnenia pracovnej škáry oceľ. plechom 160/0,6m s bituménovým povlakom 0,5mm = 184,70 m
C36: - presun hmôt =
A37: 14 | B37: KP | C37: Kompletné konštrukcie čistiarní odpad. vôd z betónu prostého tr. C 25/30, | D37: m3 | E37: 97.37 | F37: 0 | G37: =E37*F37 -> 0
C38: - zriadenie konštr. + dodávka bet. = 97,37 m3
C39: - zriadenie a odstránenie debnenia = 18,17 m2
C40: - presun hmôt = 229,38 t
B41: 4 | C41: Vodorovné konštrukcie | G41: =SUM(G42) -> 0
A42: 15 | B42: KP | C42: Prestupové kusy pre potrubie DN do 600 mm nerezové | D42: kg | E42: 18.4 | F42: 0 | G42: =E42*F42 -> 0
C43: - osadenie a dodávka PK
C44: - presun hmôt
A45: 0 | B45: 5 | C45: Komunikácie | G45: =SUM(G46) -> 0
A46: 16 | B46: KP | C46: Komunikácie pre peších - bet. dlažba 500 x 500 x 100 vrátane obrubníkov | D46: m2 | E46: 121.5 | F46: 0 | G46: =E46*F46 -> 0
C47: - podkladné lôžka zo štrkodrvy hr. 100 + 150 mm = 121,50 m2
C48: - kladenie a dodávka bet. tvárnic 500 x 500 x 100 = 121,50
C49: - osadenie a dodávka obrubníkov 100 x 200 x 50 = 130,0 m
C50: - presun hmôt = 121,03 t
A51: 0 | B51: 8 | C51: Rúrové vedenie | G51: =SUM(G52:G57) -> 0
A52: 17 | B52: 877350410 | C52: Montáž šachtového prechodu na potrubie z kanalizačných polypropylénových rúr DN 200 mm | D52: ks | E52: 4 | F52: 0 | G52: =E52*F52 -> 0
A53: 18 | B53: 286 | C53: ŠACHTOVÝ PRECHOD 200 -PRAGMA ID tvarovky - PP kanalizačný systém PIPELIFE, presun hmôt | D53: ks | E53: 4 | F53: 0 | G53: =E53*F53 -> 0
A54: 19 | B54: 877393123 | C54: Montáž tvaroviek na potrubí z rúr sklolaminátových v otv. výkope jednoosých DN 400 | D54: ks | E54: 2 | F54: 0 | G54: =E54*F54 -> 0
A55: 20 | B55: 286 | C55: Šachtový prechod pre sklolaminátové rúry DN 400 mm - kanalizačný systém, presun hmôt | D55: ks | E55: 2 | F55: 0 | G55: =E55*F55 -> 0
A56: 21 | B56: 877423123 | C56: Montáž tvaroviek na potrubí z rúr sklolaminátových v otv.výkope jednoosých DN 500 mm | D56: ks | E56: 1 | F56: 0 | G56: =E56*F56 -> 0
A57: 22 | B57: 286 | C57: Šachtový prechod pre sklolaminátové rúry DN 500 mm - knalizačný systém, presun hmôt | D57: ks | E57: 1 | F57: 0 | G57: =E57*F57 -> 0
A58: 0 | B58: 9 | C58: Ostatné konštrukcie a práce | G58: =SUM(G59:G66) -> 0 | H58: =SUM(H59:H66) -> 64.577
A59: 23 | B59: KP | C59: Vyčistenie objektov | D59: m2 | E59: 449.53 | F59: 0 | G59: =E59*F59 -> 0
A60: 24 | B60: KP | C60: Skúška vodotesnosti nádrží vrátane dodávky vody | D60: m3 | E60: 1961.402 | F60: 0 | G60: =E60*F60 -> 0
A61: 25 | B61: KP | C61: Izolácia proti zem. vlhkosti a agresivite | D61: m2 | E61: 1250.13 | F61: 0 | G61: =E61*F61 -> 0
A62: 26 | B62: KP | C62: Náter bet.konšťr. kryštalický - vnútorný | D62: m2 | E62: 986.07 | F62: 0 | G62: =E62*F62 -> 0
A63: 27 | B63: 938902051 | C63: Príprava podkladu bet. konštr. pod kryštalický náter a izolácciu proti vode | D63: m2 | E63: 2236.2 | F63: 0 | G63: =E63*F63 -> 0
A64: 28 | B64: 942941021 | C64: Montáž lešenia ťažkého s podlahami v. do 10 m | D64: m2 | E64: 861.02 | F64: 0 | G64: =E64*F64 -> 0 | H64: =0.039*E64 -> 33.58
A65: 29 | B65: 942941191 | C65: Prir. za prvý a ďalší mesiac použitia lešenia | D65: m2 | E65: 4305.1 | F65: 0 | G65: =E65*F65 -> 0
A66: 30 | B66: 942941821 | C66: Demontáž lešenia ťažkého | D66: m2 | E66: 861.02 | F66: 0 | G66: =E66*F66 -> 0 | H66: =0.036*E66 -> 30.997
A67: 0 | B67: 99 | C67: Presun hmôt HSV | G67: =G68 -> 0
A68: 31 | B68: 998012021 | C68: Presun hmôt pre nádrže (814),zvislá konštr. monolit. betónová výšky do 6 m | D68: t | E68: 64.577 | F68: 0 | G68: =E68*F68 -> 0
A69: 0 | B69: PSV | C69: Práce a dodávky PSV | G69: =G70 -> 0
A70: 0 | B70: 767 | C70: Konštrukcie doplnkové kovové | G70: =SUM(G71:G80) -> 0 | H70: 0.816
A71: 32 | B71: 767995101 | C71: Montáž ostatných atypických kovových stavebných doplnkových konštrukcií do 5 kg | D71: kg | E71: 240.69 | F71: 0 | G71: =E71*F71 -> 0 | H71: 0.241
A72: 33 | B72: R | C72: Dodávka platne pre osadenie technológie 150x250x5 mm vo vyhotovení nerez | D72: ks | E72: 128 | F72: 0 | G72: =E72*F72 -> 0
A73: 34 | B73: 767995105 | C73: Montáž ostatných atypických kovových stavebných doplnkových konštrukcií nad 50 do 100 kg + presun hmôt | D73: kg | E73: 255.5 | F73: 0 | G73: =E73*F73 -> 0 | H73: 0.256
A74: 35 | B74: 767995106 | C74: Montáž ostatných atypických kovových stavebných doplnkových konštrukcií do 250 kg + presun hmôt | D74: kg | E74: 319.1 | F74: 0 | G74: =E74*F74 -> 0 | H74: 0.319
A75: 36 | B75: R | C75: Dodávka poklopu na otvor 1000x1000 mm vo vyhotovení nerez + presun hmôt | D75: ks | E75: 2 | F75: 0 | G75: =E75*F75 -> 0
A76: 37 | B76: R | C76: Dodávka poklopu na otvor 3000x630mm vo vyhotovení nerez + presun hmôt | D76: ks | E76: 2 | F76: 0 | G76: =E76*F76 -> 0
A77: 38 | B77: R | C77: Dodávka poklopu na otvor 900x1200mm vo vyhotovení nerez + presun hmôt | D77: ks | E77: 2 | F77: 0 | G77: =E77*F77 -> 0
A78: 39 | B78: R | C78: Dodávka atyp. konštr. pol. 28 - nerez ( 255,5 - 141,50 ) | D78: kg | E78: 114 | F78: 0 | G78: =E78*F78 -> 0
A79: 40 | B79: 998767101 | C79: Presun hmôt pre kovové stavebné doplnkové konštrukcie v objektoch výšky do 6 m | D79: t | E79: 0.816 | F79: 0 | G79: =E79*F79 -> 0
A80: 41 | B80: 998767192 | C80: Kovové stav.dopln.konštr., prípl.za presun nad najväčšiu dopr. vzdial. do 100 m | D80: t | E80: 0.816 | F80: 0 | G80: =E80*F80 -> 0
A81: 0 | B81: M | C81: Práce a dodávky M | G81: =G82 -> 0
A82: 0 | B82: 23-M | C82: Montáže potrubia | G82: =SUM(G83:G90) -> 0
A83: 42 | B83: 230140055 | C83: Montáž rúrok D x t 108 x 4, z nehrdzavejúcej ocele tr. 17 | D83: m | E83: 32 | F83: 0 | G83: =E83*F83 -> 0
A84: 43 | B84: 140 | C84: Rúrka bezšvová nerez DN 108,0 hrúbka steny 4,0 mm, ozn. 17 240, podľa EN 1.4301, ASTM 304 | D84: m | E84: 32 | F84: 0 | G84: =E84*F84 -> 0
A85: 44 | B85: 230140101 | C85: Montáž rúrok D x t 324 x 5, z nehrdzavejúcej ocele tr. 17 | D85: m | E85: 18 | F85: 0 | G85: =E85*F85 -> 0
A86: 45 | B86: 140 | C86: Rúrka zváraná nerez DN 324 hrúbka steny 5,0 mm ozn. 17 240, podľa EN 1.4301, ASTM 304 | D86: m | E86: 18 | F86: 0 | G86: =E86*F86 -> 0
A87: 46 | B87: 230140117 | C87: Montáž rúrok D x t 406 x 8, z nehrdzavejúcej ocele tr. 17 | D87: m | E87: 21 | F87: 0 | G87: =E87*F87 -> 0
A88: 47 | B88: 140 | C88: Rúrka bezšvová nerez DN 406,4 hrúbka steny 7,92 mm, ozn. 17 240, podľa EN 1.4301, ASTM 304 | D88: m | E88: 21 | F88: 0 | G88: =E88*F88 -> 0
A89: 48 | B89: 230140247 | C89: Montáž rúrkových dielov privarovacích D x t 426 x 8, z nehrdzavejúcej ocele tr. 17 | D89: ks | E89: 2 | F89: 0 | G89: =E89*F89 -> 0
A90: 49 | B90: R | C90: Koleno s kotevnou pätkou nerez DN 406,4 hrúbka steny 7,92 mm, ozn. 17 240, podľa EN 1.4301, ASTM 304 | D90: ks | E90: 2 | F90: 0 | G90: =E90*F90 -> 0
C92: Náklad na stavebný objekt - celkom : | G92: =G81+G69+G5 -> 0

Sheet SO-08
A1: DOBUDOVANIE A INTENZIFIKÁCIA ČOV LEVOČA
A2: SO - 08 NÁDRŽE KALOVÉHO HOSPODÁRSTVA
A4: ČP | B4: Kód položky | C4: Popis | D4: MJ | E4: Množstvo | F4: J. cena (EUR) | G4: Celková cena (EUR) | H4: Hmotnosť celkom
A5: 0 | B5: HSV | C5: Práce a dodávky HSV | G5: =G6+G9+G12+G19 -> 0 | H5: =H6+H9+H12+H19 -> 0.583
A6: 0 | B6: 3 | C6: Zvislé a kompletné konštrukcie | G6: =SUM(G7:G8) -> 0 | H6: =SUM(H7:H8) -> 0.219
A7: 1 | B7: 317941121 | C7: Osadenie oceľových valcovaných nosníkov (na murive) I, IE,U,UE,L do č.12 alebo výšky do 140 mm | D7: t | E7: 0.22 | F7: 0 | G7: =E7*F7 -> 0 | H7: 0.004
A8: 2 | B8: 1338022000 | C8: Tyč oceľová prierezu I 140 mm, ozn. 10 000, podľa EN ISO S185 - nová konštrukcia stropu | D8: t | E8: 0.22 | F8: 0 | G8: =E8*F8 -> 0 | H8: 0.215
A9: 0 | B9: 6 | C9: Úpravy povrchov, podlahy, osadenie | G9: =G10+G11 -> 0 | H9: =H10+H11 -> 0.054
A10: 3 | B10: 642944121 | C10: Dodatočná montáž oceľovej dverovej zárubne, plochy otvoru do 2,5 m2 | D10: ks | E10: 1 | F10: 0 | G10: =E10*F10 -> 0 | H10: 0.04
A11: 4 | B11: 5533198400 | C11: Zárubňa oceľová CgU 80x197x16cm L | D11: ks | E11: 1 | F11: 0 | G11: =E11*F11 -> 0 | H11: 0.014
A12: 0 | B12: 9 | C12: Ostatné konštrukcie a práce | G12: =SUM(G13:G18) -> 0 | H12: =SUM(H13:H18) -> 0.31
A13: 5 | B13: 941941041 | C13: Zriadenie lešenia ľahkého s podlahami š. 1,2m v, do 10 m | D13: m2 | E13: 6 | F13: 0 | G13: =E13*F13 -> 0 | H13: =0.026*E13 -> 0.156
A14: 6 | B14: 941941291 | C14: Prir. za prvý a ďalší mesiac použitia lešenia | D14: m2 | E14: 12 | F14: 0 | G14: =E14*F14 -> 0
A15: 7 | B15: 941941841 | C15: Demontáž lešenia ľahkého s podlahami | D15: m2 | E15: 6 | F15: 0 | G15: =E15*F15 -> 0 | H15: =0.0257*E15 -> 0.154
A16: 8 | B16: 971056012 | C16: Jadrové vrty diamantovými korunkami do D 130 mm do stien - železobetónových -0,00032t | D16: cm | E16: 50 | F16: 0 | G16: =E16*F16 -> 0
A17: 9 | B17: PC | C17: Vodotesný prestup pre potrubie DN 100mm s utesnením | D17: ks | E17: 1 | F17: 0 | G17: =E17*F17 -> 0
A18: 10 | B18: PC | C18: Vodotesný prestup pre potrubie DN 150 mm s utesnením | D18: ks | E18: 1 | F18: 0 | G18: =E18*F18 -> 0
A19: 0 | B19: 99 | C19: Presun hmôt HSV | G19: =G20 -> 0
A20: 11 | B20: 998142251 | C20: Presun hmôt pre obj.8141, 8142,8143,zvislá nosná konštr.monolitická betónová,výšky do 25 m | D20: t | E20: 0.583 | F20: 0 | G20: =E20*F20 -> 0
A21: 0 | B21: PSV | C21: Práce a dodávky PSV | G21: =G22+G27+G32+G37 -> 0 | H21: =H22+H27+H32+H37 -> 3.271
A22: 0 | B22: 712 | C22: Izolácie striech | G22: =SUM(G23:G26) -> 0 | H22: =SUM(H23:H26) -> 0.01
A23: 12 | B23: 712290010 | C23: Zhotovenie parozábrany pre stropy rovné | D23: m2 | E23: 48.544 | F23: 0 | G23: =E23*F23 -> 0
A24: 13 | B24: 2832990190 | C24: Parozábrana ISOVER Vario Xtra hr.0,15mm, š.1,5m, balenie: 60m2 | D24: m2 | E24: 55.826 | F24: 0 | G24: =E24*F24 -> 0 | H24: 0.01
A25: 14 | B25: 998712103 | C25: Presun hmôt pre izoláciu povlakovej krytiny v objektoch výšky nad 12 do 24 m | D25: t | E25: 0.01 | F25: 0 | G25: =E25*F25 -> 0
A26: 15 | B26: 998712192 | C26: Izolácia z povlak.krytín, prípl.za presun nad vymedz. najväčšiu dopravnú vzdialenosť do 100 m | D26: t | E26: 0.01 | F26: 0 | G26: =E26*F26 -> 0
A27: 0 | B27: 713 | C27: Izolácie tepelné | G27: =SUM(G28:G31) -> 0 | H27: =SUM(H28:H31) -> 0.281
A28: 16 | B28: 713111111 | C28: Montáž tepelnej izolácie stropov minerálnou vlnou, vrchom kladenou voľne | D28: m2 | E28: 38.3 | F28: 0 | G28: =E28*F28 -> 0
A29: 17 | B29: 6314401150 | C29: Isover LAM 50 kamenná vlna hrúbka 180 mm | D29: m2 | E29: 39.066 | F29: 0 | G29: =E29*F29 -> 0 | H29: 0.281
A30: 18 | B30: 998713103 | C30: Presun hmôt pre izolácie tepelné v objektoch výšky nad 12 m do 24 m | D30: t | E30: 0.281 | F30: 0 | G30: =E30*F30 -> 0
A31: 19 | B31: 998713192 | C31: Izolácie tepelné, prípl.za presun nad vymedz. najväčšiu dopravnú vzdial. do 100 m | D31: t | E31: 0.281 | F31: 0 | G31: =E31*F31 -> 0
A32: 0 | B32: 763 | C32: Konštrukcie - drevostavby | G32: =SUM(G33:G36) -> 0 | H32: =SUM(H33:H36) -> 1.562
A33: 20 | B33: 763115814 | C33: Priečka SDK Rigips hr. 150 mm dvojito opláštená doskami RFI 12.5 mm s tep. Izoláciou, CW 100 | D33: m2 | E33: 10.244 | F33: 0 | G33: =E33*F33 -> 0 | H33: 0.676
A34: 21 | B34: 763138281 | C34: Akustický podhľad SDK Rigips Rigiton, doska Rigiton Climafit RL, TI 50 mm - impregnovaný | D34: m2 | E34: 38.3 | F34: 0 | G34: =E34*F34 -> 0 | H34: 0.886
A35: 22 | B35: 998763303 | C35: Presun hmôt pre sádrokartónové konštrukcie v objektoch výšky od 7 do 24 m | D35: t | E35: 1.562 | F35: 0 | G35: =E35*F35 -> 0
A36: 23 | B36: 998763391 | C36: Príplatok za presun (69) nad vymedzenú najväčšiu dopravnú vzdialenosť, sadrokartonových konštrukcií po stavenisku do 1 km | D36: t | E36: 1.562 | F36: 0 | G36: =E36*F36 -> 0
A37: 0 | B37: 767 | C37: Konštrukcie doplnkové kovové | G37: =SUM(G38:G44) -> 0 | H37: =SUM(H38:H44) -> 1.418
A38: 24 | B38: 767251111 | C38: Montáž podiest z oceľového ryhovaného plechu - nová podlaha a podstupnice | D38: kg | E38: 1307.3 | F38: 0 | G38: =E38*F38 -> 0 | H38: 0.063
A39: 25 | B39: 1361101000 | C39: Plech oceľový hrubý, ryhovaný 3,0x1000x2000 mm, ozn. 11 373.0, podľa EN S235JRG1, vrátane konštrukcie | D39: t | E39: 1.307 | F39: 0 | G39: =E39*F39 -> 0 | H39: 1.307
A40: 26 | B40: 767641110 | C40: Montáž kovového dverového krídla otočného jednokrídlového, do existujúcej zárubne, vrátane kovania | D40: ks | E40: 1 | F40: 0 | G40: =E40*F40 -> 0
A41: 27 | B41: 5491502040 | C41: Kovanie - 2x kľučka, povrch nerez brúsený, 2x rozeta BB, cylindrický zámok | D41: ks | E41: 1 | F41: 0 | G41: =E41*F41 -> 0 | H41: 0.001
A42: 28 | B42: 5534120700 | C42: Oceľové dvere 800x1970 plné s izolačnou výplňou L | D42: ks | E42: 1 | F42: 0 | G42: =E42*F42 -> 0 | H42: 0.047
A43: 29 | B43: 998767103 | C43: Presun hmôt pre kovové stavebné doplnkové konštrukcie v objektoch výšky nad 12 do 24 m | D43: t | E43: 1.418 | F43: 0 | G43: =E43*F43 -> 0
A44: 30 | B44: 998767192 | C44: Kovové stav.dopln.konštr., prípl.za presun nad najväčšiu dopr. vzdial. do 100 m | D44: t | E44: 1.418 | F44: 0 | G44: =E44*F44 -> 0
C46: Náklad na stavebný objekt - celkom : | G46: =G21+G5 -> 0

Sheet SO-08 eli
A1: DOBUDOVANIE A INTENZIFIKÁCIA ČOV LEVOČA
A2: SO-08 NÁDRŽE KALOVÉHO HOSPODÁRSTVA - ELEKTROSTAVEBNÁ ČASŤ
A4: Pol. | B4: NÁZOV POLOŽKY | C4: Jedn. | D4: Mn. | E4: J. cena (EUR) | F4: Celková cena (EUR)
B5: DODÁVKA
A6: 1 | B6: Rozvádzač na povrch RS08 vrátane výzbroja, osadenia a zapojenia | C6: ks | D6: 1 | E6: 0 | F6: =D6*E6 -> 0
A7: 2 | B7: Svietidlo LED, min. 1x47W vrátane závesného systému - IP65 | C7: ks | D7: 4 | E7: 0 | F7: =D7*E7 -> 0
A8: 3 | B8: Svietidlo LED na povrch, min.34W - IP65 | C8: ks | D8: 13 | E8: 0 | F8: =D8*E8 -> 0
A9: 4 | B9: Svietidlo na stenu E27/60W, vrátane LED žiarovky 10W, svietiace do polpriestoru smerom k zemi - min IP44 | C9: ks | D9: 2 | E9: 0 | F9: =D9*E9 -> 0
A10: 5 | B10: Svietidlo na stenu E27/60W s pohybovým spínačom, vrátane LED žiarovky 10W, svietiace do polpriestoru smerom k zemi - min IP44 | C10: ks | D10: 3 | E10: 0 | F10: =D10*E10 -> 0
A11: 6 | B11: Svietidlo LED nastenné reflektorové 1x100W - IP65 | C11: ks | D11: 3 | E11: 0 | F11: =D11*E11 -> 0
A12: 7 | B12: Svietidlo núdzové na povrch LED 4W pre netrvalé svietenie s batériou pre napájanie po dobu 1h - min. IP44 | C12: ks | D12: 5 | E12: 0 | F12: =D12*E12 -> 0
A13: 8 | B13: Zásuvková skriňa 2x230V/16A, 1x400V/16A, 1x400V/32A s priestorom pre istenie, vrátane ističov, osadenia a zapojenia - IP44 | C13: ks | D13: 1 | E13: 0 | F13: =D13*E13 -> 0
A14: 9 | B14: Zásuvková skriňa úzka 2x230V/16A, 1x400V/16A s priestorom pre istenie, vrátane ističov, osadenia a zapojenia - IP44 | C14: ks | D14: 4 | E14: 0 | F14: =D14*E14 -> 0
A15: 10 | B15: Spínač jednopólový zapustený č.1 10A/250V, IP44 vrátane inštalačnej krabice do zateplenia | C15: ks | D15: 4 | E15: 0 | F15: =D15*E15 -> 0
A16: 11 | B16: Spínač striedavý na povrch č.6 10A/250V - IP55 | C16: ks | D16: 6 | E16: 0 | F16: =D16*E16 -> 0
A17: 12 | B17: Spínač striedavý na povrch č.7 10A/250V - IP55 | C17: ks | D17: 1 | E17: 0 | F17: =D17*E17 -> 0
... A40: 36 | B40: Spojovací materiál pre ochranné a doplnkové pospájanie (HUS, svorky, Cu pásik, káblové oká, vejárovité podložky) | C40: ks | D40: 1 | E40: 0 | F40: =D40*E40 -> 0
B42: MONTÁŽ
A43: 1 | B43: Rozvádzač na povrch RS08 vrátane výzbroja, osadenia a zapojenia | C43: ks | D43: 1 | E43: 0 | F43: =D43*E43 -> 0
A44: 2 | B44: Svietidlo LED, min. 1x47W vrátane závesného systému - IP65 | C44: ks | D44: 4 | E44: 0 | F44: =D44*E44 -> 0
A45: 3 | B45: Svietidlo LED na povrch, min.34W - IP65 | C45: ks | D45: 13 | E45: 0 | F45: =D45*E45 -> 0
A46: 4 | B46: Svietidlo na stenu E27/60W, vrátane LED žiarovky 10W, svietiace do polpriestoru smerom k zemi - min IP44 | C46: ks | D46: 2 | E46: 0 | F46: =D46*E46 -> 0
A47: 5 | B47: Svietidlo na stenu E27/60W s pohybovým spínačom, vrátane LED žiarovky 10W, svietiace do polpriestoru smerom k zemi - min IP44 | C47: ks | D47: 3 | E47: 0 | F47: =D47*E47 -> 0
A48: 6 | B48: Svietidlo LED nastenné reflektorové 1x100W - IP65 | C48: ks | D48: 3 | E48: 0 | F48: =D48*E48 -> 0
A49: 7 | B49: Svietidlo núdzové na povrch LED 4W pre netrvalé svietenie s batériou pre napájanie po dobu 1h - min. IP44 | C49: ks | D49: 5 | E49: 0 | F49: =D49*E49 -> 0
A50: 8 | B50: Zásuvková skriňa 2x230V/16A, 1x400V/16A, 1x400V/32A s priestorom pre istenie, vrátane ističov, osadenia a zapojenia - IP44 | C50: ks | D50: 1 | E50: 0 | F50: =D50*E50 -> 0
A51: 9 | B51: Zásuvková skriňa úzka 2x230V/16A, 1x400V/16A s priestorom pre istenie, vrátane ističov, osadenia a zapojenia - IP44 | C51: ks | D51: 4 | E51: 0 | F51: =D51*E51 -> 0
A52: 10 | B52: Spínač jednopólový zapustený č.1 10A/250V, IP44 vrátane inštalačnej krabice do zateplenia | C52: ks | D52: 4 | E52: 0 | F52: =D52*E52 -> 0
A53: 11 | B53: Spínač striedavý na povrch č.6 10A/250V - IP55 | C53: ks | D53: 6 | E53: 0 | F53: =D53*E53 -> 0
A54: 12 | B54: Spínač striedavý na povrch č.7 10A/250V - IP55 | C54: ks | D54: 1 | E54: 0 | F54: =D54*E54 -> 0
... A78: 36 | B78: Spojovací materiál pre ochranné a doplnkové pospájanie (HUS, svorky, Cu pásik, káblové oká, vejárovité podložky) | C78: ks | D78: 1 | E78: 0 | F78: =D78*E78 -> 0
B79: ZEMNÉ PRÁCE
A80: 37 | B80: Výkop a zásyp kábelovej ryhy 35x70cm v zemi - zemina tr.4 | C80: m | D80: 120 | E80: 0 | F80: =D80*E80 -> 0
A81: 38 | B81: Vysekanie ryhy do exist. betónu a jej znovuvyspravenie | C81: m | D81: 10 | E81: 0 | F81: =D81*E81 -> 0
B82: HODINOVÁ SADZBA
A83: 39 | B83: Odborná prehliadka a skúška (Revízia) | C83: h | D83: 16 | E83: 0 | F83: =D83*E83 -> 0
B85: Náklady celkom: | F85: =SUM(F6:F83) -> 0

Sheet SO-09
A1: DOBUDOVANIE A INTENZIFIKÁCIA ČOV LEVOČA
A2: SO - 09 STROJOVŇA ZAHUSTENIA A ODVODNENIA KALU
A4: ČP | B4: Kód položky | C4: Popis | D4: MJ | E4: Množstvo | F4: J. cena (EUR) | G4: Celková cena (EUR) | H4: Hmotnosť celkom
A5: 0 | B5: HSV | C5: Práce a dodávky HSV | G5: =G6+G22+G46+G59+G71+G75+G90+G103 -> 0 | H5: =H6+H22+H46+H59+H71+H75+H90 -> 1371.795
A6: 0 | B6: 1 | C6: Zemné práce | G6: =SUM(G7:G21) -> 0 | H6: =SUM(H7:H21) -> 0.397
A7: 1 | B7: 115001102 | C7: Odvedenie vody potrubím pri priemere potrubia DN nad 100 do 150 | D7: m | E7: 50 | F7: 0 | G7: =E7*F7 -> 0 | H7: 0.397
A8: 2 | B8: 115101201 | C8: Čerpanie vody na dopravnú výšku do 10 m s priemerným prítokom litrov za minútu nad 100 do 500 l | D8: hod | E8: 1440 | F8: 0 | G8: =E8*F8 -> 0
A9: 3 | B9: 115101301 | C9: Pohotovosť záložnej čerpacej súpravy pre výšku do 10 m, s prítokom litrov za minútu nad 100 do 500 l | D9: deň | E9: 60 | F9: 0 | G9: =E9*F9 -> 0
A10: 4 | B10: 131201202 | C10: Výkop zapaženej jamy v hornine 3, nad 100 do 1000 m3 | D10: m3 | E10: 136.125 | F10: 0 | G10: =E10*F10 -> 0
A11: 5 | B11: 131201209 | C11: Príplatok za lepivosť pri hĺbení zapažených jám a zárezov s urovnaním dna v hornine 3 | D11: m3 | E11: 40.838 | F11: 0 | G11: =E11*F11 -> 0
A12: 6 | B12: 132201101 | C12: Výkop ryhy do šírky 600 mm v horn.3 do 100 m3 | D12: m3 | E12: 46.098 | F12: 0 | G12: =E12*F12 -> 0
A13: 7 | B13: 132201109 | C13: Príplatok k cene za lepivosť pri hĺbení rýh šírky do 600 mm zapažených i nezapažených s urovnaním dna v hornine 3 | D13: m3 | E13: 13.829 | F13: 0 | G13: =E13*F13 -> 0
A14: 8 | B14: 133201101 | C14: Výkop šachty zapaženej, hornina 3 do 100 m3 | D14: m3 | E14: 3.09 | F14: 0 | G14: =E14*F14 -> 0
A15: 9 | B15: 133201109 | C15: Príplatok k cenám za lepivosť pri hĺbení šachiet zapažených i nezapažených v hornine 3 | D15: m3 | E15: 1.037 | F15: 0 | G15: =E15*F15 -> 0
A16: 10 | B16: 162301121 | C16: Vodorovné premiestnenie výkopku po spevnenej ceste z horniny tr.1-4, nad 100 do 1000 m3 na vzdialenosť nad 50 do 500 m | D16: m3 | E16: 185.3 | F16: 0 | G16: =E16*F16 -> 0
A17: 11 | B17: 171201202 | C17: Uloženie sypaniny na skládky nad 100 do 1000 m3 | D17: m3 | E17: 185.3 | F17: 0 | G17: =E17*F17 -> 0
A18: 12 | B18: 171209002 | C18: Poplatok za skladovanie zeminy | D18: t | E18: 240.89 | F18: 0 | G18: =E18*F18 -> 0
A19: 13 | B19: 167101101 | C19: Nakladanie neuľahnutého výkopku z hornín tr.1-4 do 100 m3 | D19: m3 | E19: 44.688 | F19: 0 | G19: =E19*F19 -> 0
... A21: 15 | B21: 174101001 | C21: Zásyp sypaninou so zhutnením jám, šachiet, rýh, zárezov alebo okolo objektov do 100 m3 | D21: m3 | E21: 44.688 | F21: 0 | G21: =E21*F21 -> 0
A22: 0 | B22: 2 | C22: Zakladanie | G22: =G23+G29+G32+G33+G34+G35+G36+G37+G38+G39+G40+G41+G42+G43+G44+G45 -> 0 | H22: =SUM(H23:H45) -> 817.036
A23: 16 | B23: KP | C23: Paženie jám štetovnicovou stenou zo štetovníc LARSEN IIIn | D23: m2 | E23: 252.8 | F23: 0 | G23: =E23*F23 -> 0
C24: - nastraženie a zabaranenie štetovníc
C25: - dodávka štetovníc ( dvojnásobná obratovosť )
C26: - zváranie a pozdĺžne rezanie štetovníc
C27: - rezanie otvorov, vytiahnutie štetovníc
C28: - presun hmôt
A29: 17 | B29: KP | C29: Plášť vodárenskej studne z betónových skruží celokruhových DN 1000 | D29: m | E29: 5 | F29: 0 | G29: =E29*F29 -> 0
C30: - osadenie a dodávka skruží TBH 1000/100
C31: - presun hmôt
A32: 18 | B32: KP | C32: Štrkodrva fr. 32-63 | D32: m3 | E32: 28.76 | F32: 0 | G32: =E32*F32 -> 0 | H32: 59.42
A33: 19 | B33: KP | C33: Štrkodrva 8-32mm | D33: m3 | E33: 199.58 | F33: 0 | G33: =E33*F33 -> 0 | H33: 412.33
A34: 20 | B34: 273313611 | C34: Betón základových dosiek, prostý tr. C 16/20 - podkladný betón | D34: m3 | E34: 24.1 | F34: 0 | G34: =E34*F34 -> 0 | H34: 42.02
A35: 21 | B35: 273326242 | C35: Základové dosky z betónu železového vodostavebného C 30/37 | D35: m3 | E35: 53.55 | F35: 0 | G35: =E35*F35 -> 0 | H35: 151.12
A36: 22 | B36: 273356021 | C36: Debnenie základových konštrukcií pre plochy rovinné zhotovenie | D36: m2 | E36: 14.775 | F36: 0 | G36: =E36*F36 -> 0 | H36: 0.066
A37: 23 | B37: 273356022 | C37: Debnenie základových konštrukcií rovinné odstránenie | D37: m2 | E37: 14.775 | F37: 0 | G37: =E37*F37 -> 0
A38: 24 | B38: 273361821 | C38: Výstuž základových dosiek z ocele 10505 | D38: t | E38: 3.291 | F38: 0 | G38: =E38*F38 -> 0 | H38: 3.35
A39: 25 | B39: 273362021 | C39: Výstuž základových dosiek - sieťovina | D39: t | E39: 2.96 | F39: 0 | G39: =E39*F39 -> 0 | H39: 3.56
A40: 26 | B40: 274313711 | C40: Betón základových pásov, prostý tr. C 25/30 | D40: m3 | E40: 54.096 | F40: 0 | G40: =E40*F40 -> 0 | H40: 137.19
A41: 27 | B41: 274351217 | C41: Debnenie stien základových pásov, zhotovenie-tradičné | D41: m2 | E41: 17.265 | F41: 0 | G41: =E41*F41 -> 0 | H41: 0.07
A42: 28 | B42: 274351218 | C42: Debnenie stien základových pásov, odstránenie-tradičné | D42: m2 | E42: 17.265 | F42: 0 | G42: =E42*F42 -> 0
A43: 29 | B43: 275313711 | C43: Betón základových pätiek, prostý tr. C 25/30 | D43: m3 | E43: 3.09 | F43: 0 | G43: =E43*F43 -> 0 | H43: 7.84
A44: 30 | B44: 275351217 | C44: Debnenie stien základových pätiek, zhotovenie-tradičné | D44: m2 | E44: 16.4 | F44: 0 | G44: =E44*F44 -> 0 | H44: 0.07
A45: 31 | B45: 275351218 | C45: Debnenie stien základových pätiek, odstránenie-tradičné | D45: m2 | E45: 16.4 | F45: 0 | G45: =E45*F45 -> 0
A46: 0 | B46: 3 | C46: Zvislé a kompletné konštrukcie | G46: =SUM(G47:G58) -> 0 | H46: =SUM(H47:H58) -> 396.886
A47: 32 | B47: 311231299 | C47: Murivo nosné z tehál pálených dierovaných CDm dĺžky 240mm P 10-20 MC 15 | D47: m3 | E47: 22.27 | F47: 0 | G47: =E47*F47 -> 0 | H47: 36.283
A48: 33 | B48: 331321610 | C48: Betón stĺpov a pilierov hranatých, ťahadiel, rámových stojok, vzpier, železový (bez výstuže) tr. C 30/37 | D48: m3 | E48: 3.6 | F48: 0 | G48: =E48*F48 -> 0 | H48: 9.05
A49: 34 | B49: 331351103 | C49: Debnenie hranatých stĺpov prierezu pravouhlého štvoruholníka výšky do 4 m, zhotovenie-tradičné | D49: m2 | E49: 36 | F49: 0 | G49: =E49*F49 -> 0 | H49: 0.238
A50: 35 | B50: 331351104 | C50: Debnenie hranatých stĺpov prierezu pravouhlého štvoruholníka výšky do 4 m, odstránenie-tradičné | D50: m2 | E50: 36 | F50: 0 | G50: =E50*F50 -> 0
A51: 36 | B51: 341321610 | C51: Betón stien a priečok, železový (bez výstuže) tr. C 30/37 | D51: m3 | E51: 115.244 | F51: 0 | G51: =E51*F51 -> 0 | H51: 305.05
A52: 37 | B52: 341351107 | C52: Debnenie stien a priečok obojstranné zhotovenie-tradičné | D52: m2 | E52: 931.636 | F52: 0 | G52: =E52*F52 -> 0 | H52: 6.549
A53: 38 | B53: 341351108 | C53: Debnenie stien a priečok obojstranné odstránenie-tradičné | D53: m2 | E53: 931.636 | F53: 0 | G53: =E53*F53 -> 0
A54: 39 | B54: 341361821 | C54: Výstuž stien a priečok 10505 | D54: t | E54: 14.22 | F54: 0 | G54: =E54*F54 -> 0 | H54: 14.05
A55: 40 | B55: 380321532 | C55: Kompletné konštrukcie čistiarní odpadových vôd zo železobetónu vodostavebného C30/37, hr. 150-300 mm, vrátane tesnenia pracovných škár | D55: m3 | E55: 8.4 | F55: 0 | G55: =E55*F55 -> 0 | H55: 24.35
A56: 41 | B56: 380356211 | C56: Debnenie kompl. konštrukcií čistiarní odpad. vôd z plôch rovinných zhotovenie | D56: m2 | E56: 68.35 | F56: 0 | G56: =E56*F56 -> 0 | H56: 0.295
A57: 42 | B57: 380356212 | C57: Debnenie kompl. konštrukcií čistiarní odpad. vôd z plôch rovinných odstránenie | D57: m2 | E57: 68.35 | F57: 0 | G57: =E57*F57 -> 0
A58: 43 | B58: 380361006 | C58: Výstuž komplet. konstr. čist., odpadových vôd a nádrží z ocele 10505(+stlpy) | D58: t | E58: 1.01 | F58: 0 | G58: =E58*F58 -> 0 | H58: 1.021
B59: 4 | C59: Vodorovné konštrukcie | G59: =SUM(G60:G70) -> 0 | H59: =SUM(H60:H70) -> 36.125
A60: 44 | B60: 411321616 | C60: Betón stropov doskových a trámových, železový tr. C 30/37 | D60: m3 | E60: 12.768 | F60: 0 | G60: =E60*F60 -> 0 | H60: 31.7
A61: 45 | B61: 411351107 | C61: Debnenie stropov doskových zhotovenie-tradičné | D61: m2 | E61: 50.48 | F61: 0 | G61: =E61*F61 -> 0 | H61: 0.176
A62: 46 | B62: 411351108 | C62: Debnenie stropov doskových odstránenie-tradičné | D62: m2 | E62: 50.48 | F62: 0 | G62: =E62*F62 -> 0
A63: 47 | B63: 411354175 | C63: Podporná konštrukcia stropov výšky do 4 m pre zaťaženie do 20 kPa zhotovenie | D63: m2 | E63: 50.48 | F63: 0 | G63: =E63*F63 -> 0 | H63: 0.278
A64: 48 | B64: 411354176 | C64: Podporná konštrukcia stropov výšky do 4 m pre zaťaženie do 20 kPa odstránenie | D64: m2 | E64: 50.48 | F64: 0 | G64: =E64*F64 -> 0
A65: 49 | B65: 411361821 | C65: Výstuž stropov doskových, trámových, vložkových,konzolových alebo balkónových, 10505 ( + stĺpy ) | D65: t | E65: 2.622 | F65: 0 | G65: =E65*F65 -> 0 | H65: 2.66
A66: 50 | B66: 411362021 | C66: Výstuž stropov doskových, trámových, vložkových,konzolových alebo balkónových, zo zvarovaných sietí | D66: t | E66: 0.152 | F66: 0 | G66: =E66*F66 -> 0 | H66: 0.18
A67: 51 | B67: 413941125 | C67: Osadenie oceľových valcovaných nosníkov I, IE, U, UE, L č. 24 a vyššie, alebo výšky nad 220 mm | D67: t | E67: 0.902 | F67: 0 | G67: =E67*F67 -> 0 | H67: 0.01
A68: 52 | B68: 1338332000 | C68: Tyče oceľové prierezu IPE 240 mm oceľ ozn.11 373, podľa EN ISO S235JRG1 - nosníky kladkostroja | D68: t | E68: 0.902 | F68: 0 | G68: =E68*F68 -> 0 | H68: 0.902
A69: 53 | B69: 454811111 | C69: Osadenie prestupov do DN 600 | D69: ks | E69: 4 | F69: 0 | G69: =E69*F69 -> 0 | H69: 0.01
A70: 54 | B70: PC 8 | C70: Dodávka - kilogramové ceny - nerez | D70: kg | E70: 209 | F70: 0 | G70: =E70*F70 -> 0 | H70: 0.209
A71: 0 | B71: 5 | C71: Komunikácie | G71: =SUM(G72:G74) -> 0 | H71: =SUM(H72:H74) -> 19.058
A72: 55 | B72: 564271111 | C72: Podklad alebo podsyp zo štrkopiesku s rozprestretím, vlhčením a zhutnením, po zhutnení hr. 250 mm | D72: m2 | E72: 22.65 | F72: 0 | G72: =E72*F72 -> 0 | H72: 11.461
A73: 56 | B73: 596811111 | C73: Kladenie dlažby betónovej komunikácií pre peších do lôžka z kameniva ťaženého - okapový chodník | D73: m2 | E73: 22.65 | F73: 0 | G73: =E73*F73 -> 0 | H73: 2.29
A74: 57 | B74: 5922763000 | C74: Tvárnica betónová doska obklad. TBM 2-50 50x50x10 | D74: ks | E74: 91.506 | F74: 0 | G74: =E74*F74 -> 0 | H74: 5.307
A75: 0 | B75: 6 | C75: Úpravy povrchov, podlahy, osadenie | G75: =SUM(G76:G89) -> 0 | H75: =SUM(H76:H89) -> 37.322
A76: 58 | B76: 611460252 | C76: Vnútorná omietka vápenná alebo vápennocementová stropov, hladká | D76: m2 | E76: 26.25 | F76: 0 | G76: =E76*F76 -> 0 | H76: 1.02
A77: 59 | B77: 612460252 | C77: Vnútorná omietka vápenná alebo vápennocementová v podlaží a v schodisku hladká | D77: m2 | E77: 288.997 | F77: 0 | G77: =E77*F77 -> 0 | H77: 10.678
A78: 60 | B78: 622464293 | C78: Vonkajšia omietka stien tenkovrstvová BAUMIT, silikátová, Baumit openTop, škrabaná, hr. 3 mm | D78: m2 | E78: 510.584 | F78: 0 | G78: =E78*F78 -> 0 | H78: 2.466
A79: 61 | B79: 625251359 | C79: Kontaktný zatepľovací systém hr. 150 mm BAUMIT STAR - minerálne riešenie, zatĺkacie kotvy | D79: m2 | E79: 510.584 | F79: 0 | G79: =E79*F79 -> 0 | H79: 17.207
A80: 62 | B80: 631313661 | C80: Mazanina z betónu prostého (m3) tr. C 20/25 hr.nad 80 do 120 mm | D80: m3 | E80: 1.375 | F80: 0 | G80: =E80*F80 -> 0 | H80: 3.08
A81: 63 | B81: 631325733 | C81: Mazanina z betónu prostého (m2) vystužená oceľovými vláknami (Dramix), betón tr. C 20/25 hr. 80 mm | D81: m2 | E81: 12.195 | F81: 0 | G81: =E81*F81 -> 0 | H81: 2.22
A82: 64 | B82: 642942111 | C82: Osadenie oceľovej dverovej zárubne alebo rámu, plochy otvoru do 2,5 m2 | D82: ks | E82: 2 | F82: 0 | G82: =E82*F82 -> 0 | H82: 0.035
A83: 65 | B83: 5533198600 | C83: Zárubňa oceľová CgU 90x197x25cm L | D83: ks | E83: 2 | F83: 0 | G83: =E83*F83 -> 0 | H83: 0.029
A84: 66 | B84: 642942331 | C84: Osadenie oceľovej dverovej zárubne alebo rámu, plochy otvoru do m2 | D84: ks | E84: 1 | F84: 0 | G84: =E84*F84 -> 0 | H84: 0.058
A85: 67 | B85: 553319 | C85: Zárubňa oceľová CgU 2300/2400x25cm | D85: ks | E85: 1 | F85: 0 | G85: =E85*F85 -> 0 | H85: 0.1
A86: 68 | B86: PC 1 | C86: Osadenie a dodávka mrežovaného liatinového poklopu rozmeru 600x600 mm vrátane rámu a kotviacich prvkov | D86: ks | E86: 1 | F86: 0 | G86: =E86*F86 -> 0
A87: 69 | B87: PC 2 | C87: Osadenie a dodávka odnímateľného dvojdielneho plechu rozmerov 1850x1000 mm vo vyhotovení nerez | D87: ks | E87: 2 | F87: 0 | G87: =E87*F87 -> 0 | H87: 0.065
A88: 70 | B88: PC 3 | C88: Osadenie a dodávka lemovania otvoru 1850x900 mm z L profilu 100x100 mm vo vyhotovení nerez = 1ks + L 160x 100 = 1 ks | D88: m | E88: 11 | F88: 0 | G88: =E88*F88 -> 0 | H88: 0.083
A89: 71 | B89: PC 9 | C89: Lemovanie otvorov viď príl. D.9.1.6 pol. č. 47,48,49,50,51,52 - nerez | D89: kg | E89: 281 | F89: 0 | G89: =E89*F89 -> 0 | H89: =E89/1000 -> 0.281
A90: 0 | B90: 9 | C90: Ostatné konštrukcie a práce-búranie | G90: =SUM(G91:G102) -> 0 | H90: =SUM(H91:H102) -> 64.971
A91: 72 | B91: 953947952 | C91: Montáž hranatej kovovej vetracej mriežky plochy nad 0,06 m2 | D91: ks | E91: 3 | F91: 0 | G91: =E91*F91 -> 0
A92: 73 | B92: 4297201210 | C92: Vetracia mriežka, žalúziová klapka samočinná, kovová, hranatá so sieťkou proti hmyzu 400x400 mm (chróm) | D92: ks | E92: 1 | F92: 0 | G92: =E92*F92 -> 0 | H92: 0.001
A93: 74 | B93: 4297201211 | C93: Vetracia mriežka, žalúziová klapka samočinná, kovová, hranatá so sieťkou proti hmyzu 1050x450 mm (chróm) | D93: ks | E93: 2 | F93: 0 | G93: =E93*F93 -> 0 | H93: 0.005
A94: 75 | B94: 953947957 | C94: Montáž kruhovej kovovej vetracej mriežky plochy nad 0,008 m2 | D94: ks | E94: 3 | F94: 0 | G94: =E94*F94 -> 0
A95: 76 | B95: 4297201260 | C95: Vetracia mriežka, žalúziová klapka samočinná, kovová, kruhová so sieťkou proti hmyzu 300 mm (chróm) | D95: ks | E95: 1 | F95: 0 | G95: =E95*F95 -> 0
A96: 77 | B96: 4297201290 | C96: Vetracia mriežka, žalúziová klapka samočinná, kovová, kruhová so sietkou proti hmyzu 650 mm (chróm) | D96: ks | E96: 2 | F96: 0 | G96: =E96*F96 -> 0 | H96: 0.001
A97: 78 | B97: 941941041 | C97: Zriadenie lešenia ľahkého s podlahami š. 1,2m v, do 10 m | D97: m2 | E97: 423.13 | F97: 0 | G97: =E97*F97 -> 0 | H97: =0.026*E97 -> 11.001
A98: 79 | B98: 941941291 | C98: Prir. za prvý a ďalší mesiac použitia lešenia | D98: m2 | E98: 2115.65 | F98: 0 | G98: =E98*F98 -> 0
A99: 80 | B99: 942941021 | C99: Montáž lešenia ťažkého s podlahami v. do 10 m | D99: m2 | E99: 574.52 | F99: 0 | G99: =E99*F99 -> 0 | H99: =0.039*E99 -> 22.406
A100: 81 | B100: 942941191 | C100: Prir. za prvý a ďalší mesiac použitia lešenia | D100: m2 | E100: 2872.6 | F100: 0 | G100: =E100*F100 -> 0
A101: 82 | B101: 941941841 | C101: Demontáž lešenia ľahkého s podlahami | D101: m2 | E101: 423.13 | F101: 0 | G101: =E101*F101 -> 0 | H101: =0.0257*E101 -> 10.874
A102: 83 | B102: 942941821 | C102: Demontáž lešenia ťažkého | D102: m2 | E102: 574.52 | F102: 0 | G102: =E102*F102 -> 0 | H102: =0.036*E102 -> 20.683
...

Sheet SO-09 eli
A1: DOBUDOVANIE A INTENZIFIKÁCIA ČOV LEVOČA
A2: SO-09 STROJOVŇA ZAHUSTENIA A ODVODNENIA KALU - ELEKTROSTAVEBNÁ ČASŤ
A4: Pol. | B4: NÁZOV POLOŽKY | C4: Jedn. | D4: Mn. | E4: J. cena (EUR) | F4: Celková cena (EUR)
B5: DODÁVKA
A6: 2 | B6: Rozvádzač na povrch RS09 vrátane výzbroja, osadenia a zapojenia | C6: ks | D6: 1 | E6: 0 | F6: =D6*E6 -> 0
A7: 3 | B7: Svietidlo LED, min. 1x47W vrátane závesného systému - IP65 | C7: ks | D7: 16 | E7: 0 | F7: =D7*E7 -> 0
A8: 4 | B8: Svietidlo na stenu E27/60W, vrátane LED žiarovky 10W, svietiace do polpriestoru smerom k zemi - min IP44 | C8: ks | D8: 1 | E8: 0 | F8: =D8*E8 -> 0
A9: 5 | B9: Svietidlo núdzové na povrch LED 4W pre netrvalé svietenie s batériou pre napájanie po dobu 1h - min. IP44 | C9: ks | D9: 7 | E9: 0 | F9: =D9*E9 -> 0
A10: 6 | B10: Zásuvková skriňa 2x230V/16A, 1x400V/16A, 1x400V/32A s priestorom pre istenie, vrátane ističov, osadenia a zapojenia - IP44 | C10: ks | D10: 3 | E10: 0 | F10: =D10*E10 -> 0
A11: 7 | B11: Spínač jednopólový zapustený č.1 10A/250V, IP44 vrátane inštalačnej krabice do zateplenia | C11: ks | D11: 1 | E11: 0 | F11: =D11*E11 -> 0
A12: 8 | B12: Spínač jednopólový na povrch č.1 10A/250V - IP55 | C12: ks | D12: 4 | E12: 0 | F12: =D12*E12 -> 0
A13: 9 | B13: Priestorový termostat na povrch 0-35°C - IP54 | C13: ks | D13: 2 | E13: 0 | F13: =D13*E13 -> 0
A14: 10 | B14: Regulátor teploty a vlhkosti, výstupné relé 8A/250V - IP65 | C14: ks | D14: 1 | E14: 0 | F14: =D14*E14 -> 0
A15: 11 | B15: Elektrický konvertor nástenný s vlastným termostatom, 200W - IP24 | C15: ks | D15: 1 | E15: 0 | F15: =D15*E15 -> 0
A16: 12 | B16: Sálavý vykurovací panel nerezový 2400W zavesený vrátana lanka a upevňovacieho príslušenstva - IP54 | C16: ks | D16: 6 | E16: 0 | F16: =D16*E16 -> 0
A17: 13 | B17: CYKY-J 5x6 v PVC žľabe resp. v zemi vrátane ukončenia | C17: m | D17: 55 | E17: 0 | F17: =D17*E17 -> 0
... A38: 34 | B38: Spojovací materiál pre ochranné a doplnkové pospájanie (HUS, svorky, Cu pásik, káblové oká, vejárovité podložky) | C38: ks | D38: 1 | E38: 0 | F38: =D38*E38 -> 0
B40: MONTÁŽ A DEMONTÁŽ BEZ DODÁVKY
A41: 1 | B41: Zapojenie trojfázového spotrebiča (ventilátor) | C41: ks | D41: 3 | E41: 0 | F41: =D41*E41 -> 0
B42: MONTÁŽ
A43: 2 | B43: Rozvádzač na povrch RS09 vrátane výzbroja, osadenia a zapojenia | C43: ks | D43: 1 | E43: 0 | F43: =D43*E43 -> 0
A44: 3 | B44: Svietidlo LED, min. 1x47W vrátane závesného systému - IP65 | C44: ks | D44: 16 | E44: 0 | F44: =D44*E44 -> 0
A45: 4 | B45: Svietidlo na stenu E27/60W, vrátane LED žiarovky 10W, svietiace do polpriestoru smerom k zemi - min IP44 | C45: ks | D45: 1 | E45: 0 | F45: =D45*E45 -> 0
A46: 5 | B46: Svietidlo núdzové na povrch LED 4W pre netrvalé svietenie s batériou pre napájanie po dobu 1h - min. IP44 | C46: ks | D46: 7 | E46: 0 | F46: =D46*E46 -> 0
A47: 6 | B47: Zásuvková skriňa 2x230V/16A, 1x400V/16A, 1x400V/32A s priestorom pre istenie, vrátane ističov, osadenia a zapojenia - IP44 | C47: ks | D47: 3 | E47: 0 | F47: =D47*E47 -> 0
A48: 7 | B48: Spínač jednopólový zapustený č.1 10A/250V, IP44 vrátane inštalačnej krabice do zateplenia | C48: ks | D48: 1 | E48: 0 | F48: =D48*E48 -> 0
A49: 8 | B49: Spínač jednopólový na povrch č.1 10A/250V - IP55 | C49: ks | D49: 4 | E49: 0 | F49: =D49*E49 -> 0
A50: 9 | B50: Priestorový termostat na povrch 0-35°C - IP54 | C50: ks | D50: 2 | E50: 0 | F50: =D50*E50 -> 0
A51: 10 | B51: Regulátor teploty a vlhkosti, výstupné relé 8A/250V - IP65 | C51: ks | D51: 1 | E51: 0 | F51: =D51*E51 -> 0
A52: 11 | B52: Elektrický konvertor nástenný s vlastným termostatom, 200W - IP24 | C52: ks | D52: 1 | E52: 0 | F52: =D52*E52 -> 0
A53: 12 | B53: Sálavý vykurovací panel nerezový 2400W zavesený vrátana lanka a upevňovacieho príslušenstva - IP54 | C53: ks | D53: 6 | E53: 0 | F53: =D53*E53 -> 0
A54: 13 | B54: CYKY-J 5x6 v PVC žľabe resp. v zemi vrátane ukončenia | C54: m | D54: 55 | E54: 0 | F54: =D54*E54 -> 0
... A75: 34 | B75: Spojovací materiál pre ochranné a doplnkové pospájanie (HUS, svorky, Cu pásik, káblové oká, vejárovité podložky) | C75: ks | D75: 1 | E75: 0 | F75: =D75*E75 -> 0
B76: HODINOVÁ SADZBA
A77: 35 | B77: Odborná prehliadka a skúška (Revízia) | C77: h | D77: 16 | E77: 0 | F77: =D77*E77 -> 0
B79: Náklady celkom: | F79: =SUM(F6:F77) -> 0

Sheet SO-09 vzt
A1: DOBUDOVANIE A INTENZIFIKÁCIA ČOV LEVOČA
A2: SO-09 STROJOVŇA ZAHUSTENIA A ODVODNENIA KALU - VZDUCHOTECHNIKA
A4: Pozícia | B4: Názov pozície | C4: Materiál | D4: Rozmer [mm] | E4: MJ | F4: Počet | G4: J. cena (EUR) | H4: Celková cena (EUR)
A6: 1 | B6: Axiálny ventilátor potrubný ELEKTRODESIGN | D6: &450 | E6: 2 | F6: ks | G6: 0 | H6: =G6*E6 -> 0
B7: TXTR/4-450 (alebo ekvivalent) (6910 m3/h, 0,45 kW; 400V; 0,9A)
A8: 2 | B8: Sacia dýza TAD 450 Elektrodesign (alebo ekvivalent) | C8: ocel | D8: &450 | E8: 2 | F8: ks | G8: 0 | H8: =G8*E8 -> 0
A9: 3 | B9: Ochranná mriežka DEF 450T Elektrodesign (alebo ekvivalent) | C9: ocel | D9: &450 | E9: 2 | F9: ks | G9: 0 | H9: =G9*E9 -> 0
A10: 4 | B10: Tlmič hluku rúrový TAA 450 Elektrodesign (alebo ekvivalent) | C10: ocel | D10: &650 | E10: 2 | F10: ks | G10: 0 | H10: =G10*E10 -> 0
A11: 5 | B11: Žalúziová klapka samočinná PER-450 W Elektrodesign (alebo ekvivalent) | C11: plast | D11: &450 | E11: 2 | F11: ks | G11: 0 | H11: =G11*E11 -> 0
A12: 6 | B12: Protidažďová žalúzia 1000x500 | C12: pozink | D12: 1000x500 | E12: 2 | F12: ks | G12: 0 | H12: =G12*E12 -> 0
A13: 7 | B13: Tlmič hluku v potrubí 1000 x 500 + 5 vložiek | C13: pozink | D13: 1000x500 | E13: 2 | F13: ks | G13: 0 | H13: =G13*E13 -> 0
A14: 8 | B14: Žalúziová klapka samočinná | C14: pozink | D14: 1000x500 | E14: 2 | F14: ks | G14: 0 | H14: =G14*E14 -> 0
B15: vrátane:
B16: tesniaci a spojovací materiál
B17: pomocné konštrukcie
A19: 9 | B19: Axiálny ventilátor potrubný ELEKTRODESIGN | C19: oceľ | D19: &250 | E19: 1 | F19: ks | G19: 0 | H19: =G19*E19 -> 0
B20: TXTR/2-250 (alebo ekvivalent) (1530 m3/h, 0,12 kW; 400V; 0,4A)
A21: 10 | B21: Spiro potrubie DN250 | C21: pozink | D21: &250 | E21: 2.5 | F21: m | G21: 0 | H21: =G21*E21 -> 0
A22: 11 | B22: Žalúziová klapka samočinná PER-250 W Elektrodesign (alebo ekvivalent) | C22: plast | D22: &250 | E22: 1 | F22: ks | G22: 0 | H22: =G22*E22 -> 0
A23: 12 | B23: Protidažďová žalúzia TWG 400 Elektrodesign (alebo ekvivalent) | C23: pozink | D23: 400x400 | E23: 1 | F23: ks | G23: 0 | H23: =G23*E23 -> 0
A24: 13 | B24: Potrubie (nasávací otvor) 400x400-400 | C24: pozink | D24: 400x400 | E24: 1 | F24: ks | G24: 0 | H24: =G24*E24 -> 0
A25: 14 | B25: Žalúziová klapka samočinná PER-400 W Elektrodesign (alebo ekvivalent) | C25: pozink | D25: 400x400 | E25: 1 | F25: ks | G25: 0 | H25: =G25*E25 -> 0
B26: vrátane:
B27: tesniaci a spojovací materiál
B28: pomocné konštrukcie
B30: Dodávka celkom: | H30: =SUM(H6:H27) -> 0
A32: 15 | B32: Montáž celkom: | F32: % | G32: 20 | H32: =G32*H30/100 -> 0
B34: Náklady celkom: | H34: =H30+H32 -> 0

Sheet SO-09 zti
A1: DOBUDOVANIE A INTENZIFIKÁCIA ČOV LEVOČA
A2: SO-09 STROJOVŇA ZAHUSTENIA A ODVODNENIA KALU - ZDRAVOTECHNIKA
A4: Pol. | B4: Popis položky, stavebného dielu, remesla, | C4: Množstvo | D4: Merná | E4: J. cena (EUR) | F4: Celková cena (EUR)
A5: číslo | B5: výkaz-výmer | C5: výmera | D5: jednotka
B7: PRÁCE A DODÁVKY HSV
B8: 1 - ZEMNE PRÁCE
A9: 1 | B9: Hĺbenie rýh šírka do 2 m v hornine 3, vr. naloženia, vyloženia, odvozu výkopku a prebytočnej zeminy, uloženia na skládke, všetkých poplatkov | C9: 19.3 | D9: m3 | E9: 0 | F9: =E9*C9 -> 0
A10: 2 | B10: Zásyp zhutnený rýh do 100 m3 | C10: 5.5 | D10: m3 | E10: 0 | F10: =E10*C10 -> 0
B11: 1 - ZEMNÉ PRÁCE spolu : | F11: =SUM(F9:F10) -> 0
B13: 4 - VODOROVNÉ KONŠTRUKCIE
A14: 3 | B14: Lôžko pod potrubie a obsyp potr. v otv. výkope z piesku | C14: 13.8 | D14: m3 | E14: 0 | F14: =E14*C14 -> 0
B15: 4 - VODOROVNÉ KONŠTRUKCIE spolu : | F15: =SUM(F14) -> 0
B17: 8 - RÚROVÉ VEDENIA
B18: Vodovod
A19: 4 | B19: Montáž a dodávka vodovodného rozvodu vrátane tvaroviek, napojenia, vykonania preplachu, dezinfekcie a tlakovej skúšky | C19: 1 | D19: súbor | E19: 0 | F19: =E19*C19 -> 0
B20: 8 - RÚROVÉ VEDENIA spolu : | F20: =SUM(F19:F19) -> 0
B21: PRÁCE A DODÁVKY HSV spolu : | F21: =F11+F15+F20 -> 0
B23: PRÁCE A DODÁVKY PSV
B24: 72 - ZDRAVOTNO - TECHNICKÉ INŠTALÁCIE
B25: 725 - Zariaďovacie predmety
A26: 5 | B26: Umývadlo malé so zápachovou uzávierkou | C26: 1 | D26: súbor | E26: 0 | F26: =E26*C26 -> 0
A27: 6 | B27: Montáž umývadiel keramických so záp. uzáv. | C27: 1 | D27: súbor | E27: 0 | F27: =E27*C27 -> 0
A28: 7 | B28: Batéria umývadlová stojanková | C28: 1 | D28: ks | E28: 0 | F28: =E28*C28 -> 0
A29: 8 | B29: Montáž batérie umýv. stojankovej jednopákovej | C29: 1 | D29: ks | E29: 0 | F29: =E29*C29 -> 0
A30: 9 | B30: Prietokový ohrievač TÚV elektr. podumývadlový 3,5kW, 230V | C30: 1 | D30: súbor | E30: 0 | F30: =E30*C30 -> 0
A31: 10 | B31: Montáž elektr. prietokových ohrievačov TÚV | C31: 1 | D31: ks | E31: 0 | F31: =E31*C31 -> 0
B32: 725 - Zariaďovacie predmety spolu : | F32: =SUM(F26:F31) -> 0
B34: Kanalizácia
A35: 11 | B35: Nerezové potrubie D114,3,x3 | C35: 2 | D35: m | E35: 0 | F35: =E35*C35 -> 0
A36: 12 | B36: Nerezové potrubie D168,3,x3 | C36: 1.5 | D36: m | E36: 0 | F36: =E36*C36 -> 0
A37: 13 | B37: Nerezové potrubie D219,1x3 | C37: 5 | D37: m | E37: 0 | F37: =E37*C37 -> 0
A38: 14 | B38: Koleno 45° DN150 nerez, D168,3,x3 | C38: 1 | D38: ks | E38: 0 | F38: =E38*C38 -> 0
A39: 15 | B39: Koleno 90° DN200 nerez, D219,1x3 | C39: 3 | D39: ks | E39: 0 | F39: =E39*C39 -> 0
A40: 16 | B40: Lemový nákružok DN100 nerez | C40: 2 | D40: ks | E40: 0 | F40: =E40*C40 -> 0
A41: 17 | B41: Točivá príruba DN100 PN10 nerez | C41: 2 | D41: ks | E41: 0 | F41: =E41*C41 -> 0
A42: 18 | B42: Lemový nákružok DN150 nerez | C42: 2 | D42: ks | E42: 0 | F42: =E42*C42 -> 0
A43: 19 | B43: Točivá príruba DN150 PN10 nerez | C43: 2 | D43: ks | E43: 0 | F43: =E43*C43 -> 0
A44: 20 | B44: Lemový nákružok DN200 nerez | C44: 4 | D44: ks | E44: 0 | F44: =E44*C44 -> 0
A45: 21 | B45: Točivá príruba DN200 PN10 nerez | C45: 4 | D45: ks | E45: 0 | F45: =E45*C45 -> 0
A46: 22 | B46: Potrubie kanal. z PVC-U rúr hrdlových odpadné D 40x1,8 | C46: 0.5 | D46: m | E46: 0 | F46: =E46*C46 -> 0
... A76: 52 | B76: Skúška tesnosti kanalizačného potrubia do DN 300 | C76: 41.5 | D76: m | E76: 0 | F76: =E76*C76 -> 0
B77: Kanalizácia spolu : | F77: =SUM(F35:F76) -> 0
B78: PRÁCE A DODÁVKY PSV spolu : | F78: =F77+F32 -> 0
B80: Náklady celkom: | F80: =F78+F21 -> 0

Sheet SO-10
A1: DOBUDOVANIE A INTENZIFIKÁCIA ČOV LEVOČA
A2: SO - 10 KRYTÁ SKLÁDKA KALU
A4: ČP | B4: Kód položky | C4: Popis | D4: MJ | E4: Množstvo | F4: J. cena (EUR) | G4: Celková cena (EUR) | H4: Hmotnosť celkom | I4: Suť celkom
A5: 0 | B5: HSV | C5: Práce a dodávky HSV | G5: =G6+G18+G20+G31+G37+G42+G50 -> 0 | H5: =H6+H18+H20+H31+H37+H42 -> 942.739 | I5: =I6+I42 -> 601.977
A6: 0 | B6: 1 | C6: Zemné práce | G6: =SUM(G7:G17) -> 0 | H6: =SUM(H7:H17) -> 0.2 | I6: =SUM(I7:I17) -> 475.257
A7: 1 | B7: 113107231 | C7: Odstránenie krytu v ploche nad 200 m2 z betónu prostého, hr. vrstvy do 150 mm, -0,22500t - betonová spevnená plocha + výplňové betonové dosky | D7: m2 | E7: 1344 | F7: 0 | G7: =E7*F7 -> 0 | I7: 302.4
A8: 2 | B8: 113307213 | C8: Odstránenie podkladu v ploche nad 200 m2 z kameniva ťaženého, hr. vrstvy 200 do 300 mm, -0,50000t - odvodňovacie teleso medzi spev.plochami | D8: m2 | E8: 345.714 | F8: 0 | G8: =E8*F8 -> 0 | I8: 172.857
A9: 3 | B9: 167101102 | C9: Nakladanie neuľahnutého výkopku z hornín tr.1-4 nad 100 do 1000 m3 | D9: m3 | E9: 336 | F9: 0 | G9: =E9*F9 -> 0
A10: 4 | B10: 162301121 | C10: Vodorovné premiestnenie výkopku po spevnenej ceste z horniny tr.1-4, nad 100 do 1000 m3 na vzdialenosť nad 50 do 500 m | D10: m3 | E10: 336 | F10: 0 | G10: =E10*F10 -> 0
A11: 5 | B11: 171101102 | C11: Uloženie sypaniny do násypu súdržnej horniny s mierou zhutnenia na 96 % podľa Proctor-Standard | D11: m3 | E11: 336 | F11: 0 | G11: =E11*F11 -> 0
A12: 6 | B12: 181201102 | C12: Úprava pláne v hornine 1-4 so zhutnením | D12: m2 | E12: 240 | F12: 0 | G12: =E12*F12 -> 0
A13: 7 | B13: 167101101 | C13: Nakladanie neuľahnutého výkopku z hornín tr.1-4 do 100 m3 - zemina vhodná na zahumusovanie | D13: m3 | E13: 24 | F13: 0 | G13: =E13*F13 -> 0
A14: 8 | B14: 162301101 | C14: Vodorovné premiestnenie výkopku po spevnenej ceste z horniny tr.1-4, do 100 m3 na vzdialenosť do 500 m | D14: m3 | E14: 24 | F14: 0 | G14: =E14*F14 -> 0
A15: 9 | B15: 181301103 | C15: Rozprestretie ornice v rovine , plocha do 500 m2, hr.do 100 mm | D15: m2 | E15: 240 | F15: 0 | G15: =E15*F15 -> 0
A16: 10 | B16: 183405211 | C16: Výsev trávniku hydroosevom na ornicu | D16: m2 | E16: 240 | F16: 0 | G16: =E16*F16 -> 0 | H16: 0.192
A17: 11 | B17: 0057 | C17: Tráva - Trávové semeno | D17: kg | E17: 7.5 | F17: 0 | G17: =E17*F17 -> 0 | H17: =E17*0.001 -> 0.008
A18: 0 | B18: 2 | C18: Zakladanie | G18: =SUM(G19:G19) -> 0 | H18: =SUM(H19:H19) -> 927.052
A19: 12 | B19: 271521111 | C19: Vankúše zhutnené pod základy zo štrkodrvy 8-32 | D19: m3 | E19: 561.85 | F19: 0 | G19: =E19*F19 -> 0 | H19: 927.052
A20: 0 | B20: 3 | C20: Zvislé a kompletné konštrukcie | G20: =SUM(G21:G25) -> 0
A21: 13 | B21: KP | C21: Kompletné konštrukcie čistiarní odpadových vôd z betónu prostého tr. C 12/15 - podkladný betón | D21: m3 | E21: 115.94 | F21: 0 | G21: =E21*F21 -> 0
C22: - zriadenie konštr. + dodávka bet. = 115,94 m3
C23: - zriadenie a odstránenie debnenia = 254,40 m2
C24: - presun hmôt = 262,46 t
A25: 14 | B25: KP | C25: Kompletné konštrukcie čistiarní odpadových vôd zo železobetónu vodostavebného C 30/37, | D25: m3 | E25: 197.47 | F25: 0 | G25: =E25*F25 -> 0
C26: - zriadenie konštr. + dodávka bet. = 197,47 m3
C27: - zriadenie a odstránenie debnenia = 451,92 m2
C28: - výstuž kompletných konštrukcií = 16,189 t
C29: - osadenie a dodávka tesnenia pracovnej škáry oceľ. plechom 160/0,6m s bituménovým povlakom 0,5mm = 85,20 m
C30: - presun hmôt = 556,74 t
A31: 0 | B31: 5 | C31: Komunikácie | G31: =SUM(G32:G32) -> 0
A32: 15 | B32: KP | C32: Komunikácie pre peších - bet. dlažba 500 x 500 x 100 vrátane obrubníkov | D32: m2 | E32: 54 | F32: 0 | G32: =E32*F32 -> 0
C33: - podkladné lôžka zo štrkodrvy hr. 100 + 150 mm = 54,0 m2
C34: - kladenie a dodávka bet. tvárnic 500 x 500 x 100 = 54,0 m2
C35: - osadenie a dodávka obrubníkov 100 x 200 x 50 = 86,0 m
C36: - presun hmôt = 60,71 t
A37: 0 | B37: 6 | C37: Úpravy povrchov, podlahy, osadenie | G37: =SUM(G38:G41) -> 0 | H37: =SUM(H38:H41) -> 8.973
A38: 16 | B38: 622466115 | C38: Príprava vonkajšieho podkladu stien BAUMIT, penetračný náter Baumit BetonKontakt - steny a sokel, W1+W2 | D38: m2 | E38: 199.1 | F38: 0 | G38: =E38*F38 -> 0 | H38: 0.084
A39: 17 | B39: 622421131 | C39: Vonkajšia omietka stien vápenná alebo vápennocementová hladká v stupni zložitosti I až II - steny a sokel, W1+W2 | D39: m2 | E39: 199.1 | F39: 0 | G39: =E39*F39 -> 0 | H39: 8.04
A40: 18 | B40: 622464222 | C40: Vonkajšia omietka stien tenkovrstvová BAUMIT, silikátová, Baumit SilikatTop, škrabaná, hr. 2 mm - steny, W1 | D40: m2 | E40: 159.28 | F40: 0 | G40: =E40*F40 -> 0 | H40: 0.602
A41: 19 | B41: 622464310 | C41: Vonkajšia omietka stien mozaiková BAUMIT, ručné miešanie a nanášanie, Baumit Mozaiková omietka (Baumit MosaikTop) - sokel, W2 | D41: m2 | E41: 39.82 | F41: 0 | G41: =E41*F41 -> 0 | H41: 0.247
A42: 0 | B42: 9 | C42: Ostatné konštrukcie a práce-búranie | G42: =SUM(G43:G49) -> 0 | H42: =SUM(H43:H49) -> 6.514 | I42: =SUM(I43:I46) -> 126.72
A43: 20 | B43: 962042321 | C43: Búranie muriva z betónu prostého nadzákladného, -2,20000t - deliace múriky | D43: m3 | E43: 57.6 | F43: 0 | G43: =E43*F43 -> 0 | I43: 126.72
A44: 21 | B44: 979081111 | C44: Odvoz sutiny a vybúraných hmôt na skládku do 1 km | D44: t | E44: 601.977 | F44: 0 | G44: =E44*F44 -> 0
A45: 22 | B45: 979089012 | C45: Poplatok za skladovanie stavebného odpadu - betón | D45: t | E45: 429.12 | F45: 0 | G45: =E45*F45 -> 0
A46: 23 | B46: 979089012 | C46: Poplatok za skladovanie stavebného odpadu - iné odpady | D46: t | E46: 172.857 | F46: 0 | G46: =E46*F46 -> 0
A47: 24 | B47: 941941041 | C47: Zriadenie lešenia ľahkého s podlahami š. 1,2m v, do 10 m | D47: m2 | E47: 126 | F47: 0 | G47: =E47*F47 -> 0 | H47: =0.026*E47 -> 3.276
A48: 25 | B48: 941941291 | C48: Prir. za prvý a ďalší mesiac použitia lešenia | D48: m2 | E48: 252 | F48: 0 | G48: =E48*F48 -> 0
A49: 26 | B49: 941941841 | C49: Demontáž lešenia ľahkého s podlahami | D49: m2 | E49: 126 | F49: 0 | G49: =E49*F49 -> 0 | H49: =0.0257*E49 -> 3.238
A50: 0 | B50: 99 | C50: Presun hmôt HSV | G50: =G51 -> 0
A51: 27 | B51: 998021021 | C51: Presun hmôt pre haly 802, 811 zvislá konštr.z tehál,tvárnic,blokov alebo kovová do výšky 20 m | D51: t | E51: 942.739 | F51: 0 | G51: =E51*F51 -> 0
A52: 0 | B52: PSV | C52: Práce a dodávky PSV | G52: =G53+G59 -> 0 | H52: =H53+H59 -> 2.724
A53: 0 | B53: 764 | C53: Konštrukcie klampiarske | G53: =SUM(G54:G58) -> 0 | H53: =SUM(H54:H58) -> 2.655
A54: 28 | B54: 764171712 | C54: Krytina LINDAB - trapézový systém T-50, šírka 1020 mm, hr. 0,5 mm, sklon strechy do 30°, lakoplastová úprava, farba svetlosivá RAL 7035 | D54: m2 | E54: 473.64 | F54: 0 | G54: =E54*F54 -> 0 | H54: 2.468
A55: 29 | B55: 764352227 | C55: Žľaby z pozinkovaného PZ plechu, poplastované, pododkvapové polkruhové r.š. 330 mm, farba RAL 7035 | D55: m | E55: 53.2 | F55: 0 | G55: =E55*F55 -> 0 | H55: 0.132
A56: 30 | B56: 764454253 | C56: Zvodové rúry z pozinkovaného PZ plechu, poplastované, kruhové priemer 100 mm - farba RAL 7035 | D56: m | E56: 22.4 | F56: 0 | G56: =E56*F56 -> 0 | H56: 0.055
A57: 31 | B57: 998764102 | C57: Presun hmôt pre konštrukcie klampiarske v objektoch výšky nad 6 do 12 m | D57: t | E57: 2.655 | F57: 0 | G57: =E57*F57 -> 0
A58: 32 | B58: 998764192 | C58: Konštrukcie klampiarske, prípl.za presun nad vymedz. najväč. dopr. vzdial. do 100 m | D58: t | E58: 2.655 | F58: 0 | G58: =E58*F58 -> 0
A59: 0 | B59: 767 | C59: Konštrukcie doplnkové kovové | G59: =SUM(G60:G63) -> 0 | H59: 0.069
A60: 33 | B60: 767995104 | C60: Montáž ostatných atypických kovových stavebných doplnkových konštrukcií nad 20 do 50 kg | D60: kg | E60: 69.76 | F60: 0 | G60: =E60*F60 -> 0 | H60: 0.069
A61: 34 | B61: PC | C61: Dodávka obruby - nerez | D61: kg | E61: 69.76 | F61: 0 | G61: =E61*F61 -> 0
A62: 35 | B62: 998767101 | C62: Presun hmôt pre kovové stavebné doplnkové konštrukcie v objektoch výšky do 6 m | D62: t | E62: 0.069 | F62: 0 | G62: =E62*F62 -> 0
A63: 36 | B63: 998767192 | C63: Kovové stav.dopln.konštr., prípl.za presun nad najväčšiu dopr. vzdial. do 100 m | D63: t | E63: 0.069 | F63: 0 | G63: =E63*F63 -> 0
A64: 0 | B64: M | C64: Práce a dodávky M | G64: =G65 -> 0
A65: 0 | B65: 43-M | C65: Montáž oceľových konštrukcií | G65: =SUM(G66:G66) -> 0
A66: 37 | B66: KP | C66: Montáž s dodávka oceľ. konštrukcie vrátane náterov 1 x základný + 2 x vrchný, polyuretánové | D66: kg | E66: 26092.2 | F66: 0 | G66: =E66*F66 -> 0
C68: Náklad na stavebný objekt - celkom : | G68: =G5+G52+G64 -> 0

Sheet SO-10 eli
A1: DOBUDOVANIE A INTENZIFIKÁCIA ČOV LEVOČA
A2: SO-10 KRYTÁ SKLÁDKA KALU - ELEKTROSTAVEBNÁ ČASŤ
A4: Pol. | B4: NÁZOV POLOŽKY | C4: Jedn. | D4: Mn. | E4: J. cena (EUR) | F4: Celková cena (EUR)
B5: DODÁVKA
A6: 1 | B6: Svietidlo LED nastenné reflektorové 1x50W - IP65 | C6: ks | D6: 6 | E6: 0 | F6: =D6*E6 -> 0
A7: 2 | B7: Spínač striedavý na povrch č.6 10A/250V - IP55 | C7: ks | D7: 2 | E7: 0 | F7: =D7*E7 -> 0
A8: 3 | B8: Zásuvka kombinovaná na povrch 16A/400V+16A/250V - IP55 | C8: ks | D8: 2 | E8: 0 | F8: =D8*E8 -> 0
A9: 4 | B9: CYKY-J 5x2,5 v PVC žľabe resp. v zemi vrátane ukončenia | C9: m | D9: 80 | E9: 0 | F9: =D9*E9 -> 0
A10: 5 | B10: CYKY-J 3x1,5 v PVC žľabe resp. v zemi vrátane ukončenia | C10: m | D10: 110 | E10: 0 | F10: =D10*E10 -> 0
A11: 6 | B11: CYKY-O 3x1,5 PVC žľabe vrátane ukončenia | C11: m | D11: 20 | E11: 0 | F11: =D11*E11 -> 0
A12: 7 | B12: Krabica plastová na povrch vrátane svoriek - IP 54 | C12: ks | D12: 2 | E12: 0 | F12: =D12*E12 -> 0
A13: 8 | B13: UV stabilná PVC trubka pevne na povrchu konštrukcie | C13: m | D13: 130 | E13: 0 | F13: =D13*E13 -> 0
A14: 9 | B14: Vodič AlMgSi ø8 vrátane podpier | C14: m | D14: 170 | E14: 0 | F14: =D14*E14 -> 0
A15: 10 | B15: Vodič FeZn 30x4mm v betóne | C15: m | D15: 120 | E15: 0 | F15: =D15*E15 -> 0
A16: 11 | B16: Vodič AlMgSi ø8/PVC v betóne a v zemi | C16: m | D16: 12 | E16: 0 | F16: =D16*E16 -> 0
A17: 12 | B17: Svorka odbočná SR03 | C17: ks | D17: 12 | E17: 0 | F17: =D17*E17 -> 0
... A22: 17 | B22: Svorka skúšobná SZ | C22: ks | D22: 6 | E22: 0 | F22: =D22*E22 -> 0
B24: MONTÁŽ
A25: 1 | B25: Svietidlo LED nastenné reflektorové 1x50W - IP65 | C25: ks | D25: 6 | E25: 0 | F25: =D25*E25 -> 0
A26: 2 | B26: Spínač striedavý na povrch č.6 10A/250V - IP55 | C26: ks | D26: 2 | E26: 0 | F26: =D26*E26 -> 0
A27: 3 | B27: Zásuvka kombinovaná na povrch 16A/400V+16A/250V - IP55 | C27: ks | D27: 2 | E27: 0 | F27: =D27*E27 -> 0
A28: 4 | B28: CYKY-J 5x2,5 v PVC žľabe resp. v zemi vrátane ukončenia | C28: m | D28: 80 | E28: 0 | F28: =D28*E28 -> 0
A29: 5 | B29: CYKY-J 3x1,5 v PVC žľabe resp. v zemi vrátane ukončenia | C29: m | D29: 110 | E29: 0 | F29: =D29*E29 -> 0
A30: 6 | B30: CYKY-O 3x1,5 PVC žľabe vrátane ukončenia | C30: m | D30: 20 | E30: 0 | F30: =D30*E30 -> 0
A31: 7 | B31: Krabica plastová na povrch vrátane svoriek - IP 54 | C31: ks | D31: 2 | E31: 0 | F31: =D31*E31 -> 0
A32: 8 | B32: UV stabilná PVC trubka pevne na povrchu konštrukcie | C32: m | D32: 130 | E32: 0 | F32: =D32*E32 -> 0
A33: 9 | B33: Vodič AlMgSi ø8 vrátane podpier | C33: m | D33: 170 | E33: 0 | F33: =D33*E33 -> 0
A34: 10 | B34: Vodič FeZn 30x4mm v betóne | C34: m | D34: 120 | E34: 0 | F34: =D34*E34 -> 0
A35: 11 | B35: Vodič AlMgSi ø8/PVC v betóne a v zemi | C35: m | D35: 12 | E35: 0 | F35: =D35*E35 -> 0
A36: 12 | B36: Svorka odbočná SR03 | C36: ks | D36: 12 | E36: 0 | F36: =D36*E36 -> 0
... A41: 17 | B41: Svorka skúšobná SZ | C41: ks | D41: 6 | E41: 0 | F41: =D41*E41 -> 0
B42: HODINOVÁ SADZBA
A43: 18 | B43: Odborná prehliadka a skúška (Revízia) | C43: h | D43: 6 | E43: 0 | F43: =D43*E43 -> 0
B45: Náklady celkom: | F45: =SUM(F6:F43) -> 0

Sheet SO-11
A1: DOBUDOVANIE A INTENZIFIKÁCIA ČOV LEVOČA
A2: SO - 11 ČERPACIA STANICA KALOVÝCH VÔD
A4: ČP | B4: Kód položky | C4: Popis | D4: MJ | E4: Množstvo | F4: J. cena (EUR) | G4: Celková cena (EUR) | H4: Hmotnosť celkom | I4: Suť celkom
A5: 0 | B5: HSV | C5: Práce a dodávky HSV | G5: =G6+G11+G14+G33 -> 0 | H5: =H6+H11+H14+H33 -> 11.631 | I5: =I6+I11+I14+I33 -> 2.055
A6: 0 | B6: 3 | C6: Zvislé a kompletné konštrukcie | G6: =SUM(G7:G10) -> 0 | H6: =SUM(H7:H10) -> 1.093
A7: 1 | B7: 380321633 | C7: Kompletné konštrukcie čistiarní odpadových vôd zo železobetónu vodostavebného C 30/37, hr. nad 300 mm - zabetónovanie otvorov po potrubiach | D7: m3 | E7: 0.38 | F7: 0 | G7: =E7*F7 -> 0 | H7: 1
A8: 2 | B8: 380356211 | C8: Debnenie kompl. konštrukcií čistiarní odpad. vôd z plôch rovinných zhotovenie | D8: m2 | E8: 13.124 | F8: 0 | G8: =E8*F8 -> 0 | H8: 0.05
A9: 3 | B9: 380356212 | C9: Debnenie kompl. konštrukcií čistiarní odpad. vôd z plôch rovinných odstránenie | D9: m2 | E9: 13.124 | F9: 0 | G9: =E9*F9 -> 0
A10: 4 | B10: 380361,006 | C10: Výstuž kompletných konštrukcií | D10: t | E10: 0.042 | F10: 0 | G10: =E10*F10 -> 0 | H10: 0.043
A11: 0 | B11: 6 | C11: Úpravy povrchov, podlahy, osadenie | G11: =SUM(G12:G13) -> 0 | H11: =SUM(H12:H13) -> 10.532
A12: 5 | B12: 612462413 | C12: Vnútorná sanačná omietka stien a podláh BAUMIT Sanova trasová omietka WTA, hr. 30 mm | D12: m2 | E12: 137.53 | F12: 0 | G12: =E12*F12 -> 0 | H12: 4.549
A13: 6 | B13: 631315611 | C13: Mazanina z betónu prostého (m3) tr. C 16/20 hr.nad 120 do 240 mm - spádový betón v dne | D13: m3 | E13: 2.727 | F13: 0 | G13: =E13*F13 -> 0 | H13: 5.983
A14: 0 | B14: 9 | C14: Ostatné konštrukcie a práce-búranie | G14: =SUM(G15:G31) -> 0 | H14: =SUM(H15:H31) -> 0.006 | I14: =SUM(I15:I31) -> 2.055
A15: 7 | B15: KP | C15: Vyčistenie objektov | D15: m2 | E15: 18.18 | F15: 0 | G15: =E15*F15 -> 0
A16: 8 | B16: KP | C16: Skúška vodotesnosti nádrží vrátane dodávky vody | D16: m3 | E16: 69.993 | F16: 0 | G16: =E16*F16 -> 0
A17: 9 | B17: 971052551 | C17: Vybúranie otvoru v želzobet. priečkach a stenách plochy do 1 m2, hr.do 600 mm, -2,40000t | D17: m3 | E17: 0.234 | F17: 0 | G17: =E17*F17 -> 0 | I17: 0.562
A18: 10 | C18: Búranie spadového betónu pod čerpadla - 2,2000t | D18: m3 | E18: 0.538 | F18: 0 | G18: =E18*F18 -> 0 | I18: 1.183
A19: 11 | B19: 971056012 | C19: Jadrové vrty diamantovými korunkami do D 130 mm do stien - železobetónových -0,00032t | D19: cm | E19: 180 | F19: 0 | G19: =E19*F19 -> 0 | H19: 0.001 | I19: 0.058
A20: 12 | B20: 971056021 | C20: Jadrové vrty diamantovými korunkami do D 300 mm do stien - železobetónových -0,00170t | D20: cm | E20: 135 | F20: 0 | G20: =E20*F20 -> 0 | H20: 0.005 | I20: 0.23
A21: 13 | B21: PC | C21: Rezanie potrubia DN 100 mm | D21: ks | E21: 10 | F21: 0 | G21: =E21*F21 -> 0 | I21: 0.01
A22: 14 | B22: PC | C22: Rezanie potrubia DN 200 mm | D22: ks | E22: 8 | F22: 0 | G22: =E22*F22 -> 0 | I22: 0.008
A23: 15 | B23: PC | C23: Rezanie potrubia DN 250 mm | D23: ks | E23: 2 | F23: 0 | G23: =E23*F23 -> 0 | I23: 0.002
A24: 16 | B24: PC | C24: Rezanie potrubia DN 500 mm | D24: ks | E24: 2 | F24: 0 | G24: =E24*F24 -> 0 | I24: 0.002
A25: 17 | B25: PC | C25: Vodotesný prestup pre potrubie DN 125 mm s utesnením | D25: ks | E25: 4 | F25: 0 | G25: =E25*F25 -> 0
A26: 18 | B26: PC | C26: Vodotesný prestup pre potrubie DN 300 mm s utesnením | D26: ks | E26: 3 | F26: 0 | G26: =E26*F26 -> 0
A27: 19 | B27: KP | C27: Odvoz, suti, poplatok | D27: t | E27: 0.872 | F27: 0 | G27: =E27*F27 -> 0
A28: 20 | B28: 938902051 | C28: Príprava podkladu bet. konštr. pod kryštalický náter a izolácciu proti vode | D28: m2 | E28: 137.53 | F28: 0 | G28: =E28*F28 -> 0
A29: 21 | B29: KP | C29: Úprava ŽB steny pred vyrezaním otvoru 650 x 700 hr. 300 mm - lamely | D29: ks | E29: 2 | F29: 0 | G29: =E29*F29 -> 0
C30: viď. príloha S - 1
A31: 22 | B31: KP | C31: Úprava ŽB steny pred vyrezaním otvoru DN 400 pre potrubie DN 300 mm - | D31: ks | E31: 2 | F31: 0 | G31: =E31*F31 -> 0
C32: - lamely viď. príloha S - 1
A33: 0 | B33: 99 | C33: Presun hmôt HSV | G33: =G34 -> 0
A34: 23 | B34: 998142251 | C34: Presun hmôt pre obj.8141, 8142,8143,zvislá nosná konštr.monolitická betónová,výšky do 25 m | D34: t | E34: 11.631 | F34: 0 | G34: =E34*F34 -> 0
A35: 0 | B35: PSV | C35: Práce a dodávky PSV | G35: =G36 -> 0 | H35: =H36 -> 0.103
A36: 0 | B36: 711 | C36: Izolácie proti vode a vlhkosti | G36: =SUM(G37:G42) -> 0 | H36: =SUM(H37:H42) -> 0.103
A37: 24 | B37: 711113220 | C37: Zhotovenie náteru kryštalickou izoláciou Xypex na ploche vodorovnej | D37: m2 | E37: 18.18 | F37: 0 | G37: =E37*F37 -> 0
A38: 25 | B38: 245 | C38: Izolačná stierka XYPEX CONCENTRATE XC5, kryštalické izolácie | D38: kg | E38: 13.635 | F38: 0 | G38: =E38*F38 -> 0 | H38: 0.013
A39: 26 | B39: 711113225 | C39: Zhotovenie náteru kryštalickou izoláciou Xypex na ploche zvislej | D39: m2 | E39: 119.35 | F39: 0 | G39: =E39*F39 -> 0
A40: 27 | B40: 245 | C40: Izolačná stierka XYPEX CONCENTRATE XC5, kryštalické izolácie | D40: kg | E40: 89.513 | F40: 0 | G40: =E40*F40 -> 0 | H40: 0.09
A41: 28 | B41: 998711101 | C41: Presun hmôt pre izoláciu proti vode v objektoch výšky do 6 m | D41: t | E41: 0.103 | F41: 0 | G41: =E41*F41 -> 0
A42: 29 | B42: 998711192 | C42: Izolácia proti vode, prípl.za presun nad vymedz. najväčšiu dopravnú vzdialenosť do 100 m | D42: t | E42: 0.103 | F42: 0 | G42: =E42*F42 -> 0
C44: Náklad na stavebný objekt - celkom : | G44: =G35+G5 -> 0

Sheet SO-12
A1: DOBUDOVANIE A INTENZIFIKÁCIA ČOV LEVOČA
A2: SO - 12 MERNÝ ŽĽAB
A4: ČP | B4: Kód položky | C4: Popis | D4: MJ | E4: Množstvo | F4: J. cena (EUR) | G4: Celková cena (EUR) | H4: Hmotnosť celkom
A5: 0 | B5: HSV | C5: Práce a dodávky HSV | G5: =G6+G17+G26+G32+G34 -> 0 | H5: =H6+H17+H26+H32+H35 -> 5.03
A6: 0 | B6: 1 | C6: Zemné práce | G6: =SUM(G7:G16) -> 0 | H6: =SUM(H7:H16) -> 0.02
A7: 1 | B7: 121101111 | C7: Odstránenie ornice s vodor. premiestn. na hromady, so zložením na vzdialenosť do 100 m a do 100m3 | D7: m3 | E7: 9 | F7: 0 | G7: =E7*F7 -> 0
A8: 2 | B8: 131201101 | C8: Výkop nezapaženej jamy v hornine 3, do 100 m3 | D8: m3 | E8: 4.46 | F8: 0 | G8: =E8*F8 -> 0
A9: 3 | B9: 131201109 | C9: Hĺbenie nezapažených jám a zárezov. Príplatok za lepivosť horniny 3 | D9: m3 | E9: 1.338 | F9: 0 | G9: =E9*F9 -> 0
A10: 4 | B10: 174101001 | C10: Zásyp jám do 100 m3 | D10: m3 | E10: 3.24 | F10: 0 | G10: =E10*F10 -> 0
A11: 5 | B11: 162301101 | C11: Vodorovné premiestnenie výkopku po spevnenej ceste z horniny tr.1-4, do 100 m3 na vzdialenosť do 500 m | D11: m3 | E11: 1.22 | F11: 0 | G11: =E11*F11 -> 0
A12: 6 | B12: 171201201 | C12: Uloženie sypaniny na skládky do 100 m3 | D12: m3 | E12: 1.22 | F12: 0 | G12: =E12*F12 -> 0
A13: 7 | B13: 171209002 | C13: Poplatok za skladovanie zeminy | D13: t | E13: 1.586 | F13: 0 | G13: =E13*F13 -> 0
A14: 8 | B14: 181301105 | C14: Rozprestretie ornice v rovine, plocha do 500 m2, hr. do 300 mm | D14: m2 | E14: 30 | F14: 0 | G14: =E14*F14 -> 0
A15: 9 | B15: 183405211 | C15: Výsev trávniku hydroosevom na ornicu | D15: m2 | E15: 30 | F15: 0 | G15: =E15*F15 -> 0 | H15: 0.019
A16: 10 | B16: 00572 | C16: Tráva - Trávové semeno | D16: kg | E16: 0.93 | F16: 0 | G16: =E16*F16 -> 0 | H16: 0.001
A17: 0 | B17: 3 | C17: Zvislé a kompletné konštrukcie | G17: =SUM(G18:G20) -> 0 | H17: =SUM(H18:H20) -> 1.75
A18: 11 | B18: 381181001 | C18: Montáž univerzálnej mobilnej bunky samostatne stojacej | D18: ks | E18: 1 | F18: 0 | G18: =E18*F18 -> 0
A19: 12 | B19: PC | C19: Dodávka obytného kontajnera bez podlahy rozmeru 2500x3700x2600 mm | D19: ks | E19: 1 | F19: 0 | G19: =E19*F19 -> 0 | H19: 1.75
A20: 13 | B20: KP | C20: Kompletné konštrukcie čistiarní odpadových vôd zo železobetónu vodostavebného C 30/37, | D20: m3 | E20: 3.79 | F20: 0 | G20: =E20*F20 -> 0
C21: - zriadenie konštr. + dodávka bet. = 3,79 m3
C22: - zriadenie a odstránenie debnenia = 24,37 m2
C23: - výstuž kompletných konštrukcií - zvarované siete KY 14 = 0,069 t
C24: - osadenie a dodávka tesnenia pracovnej škáry oceľ. plechom 160/0,6m s bituménovým povlakom 0,5mm = 0 m
C25: - presun hmôt = 9,27 t
A26: 0 | B26: 5 | C26: Komunikácie | G26: =SUM(G27:G29) -> 0
A27: 14 | B27: KP | C27: Komunikácie pre peších - bet. dlažba 500 x 500 x 100 vrátane obrubníkov | D27: m2 | E27: 10.25 | F27: 0 | G27: =E27*F27 -> 0
C28: - podkladné lôžka zo štrkodrvy hr. 100 + 150 mm = 10,25 m2
C29: - kladenie a dodávka bet. tvárnic 500 x 500 x 100 = 10,25 m2
C30: - osadenie a dodávka obrubníkov 100 x 200 x 50 = 22,0 m
C31: - presun hmôt = 12,92 t
A32: 0 | B32: 6 | C32: Úpravy povrchov, podlahy, osadenie | G32: =SUM(G33:G33) -> 0 | H32: =SUM(H33:H33) -> 3.26
A33: 15 | B33: 631571010 | C33: Štrkový podsyp pod podlahou fr. 16-32 mm | D33: m3 | E33: 1.77 | F33: 0 | G33: =E33*F33 -> 0 | H33: 3.26
A34: 0 | B34: 99 | C34: Presun hmôt HSV | G34: =G35 -> 0
A35: 16 | B35: 998142251 | C35: Presun hmôt pre obj.8141, 8142,8143,zvislá nosná konštr.monolitická betónová,výšky do 25 m | D35: t | E35: 5.03 | F35: 0 | G35: =E35*F35 -> 0
A36: 0 | B36: PSV | C36: Práce a dodávky PSV | G36: =G37 -> 0
A37: 0 | B37: 767 | C37: Konštrukcie doplnkové kovové | G37: =SUM(G38:G44) -> 0 | H37: 0.236
A38: 17 | B38: KP | C38: Montáž a dodávka zábradlia rovného - nerez | D38: kg | E38: 135.92 | F38: 0 | G38: =E38*F38 -> 0 | H38: 0.135
A39: 18 | B39: 767995103 | C39: Montáž ostatných atypických kovových stavebných doplnkových konštrukcií nad 10 do 20 kg | D39: kg | E39: 37.8 | F39: 0 | G39: =E39*F39 -> 0 | H39: 0.038
A40: 19 | B40: PC | C40: Dodávka tyče L100x65x7 mm dĺžky 2300 mm vo vyhotovení nerez | D40: ks | E40: 2 | F40: 0 | G40: =E40*F40 -> 0
A41: 20 | B41: 767995105 | C41: Montáž ostatných atypických kovových stavebných doplnkových konštrukcií nad 50 do 100 kg | D41: kg | E41: 63.729 | F41: 0 | G41: =E41*F41 -> 0 | H41: 0.063
A42: 21 | B42: PC | C42: Dodávka prekrytia žľabu plným kompozitom | D42: ks | E42: 1 | F42: 0 | G42: =E42*F42 -> 0
A43: 22 | B43: 998767101 | C43: Presun hmôt pre kovové stavebné doplnkové konštrukcie v objektoch výšky do 6 m | D43: t | E43: 0.236 | F43: 0 | G43: =E43*F43 -> 0
A44: 23 | B44: 998767192 | C44: Kovové stav.dopln.konštr., prípl.za presun nad najväčšiu dopr. vzdial. do 100 m | D44: t | E44: 0.236 | F44: 0 | G44: =E44*F44 -> 0
C46: Náklad na stavebný objekt - celkom : | G46: =G36+G5 -> 0

Sheet SO-12 eli
A1: DOBUDOVANIE A INTENZIFIKÁCIA ČOV LEVOČA
A2: SO-12 MERNÝ ŽĽAB - ELEKTROSTAVEBNÁ ČASŤ
A4: Pol. | B4: NÁZOV POLOŽKY | C4: Jedn. | D4: Mn. | E4: J. cena (EUR) | F4: Celková cena (EUR)
B5: DODÁVKA
A6: 1 | B6: Svietidlo LED, min. 1x47W vrátane závesného systému - IP65 | C6: ks | D6: 1 | E6: 0 | F6: =D6*E6 -> 0
A7: 2 | B7: Spínač jednopólový na povrch č.1 10A/250V - IP55 | C7: ks | D7: 1 | E7: 0 | F7: =D7*E7 -> 0
A8: 3 | B8: Zásuvka kombinovaná na povrch 16A/400V+16A/250V - IP55 | C8: ks | D8: 1 | E8: 0 | F8: =D8*E8 -> 0
A9: 4 | B9: CYKY-J 5x2,5 v PVC trubke resp. v zemi vrátane ukončenia | C9: m | D9: 30 | E9: 0 | F9: =D9*E9 -> 0
A10: 5 | B10: CYKY-J 3x1,5 v PVC trubke resp. v zemi vrátane ukončenia | C10: m | D10: 30 | E10: 0 | F10: =D10*E10 -> 0
A11: 6 | B11: CYKY-O 3x1,5 PVC trubke vrátane ukončenia | C11: m | D11: 2 | E11: 0 | F11: =D11*E11 -> 0
A12: 7 | B12: Krabica plastová na povrch vrátane svoriek - IP 54 | C12: ks | D12: 1 | E12: 0 | F12: =D12*E12 -> 0
A13: 8 | B13: PVC trubka pevne na povrchu konštrukcie | C13: m | D13: 15 | E13: 0 | F13: =D13*E13 -> 0
A14: 9 | B14: Vodič FeZn 30x4mm v zemi | C14: m | D14: 20 | E14: 0 | F14: =D14*E14 -> 0
A15: 10 | B15: Vodič AlMgSi ø8/PVC v zemi a na povrchu | C15: m | D15: 5 | E15: 0 | F15: =D15*E15 -> 0
A16: 11 | B16: Vodič nerezový (V4A) ø8 | C16: m | D16: 1 | E16: 0 | F16: =D16*E16 -> 0
A17: 12 | B17: Svorka odbočná SR03 | C17: ks | D17: 8 | E17: 0 | F17: =D17*E17 -> 0
... A21: 16 | B21: Spojovací materiál pre ochranné a doplnkové pospájanie (HUS, svorky, Cu pásik, káblové oká, vejárovité podložky) | C21: ks | D21: 1 | E21: 0 | F21: =D21*E21 -> 0
B23: MONTÁŽ
A24: 1 | B24: Svietidlo LED, min. 1x47W vrátane závesného systému - IP65 | C24: ks | D24: 1 | E24: 0 | F24: =D24*E24 -> 0
A25: 2 | B25: Spínač jednopólový na povrch č.1 10A/250V - IP55 | C25: ks | D25: 1 | E25: 0 | F25: =D25*E25 -> 0
A26: 3 | B26: Zásuvka kombinovaná na povrch 16A/400V+16A/250V - IP55 | C26: ks | D26: 1 | E26: 0 | F26: =D26*E26 -> 0
A27: 4 | B27: CYKY-J 5x2,5 v PVC trubke resp. v zemi vrátane ukončenia | C27: m | D27: 30 | E27: 0 | F27: =D27*E27 -> 0
A28: 5 | B28: CYKY-J 3x1,5 v PVC trubke resp. v zemi vrátane ukončenia | C28: m | D28: 30 | E28: 0 | F28: =D28*E28 -> 0
A29: 6 | B29: CYKY-O 3x1,5 PVC trubke vrátane ukončenia | C29: m | D29: 2 | E29: 0 | F29: =D29*E29 -> 0
A30: 7 | B30: Krabica plastová na povrch vrátane svoriek - IP 54 | C30: ks | D30: 1 | E30: 0 | F30: =D30*E30 -> 0
A31: 8 | B31: PVC trubka pevne na povrchu konštrukcie | C31: m | D31: 15 | E31: 0 | F31: =D31*E31 -> 0
A32: 9 | B32: Vodič FeZn 30x4mm v zemi | C32: m | D32: 20 | E32: 0 | F32: =D32*E32 -> 0
A33: 10 | B33: Vodič AlMgSi ø8/PVC v zemi a na povrchu | C33: m | D33: 5 | E33: 0 | F33: =D33*E33 -> 0
A34: 11 | B34: Vodič nerezový (V4A) ø8 | C34: m | D34: 1 | E34: 0 | F34: =D34*E34 -> 0
A35: 12 | B35: Svorka odbočná SR03 | C35: ks | D35: 8 | E35: 0 | F35: =D35*E35 -> 0
... A39: 16 | B39: Spojovací materiál pre ochranné a doplnkové pospájanie (HUS, svorky, Cu pásik, káblové oká, vejárovité podložky) | C39: ks | D39: 1 | E39: 0 | F39: =D39*E39 -> 0
B40: ZEMNÉ PRÁCE
A41: 17 | B41: Výkop a zásyp kábelovej ryhy 35/80cm v zemi - zemina tr.4 | C41: m | D41: 25 | E41: 0 | F41: =D41*E41 -> 0
B42: HODINOVÁ SADZBA
A43: 18 | B43: Odborná prehliadka a skúška (Revízia) | C43: h | D43: 4 | E43: 0 | F43: =D43*E43 -> 0
B45: Náklady celkom: | F45: =SUM(F6:F43) -> 0

Sheet SO-13.1
A1: DOBUDOVANIE A INTENZIFIKÁCIA ČOV LEVOČA
A2: SO-13 PREPOJOVACIE POTRUBIA
A3: SO-13.1 PREPOJOVACIE POTRUBIA
A5: Pol. | B5: Popis položky, stavebného dielu, remesla, | C5: Merná | D5: Množstvo | E5: J. cena (EUR) | F5: Celková cena (EUR)
A6: číslo | B6: výkaz-výmer | C6: jednotka | D6: výmera
B8: Práce a dodávky HSV
B9: Zemné práce
A10: 1 | B10: Hĺbenie rýh šírky nad 600 do 2 000 mm zapažených i nezapažených, s urovnaním dna do predpísaného profilu a spádu, v hornine 3 do 100 m3, vrátane odstranenia krytov a podkladov, odhumusovania, príplatkov, čerpania vody, odrenážovania, paženia, naloženia a vyloženia, presunov, odvozu a poplatkov | C10: m3 | D10: 1089.84 | E10: 0 | F10: =D10*E10 -> 0
A11: 2 | B11: Zásyp sypaninou z akejkoľvek horniny, s uložením výkopku vo vrstvách so zhutnením jám, šachiet, rýh, zárezov alebo okolo objektov v týchto vykopávkach do 100 m3, vrátane materiálu, zahumusovania | C11: m3 | D11: 637.86 | E11: 0 | F11: =D11*E11 -> 0
A12: 3 | B12: Obsyp potrubia sypaninou z vhodných hornín 1 až 4 alebo mater. pripraveným pozdĺž výkopu vo vzdialenosti do 3 m od jeho kraja, s prehodením sypaniny, hutneným po vrstavách, vrátane sypaniny a presunov | C12: m3 | D12: 319 | E12: 0 | F12: =D12*E12 -> 0
B14: Vodorovné konštrukcie
A15: 4 | B15: Lôžko pod potrubie, stoky a drobné objekty, v otvorenom výkope z kameniva drobného ťaženého 0-4 mm, pripadne kotvenia potrubia, drenáže, vrátane obsypu pieskom, dopravy a presunov | C15: m3 | D15: 133.16 | E15: 0 | F15: =D15*E15 -> 0
B17: Rúrové vedenie
A18: 5 | B18: Potrubie kanalizačné HDPE SDR17 zvárané natupo D 110x6,6 mm ako chránička, vrátane tvaroviek vrátane tvaroviek , dodávka+montáž , 2x vťahovacie lanko | C18: m | D18: 27 | E18: 0 | F18: =D18*E18 -> 0
A19: 6 | B19: Potrubie kanalizačné PE 100 RC SDR17 zváraného natupo D 125x7,4 mm vrátane tvaroviek, fólie a vodiča, dodávka + montáž rozvodov + tlaková skúška | C19: m | D19: 101.6 | E19: 0 | F19: =D19*E19 -> 0
A20: 7 | B20: Potrubie kanalizačné PE 100 RC SDR17 zváraného natupo D 140x8,3 mm vrátane tvaroviek vodiča a fólie,dodávka + montáž rozvodov + tlaková skúška | C20: m | D20: 123.7 | E20: 0 | F20: =D20*E20 -> 0
A21: 8 | B21: Potrubie kanalizačné PE 100 RC SDR17 zváraného natupo D 180x10,7 mm vrátane tvaroviek, vodiča a fólie, dodávka + montáž rozvodov + tlaková skúška | C21: m | D21: 45.3 | E21: 0 | F21: =D21*E21 -> 0
A22: 9 | B22: Potrubie kanalizačné hladké plnostenné PP SN 10 DN 200 vrátane tvaroviek a napojenia, dodávka+montáž+tesnostná skúška | C22: m | D22: 31.4 | E22: 0 | F22: =D22*E22 -> 0
A23: 10 | B23: Potrubie kanalizačné hladké plnostenné PP SN 10 DN 300 vrátane tvaroviek a napojenia, dodávka+montáž+tesnostná skúška, výstražná fólia, vodič | C23: m | D23: 12.2 | E23: 0 | F23: =D23*E23 -> 0
A24: 11 | B24: Montáž kanalizačného potrubia z odstredivo liateho sklolaminátu DN 350 mm, vrátane tvaroviek a koncového napojenia + dodávka materiálov + tlaková skúška, výstražná fólia, vodič | C24: m | D24: 43.1 | E24: 0 | F24: =D24*E24 -> 0
A25: 12 | B25: Potrubie kanalizačné PE 100 RC SDR17 zváraného natupo D 355x21,1 mm vrátane tvaroviek a armatúr, dodávka + montáž rozvodov + tlaková skúška, výstražná fólia, vodič | C25: m | D25: 11.4 | E25: 0 | F25: =D25*E25 -> 0
A26: 13 | B26: Montáž kanalizačného potrubia z odstredivo liateho sklolaminátu DN 400 mm vrátane tvaroviek a koncového napojenia + dodávka materiálov + tlaková (tesnostná) skúška, výstražná fólia, vodič | C26: m | D26: 39.3 | E26: 0 | F26: =D26*E26 -> 0
A27: 14 | B27: Montáž kanalizačného potrubia z odstredivo liateho sklolaminátu DN 500 mm vrátane tvaroviek a koncového napojenia + dodávka materiálov + tesnostná skúška, výstražná fólia, vodič | C27: m | D27: 63.8 | E27: 0 | F27: =D27*E27 -> 0
A28: 15 | B28: Montáž kanalizačného potrubia z odstredivo liateho sklolaminátu DN 600, vrátane tvaroviek a koncového napojenia + dodávka materiálov + tesnostná skúška, výstražná fólia, vodič | C28: m | D28: 102.7 | E28: 0 | F28: =D28*E28 -> 0
A29: 16 | B29: Zriadenie kanalizačných šachiet 1000/600 z dielov PP prefabrikovaných , vrátane dodávky všetkých dielcov, poklopov, prechodiek,... a montáže na mieste (podklady, lôžka,...) | C29: ks | D29: 3 | E29: 0 | F29: =D29*E29 -> 0
... A31: 18 | B31: Zriadenie kanalizačných šachiet z dielov betónových prefabrikovaných, váhy nad 4 až 10 t, vrátane dodávky všetkých ŽB dielcov, poklopov, prechodiek,... a montáže na mieste (podklady, lôžka,...) | C31: ks | D31: 5 | E31: 0 | F31: =D31*E31 -> 0
B33: Práce a dodávky M
B34: Montáže potrubia
A35: 19 | B35: Montáž rúrok Dxt 159x3 mm, z nehrdzavejúcej ocele tr. 17 vrátan tvaroviek, tlakovej skúšky a prečistenia + dodávka | C35: m | D35: 15.1 | E35: 0 | F35: =D35*E35 -> 0
A36: 20 | B36: Montáž chráničiek DN 300 vratane dodávky materiálov a zatiahnutia potrubia | C36: m | D36: 21.6 | E36: 0 | F36: =D36*E36 -> 0
B38: Náklady celkom: | F38: =SUM(F8:F37) -> 0
B41: dsp lucia 2016/12
B42: suma | C42: dlzka | E42: jc
B43: 604105.2 | C43: 312.7 | E43: =B43/C43 -> 1931.9

Sheet SO-13.2
A1: DOBUDOVANIE A INTENZIFIKÁCIA ČOV LEVOČA
A2: SO-13 PREPOJOVACIE POTRUBIA
A3: SO-13.2 DOČASNÉ PREPOJOVACIE POTRUBIA
A5: Pol. | B5: Popis položky, stavebného dielu, remesla, | C5: Množstvo | D5: Merná | E5: J. cena (EUR) | F5: Celková cena (EUR)
A6: číslo | B6: výkaz-výmer | C6: výmera | D6: jednotka
A8: 1 | B8: Ponorné kalové čerpadlo | C8: 1 | D8: súbor | E8: 0 | F8: =C8*E8 -> 0
B9: typ: Flygt NS 3102.160 MT/463 (alebo ekvivalent)
B10: čerpané médium: odpadová voda
B11: inštalácia: mokrá
B12: Q = 30,0 l/s, H = 4,5 m
B13: dvojitá mechanická upchávka
B14: samočistiace polootvorené adaptívne obežné koleso
B15: vysoká odolnosť voči abráziam pomocou Spin-out drážky
B16: výtlak čerpadla DN100
B17: materiáové prevedenie hydraulickej časti - sivá liatina; hriadeľ - antikorózna oceľ,
B18: obežné koleso - sivá liatina
B19: P = 3,1 kW; In=6,8A; Is=40A; n=1450 ot/min.; 3x400 V; štart D; 50 Hz
B20: krytie motora IP68
... B32: - rozvádzač
A35: 2 | B35: Ponorné kalové čerpadlo | C35: 2 | D35: súbor | E35: 0 | F35: =C35*E35 -> 0
B36: čerpané médium: odpadová voda
B37: inštalácia: mokrá
B38: Parametre jedného čerpadla:
B39: Q = 55,0 l/s, H = 5,5 m
B40: dvojitá mechanická upchávka
B41: samočistiace polootvorené adaptívne obežné koleso
B42: vysoká odolnosť voči abráziam pomocou Spin-out drážky
B43: výtlak čerpadla DN150
B44: materiáové prevedenie hydraulickej časti - sivá liatina; hriadeľ - antikorózna oceľ,
B45: obežné koleso - sivá liatina
B46: P = 4,7 kW; In=9,68A; Is=56A; n=1445 ot/min.; 3x400 V; štart D; 50 Hz
B47: krytie motora IP68
... B59: - rozvádzač
A62: 3 | B62: Potrubné rozvody, oplotenie
A63: 44564 | B63: DP1 - potrubie HDPE DN200, SDR 17 | C63: 130 | D63: m | E63: 0 | F63: =C63*E63 -> 0
B64: - dodávka a montáž potrubia, tvaroviek, prírub príp. príslušenstva
B65: - betónové bloky, doplnkové konštrukcie
B66: - skúšky vodotesnosti a tlakové skúšky potrubia
B67: - Hrubé hrablice - ochrana čerpadiel, utesnenie prítoku
B68: - Dočasné oplotenie šachiet mimo areálu ČOV
A69: 3.2 | B69: DP2a,b - potrubie HDPE DN250, SDR 17 | C69: 220 | D69: m | E69: 0 | F69: =C69*E69 -> 0
B70: - dodávka a montáž potrubia, tvaroviek, prírub príp. príslušenstva
B71: - betónové bloky, doplnkové konštrukcie
B72: - skúšky vodotesnosti a tlakové skúšky potrubia
B73: - Hrubé hrablice - ochrana čerpadiel, utesnenie prítoku
B74: - Dočasné oplotenie šachiet mimo areálu ČOV
A75: 3.3 | B75: DP3 - potrubie HDPE DN200, SDR 17 | C75: 30 | D75: m | E75: 0 | F75: =C75*E75 -> 0
B76: - montáž potrubia, tvaroviek, prírub príp. iného príslušenstva, materiál použiť z DP1
B77: - betónové bloky, doplnkové konštrukcie
B78: - skúšky vodotesnosti a tlakové skúšky potrubia
A79: 3.4 | B79: Dočasný prepoj DP4
A80: 3.4.1 | B80: Zemné práce | C80: 162.18 | D80: m3 | E80: 0 | F80: =C80*E80 -> 0
B81: vrátane výkopu, lôžka. obsypu a zásypu s presunmi
A82: 3.4.2 | B82: Dodávka a montáž potrubia HDPE d315, SDR 17
B83: vratane tvarovierk, kotvenia, tlakových skúšok, výstražnej fólie | C83: 79.5 | D83: m | E83: 0 | F83: =C83*E83 -> 0
B85: Náklady celkom: | F85: =SUM(F7:F84) -> 0

Sheet SO-14
A1: DOBUDOVANIE A INTENZIFIKÁCIA ČOV LEVOČA
A2: SO-14 KANALIZÁCIA
A4: Pol. | B4: Popis položky, stavebného dielu, remesla, | C4: Množstvo | D4: Merná | E4: J. cena (EUR) | F4: Celková cena (EUR)
A5: číslo | B5: výkaz-výmer | C5: výmera | D5: jednotka
B7: Práce a dodávky HSV
B8: Zemné práce
A9: 1 | B9: Hĺbenie rýh šírky nad 600 do 2 000 mm zapažených i nezapažených, s urovnaním dna do predpísaného profilu a spádu, v hornine 3 do 100 m3, vrátane odstránenia krytov a podkladov, odhumusovania, príplatkov, čerpania vody, odrenážovania, paženia, naloženia a vyloženia, presunov, odvozu a poplatkov | C9: m3 | D9: 377.96 | E9: 0 | F9: =D9*E9 -> 0
A10: 2 | B10: Zásyp sypaninou z akejkoľvek horniny, s uložením výkopku vo vrstvách so zhutnením jám, šachiet, rýh, zárezov alebo okolo objektov v týchto vykopávkach do 100 m3, vrátane materiálu, zahumusovania | C10: m3 | D10: 244.93 | E10: 0 | F10: =D10*E10 -> 0
A11: 3 | B11: Obsyp potrubia sypaninou z vhodných hornín 1 až 4 alebo mater. pripraveným pozdĺž výkopu vo vzdialenosti do 3 m od jeho kraja, s prehodením sypaniny, hutneným po vrstavách, vrátane sypaniny a presunov | C11: m3 | D11: 103.42 | E11: 0 | F11: =D11*E11 -> 0
B13: Vodorovné konštrukcie
A14: 4 | B14: Lôžko pod potrubie, stoky a drobné objekty, v otvorenom výkope z kameniva drobného ťaženého 0-4 mm, pripadne kotvenia potrubia, drenáže, vrátane obsypu pieskom, dopravy a presunov | C14: m3 | D14: 29.61 | E14: 0 | F14: =D14*E14 -> 0
B16: Rúrové vedenie
A17: 5 | B17: Potrubie kanalizačné z polypropylénových rúr hladkých plnostenných SN 10 DN 150 vrátane tvaroviek a napojenia, dodávka + montáž + tesnostná skúška | C17: m | D17: 4.4 | E17: 0 | F17: =D17*E17 -> 0
A18: 6 | B18: Potrubie kanalizačné hladké plnostenné PP SN 10 DN 200 vrátane tvaroviek a napojenia, dodávka + montáž + tesnostná skúška | C18: m | D18: 42.3 | E18: 0 | F18: =D18*E18 -> 0
A19: 7 | B19: Potrubie kanalizačné hladké plnostenné PP SN 10 DN 300 vrátane tvaroviek a napojenia, dodávka + montáž + tesnostná skúška | C19: m | D19: 117.5 | E19: 0 | F19: =D19*E19 -> 0
A20: 8 | B20: Označenie kanalizačného potrubia hnedou výstražnou fóliou | C20: m | D20: 164.2 | E20: 0 | F20: =D20*E20 -> 0
A21: 9 | B21: Zriadenie kanalizačných šachiet z dielov PP prefabrikovaných, 1000/600, vrátane dodávky všetkých dielcov, poklopov, prechodiek,... a montáže na mieste (podklady, lôžka,...) | C21: ks | D21: 9 | E21: 0 | F21: =D21*E21 -> 0
A22: 10 | B22: Dodávka a montáž vpuste v prevedení nerez | C22: ks | D22: 1 | E22: 0 | F22: =D22*E22 -> 0
B24: SPOLU | F24: =SUM(F7:F23) -> 0
B26: dsp lucia 2016/12 | F26: 53832.3
B27: popis | C27: jednotka | D27: mj | E27: jc | F27: suma
B28: do DN300 | C28: 163.3 | D28: m | E28: ? | F28: ?
B29: do DN200 | C29: 44.8 | D29: m | E29: ? | F29: ?
C30: =SUM(C28:C29) -> 208.1 | F30: =F31/C30 -> 258.68
F31: 53832.3
B33: podla rozpoctovych ukazovatelov 2016/1Q | F33: =F37 -> 84607
B34: popis | C34: jednotka | D34: mj | E34: jc | F34: suma
B35: do DN300 | C35: 163.3 | D35: m | E35: 438 | F35: =E35*C35 -> 71525.4
B36: do DN200 | C36: 44.8 | D36: m | E36: 292 | F36: =E36*C36 -> 13081.6
F37: =SUM(F35:F36) -> 84607

Sheet SO-15.1
A1: DOBUDOVANIE A INTENZIFIKÁCIA ČOV LEVOČA
A2: SO-15 ROZVOD ÚŽITKOVEJ VODY
A3: SO-15.1 POTRUBNÉ ROZVODY
A5: Pol. | B5: Popis položky, stavebného dielu, remesla, | C5: Merná | D5: Množstvo | E5: J. cena (EUR) | F5: Celková cena (EUR)
A6: číslo | B6: výkaz-výmer | C6: jednotka | D6: výmera
B8: Práce a dodávky HSV
B9: Zemné práce
A10: 1 | B10: Hĺbenie rýh šírky nad 600 do 2 000 mm zapažených i nezapažených, s urovnaním dna do predpísaného profilu a spádu, v hornine 3 do 100 m3, vrátane odstránenia krytov a podkladov, odhumusovania, príplatkov, čerpania vody, odrenážovania, paženia, naloženia a vyloženia, presunov, odvozu a poplatkov | C10: m3 | D10: 403.83 | E10: 0 | F10: =D10*E10 -> 0
A11: 2 | B11: Zásyp sypaninou z akejkoľvek horniny, s uložením výkopku vo vrstvách so zhutnením jám, šachiet, rýh, zárezov alebo okolo objektov v týchto vykopávkach do 100 m3, vrátane materiálu, zahumusovania | C11: m3 | D11: 286.07 | E11: 0 | F11: =D11*E11 -> 0
A12: 3 | B12: Obsyp potrubia sypaninou z vhodných hornín 1 až 4 alebo mater. pripraveným pozdĺž výkopu vo vzdialenosti do 3 m od jeho kraja, s prehodením sypaniny, hutneným po vrstavách, vrátane sypaniny a presunov | C12: m3 | D12: 78.5 | E12: 0 | F12: =D12*E12 -> 0
B14: Vodorovné konštrukcie
A15: 4 | B15: Lôžko pod potrubie, stoky a drobné objekty, v otvorenom výkope z kameniva drobného ťaženého 0-4 mm, vrátane obsypu pieskom, prípadného kotvenia, drenáže, dopravy a presunov | C15: m3 | D15: 39.26 | E15: 0 | F15: =D15*E15 -> 0
B17: Rúrové vedenie
A18: 5 | B18: Potrubie vodovodné z PE 100 zvárané natupo SDR17/PN10 D 63x3,8 mm vrátane tvaroviek, vodiča a fólie, dodávka + montáž rozvodov + tlaková skúška | C18: m | D18: 5.4 | E18: 0 | F18: =D18*E18 -> 0
A19: 6 | B19: Dodávka a montáž posúvača na vodu pre potubie DN 50 PN16 , vrátane zemnej súpravy, poklopu a napojenia | C19: ks | D19: 1 | E19: 0 | F19: =D19*E19 -> 0
A20: 7 | B20: Potrubie vodovodné z PE 100 zvárané natupo SDR17/PN10 D 90x5,4 mm vrátane tvaroviek, vodiča a fólie, dodávka + montáž rozvodov + tlaková skúška | C20: m | D20: 87.8 | E20: 0 | F20: =D20*E20 -> 0
A21: 8 | B21: Dodávka a montáž posúvača na vodu pre potubie DN 80 PN16 , vrátane zemnej súpravy, poklopu a napojenia | C21: ks | D21: 3 | E21: 0 | F21: =D21*E21 -> 0
A22: 9 | B22: Potrubie vodovodné z PE 100 zvárané natupo SDR17/PN10 D 110x6,6 mm vrátane tvaroviek, vodiča a fólie, dodávka + montáž rozvodov + tlaková skúška | C22: m | D22: 233.2 | E22: 0 | F22: =D22*E22 -> 0
A23: 10 | B23: Dodávka a montáž posúvača na vodu pre potubie DN 100 PN16 , vrátane zemnej súpravy, poklopu a napojenia | C23: ks | D23: 5 | E23: 0 | F23: =D23*E23 -> 0
A24: 11 | B24: Montáž hydrantov nadzemných DN 80 na potrubie, komplet zostavy (tvarovky, spoje,...) vrátane dodávky a osadenia | C24: ks | D24: 6 | E24: 0 | F24: =D24*E24 -> 0
A25: 12 | B25: Montáž chráničiek DN 300 vratane dodávky materiálov, zatiahnutia potrubia,... | C25: m | D25: 19.5 | E25: 0 | F25: =D25*E25 -> 0
B27: Náklady celkom: | F27: =SUM(F7:F26) -> 0
B30: dsp lucia 2016/12
B31: suma | C31: dlzka | E31: jc
B32: 113019.2 | C32: 312.7 | E32: =B32/C32 -> 361.43
B34: podla rozpoctovych ukazovatelov 2016/1Q
B35: jc | C35: dlzka | E35: suma
B36: 294 | C36: 312.7 | E36: =B36*C36 -> 91933.8

Sheet SO-15.2
A1: DOBUDOVANIE A INTENZIFIKÁCIA ČOV LEVOČA
A2: SO - 15.2 ROZVODY ÚŽITKOVEJ VODY
A4: ČP | B4: Kód položky | C4: Popis | D4: MJ | E4: Množstvo | F4: J. cena (EUR) | G4: Celková cena (EUR) | H4: Hmotnosť celkom
A5: 0 | B5: HSV | C5: Práce a dodávky HSV | G5: =G6+G22+G28+G43+G47+G49+G52 -> 0 | H5: =H6+H22+H28+H47+H52 -> 0.321
A6: 0 | B6: 1 | C6: Zemné práce | G6: =SUM(G7:G21) -> 0
A7: 1 | B7: 115101201 | C7: Čerpanie vody na dopravnú výšku do 10 m s priemerným prítokom litrov za minútu nad 100 do 500 l | D7: hod | E7: 720 | F7: 0 | G7: =E7*F7 -> 0
A8: 2 | B8: 115101301 | C8: Pohotovosť záložnej čerpacej súpravy pre výšku do 10 m, s prítokom litrov za minútu nad 100 do 500 l | D8: deň | E8: 30 | F8: 0 | G8: =E8*F8 -> 0
A9: 3 | B9: 131201201 | C9: Výkop zapaženej jamy v hornine 3 do 100 m3 | D9: m3 | E9: 60.5 | F9: 0 | G9: =E9*F9 -> 0
A10: 4 | B10: 131201209 | C10: Príplatok za lepivosť pri hĺbení zapažených jám a zárezov s urovnaním dna v hornine 3 | D10: m3 | E10: 18.15 | F10: 0 | G10: =E10*F10 -> 0
A11: 5 | B11: 151301201 | C11: Zriadenie paženia - hnané do 4,0 m | D11: m2 | E11: 54.08 | F11: 0 | G11: =E11*F11 -> 0
A12: 6 | B12: 151301211 | C12: Odstránenie paženia | D12: m2 | E12: 54.08 | F12: 0 | G12: =E12*F12 -> 0
A13: 7 | B13: 151301301 | C13: Zriadenie rozopretia | D13: m3 | E13: 60.5 | F13: 0 | G13: =E13*F13 -> 0
A14: 8 | B14: 151301311 | C14: Odstránenie rozopretia | D14: m3 | E14: 60.5 | F14: 0 | G14: =E14*F14 -> 0
A15: 9 | B15: 174101001 | C15: Zásyp sypaninou so zhutnením jám, šachiet, rýh, zárezov alebo okolo objektov do 100 m3 | D15: m3 | E15: 40 | F15: 0 | G15: =E15*F15 -> 0
A16: 10 | B16: 175101202 | C16: Obsyp objektov | D16: m3 | E16: 8.06 | F16: 0 | G16: =E16*F16 -> 0
A17: 11 | B17: 162301101 | C17: Vodorovné premiestnenie výkopku po spevnenej ceste z horniny tr.1-4, do 100 m3 na vzdialenosť do 500 m | D17: m3 | E17: 12.44 | F17: 0 | G17: =E17*F17 -> 0
A18: 12 | B18: 171201201 | C18: Uloženie sypaniny na skládky do 100 m3 | D18: m3 | E18: 12.44 | F18: 0 | G18: =E18*F18 -> 0
... A21: 15 | B21: KP | C21: Drenážne rúry DN 100 | D21: m | E21: 15 | F21: 0 | G21: =E21*F21 -> 0
A22: 0 | B22: 2 | C22: Zakladanie | G22: =SUM(G23:G27) -> 0 | H22: =SUM(H23:H27) -> 0.321
A23: 16 | B23: 264321112 | C23: Vrty pre studne zapažené zvislé, priemeru nad 245 do 380 mm v hĺbke do 10 m, v hornine III | D23: m | E23: 7.3 | F23: 0 | G23: =E23*F23 -> 0 | H23: 0.13
A24: 17 | B24: 242811163 | C24: Zapustenie zárubnice z rúr oceľových zváraných, hĺbky do 50m, priemeru do 305mm | D24: m | E24: 7.3 | F24: 0 | G24: =E24*F24 -> 0 | H24: 0.01
A25: 18 | B25: 140 | C25: Rúrka bezšvová nerez DN 304,0 hrúbka steny 2,00 mm, ozn. 17 240, podľa EN 1.4301, ASTM 304 | D25: m | E25: 7.3 | F25: 0 | G25: =E25*F25 -> 0 | H25: 0.113
A26: 19 | B26: 249901317 | C26: Dierovanie zárubníc oceľových vŕtaním, plocha otvorov od 15 do 20 % pre zárubnice priemeru do 324 mm | D26: m | E26: 5.3 | F26: 0 | G26: =E26*F26 -> 0
A27: 20 | B27: KP | C27: Rúrka bezšvová nerez DN 406,4 hrúbka steny 8 mm, ozn. 17 240, podľa EN 1.4301, ASTM 304 - osadenie a dodávka+ príruba | D27: m | E27: 0.82 | F27: 0 | G27: =E27*F27 -> 0 | H27: 0.068
B28: 3 | C28: Zvislé a kompletné konštrukcie | G28: =SUM(G29:G39) -> 0
A29: 21 | B29: KP | C29: Kompletné konštrukcie čistiarní odpadových vôd z betónu prostého tr. C 12/15 - podkladný betón | D29: m3 | E29: 0.943 | F29: 0 | G29: =E29*F29 -> 0
C30: - zriadenie konštr. + dodávka bet. = 0,943 m3
C31: - zriadenie a odstránenie debnenia = 1,28 m2
C32: - presun hmôt = 2,132 t
A33: 22 | B33: KP | C33: Kompletné konštrukcie čistiarní odpadových vôd zo železobetónu vodostavebného C 30/37, | D33: m3 | E33: 12.36 | F33: 0 | G33: =E33*F33 -> 0
C34: - zriadenie konštr. + dodávka bet. = 12,36 m3
C35: - zriadenie a odstránenie debnenia = 61,83 m2
C36: - výstuž kompletných konštrukcií = 1,648 t
C37: - osadenie a dodávka tesnenia pracovnej škáry oceľ. plechom 160/0,6m s bituménovým povlakom 0,5mm = 10,80 m
C38: - presun hmôt = 39,74 t
A39: 23 | B39: KP | C39: Kompletné konštrukcie čistiarní odpad. vôd z betónu prostého tr. C 25/30, hr.nad 80 do 150 mm - výplňový betón v dne | D39: m3 | E39: 0.74 | F39: 0 | G39: =E39*F39 -> 0
C40: - zriadenie konštr. + dodávka bet. = 0,74 m3
C41: - zriadenie a odstránenie debnenia = 0 m2
C42: - presun hmôt = 1,67 t
B43: 4 | C43: Vodorovné konštrukcie | G43: =SUM(G44) -> 0
A44: 24 | B44: KP | C44: Prestupové kusy pre potrubie DN do 600 mm nerezové | D44: kg | E44: 14.4 | F44: 0 | G44: =E44*F44 -> 0
C45: - osadenie a dodávka PK
C46: - presun hmôt
A47: 0 | B47: 6 | C47: Úpravy povrchov, podlahy, osadenie | G47: =SUM(G48:G48) -> 0
A48: 25 | B48: KP | C48: Osadenie a dodávka nerezového roštu na priehlbeň 400x400x300 mm vrátane rámu | D48: ks | E48: 1 | F48: 0 | G48: =E48*F48 -> 0
A49: 0 | B49: 9 | C49: Ostatné konštrukcie a práce | G49: =SUM(G50:G51) -> 0
A50: 26 | B50: KP | C50: Vyčistenie objektov | D50: m2 | E50: 8.2 | F50: 0 | G50: =E50*F50 -> 0
A51: 27 | B51: KP | C51: Izolácia proti zem. vlhkosti a agresivite | D51: m2 | E51: 42.99 | F51: 0 | G51: =E51*F51 -> 0
A52: 0 | B52: 99 | C52: Presun hmôt HSV | G52: =G53 -> 0
A53: 28 | B53: 998254011 | C53: Presun hmôt pre studne a zachytávanie vody z bet. prostého, želez. alebo montované z dielcov do 50 m | D53: t | E53: 0.321 | F53: 0 | G53: =E53*F53 -> 0
A54: 0 | B54: PSV | C54: Práce a dodávky PSV | G54: =G55 -> 0 | H54: =H55 -> 0.18
A55: 0 | B55: 767 | C55: Konštrukcie doplnkové kovové | G55: =SUM(G56:G67) -> 0 | H55: =SUM(H56:H67) -> 0.18
A56: 29 | B56: KP | C56: Montáž a dodávka zábradlia rovného, schodišťa - nerez + presun hmôt | D56: kg | E56: 40.8 | F56: 0 | G56: =E56*F56 -> 0 | H56: 0.04
A57: 30 | B57: 767995101 | C57: Montáž ostatných atypických kovových stavebných doplnkových konštrukcií do 5 kg | D57: kg | E57: 3.59 | F57: 0 | G57: =E57*F57 -> 0 | H57: 0.004
A58: 31 | B58: PC | C58: Dodávka oceľovej chráničky DN 100 mm, dĺžky 300 mm pre elektrické káble | D58: ks | E58: 1 | F58: 0 | G58: =E58*F58 -> 0
A59: 32 | B59: 767995102 | C59: Montáž ostatných atypických kovových stavebných doplnkových konštrukcií nad 5 do 10 kg | D59: kg | E59: 9.065 | F59: 0 | G59: =E59*F59 -> 0 | H59: 0.009
A60: 33 | B60: PC | C60: Dodávka odvetrávacieho potrubia DN 150 mm dĺžky 500 mm s odvetrávacou hlavicou | D60: ks | E60: 1 | F60: 0 | G60: =E60*F60 -> 0
A61: 34 | B61: 767995104 | C61: Montáž ostatných atypických kovových stavebných doplnkových konštrukcií nad 20 do 50 kg | D61: kg | E61: 127.455 | F61: 0 | G61: =E61*F61 -> 0 | H61: 0.127
A62: 35 | B62: PC | C62: Dodávka vodotesného prestupového kusa DN 200 mm vo vyhotovení nerez | D62: ks | E62: 1 | F62: 0 | G62: =E62*F62 -> 0
A63: 36 | B63: PC | C63: Dodávka poklopu na otvor rozmeru 600x600 mm vo vyhotovení nerez | D63: ks | E63: 1 | F63: 0 | G63: =E63*F63 -> 0
A64: 37 | B64: PC | C64: Dodávka poklopu na otvor rozmeru 600x900 mm vo vyhotovení nerez | D64: ks | E64: 1 | F64: 0 | G64: =E64*F64 -> 0
A65: 38 | B65: PC | C65: Dodávka odvetrávacieho potrubia DN 150 mm dĺžky 2500 mm s odvetrávacou hlavicou | D65: ks | E65: 1 | F65: 0 | G65: =E65*F65 -> 0
A66: 39 | B66: 998767101 | C66: Presun hmôt pre kovové stavebné doplnkové konštrukcie v objektoch výšky do 6 m | D66: t | E66: 0.18 | F66: 0 | G66: =E66*F66 -> 0
A67: 40 | B67: 998767192 | C67: Kovové stav.dopln.konštr., prípl.za presun nad najväčšiu dopr. vzdial. do 100 m | D67: t | E67: 0.18 | F67: 0 | G67: =E67*F67 -> 0
C69: Náklad na stavebný objekt - celkom : | G69: =G54+G5 -> 0

Sheet SO-15 eli
A1: DOBUDOVANIE A INTENZIFIKÁCIA ČOV LEVOČA
A2: SO-15.2 ROZVOD ÚŽITKOVEJ VODY - ELEKTROSTAVEBNÁ ČASŤ
A4: Pol. | B4: NÁZOV POLOŽKY | C4: Jedn. | D4: Mn. | E4: J. cena (EUR) | F4: Celková cena (EUR)
B5: DODÁVKA
A6: 1 | B6: Svietidlo LED na povrch, min.34W - IP65 | C6: ks | D6: 1 | E6: 0 | F6: =D6*E6 -> 0
A7: 2 | B7: Spínač jednopólový na povrch č.1 10A/250V - IP55 | C7: ks | D7: 1 | E7: 0 | F7: =D7*E7 -> 0
A8: 3 | B8: Zásuvka kombinovaná na povrch 16A/400V+16A/250V - IP55 | C8: ks | D8: 1 | E8: 0 | F8: =D8*E8 -> 0
A9: 4 | B9: CYKY-J 5x2,5 v PVC trubke resp. v zemi vrátane ukončenia | C9: m | D9: 40 | E9: 0 | F9: =D9*E9 -> 0
A10: 5 | B10: CYKY-J 3x1,5 v PVC trubke resp. v zemi vrátane ukončenia | C10: m | D10: 40 | E10: 0 | F10: =D10*E10 -> 0
A11: 6 | B11: CYKY-O 3x1,5 PVC trubke vrátane ukončenia | C11: m | D11: 2 | E11: 0 | F11: =D11*E11 -> 0
A12: 7 | B12: Krabica plastová na povrch vrátane svoriek - IP 54 | C12: ks | D12: 1 | E12: 0 | F12: =D12*E12 -> 0
A13: 8 | B13: PVC trubka pevne na povrchu konštrukcie | C13: m | D13: 15 | E13: 0 | F13: =D13*E13 -> 0
A14: 9 | B14: Vodič pre ochranné a doplnkové pospájanie CY 6 Z/Ž v trubke | C14: m | D14: 10 | E14: 0 | F14: =D14*E14 -> 0
A15: 10 | B15: Spojovací materiál pre ochranné a doplnkové pospájanie (HUS, svorky, Cu pásik, káblové oká, vejárovité podložky) | C15: ks | D15: 1 | E15: 0 | F15: =D15*E15 -> 0
B17: MONTÁŽ
A18: 1 | B18: Svietidlo LED na povrch, min.34W - IP65 | C18: ks | D18: 1 | E18: 0 | F18: =D18*E18 -> 0
A19: 2 | B19: Spínač jednopólový na povrch č.1 10A/250V - IP55 | C19: ks | D19: 1 | E19: 0 | F19: =D19*E19 -> 0
A20: 3 | B20: Zásuvka kombinovaná na povrch 16A/400V+16A/250V - IP55 | C20: ks | D20: 1 | E20: 0 | F20: =D20*E20 -> 0
A21: 4 | B21: CYKY-J 5x2,5 v PVC trubke resp. v zemi vrátane ukončenia | C21: m | D21: 40 | E21: 0 | F21: =D21*E21 -> 0
A22: 5 | B22: CYKY-J 3x1,5 v PVC trubke resp. v zemi vrátane ukončenia | C22: m | D22: 40 | E22: 0 | F22: =D22*E22 -> 0
