Workbook
Name ____________so02: [1]List4!#REF!
Name ____________so02: [1]List4!#REF!
Name ____________so1: #REF!
Name ____________so1: #REF!
Name ____________so10: #REF!
Name ____________so10: #REF!
Name ____________so4: #REF!
Name ____________so5: #REF!
Name ___________so02: [1]List4!#REF!
Name ___________so1: #REF!
Name ___________so10: #REF!
Name ___________so4: #REF!
Name ___________so5: #REF!
Name __________so02: [1]List4!#REF!
Name __________so1: #REF!
Name __________so10: #REF!
Name __________so4: #REF!
Name __________so5: #REF!
Name _________so02: [1]List4!#REF!
Name _________so1: #REF!
Name _________so10: #REF!
Name _________so4: #REF!
Name _________so5: #REF!
Name ________so02: [1]List4!#REF!
Name ________so1: #REF!
Name ________so10: #REF!
Name ________so4: #REF!
Name ________so5: #REF!
Name _______so02: [1]List4!#REF!
Name _______so1: #REF!
Name _______so10: #REF!
Name _______so4: #REF!
Name _______so5: #REF!
Name ______so02: [1]List4!#REF!
Name ______so1: #REF!
Name ______so10: #REF!
Name ______so4: #REF!
Name ______so5: #REF!
Name _____so02: [1]List4!#REF!
Name _____so1: #REF!
Name _____so10: #REF!
Name _____so4: #REF!
Name _____so5: #REF!
Name ____so02: [1]List4!#REF!
Name ____so1: #REF!
Name ____so10: #REF!
Name ____so4: #REF!
Name ____so5: #REF!
Name ___so02: [1]List4!#REF!
Name ___so1: #REF!
Name ___so10: #REF!
Name ___so4: #REF!
Name ___so5: #REF!
Name __so02: [1]List4!#REF!
Name __so1: #REF!
Name __so10: #REF!
Name __so4: #REF!
Name __so5: #REF!
Name _so02: [1]List4!#REF!
Name _so1: #REF!

Sheet Celkový súhrn
A1: Celkový súhrn
A3: Dobudovanie a intenzifikácia ČOV Levoča
A5: Položka | B5: Cena bez DPH [EUR]
A6: Stavebné objekty (SO) | B6: =Rekapitulácia!B57 -> 0
A7: Prevádzkové súbory (PS) | B7: =Rekapitulácia!B68 -> 0
A8: Spolu SO+PS | B8: =SUM(B6:B7) -> 0
A10: Všeobecné položky | B10: ='Všeobecné pol.'!D7 -> 0
A12: Celková cena EUR bez DPH | B12: =B8+B10 -> 0
A13: DPH 20% | B13: =B12*0.2 -> 0
A14: Celková cena EUR vrátane DPH | B14: =SUM(B12:B13) -> 0

Sheet Všeobecné pol.
A1: DOBUDOVANIE A INTENZIFIKÁCIA ČOV LEVOČA
A2: Všeobecné položky
A4: P.č. | B4: Názov položky | C4: Merná jednotka | D4: Cena celkom (EUR)
A5: 1 | B5: Dokumentácia skutočného vyhotovenia, porealizačné geodetické zameranie vrátane geometrických plánov | C5: p.s. | D5: 0
A6: 2 | B6: Manipulačné a prevádzkové poriadky stavby, vrátane zmien | C6: p.s. | D6: 0
B7: Všeobecné položky celkom | D7: =SUM(D5:D6) -> 0

Sheet Rekapitulácia
A1: Rekapitulácia
A3: Stavba: Dobudovanie a intenzifikácia ČOV Levoča
A5: Stavebné objekty
A6: Názov SO | B6: Cena bez DPH [EUR]
A7: SO-01 Príjmová komora žumpových vôd | B7: ='SO-01'!G100 -> 0
A8: SO-02 Mechanické predčistenie | B8: =SUBTOTAL(9,B9:B12) -> 0
A9: architektúra | B9: ='SO-02'!G205 -> 0
A10: elektročasť | B10: ='SO-02 eli'!F100 -> 0
A11: VZT | B11: ='SO-02 vzt'!H31 -> 0
A12: ZTI | B12: ='so02 zti'!F52 -> 0
A13: SO-03 Čerpacia stanica | B13: ='SO-03'!G108 -> 0
A14: SO-04 Združený objekt biologického čistenia | B14: =SUBTOTAL(9,B15:B16) -> 0
A15: architektúra | B15: ='SO-04'!G78 -> 0
A16: elektročasť | B16: ='SO-04 eli'!F43 -> 0
A17: SO-05 Združený objekt dúcharne a prevádzkovej budovy | B17: =SUBTOTAL(9,B18:B21) -> 0
A18: architektúra | B18: ='SO-05'!G160 -> 0
A19: elektročasť | B19: ='SO-05 eli'!F113 -> 0
A20: VZT | B20: ='SO-05 vzt'!H49 -> 0
A21: ZTI | B21: ='SO-05 zti'!F106 -> 0
A22: SO-06 Dávkovanie síranu železitého | B22: ='SO-06'!G43 -> 0
A23: SO-07 Dosadzovacie nádrže | B23: ='SO-07'!G92 -> 0
A24: SO-08 Nádrže kalového hospodárstva | B24: =SUBTOTAL(9,B25:B26) -> 0
A25: architektúra | B25: ='SO-08'!G46 -> 0
A26: elektročasť | B26: ='SO-08 eli'!F85 -> 0
A27: SO-09 Strojovňa zahustenia a odvodnenia kalu | B27: =SUBTOTAL(9,B28:B31) -> 0
A28: architektúra | B28: ='SO-09'!G196 -> 0
A29: elektročasť | B29: ='SO-09 eli'!F79 -> 0
A30: VZT | B30: ='SO-09 vzt'!H34 -> 0
A31: ZTI | B31: ='SO-09 zti'!F80 -> 0
A32: SO-10 Krytá skládka kalu | B32: =SUBTOTAL(9,B33:B34) -> 0
A33: architektúra | B33: ='SO-10'!G68 -> 0
A34: elektročasť | B34: ='SO-10 eli'!F45 -> 0
A35: SO-11 Čerpacia stanica kalových vôd | B35: ='SO-11'!G44 -> 0
A36: SO-12 Merný žľab | B36: =SUBTOTAL(9,B37:B38) -> 0
A37: architektúra | B37: ='SO-12'!G46 -> 0
A38: elektročasť | B38: ='SO-12 eli'!F45 -> 0
A39: SO-13 Prepojovacie potrubia | B39: =SUBTOTAL(9,B40:B41) -> 0
A40: SO-13.1 Prepojovacie potrubia | B40: ='SO-13.1'!F38 -> 0
A41: SO-13.2 Dočasné prepojovacie potrubia | B41: ='SO-13.2'!F85 -> 0
A42: SO-14 Kanalizácia | B42: ='SO-14'!F24 -> 0
...

Sheet SO-01
A1: DOBUDOVANIE A INTENZIFIKÁCIA ČOV LEVOČA
A2: SO - 01 PRÍJMOVÁ KOMORA ŽUMPOVÝCH VÔD
A4: ČP | B4: Kód položky | C4: Popis | D4: MJ | E4: Množstvo | F4: J. cena (EUR) | G4: Celková cena (EUR) | H4: Hmotnosť celkom | I4: Suť celkom
A5: 0 | B5: HSV | C5: Práce a dodávky HSV | G5: =G6+G15+G24+G26+G31+G33+G38+G54 -> 0 | H5: =H6+H15+H24+H26+H31+H33+H38+H54 -> 200.866 | I5: =I6+I15+I24+I26+I31+I33+I38+I54 -> 2.219
A6: 0 | B6: 1 | C6: Zemné práce | G6: =SUM(G7:G14) -> 0 | H6: =SUM(H7:H14) -> 0.031
A7: 1 | B7: 131201101 | C7: Výkop nezapaženej jamy v hornine 3, do 100 m3 | D7: m3 | E7: 86.24 | F7: 0 | G7: =E7*F7 -> 0
A8: 2 | B8: 131201109 | C8: Hĺbenie nezapažených jám a zárezov. Príplatok za lepivosť horniny 3 | D8: m3 | E8: 25.872 | F8: 0 | G8: =E8*F8 -> 0
A9: 3 | B9: 151101201 | C9: Paženie stien bez rozopretia alebo vzopretia, príložné hĺbky do 4m | D9: m2 | E9: 44.296 | F9: 0 | G9: =E9*F9 -> 0 | H9: 0.031
A10: 4 | B10: 151101211 | C10: Odstránenie paženia stien príložné hĺbky do 4 m | D10: m2 | E10: 44.296 | F10: 0 | G10: =E10*F10 -> 0
A11: 5 | B11: 174101001 | C11: Zásyp sypaninou so zhutnením jám, šachiet, rýh, zárezov alebo okolo objektov do 100 m3 | D11: m3 | E11: 31.041 | F11: 0 | G11: =E11*F11 -> 0
A12: 6 | B12: 162301101 | C12: Vodorovné premiestnenie výkopku po spevnenej ceste z horniny tr.1-4, do 100 m3 na vzdialenosť do 500 m | D12: m3 | E12: 55.199 | F12: 0 | G12: =E12*F12 -> 0
A13: 7 | B13: 171201201 | C13: Uloženie sypaniny na skládky do 100 m3 | D13: m3 | E13: 55.199 | F13: 0 | G13: =E13*F13 -> 0
A14: 8 | B14: 171209002 | C14: Poplatok za skladovanie - zemina a kamenivo (17 05) ostatné | D14: t | E14: 82.799 | F14: 0 | G14: =E14*F14 -> 0
A15: 0 | B15: 3 | C15: Zvislé a kompletné konštrukcie | G15: =SUM(G16:G23) -> 0 | H15: =SUM(H16:H23) -> 123.906
A16: 9 | B16: 380311531 | C16: Kompletné konštrukcie čistiarní odpadových vôd z betónu prostého tr. C 12/15, hr. 80-150 mm | D16: m3 | E16: 3.116 | F16: 0 | G16: =E16*F16 -> 0 | H16: 10.265
A17: 10 | B17: 380326232 | C17: Kompletné konštrukcie čistiarní odpadových vôd zo železobetónu vodostavebného C 25/30, hr. 150-300 mm, vrátane tesnenia pracovných škár | D17: m3 | E17: 20.291 | F17: 0 | G17: =E17*F17 -> 0 | H17: 68.782
A18: 11 | B18: 380326233 | C18: Kompletné konštrukcie čistiarní odpadových vôd zo železobetónu vodostavebného C 25/30, hr. nad 300 mm, vrátane tesnenia pracovných škár | D18: m3 | E18: 10.032 | F18: 0 | G18: =E18*F18 -> 0 | H18: 28.695
A19: 12 | B19: 380311762 | C19: Kompletné konštrukcie čistiarní odpad. vôd z betónu prostého tr. C 20/25, hr. nad 150 do 300 mm | D19: m3 | E19: 4.406 | F19: 0 | G19: =E19*F19 -> 0 | H19: 12.414
A20: 13 | B20: 380356211 | C20: Debnenie kompl. konštrukcií čistiarní odpad. vôd z plôch rovinných zhotovenie | D20: m2 | E20: 137.248 | F20: 0 | G20: =E20*F20 -> 0 | H20: 0.579
A21: 14 | B21: 380356212 | C21: Debnenie kompl. konštrukcií čistiarní odpad. vôd z plôch rovinných odstránenie | D21: m2 | E21: 137.248 | F21: 0 | G21: =E21*F21 -> 0
A22: 15 | B22: 380361002 | C22: Výstuž komplet. konstr. čist., odpadových vôd a nádrží zo zvarovaných sietí KARI | D22: t | E22: 0.065 | F22: 0 | G22: =E22*F22 -> 0 | H22: 0.066
A23: 16 | B23: 380361006 | C23: Výstuž komplet. konstr. čist., odpadových vôd a nádrží z ocele B500 B | D23: t | E23: 3.065 | F23: 0 | G23: =E23*F23 -> 0 | H23: 3.105
A24: 0 | B24: 4 | C24: Vodorovné konštrukcie | G24: =G25 -> 0 | H24: =H25 -> 2.444
A25: 17 | B25: 451571111 | C25: Lôžko pod dlažby zo štrkopiesku hr.vrstvy do 100 mm | D25: m2 | E25: 11.5 | F25: 0 | G25: =E25*F25 -> 0 | H25: 2.444
A26: 0 | B26: 5 | C26: Komunikácie | G26: =SUM(G27:G30) -> 0 | H26: =SUM(H27:H30) -> 20.043
A27: 18 | B27: 567114311 | C27: Podklad z podkladového betónu PB III tr. C 12/15 hr. 100 mm-betonová plocha okolo PK a SŠ | D27: m2 | E27: 19.95 | F27: 0 | G27: =E27*F27 -> 0 | H27: 5.386
A28: 19 | B28: 581130115 | C28: Kryt cementobetónový cestných komunikácií skupiny CB I pre TDZ I a II, hr. 200 mm | D28: m2 | E28: 19.95 | F28: 0 | G28: =E28*F28 -> 0 | H28: 10.8
A29: 20 | B29: 596811320 | C29: Kladenie betónovej dlažby komunikacií pre peších do lôžka z kameniva, veľ. do 0,25 m2 plochy do 50 m2 | D29: m2 | E29: 11.5 | F29: 0 | G29: =E29*F29 -> 0 | H29: 1.162
A30: 21 | B30: 592270000100 | C30: Tvárnica priekopová a melioračná, doska obkladová betónová TBM 2-50, rozmer 500x500x100 mm | D30: ks | E30: 46.46 | F30: 0 | G30: =E30*F30 -> 0 | H30: 2.695
A31: 0 | B31: 6 | C31: Úpravy povrchov, podlahy, osadenie | G31: =G32 -> 0 | H31: =H32 -> 1.395
A32: 22 | B32: 612462413 | C32: Vnútorná sanačná omietka stien BAUMIT Sanova trasová omietka WTA, hr. 30 mm | D32: m2 | E32: 34 | F32: 0 | G32: =E32*F32 -> 0 | H32: 1.395
A33: 0 | B33: 8 | C33: Rúrové vedenie | G33: =SUM(G34:G37) -> 0 | H33: =SUM(H34:H37) -> 0.081
A34: 23 | B34: 877414250 | C34: Montáž kanalizačného PP šachtového prechodu DN 300 mm | D34: ks | E34: 1 | F34: 0 | G34: =E34*F34 -> 0
A35: 24 | B35: 286540133000 | C35: Šachtová prechodka X-Stream PP, DN 300 mm pre gravitačnú kanalizáciu, WAVIN | D35: ks | E35: 1 | F35: 0 | G35: =E35*F35 -> 0 | H35: 0.001
A36: 25 | B36: 877441251 | C36: Montáž šachtovej prechodky na potrubie z kanalizačných odstredivo liatych sklolaminátových rúr DN 600 mm | D36: ks | E36: 2 | F36: 0 | G36: =E36*F36 -> 0
A37: 26 | B37: 286410023300 | C37: Šachtový prechod tzp C s golierom pre sklolaminát PN 1 DN 600 mm, SN 10000, HOBAS, pol.č. "7" | D37: ks | E37: 2 | F37: 0 | G37: =E37*F37 -> 0 | H37: 0.08
A38: 0 | B38: 9 | C38: Ostatné konštrukcie a práce-búranie | G38: =SUM(G39:G53) -> 0 | H38: =SUM(H39:H53) -> 52.966 | I38: =SUM(I39:I53) -> 2.219
A39: 27 | B39: 917762111 | C39: Osadenie cestného obrubníka betónového ležatého do lôžka z betónu prosteho tr. C 12/15 s bočnou oporou | D39: m | E39: 13.5 | F39: 0 | G39: =E39*F39 -> 0 | H39: 2.221
A40: 28 | B40: 592170003800 | C40: Obrubník SEMMELROCK cestný so skosením, lxšxv 1000x150x250 mm, sivá | D40: ks | E40: 13.635 | F40: 0 | G40: =E40*F40 -> 0 | H40: 1.104
A41: 29 | B41: 933901111 | C41: Skúšky vodotesnosti betónovej nádrže akéhokoľvek druhu a tvaru, s obsahom do 1000 m3 | D41: m3 | E41: 48.186 | F41: 0 | G41: =E41*F41 -> 0
...

Sheet SO-02
A1: DOBUDOVANIE A INTENZIFIKÁCIA ČOV LEVOČA
A2: SO - 02 MECHANICKÉ PREDČISTENIE
A4: ČP | B4: Kód položky | C4: Popis | D4: MJ | E4: Množstvo | F4: J. cena (EUR) | G4: Celková cena (EUR) | H4: Hmotnosť celkom
A5: 0 | B5: HSV | C5: Práce a dodávky HSV | G5: =G6+G20+G42+G56+G60+G76+G87 -> 0 | H5: =H6+H20+H42+H56+H60+H76+H87 -> 1514.469
A6: 0 | B6: 1 | C6: Zemné práce | G6: =SUM(G7:G19) -> 0 | H6: =SUM(H7:H19) -> 0.754
A7: 1 | B7: 115001103 | C7: Odvedenie vody potrubím pri priemere potrubia DN nad 150 do 250 | D7: m | E7: 80 | F7: 0 | G7: =E7*F7 -> 0 | H7: 0.754
A8: 2 | B8: 115101201 | C8: Čerpanie vody na dopravnú výšku do 10 m s priemerným prítokom litrov za minútu nad 100 do 500 l | D8: hod | E8: 2880 | F8: 0 | G8: =E8*F8 -> 0
A9: 3 | B9: 115101301 | C9: Pohotovosť záložnej čerpacej súpravy pre výšku do 10 m, s prítokom litrov za minútu nad 100 do 500 l | D9: deň | E9: 120 | F9: 0 | G9: =E9*F9 -> 0
A10: 4 | B10: 131201202 | C10: Výkop zapaženej jamy v hornine 3, nad 100 do 1000 m3 | D10: m3 | E10: 924.002 | F10: 0 | G10: =E10*F10 -> 0
A11: 5 | B11: 131201209 | C11: Príplatok za lepivosť pri hĺbení zapažených jám a zárezov s urovnaním dna v hornine 3 | D11: m3 | E11: 277.201 | F11: 0 | G11: =E11*F11 -> 0
A12: 6 | B12: 132201101 | C12: Výkop ryhy do šírky 600 mm v horn.3 do 100 m3 | D12: m3 | E12: 83.516 | F12: 0 | G12: =E12*F12 -> 0
A13: 7 | B13: 132201109 | C13: Príplatok k cene za lepivosť pri hĺbení rýh šírky do 600 mm zapažených i nezapažených s urovnaním dna v hornine 3 | D13: m3 | E13: 25.055 | F13: 0 | G13: =E13*F13 -> 0
A14: 8 | B14: 162301141 | C14: Vodorovné premiestnenie výkopku po spevnenej ceste z horniny tr.1-4, nad 1000 do 10000 m3 na vzdialenosť nad 50 do 500 m | D14: m3 | E14: 1007.518 | F14: 0 | G14: =E14*F14 -> 0
A15: 9 | B15: 171201203 | C15: Uloženie sypaniny na skládky nad 1000 do 10000 m3 | D15: m3 | E15: 1007.518 | F15: 0 | G15: =E15*F15 -> 0
A16: 10 | B16: 171209002 | C16: Poplatok za skladovanie - zemina a kamenivo (17 05) ostatné | D16: t | E16: 1511.277 | F16: 0 | G16: =E16*F16 -> 0
A17: 11 | B17: 167101102 | C17: Nakladanie neuľahnutého výkopku z hornín tr.1-4 nad 100 do 1000 m3 | D17: m3 | E17: 287.492 | F17: 0 | G17: =E17*F17 -> 0
A18: 12 | B18: 162301121 | C18: Vodorovné premiestnenie výkopku po spevnenej ceste z horniny tr.1-4, nad 100 do 1000 m3 na vzdialenosť nad 50 do 500 m | D18: m3 | E18: 287.492 | F18: 0 | G18: =E18*F18 -> 0
A19: 13 | B19: 174101002 | C19: Zásyp sypaninou so zhutnením jám, šachiet, rýh, zárezov alebo okolo objektov nad 100 do 1000 m3 | D19: m3 | E19: 287.492 | F19: 0 | G19: =E19*F19 -> 0
A20: 0 | B20: 2 | C20: Zakladanie | G20: =SUM(G21:G41) -> 0 | H20: =SUM(H21:H41) -> 513.296
A21: 14 | B21: 231942221 | C21: Oceľové štetovnice pre štetové steny baranené alebo nasadené rezanie pozdľžne na skládke | D21: m | E21: 30 | F21: 0 | G21: =E21*F21 -> 0 | H21: 0.004
A22: 15 | B22: 231942231 | C22: Oceľové štetovnice pre štetové steny baranené alebo nasadené rezanie otvorov na skládke | D22: ks | E22: 118 | F22: 0 | G22: =E22*F22 -> 0 | H22: 0.001
A23: 16 | B23: 231942321 | C23: Oceľové štetovnice pre štetové steny baranené alebo nasadené zváranie pozdľžne na skládke | D23: m | E23: 30 | F23: 0 | G23: =E23*F23 -> 0 | H23: 0.034
A24: 17 | B24: 231943111 | C24: Steny baranené z oceľových štetovníc z terénu nastraženie pri dľžke štetovníc do 10 m | D24: m2 | E24: 386.4 | F24: 0 | G24: =E24*F24 -> 0 | H24: 0.058
A25: 18 | B25: 231943211 | C25: Steny baranené z oceľových štetovníc z terénu zabaranenie na dľžku do 10 m | D25: m2 | E25: 386.4 | F25: 0 | G25: =E25*F25 -> 0
A26: 19 | B26: 134600000100 | C26: Profil oceľový hrubý na štetovnice (neopracovaný) LARSEN (10 370) 3n | D26: t | E26: 59.892 | F26: 0 | G26: =E26*F26 -> 0 | H26: 59.892
A27: 20 | B27: 237941111 | C27: Vytiahnutie štetovnicových stien z oceľových štetovníc zabaranených do 2 rokov, do 10m | D27: m2 | E27: 386.4 | F27: 0 | G27: =E27*F27 -> 0
A28: 21 | B28: 242111113 | C28: Osadenie plášťa vodárenskej studne z betónových skruží celokruhových DN 1000 | D28: m | E28: 4 | F28: 0 | G28: =E28*F28 -> 0 | H28: 0.099
A29: 22 | B29: 592250000500 | C29: Prefabrikát betónový pre studne, skruž kruhová TBH 2-100, DN 1000, dĺžka 1000 mm, hr. steny 90 mm | D29: ks | E29: 4.04 | F29: 0 | G29: =E29*F29 -> 0 | H29: 2.868
A30: 23 | B30: 212752126 | C30: Trativody z flexodrenážnych rúr DN 125 | D30: m | E30: 23.625 | F30: 0 | G30: =E30*F30 -> 0 | H30: 5.888
A31: 24 | B31: 271571111 | C31: Vankúše zhutnené pod základy zo štrkopiesku | D31: m3 | E31: 77.068 | F31: 0 | G31: =E31*F31 -> 0 | H31: 159.253
A32: 25 | B32: 289971412 | C32: Geomreža pre stabilizáciu podkladu tuhá jednoosá z PE, ťah. 50-65 KN/m | D32: m2 | E32: 289.005 | F32: 0 | G32: =E32*F32 -> 0 | H32: 0.711
A33: 26 | B33: 273313521 | C33: Betón základových dosiek, prostý tr. C 12/15-podkladný betón | D33: m3 | E33: 32.841 | F33: 0 | G33: =E33*F33 -> 0 | H33: 77.365
A34: 27 | B34: 273351217 | C34: Debnenie stien základových dosiek, zhotovenie-tradičné | D34: m2 | E34: 23.415 | F34: 0 | G34: =E34*F34 -> 0 | H34: 0.095
A35: 28 | B35: 273351218 | C35: Debnenie stien základových dosiek, odstránenie-tradičné | D35: m2 | E35: 23.415 | F35: 0 | G35: =E35*F35 -> 0
A36: 29 | B36: 274321411 | C36: Betón základových pásov, železový (bez výstuže) tr. C 25/30 | D36: m3 | E36: 83.78 | F36: 0 | G36: =E36*F36 -> 0 | H36: =2.41572*E36 -> 202.389
A37: 30 | B37: 274351217 | C37: Debnenie stien základových pásov, zhotovenie-tradičné | D37: m2 | E37: 211.55 | F37: 0 | G37: =E37*F37 -> 0 | H37: =0.00407*211.55 -> 0.861
A38: 31 | B38: 274351218 | C38: Debnenie stien základových pásov, odstránenie-tradičné | D38: m2 | E38: 211.55 | F38: 0 | G38: =E38*F38 -> 0
A39: 32 | B39: 274361821 | C39: Výstuž základových pásov z ocele B500 B | D39: t | E39: 3.527 | F39: 0 | G39: =E39*F39 -> 0 | H39: =1.01895*E39 -> 3.594
A40: 33 | B40: 289971211 | C40: Zhotovenie vrstvy z geotextílie na upravenom povrchu sklon do 1 : 5 , šírky od 0 do 3 m | D40: m2 | E40: 285.34 | F40: 0 | G40: =E40*F40 -> 0 | H40: 0.009
A41: 34 | B41: 693110001500 | C41: Geotextília polypropylénová Tatratex GTX N PP 600, šírka 3,5 m, dĺžka 60 m, hrúbka 4,3 mm, netkaná, MIVA | D41: m2 | E41: 291.047 | F41: 0 | G41: =E41*F41 -> 0 | H41: 0.175
...

Sheet SO-02 eli
A1: DOBUDOVANIE A INTENZIFIKÁCIA ČOV LEVOČA
A2: SO-02 MECHANICKÉ PREDČISTENIE - ELEKTROSTAVEBNÁ ČASŤ
A4: Pol. | B4: NÁZOV POLOŽKY | C4: Jedn. | D4: Mn. | E4: J. cena (EUR) | F4: Celková cena (EUR)
B6: DODÁVKA
A7: 2 | B7: Rozvádzač na povrch RS02 vrátane výzbroja, osadenia a zapojenia | C7: ks | D7: 1 | E7: 0 | F7: =D7*E7 -> 0
A8: 3 | B8: Svietidlo LED, min. 1x47W vrátane závesného systému - IP65 | C8: ks | D8: 28 | E8: 0 | F8: =D8*E8 -> 0
A9: 4 | B9: Svietidlo na stenu E27/60W, vrátane LED žiarovky 10W, svietiace do polpriestoru smerom k zemi - min IP44 | C9: ks | D9: 4 | E9: 0 | F9: =D9*E9 -> 0
A10: 5 | B10: Svietidlo núdzové na povrch LED 4W pre netrvalé svietenie s batériou pre napájanie po dobu 1h - IP44 | C10: ks | D10: 8 | E10: 0 | F10: =D10*E10 -> 0
A11: 6 | B11: Svietidlo LED nastenné reflektorové 1x100W - IP65 | C11: ks | D11: 2 | E11: 0 | F11: =D11*E11 -> 0
A12: 7 | B12: Zásuvková skriňa 2x230V/16A, 1x400V/16A, 1x400V/32A s priestorom pre istenie, vrátane ističov, osadenia a zapojenia - IP44 | C12: ks | D12: 4 | E12: 0 | F12: =D12*E12 -> 0
A13: 8 | B13: Zásuvka 400V/16A na povrch - IP44 | C13: ks | D13: 3 | E13: 0 | F13: =D13*E13 -> 0
A14: 9 | B14: Spínač jednopólový zapustený č.1 10A/250V, IP44 vrátane inštalačnej krabice do zateplenia | C14: ks | D14: 6 | E14: 0 | F14: =D14*E14 -> 0
A15: 10 | B15: Spínač striedavý na povrch č.6 10A/250V - IP55 | C15: ks | D15: 4 | E15: 0 | F15: =D15*E15 -> 0
A16: 11 | B16: Spínač striedavý na povrch č.7 10A/250V - IP55 | C16: ks | D16: 1 | E16: 0 | F16: =D16*E16 -> 0
A17: 12 | B17: Priestorový termostat na povrch 0-35°C - IP54 | C17: ks | D17: 2 | E17: 0 | F17: =D17*E17 -> 0
A18: 13 | B18: Regulátor teploty a vlhkosti, výstupné relé 8A/250V - IP65 | C18: ks | D18: 1 | E18: 0 | F18: =D18*E18 -> 0
... A48: 44 | B48: Spojovací materiál pre ochranné a doplnkové pospájanie (HUS, svorky, Cu pásik, káblové oká, vejárovité podložky) | C48: ks | D48: 1 | E48: 0 | F48: =D48*E48 -> 0
B50: MONTÁŽ A DEMONTÁŽ BEZ DODÁVKY
A51: 1 | B51: Zapojenie trojfázového spotrebiča (ventilátor) | C51: ks | D51: 3 | E51: 0 | F51: =D51*E51 -> 0
B52: MONTÁŽ
A53: 2 | B53: Rozvádzač na povrch RS02 vrátane výzbroja, osadenia a zapojenia | C53: ks | D53: 1 | E53: 0 | F53: =D53*E53 -> 0
A54: 3 | B54: Svietidlo LED na povrch, min.1x20W - IP65 | C54: ks | D54: 28 | E54: 0 | F54: =D54*E54 -> 0
A55: 4 | B55: Svietidlo na stenu E27/60W, vrátane LED žiarovky 10W, svietiace do polpriestoru smerom k zemi - min IP44 | C55: ks | D55: 4 | E55: 0 | F55: =D55*E55 -> 0
A56: 5 | B56: Svietidlo núdzové na povrch LED 4W pre netrvalé svietenie s batériou pre napájanie po dobu 1h - IP44 | C56: ks | D56: 8 | E56: 0 | F56: =D56*E56 -> 0
A57: 6 | B57: Svietidlo LED nastenné reflektorové 1x100W - IP65 | C57: ks | D57: 2 | E57: 0 | F57: =D57*E57 -> 0
A58: 7 | B58: Zásuvková skriňa 2x230V/16A, 1x400V/16A, 1x400V/32A s priestorom pre istenie, vrátane ističov, osadenia a zapojenia - IP44 | C58: ks | D58: 4 | E58: 0 | F58: =D58*E58 -> 0
A59: 8 | B59: Zásuvka 400V/16A na povrch - IP44 | C59: ks | D59: 3 | E59: 0 | F59: =D59*E59 -> 0
A60: 9 | B60: Spínač jednopólový zapustený č.1 10A/250V, IP44 vrátane inštalačnej krabice do zateplenia | C60: ks | D60: 6 | E60: 0 | F60: =D60*E60 -> 0
A61: 10 | B61: Spínač striedavý na povrch č.6 10A/250V - IP55 | C61: ks | D61: 4 | E61: 0 | F61: =D61*E61 -> 0
A62: 11 | B62: Spínač striedavý na povrch č.7 10A/250V - IP55 | C62: ks | D62: 1 | E62: 0 | F62: =D62*E62 -> 0
A63: 12 | B63: Priestorový termostat na povrch 0-35°C - IP54 | C63: ks | D63: 2 | E63: 0 | F63: =D63*E63 -> 0
A64: 13 | B64: Regulátor teploty a vlhkosti, výstupné relé 8A/250V - IP65 | C64: ks | D64: 1 | E64: 0 | F64: =D64*E64 -> 0
... A94: 44 | B94: Spojovací materiál pre ochranné a doplnkové pospájanie (HUS, svorky, Cu pásik, káblové oká, vejárovité podložky) | C94: ks | D94: 1 | E94: 0 | F94: =D94*E94 -> 0
B95: ZEMNÉ PRÁCE
A96: 45 | B96: Výkop a zásyp kábelovej ryhy 35/80cm v zemi - zemina tr.4 | C96: m | D96: 12 | E96: 0 | F96: =D96*E96 -> 0
B97: HODINOVÁ SADZBA
A98: 46 | B98: Odborná prehliadka a skúška (Revízia) | C98: h | D98: 16 | E98: 0 | F98: =D98*E98 -> 0
B100: Náklady celkom: | F100: =SUM(F7:F98) -> 0

Sheet SO-02 vzt
A1: DOBUDOVANIE A INTENZIFIKÁCIA ČOV LEVOČA
A2: SO-02 MECHANICKÉ PREDČISTENIE - VZDUCHOTECHNIKA
A4: Stroje a zariadenia
A5: Pozícia | B5: Názov pozície | C5: Materiál | D5: Rozmer [mm] | E5: MJ | F5: Počet | G5: J. cena (EUR) | H5: Celková cena (EUR)
A7: 1 | B7: Axiálny ventilátor nástenný ELEKTRODESIGN | E7: kpl | F7: 2 | G7: 0 | H7: =G7*F7 -> 0
B8: HXTR/4-450 (alebo ekvivalent) (6910m3/h; 0,45kW; 400V; 0,9A) - 2ks
B9: Žalúzia samotiažna TRKS-450 Elektrodesign (alebo ekvivalent) - 2ks | C9: pozink | D9: &450
B10: Protidažďová žalúzia 1000x500 - 2ks | C10: pozink | D10: 1000x500
B11: Potrubie (nasávací otvor) 1000x500-300 - 2ks | C11: pozink | D11: 1000x500
B12: Žalúziová klapka samočinná - 2ks | C12: pozink | D12: 1000x500
B13: vrátane:
B14: tesniaci a spojovací materiál
B15: pomocné konštrukcie
A17: 2 | B17: Axiálny ventilátor nástenný ELEKTRODESIGN | E17: kpl | F17: 1 | G17: 0 | H17: =G17*F17 -> 0
B18: HXTR/4-355 (alebo ekvivalent) (2980m3/h; 0,145kW; 400V; 0,4A) - 1ks
B19: Žalúzia samotiažna TRKS-355 Elektrodesign (alebo ekvivalent) - 1ks | C19: pozink | D19: &355
B20: Protidažďová žalúzia 500x500 - 1ks | C20: pozink | D20: 500x500
B21: Potrubie (nasávací otvor) 500x500-300 - 1ks | C21: pozink | D21: 500x500
B22: Žalúziová klapka samočinná 500x500 - 1ks | C22: pozink | D22: 500x500
B23: vrátane:
B24: tesniaci a spojovací materiál
B25: pomocné konštrukcie
B27: Dodávka celkom: | H27: =SUM(H7:H25) -> 0
A29: 3 | B29: Montáž celkom: | E29: % | G29: 20 | H29: =G29*H27/100 -> 0
B31: Náklady celkom: | H31: =H27+H29 -> 0

Sheet so02 zti
A1: DOBUDOVANIE A INTENZIFIKÁCIA ČOV LEVOČA
A2: SO-02 MECHANICKÉ PREDČISTENIE - ZDRAVOTECHNIKA
A4: Pol. | B4: Popis položky, stavebného dielu, remesla, | C4: Množstvo | D4: Merná | E4: J. cena (EUR) | F4: Celková cena (EUR)
A5: číslo | B5: výkaz-výmer | C5: výmera | D5: jednotka
B7: PRÁCE A DODÁVKY HSV
B8: 1 - ZEMNE PRÁCE
A9: 1 | B9: Hĺbenie rýh šírka do 2 m v hornine 3, vr. naloženia, vyloženia, odvozu výkopku a prebytočnej zeminy, uloženia na skládke, všetkých poplatkov | C9: 19.3 | D9: m3 | E9: 0 | F9: =C9*E9 -> 0
A10: 2 | B10: Zásyp zhutnený rýh do 100 m3 | C10: 5.5 | D10: m3 | E10: 0 | F10: =C10*E10 -> 0
B11: 1 - ZEMNE PRÁCE spolu : | F11: =SUM(F9:F10) -> 0
B13: 4 - VODOROVNÉ KONŠTRUKCIE
A14: 3 | B14: Lôžko pod potrubie a obsyp potr. v otv. výkope z piesku | C14: 13.8 | D14: m3 | E14: 0 | F14: =C14*E14 -> 0
B15: 4 - VODOROVNÉ KONŠTRUKCIE spolu :
F16: =SUM(F14) -> 0
B17: 8 - RÚROVÉ VEDENIA
B18: Kanalizácia
A19: 4 | B19: PVC-U rúra hrdlová DN 110 | C19: 1.6 | D19: m | E19: 0 | F19: =C19*E19 -> 0
A20: 5 | B20: PVC-U rúra hrdlová DN 160 | C20: 5 | D20: m | E20: 0 | F20: =C20*E20 -> 0
A21: 6 | B21: PVC-U rúra hrdlová DN 200 | C21: 17.5 | D21: m | E21: 0 | F21: =C21*E21 -> 0
A22: 7 | B22: Redukcia PVC-U DN110/160 | C22: 6 | D22: ks | E22: 0 | F22: =C22*E22 -> 0
A23: 8 | B23: Redukcia PVC-U DN160/200 | C23: 1 | D23: ks | E23: 0 | F23: =C23*E23 -> 0
A24: 9 | B24: Koleno DN160 - 87,5° | C24: 6 | D24: ks | E24: 0 | F24: =C24*E24 -> 0
A25: 10 | B25: Koleno DN200 - 30° | C25: 1 | D25: ks | E25: 0 | F25: =C25*E25 -> 0
A26: 11 | B26: Koleno DN200 - 45° | C26: 2 | D26: ks | E26: 0 | F26: =C26*E26 -> 0
A27: 12 | B27: Odbočka DN200/160 - 45° | C27: 1 | D27: ks | E27: 0 | F27: =C27*E27 -> 0
A28: 13 | B28: Montáž potrubia z kanaliz. rúr PVC-U v otv. výkope DN 110, vrátane tvaroviek | C28: 1.6 | D28: m | E28: 0 | F28: =C28*E28 -> 0
A29: 14 | B29: Montáž potrubia z kanaliz. rúr PVC-U v otv. výkope DN 160, vrátane tvaroviek | C29: 5 | D29: m | E29: 0 | F29: =C29*E29 -> 0
A30: 15 | B30: Montáž potrubia z kanaliz. rúr PVC-U v otv. výkope DN 200, vrátane tvaroviek | C30: 17.5 | D30: m | E30: 0 | F30: =C30*E30 -> 0
... A37: 21 | B37: Veľkokapacitná odvodňovacie žľaby Mea SV1000 so spádom 0,5% : | C37: 29 | D37: m | E37: 0 | F37: =C37*E37 -> 0
B38: vrátane čelných dosiek a roštov - dodávka a montáž
A39: 22 | B39: SV1001 | C39: 2 | D39: ks | E39: 0 | F39: =C39*E39 -> 0
A40: 23 | B40: SV1002 | C40: 2 | D40: ks | E40: 0 | F40: =C40*E40 -> 0
A41: 24 | B41: SV1003 | C41: 2 | D41: ks | E41: 0 | F41: =C41*E41 -> 0
A42: 25 | B42: SV1004 | C42: 5 | D42: ks | E42: 0 | F42: =C42*E42 -> 0
A43: 26 | B43: SV1005 | C43: 2 | D43: ks | E43: 0 | F43: =C43*E43 -> 0
A44: 27 | B44: SV1005/A | C44: 4 | D44: ks | E44: 0 | F44: =C44*E44 -> 0
A45: 28 | B45: SV1006 | C45: 2 | D45: ks | E45: 0 | F45: =C45*E45 -> 0
A46: 29 | B46: SV1007 | C46: 2 | D46: ks | E46: 0 | F46: =C46*E46 -> 0
A47: 30 | B47: SV1008 | C47: 2 | D47: ks | E47: 0 | F47: =C47*E47 -> 0
A48: 31 | B48: SV1009 | C48: 4 | D48: ks | E48: 0 | F48: =C48*E48 -> 0
A49: 32 | B49: SV1010/A | C49: 2 | D49: ks | E49: 0 | F49: =C49*E49 -> 0
...

Sheet SO-03
A1: DOBUDOVANIE A INTENZIFIKÁCIA ČOV LEVOČA
A2: SO - 03 ČERPACIA STANICA
A4: ČP | B4: Kód položky | C4: Popis | D4: MJ | E4: Množstvo | F4: J. cena (EUR) | G4: Celková cena (EUR) | H4: Hmotnosť celkom
A5: 0 | B5: HSV | C5: Práce a dodávky HSV | G5: =G6+G18+G21+G35+G37+G40+G45+G51 -> 0 | H5: =H6+H18+H21+H35+H37+H40+H45+H51 -> 276.628
A6: 0 | B6: 1 | C6: Zemné práce | G6: =SUM(G7:G17) -> 0 | H6: =SUM(H7:H17) -> 0.599
A7: 1 | B7: 115001102 | C7: Odvedenie vody potrubím pri priemere potrubia DN nad 100 do 150 | D7: m | E7: 50 | F7: 0 | G7: =E7*F7 -> 0 | H7: 0.397
A8: 2 | B8: 115101201 | C8: Čerpanie vody na dopravnú výšku do 10 m s priemerným prítokom litrov za minútu nad 100 do 500 l | D8: hod | E8: 1440 | F8: 0 | G8: =E8*F8 -> 0
A9: 3 | B9: 115101301 | C9: Pohotovosť záložnej čerpacej súpravy pre výšku do 10 m, s prítokom litrov za minútu nad 100 do 500 l | D9: deň | E9: 60 | F9: 0 | G9: =E9*F9 -> 0
A10: 4 | B10: 131201102 | C10: Výkop nezapaženej jamy v hornine 3, nad 100 do 1000 m3 | D10: m3 | E10: 228.389 | F10: 0 | G10: =E10*F10 -> 0
A11: 5 | B11: 131201109 | C11: Hĺbenie nezapažených jám a zárezov. Príplatok za lepivosť horniny 3 | D11: m3 | E11: 68.517 | F11: 0 | G11: =E11*F11 -> 0
A12: 6 | B12: 151201202 | C12: Paženie stien výkopu bez rozopretia alebo vzopretia, záťažné hĺbky do 8 m | D12: m2 | E12: 135.24 | F12: 0 | G12: =E12*F12 -> 0 | H12: 0.202
A13: 7 | B13: 151201212 | C13: Odstránemie paženia stien výkopov, záťažné hĺbky do 8 m | D13: m2 | E13: 135.24 | F13: 0 | G13: =E13*F13 -> 0
A14: 8 | B14: 174101002 | C14: Zásyp sypaninou so zhutnením jám, šachiet, rýh, zárezov alebo okolo objektov nad 100 do 1000 m3 | D14: m3 | E14: 109.858 | F14: 0 | G14: =E14*F14 -> 0
A15: 9 | B15: 162301121 | C15: Vodorovné premiestnenie výkopku po spevnenej ceste z horniny tr.1-4, nad 100 do 1000 m3 na vzdialenosť nad 50 do 500 m | D15: m3 | E15: 118.531 | F15: 0 | G15: =E15*F15 -> 0
A16: 10 | B16: 171201202 | C16: Uloženie sypaniny na skládky nad 100 do 1000 m3 | D16: m3 | E16: 118.531 | F16: 0 | G16: =E16*F16 -> 0
A17: 11 | B17: 171209002 | C17: Poplatok za skladovanie - zemina a kamenivo (17 05) ostatné | D17: t | E17: 177.797 | F17: 0 | G17: =E17*F17 -> 0
A18: 0 | B18: 2 | C18: Zakladanie | G18: =SUM(G19:G20) -> 0 | H18: =SUM(H19:H20) -> 0.675
A19: 12 | B19: 242111110 | C19: Osadenie plášťa vodárenskej studne z betónových skruží celokruhových DN 600 mm | D19: m | E19: 2 | F19: 0 | G19: =E19*F19 -> 0 | H19: 0.069
A20: 13 | B20: 592250000500 | C20: Prefabrikát betónový pre studne, skruž kruhová TBH 1-600, DN 600, dĺžka 1000 mm, hr. steny 90 mm | D20: ks | E20: 2.02 | F20: 0 | G20: =E20*F20 -> 0 | H20: =0.3*E20 -> 0.606
A21: 0 | B21: 3 | C21: Zvislé a kompletné konštrukcie | G21: =SUM(G22:G34) -> 0 | H21: =SUM(H22:H34) -> 196.966
A22: 14 | B22: 317941121 | C22: Osadenie oceľových valcovaných nosníkov (na murive) I, IE,U,UE,L do č.12 alebo výšky do 120 mm | D22: t | E22: 0.108 | F22: 0 | G22: =E22*F22 -> 0 | H22: 0.002
A23: 15 | B23: 133810000800 | C23: Profil nerez IPN 120, akosť ocele 1.4301-podpera rámov prekrytia pol.č. "9.9" | D23: kg | E23: 107.67 | F23: 0 | G23: =E23*F23 -> 0 | H23: 0.108
A24: 16 | B24: 317941123 | C24: Osadenie oceľových valcovaných nosníkov (na murive) I, IE,U,UE,L č.14-22 alebo výšky do 220 mm | D24: t | E24: 0.517 | F24: 0 | G24: =E24*F24 -> 0 | H24: 0.009
A25: 17 | B25: 145640001400 | C25: Profil jäklový nerezový štvorcový rozmer 110x110x4 mm, akosť ocele 1.4301-nosná konštrukcia pre kladkostroj | D25: m | E25: 11.248 | F25: 0 | G25: =E25*F25 -> 0 | H25: 0.146
A26: 18 | B26: 133840001200 | C26: Profil nerez UPN 160, akosť ocele 1.4301-nosná konštrukcia pre kladkostroj | D26: kg | E26: 222.642 | F26: 0 | G26: =E26*F26 -> 0 | H26: 0.223
A27: 19 | B27: 133810000801 | C27: Profil nerez IPE 220, akosť ocele 1.4301-nosná konštrukcia pre kladkostroj | D27: kg | E27: 148.03 | F27: 0 | G27: =E27*F27 -> 0 | H27: 0.148
A28: 20 | B28: 380311531 | C28: Kompletné konštrukcie čistiarní odpadových vôd z betónu prostého tr. C 12/15, hr. 80-150 mm-podkladný betón | D28: m3 | E28: 2.419 | F28: 0 | G28: =E28*F28 -> 0 | H28: 7.969
A29: 21 | B29: 380311641 | C29: Kompletné konštrukcie čistiarní odpad. vôd z betónu prostého tr. C 16/20, hr. nad 80 do 150 mm-výplňový betón a obetónovanie | D29: m3 | E29: 12.367 | F29: 0 | G29: =E29*F29 -> 0 | H29: 40.232
A30: 22 | B30: 380326232 | C30: Kompletné konštrukcie čistiarní odpadových vôd zo železobetónu vodostavebného C 25/30, hr. 150-300 mm, vrátane tesnenia pracovných škár | D30: m3 | E30: 32.406 | F30: 0 | G30: =E30*F30 -> 0 | H30: 109.849
A31: 23 | B31: 380326233 | C31: Kompletné konštrukcie čistiarní odpadových vôd zo železobetónu vodostavebného C 25/30, hr. nad 300 mm, vrátane tesnenia pracovných škár | D31: m3 | E31: 11.505 | F31: 0 | G31: =E31*F31 -> 0 | H31: 32.908
A32: 24 | B32: 380356211 | C32: Debnenie kompl. konštrukcií čistiarní odpad. vôd z plôch rovinných zhotovenie | D32: m2 | E32: 271.649 | F32: 0 | G32: =E32*F32 -> 0 | H32: 1.146
A33: 25 | B33: 380356212 | C33: Debnenie kompl. konštrukcií čistiarní odpad. vôd z plôch rovinných odstránenie | D33: m2 | E33: 271.649 | F33: 0 | G33: =E33*F33 -> 0
A34: 26 | B34: 380361006 | C34: Výstuž komplet. konstr. čist., odpadových vôd a nádrží z ocele B500 B | D34: t | E34: 4.172 | F34: 0 | G34: =E34*F34 -> 0 | H34: 4.226
A35: 0 | B35: 4 | C35: Vodorovné konštrukcie | G35: =G36 -> 0 | H35: =H36 -> 1.116
A36: 27 | B36: 451571111 | C36: Lôžko pod dlažby zo štrkopiesku hr.vrstvy do 100 mm | D36: m2 | E36: 5.25 | F36: 0 | G36: =E36*F36 -> 0 | H36: 1.116
A37: 0 | B37: 5 | C37: Komunikácie | G37: =SUM(G38:G39) -> 0 | H37: =SUM(H38:H39) -> 1.76
A38: 28 | B38: 596811320 | C38: Kladenie betónovej dlažby komunikacií pre peších do lôžka z kameniva, veľ. do 0,25 m2 plochy do 50 m2 | D38: m2 | E38: 5.25 | F38: 0 | G38: =E38*F38 -> 0 | H38: 0.53
A39: 29 | B39: 592270000100 | C39: Tvárnica priekopová a melioračná, doska obkladová betónová TBM 2-50, rozmer 500x500x100 mm | D39: ks | E39: 21.21 | F39: 0 | G39: =E39*F39 -> 0 | H39: 1.23
A40: 0 | B40: 8 | C40: Rúrové vedenie | G40: =SUM(G41:G44) -> 0 | H40: =SUM(H41:H44) -> 0.082
A41: 30 | B41: 877356102 | C41: Montáž kanalizačnej PVC-U šachtovej prechodky DN 200 | D41: ks | E41: 1 | F41: 0 | G41: =E41*F41 -> 0 | H41: 0.001
...

Sheet SO-04
A1: DOBUDOVANIE A INTENZIFIKÁCIA ČOV LEVOČA
A2: SO - 04 ZDRUŽENÝ OBJEKT BIOLOGICKÉHO ČISTENIA
A4: ČP | B4: Kód položky | C4: Popis | D4: MJ | E4: Množstvo | F4: J. cena (EUR) | G4: Celková cena (EUR) | H4: Hmotnosť celkom
A5: 0 | B5: HSV | C5: Práce a dodávky HSV | G5: =G6+G17+G27+G43+G49+G55+G65 -> 0 | H5: =H6+H17+H27+H43+H49+H55 -> 103.079
A6: 0 | B6: 1 | C6: Zemné práce | G6: =SUM(G7:G16) -> 0
A7: 1 | B7: 115001102 | C7: Odvedenie vody potrubím pri priemere potrubia DN nad 100 do 150 + presun hmôt | D7: m | E7: 50 | F7: 0 | G7: =E7*F7 -> 0
A8: 2 | B8: 115101201 | C8: Čerpanie vody na dopravnú výšku do 10 m s priemerným prítokom litrov za minútu nad 100 do 500 l | D8: hod | E8: 2880 | F8: 0 | G8: =E8*F8 -> 0
A9: 3 | B9: 115101301 | C9: Pohotovosť záložnej čerpacej súpravy pre výšku do 10 m, s prítokom litrov za minútu nad 100 do 500 l | D9: deň | E9: 120 | F9: 0 | G9: =E9*F9 -> 0
A10: 4 | B10: 131201203 | C10: Výkop zapaženej jamy v hornine 3, nad 1000 do 10000 m3 | D10: m3 | E10: 5445.28 | F10: 0 | G10: =E10*F10 -> 0
A11: 5 | B11: 131201209 | C11: Príplatok za lepivosť pri hĺbení zapažených jám a zárezov s urovnaním dna v hornine 3 | D11: m3 | E11: 1633.584 | F11: 0 | G11: =E11*F11 -> 0
A12: 6 | B12: 174101003 | C12: Zásyp sypaninou so zhutnením jám, šachiet, rýh, zárezov alebo okolo objektov nad 1000 do 10000 m3 | D12: m3 | E12: 997.14 | F12: 0 | G12: =E12*F12 -> 0
A13: 7 | B13: 175101202 | C13: Obsyp objektov | D13: m3 | E13: 330.16 | F13: 0 | G13: =E13*F13 -> 0
A14: 8 | B14: 162301141 | C14: Vodorovné premiestnenie výkopku po spevnenej ceste z horniny tr.1-4, nad 1000 do 10000 m3 na vzdialenosť nad 50 do 500 m | D14: m3 | E14: 4117.98 | F14: 0 | G14: =E14*F14 -> 0
A15: 9 | B15: 171201203 | C15: Uloženie sypaniny na skládky nad 1000 do 10000 m3 | D15: m3 | E15: 4117.98 | F15: 0 | G15: =E15*F15 -> 0
A16: 10 | B16: 171209002 | C16: Poplatok za skladovanie zeminy | D16: t | E16: 5353.374 | F16: 0 | G16: =E16*F16 -> 0
A17: 0 | B17: 2 | C17: Zakladanie | G17: =SUM(G18:G24) -> 0
A18: 11 | B18: KP | C18: Paženie jám štetovnicovou stenou zo štetovníc LARSEN IIIn | D18: m2 | E18: 1320 | F18: 0 | G18: =E18*F18 -> 0
C19: - nastraženie a zabaranenie štetovníc
C20: - dodávka štetovníc ( dvojnásobná obratovosť )
C21: - zváranie a pozdĺžne rezanie štetovníc
C22: - rezanie otvorov, vytiahnutie štetovníc
C23: - presun hmôt
A24: 12 | B24: KP | C24: Plášť vodárenskej studne z betónových skruží celokruhových DN 1000 | D24: m | E24: 10 | F24: 0 | G24: =E24*F24 -> 0
C25: - osadenie a dodávka skruží TBH 1000/100
C26: - presun hmôt
B27: 3 | C27: Zvislé a kompletné konštrukcie | G27: =SUM(G28:G39) -> 0
A28: 13 | B28: KP | C28: Kompletné konštrukcie čistiarní odpadových vôd z betónu prostého tr. C 12/15 - podkladný betón | D28: m3 | E28: 146 | F28: 0 | G28: =E28*F28 -> 0
C29: - zriadenie konštr. + dodávka bet. = 146,0 m3
C30: - zriadenie a odstránenie debnenia = 99,67 m2
C31: - presun hmôt = 329,63 t
A32: 14 | B32: KP | C32: Kompletné konštrukcie čistiarní odpadových vôd zo železobetónu vodostavebného C 30/37, - konštr. nádrže | D32: m3 | E32: 1451.65 | F32: 0 | G32: =E32*F32 -> 0
C33: - zriadenie konštr. + dodávka bet.= 1 451,65 m3
C34: - zriadenie a odstránenie debnenia = 3 420,23 m2
C35: - výstuž kompletných konštrukcií = 203,6 t
C36: - osadenie a dodávka tesnenia pracovnej škáry oceľ. plechom 160/0,6m s bituménovým povlakom 0,5mm = 357,90 m
C37: - osadenie a dodávka tesniacich členov TRICOSAL elastomer AM 500 + FAE50 , LINK-SEAL a dilatácii
C38: - presun hmôt = 3 972,77 t
A39: 15 | B39: KP | C39: Kompletné konštrukcie čistiarní odpad. vôd z betónu prostého tr. C 25/30, hr.nad 80 do 150 mm - výplňový betón v dne | D39: m3 | E39: 3 | F39: 0 | G39: =E39*F39 -> 0
C40: - zriadenie konštr. + dodávka bet.
C41: - zriadenie a odstránenie debnenia
...

Sheet SO-04 eli
A1: DOBUDOVANIE A INTENZIFIKÁCIA ČOV LEVOČA
A2: SO-04 ZDRUŽENÝ OBJEKT BIOLOGICKÉHO ČISTENIA - ELEKTROSTAVEBNÁ ČASŤ
A4: Pol. | B4: NÁZOV POLOŽKY | C4: Jedn. | D4: Mn. | E4: J. cena (EUR) | F4: Celková cena (EUR)
B5: DODÁVKA
A6: 1 | B6: Pilierový plastový rozvádzač so zásuvkami 2x230V/16A, 1x400V/16A, 1x400V/32A s priestorom pre istenie, vrátane ističov pre zásuvky a pre jeden svetelný okruh a prúdového chrániča, osadenia a zapojenia - IP65 | C6: ks | D6: 4 | E6: 0 | F6: =D6*E6 -> 0
A7: 2 | B7: Svietidlo LED na povrch, min.34W - IP65 | C7: ks | D7: 2 | E7: 0 | F7: =D7*E7 -> 0
A8: 3 | B8: Spínač jednopólový na povrch č.1 10A/250V - IP55 | C8: ks | D8: 2 | E8: 0 | F8: =D8*E8 -> 0
A9: 4 | B9: CYKY-J 5x6 v zemi vrátane ukončenia | C9: m | D9: 230 | E9: 0 | F9: =D9*E9 -> 0
A10: 5 | B10: CYKY-J 3x1,5 v PVC žľabe resp. v zemi vrátane ukončenia | C10: m | D10: 100 | E10: 0 | F10: =D10*E10 -> 0
A11: 6 | B11: CYKY-O 2x1,5 PVC žľabe vrátane ukončenia | C11: m | D11: 2 | E11: 0 | F11: =D11*E11 -> 0
A12: 7 | B12: Krabica plastová na povrch vrátane svoriek - IP 54 | C12: ks | D12: 2 | E12: 0 | F12: =D12*E12 -> 0
A13: 8 | B13: Vodič FeZn ø10 v betóne a v zemi | C13: m | D13: 350 | E13: 0 | F13: =D13*E13 -> 0
A14: 9 | B14: Vodič FeZn 30x4mm v betóne a v zemi | C14: m | D14: 260 | E14: 0 | F14: =D14*E14 -> 0
A15: 10 | B15: Svorka odbočná SR03 | C15: ks | D15: 60 | E15: 0 | F15: =D15*E15 -> 0
A16: 11 | B16: Svorka odbočná SR02 | C16: ks | D16: 32 | E16: 0 | F16: =D16*E16 -> 0
A17: 12 | B17: Svorka pripájacia SP2 nerezová V4A | C17: ks | D17: 21 | E17: 0 | F17: =D17*E17 -> 0
A18: 13 | B18: Zvar
A19: 14 | B19: Pasívna antikorózna ochrana prechodov vodičov FeZn do zeme a do betónu | C19: ks | D19: 1 | E19: 0 | F19: =D19*E19 -> 0
A20: 15 | B20: Vodič pre ochranné a doplnkové pospájanie CY 6 Z/Ž v PVC žľabe a trubke | C20: m | D20: 40 | E20: 0 | F20: =D20*E20 -> 0
A21: 16 | B21: Spojovací materiál pre ochranné a doplnkové pospájanie (HUS, svorky, Cu pásik, káblové oká, vejárovité podložky) | C21: ks | D21: 1 | E21: 0 | F21: =D21*E21 -> 0
B23: MONTÁŽ
A24: 1 | B24: Pilierový plastový rozvádzač so zásuvkami 2x230V/16A, 1x400V/16A, 1x400V/32A s priestorom pre istenie, vrátane ističov pre zásuvky a pre jeden svetelný okruh a prúdového chrániča, osadenia a zapojenia - IP65 | C24: ks | D24: 4 | E24: 0 | F24: =D24*E24 -> 0
A25: 2 | B25: Svietidlo LED na povrch, min.34W - IP65 | C25: ks | D25: 2 | E25: 0 | F25: =D25*E25 -> 0
A26: 3 | B26: Spínač jednopólový na povrch č.1 10A/250V - IP55 | C26: ks | D26: 2 | E26: 0 | F26: =D26*E26 -> 0
A27: 4 | B27: CYKY-J 5x6 v zemi vrátane ukončenia | C27: m | D27: 230 | E27: 0 | F27: =D27*E27 -> 0
A28: 5 | B28: CYKY-J 3x1,5 v PVC žľabe resp. v zemi vrátane ukončenia | C28: m | D28: 100 | E28: 0 | F28: =D28*E28 -> 0
A29: 6 | B29: CYKY-O 2x1,5 PVC žľabe vrátane ukončenia | C29: m | D29: 2 | E29: 0 | F29: =D29*E29 -> 0
A30: 7 | B30: Krabica plastová na povrch vrátane svoriek - IP 54 | C30: ks | D30: 2 | E30: 0 | F30: =D30*E30 -> 0
A31: 8 | B31: Vodič FeZn ø10 v betóne a v zemi | C31: m | D31: 350 | E31: 0 | F31: =D31*E31 -> 0
A32: 9 | B32: Vodič FeZn 30x4mm v betóne a v zemi | C32: m | D32: 260 | E32: 0 | F32: =D32*E32 -> 0
A33: 10 | B33: Svorka odbočná SR03 | C33: ks | D33: 60 | E33: 0 | F33: =D33*E33 -> 0
A34: 11 | B34: Svorka odbočná SR02 | C34: ks | D34: 32 | E34: 0 | F34: =D34*E34 -> 0
A35: 12 | B35: Svorka pripájacia SP2 nerezová V4A | C35: ks | D35: 21 | E35: 0 | F35: =D35*E35 -> 0
... A39: 16 | B39: Spojovací materiál pre ochranné a doplnkové pospájanie (HUS, svorky, Cu pásik, káblové oká, vejárovité podložky) | C39: ks | D39: 1 | E39: 0 | F39: =D39*E39 -> 0
B40: HODINOVÁ SADZBA
A41: 17 | B41: Odborná prehliadka a skúška (Revízia) | C41: h | D41: 8 | E41: 0 | F41: =D41*E41 -> 0
B43: Náklady celkom: | F43: =SUM(F6:F41) -> 0

Sheet SO-05
A1: DOBUDOVANIE A INTENZIFIKÁCIA ČOV LEVOČA
A2: SO - 05 ZDRUŽENÝ OBJEKT DÚCHÁRNE A PREVÁDZKOVEJ BUDOVY
A4: ČP | B4: Kód položky | C4: Popis | D4: MJ | E4: Množstvo | F4: J. cena (EUR) | G4: Celková cena (EUR) | H4: Hmotnosť celkom
A5: 0 | B5: HSV | C5: Práce a dodávky HSV | G5: =G6+G12+G26+G30+G34+G38+G55+G48 -> 0 | H5: =H6+H12+H26+H30+H34+H38+H55+H48 -> 986.319
A6: 0 | B6: 1 | C6: Zemné práce | G6: =SUM(G7:G11) -> 0
A7: 1 | B7: 131201102 | C7: Výkop nezapaženej jamy v hornine 3, nad 100 do 1000 m3 | D7: m3 | E7: 535.06 | F7: 0 | G7: =E7*F7 -> 0
A8: 2 | B8: 131201109 | C8: Hĺbenie nezapažených jám a zárezov. Príplatok za lepivosť horniny 3 | D8: m3 | E8: 160.518 | F8: 0 | G8: =E8*F8 -> 0
A9: 3 | B9: 162301121 | C9: Vodorovné premiestnenie výkopku po spevnenej ceste z horniny tr.1-4, nad 100 do 1000 m3 na vzdialenosť nad 50 do 500 m | D9: m3 | E9: 535.06 | F9: 0 | G9: =E9*F9 -> 0
A10: 4 | B10: 171201202 | C10: Uloženie sypaniny na skládky nad 100 do 1000 m3 | D10: m3 | E10: 535.06 | F10: 0 | G10: =E10*F10 -> 0
A11: 5 | B11: 171209002 | C11: Poplatok za skladovanie zeminy | D11: t | E11: 695.578 | F11: 0 | G11: =E11*F11 -> 0
A12: 0 | B12: 2 | C12: Zakladanie | G12: =SUM(G13:G25) -> 0 | H12: =SUM(H13:H25) -> 867.696
A13: 6 | B13: 273313611 | C13: Betón základových dosiek, prostý tr. C 16/20 - podkladný betón | D13: m3 | E13: 10.23 | F13: 0 | G13: =E13*F13 -> 0 | H13: 22.506
A14: 7 | B14: 273356021 | C14: Debnenie základových konštrukcií pre plochy rovinné zhotovenie | D14: m2 | E14: 5.1 | F14: 0 | G14: =E14*F14 -> 0 | H14: 0.066
A15: 8 | B15: 273356022 | C15: Debnenie základových konštrukcií rovinné odstránenie | D15: m2 | E15: 5.1 | F15: 0 | G15: =E15*F15 -> 0
A16: 9 | B16: 274313711 | C16: Betón základových pásov, prostý tr. C 25/30 | D16: m3 | E16: 89.36 | F16: 0 | G16: =E16*F16 -> 0 | H16: 196.592
A17: 10 | B17: 274351217 | C17: Debnenie stien základových pásov, zhotovenie-tradičné | D17: m2 | E17: 241.56 | F17: 0 | G17: =E17*F17 -> 0 | H17: 0.07
A18: 11 | B18: 274351218 | C18: Debnenie stien základových pásov, odstránenie-tradičné | D18: m2 | E18: 241.56 | F18: 0 | G18: =E18*F18 -> 0
A19: 12 | B19: 273326242 | C19: Základové dosky z betónu železového vodostavebného C 30/37 | D19: m3 | E19: 37.88 | F19: 0 | G19: =E19*F19 -> 0 | H19: 83.336
A20: 13 | B20: 273356021 | C20: Debnenie základových konštrukcií pre plochy rovinné zhotovenie | D20: m2 | E20: 47.97 | F20: 0 | G20: =E20*F20 -> 0 | H20: 0.066
A21: 14 | B21: 273356022 | C21: Debnenie základových konštrukcií rovinné odstránenie | D21: m2 | E21: 47.97 | F21: 0 | G21: =E21*F21 -> 0
A22: 15 | B22: 273362021 | C22: Výstuž základových dosiek, zákl. pod stroje - sieťovina | D22: t | E22: 1.446 | F22: 0 | G22: =E22*F22 -> 0 | H22: 1.518
A23: 16 | B23: 1327011000 | C23: Oceľové vlákna do betónu DRAMIX RL 45/50-BN - uvažované 75 kg/m3 betónu | D23: t | E23: 1.389 | F23: 0 | G23: =E23*F23 -> 0 | H23: 1.458
A24: 17 | B24: 278382552 | C24: Základy pod stroje do 5 m3 z betónu s rozptýlenou výstužou tr. C 25/30, zložitosť II, včetne debnenia | D24: m3 | E24: 3.88 | F24: 0 | G24: =E24*F24 -> 0 | H24: 10.077
A25: 18 | B25: KP | C25: Štrkodrva fr. 32-63 | D25: m3 | E25: 334.55 | F25: 0 | G25: =E25*F25 -> 0 | H25: 552.007
A26: 0 | B26: 3 | C26: Zvislé a kompletné konštrukcie | G26: =SUM(G27:G29) -> 0 | H26: =SUM(H27:H28) -> 31.982
A27: 19 | B27: 311234560 | C27: Murivo nosné + priečky z tehál POROTHERM | D27: m3 | E27: 83.89 | F27: 0 | G27: =E27*F27 -> 0 | H27: 31.982
A28: 20 | B28: KP | C28: Keramické preklady POROTHERM + presun hmôt | D28: kpl | E28: 1 | F28: 0 | G28: =E28*F28 -> 0
A29: 21 | B29: KP | C29: Osadenie a dodávka SDK priečky v m.č.1.07,1.06,1.03 | D29: m2 | E29: 6.75 | F29: 0 | G29: =E29*F29 -> 0
A30: 0 | B30: 4 | C30: Vodorovné konštrukcie | G30: =SUM(G31:G33) -> 0 | H30: =SUM(H31:H32) -> 0.246
A31: 22 | B31: 413941123 | C31: Osadenie oceľových valcovaných nosníkov I, IE, U, UE, L č. 14-22, alebo výšky do 220 mm | D31: t | E31: 0.225 | F31: 0 | G31: =E31*F31 -> 0 | H31: 0.003
A32: 23 | B32: 1348051500 | C32: Tyč oceľová hrubá prierezu I 200 mm ozn. 10 370 - oceľový nosník kladkostroja | D32: t | E32: 0.243 | F32: 0 | G32: =E32*F32 -> 0 | H32: 0.243
A33: 24 | B33: KP | C33: Betón vencov železový tr. C 30/37 vrátane debnenia, výstuže, presun hmôt | D33: m3 | E33: 8.28 | F33: 0 | G33: =E33*F33 -> 0
B34: 5 | C34: Komunikácie | G34: =SUM(G35:G37) -> 0 | H34: =SUM(H35:H37) -> 19.058
A35: 25 | B35: 564271111 | C35: Podklad alebo podsyp zo štrkopiesku s rozprestretím, vlhčením a zhutnením, po zhutnení hr. 250 mm | D35: m2 | E35: 21.575 | F35: 0 | G35: =E35*F35 -> 0 | H35: 11.461
A36: 26 | B36: 596811111 | C36: Kladenie dlažby betónovej komunikácií pre peších do lôžka z kameniva ťaženého - okapový chodník | D36: m2 | E36: 21.575 | F36: 0 | G36: =E36*F36 -> 0 | H36: 2.29
A37: 27 | B37: 5922763000 | C37: Tvárnica betónová doska obklad. TBM 2-50 50x50x10 | D37: ks | E37: 87.163 | F37: 0 | G37: =E37*F37 -> 0 | H37: 5.307
A38: 0 | B38: 6 | C38: Úpravy povrchov, podlahy, osadenie | G38: =SUM(G39:G47) -> 0 | H38: =SUM(H39:H47) -> 35.62
A39: 28 | B39: 612460252 | C39: Vnútorná omietka vápenná alebo vápennocementová v podlaží a v schodisku hladká | D39: m2 | E39: 329.15 | F39: 0 | G39: =E39*F39 -> 0 | H39: 12.162
A40: 29 | B40: 622464293 | C40: Vonkajšia omietka stien tenkovrstvová BAUMIT, silikátová, Baumit openTop, škrabaná, hr. 3 mm | D40: m2 | E40: 323.179 | F40: 0 | G40: =E40*F40 -> 0 | H40: 1.561
A41: 30 | B41: 625251359 | C41: Kontaktný zatepľovací systém hr. 150 mm BAUMIT STAR - minerálne riešenie, zatĺkacie kotvy | D41: m2 | E41: 45.892 | F41: 0 | G41: =E41*F41 -> 0 | H41: 1.547
...

Sheet SO-05 eli
A1: DOBUDOVANIE A INTENZIFIKÁCIA ČOV LEVOČA
A2: SO-05 ZDRUŽENÝ OBJEKT DÚCHARNE A PREVÁDZKOVEJ BUDOVY - ELEKTROSTAVEBNÁ ČASŤ
A4: Položka | B4: NÁZOV POLOŽKY | C4: Jed | D4: Mn | E4: J. cena (EUR) | F4: Celková cena (EUR)
B5: DODÁVKA
A6: 4 | B6: Rozvádzač na povrch RS05 vrátane výzbroja, osadenia a zapojenia | C6: ks | D6: 1 | E6: 0 | F6: =E6*D6 -> 0
A7: 5 | B7: Svietidlo LED, min. 1x47W vrátane závesného systému - IP65 | C7: ks | D7: 8 | E7: 0 | F7: =E7*D7 -> 0
A8: 6 | B8: Svietidlo na stenu E27/60W, vrátane LED žiarovky 10W, svietiace do polpriestoru smerom k zemi - min IP44 | C8: ks | D8: 4 | E8: 0 | F8: =E8*D8 -> 0
A9: 7 | B9: Svietidlo LED do podhladu, 35W, 3750lm, 4000K - IP20 | C9: ks | D9: 6 | E9: 0 | F9: =E9*D9 -> 0
A10: 8 | B10: Svietidlo LED do podhladu, 14W, 1050lm, 4000K - IP20 | C10: ks | D10: 21 | E10: 0 | F10: =E10*D10 -> 0
A11: 9 | B11: Svietidlo LED do podhladu, 14W, 1050lm, 4000K - IP44 | C11: ks | D11: 2 | E11: 0 | F11: =E11*D11 -> 0
A12: 10 | B12: Svietidlo LED na stenu, 10W, 1100lm, 4000K - IP65 | C12: ks | D12: 1 | E12: 0 | F12: =E12*D12 -> 0
A13: 11 | B13: Svietidlo núdzové na povrch LED 4W pre netrvalé svietenie s batériou pre napájanie po dobu 1h - min. IP44 | C13: ks | D13: 2 | E13: 0 | F13: =E13*D13 -> 0
A14: 12 | B14: Svietidlo LED núdzové do podhľadu pre netrvalé svietenie s batériou pre napájanie po dobru 1h - IP20 | C14: ks | D14: 2 | E14: 0 | F14: =E14*D14 -> 0
A15: 13 | B15: Zásuvková skriňa 2x230V/16A, 1x400V/16A, 1x400V/32A s priestorom pre istenie, vrátane ističov, osadenia a zapojenia - IP44 | C15: ks | D15: 1 | E15: 0 | F15: =E15*D15 -> 0
A16: 14 | B16: Spínač jednopólový zapustený č.1 10A/250V, IP44 vrátane inštalačnej krabice do zateplenia | C16: ks | D16: 4 | E16: 0 | F16: =E16*D16 -> 0
A17: 15 | B17: Spínač jednopólový na povrch č.1 10A/250V - IP55 | C17: ks | D17: 2 | E17: 0 | F17: =E17*D17 -> 0
... A53: 51 | B53: Spojovací materiál pre ochranné a doplnkové pospájanie (HUS, svorky, Cu pásik, káblové oká, vejárovité podložky) | C53: ks | D53: 1 | E53: 0 | F53: =E53*D53 -> 0
B55: PODRUŽNÝ MATERIÁL 3% Z CELKOVEJ SUMY MATERIÁLU | C55: % | D55: 3 | E55: =SUM(F6:F53) -> 0 | F55: =D55*E55/100 -> 0
B57: MONTÁŽ A DEMONTÁŽ BEZ DODÁVKY
A58: 1 | B58: Zapojenie trojfázového spotrebiča (ventilátor) | C58: ks | D58: 3 | E58: 0 | F58: =E58*D58 -> 0
A59: 2 | B59: Zapojenie jednofázového spotrebiča (ventilátor) | C59: ks | D59: 4 | E59: 0 | F59: =E59*D59 -> 0
A60: 3 | B60: Rezania drážok,sekacie práce a vyčistenie vybur.mater (3x1,5cm) | C60: m | D60: 180 | E60: 0 | F60: =E60*D60 -> 0
B61: MONTÁŽ
A62: 4 | B62: Rozvádzač na povrch RS05 vrátane výzbroja, osadenia a zapojenia | C62: ks | D62: 1 | E62: 0 | F62: =E62*D62 -> 0
A63: 5 | B63: Svietidlo LED, min. 1x47W vrátane závesného systému - IP65 | C63: ks | D63: 8 | E63: 0 | F63: =E63*D63 -> 0
A64: 6 | B64: Svietidlo na stenu E27/60W, vrátane LED žiarovky 10W, svietiace do polpriestoru smerom k zemi - min IP44 | C64: ks | D64: 4 | E64: 0 | F64: =E64*D64 -> 0
A65: 7 | B65: Svietidlo LED do podhladu, 35W, 3750lm, 4000K - IP20 | C65: ks | D65: 6 | E65: 0 | F65: =E65*D65 -> 0
A66: 8 | B66: Svietidlo LED do podhladu, 14W, 1050lm, 4000K - IP20 | C66: ks | D66: 21 | E66: 0 | F66: =E66*D66 -> 0
A67: 9 | B67: Svietidlo LED do podhladu, 14W, 1050lm, 4000K - IP44 | C67: ks | D67: 2 | E67: 0 | F67: =E67*D67 -> 0
A68: 10 | B68: Svietidlo LED na stenu, 10W, 1100lm, 4000K - IP65 | C68: ks | D68: 1 | E68: 0 | F68: =E68*D68 -> 0
A69: 11 | B69: Svietidlo núdzové na povrch LED 4W pre netrvalé svietenie s batériou pre napájanie po dobu 1h - min. IP44 | C69: ks | D69: 2 | E69: 0 | F69: =E69*D69 -> 0
A70: 12 | B70: Svietidlo LED núdzové do podhľadu pre netrvalé svietenie s batériou pre napájanie po dobru 1h - IP20 | C70: ks | D70: 2 | E70: 0 | F70: =E70*D70 -> 0
A71: 13 | B71: Zásuvková skriňa 2x230V/16A, 1x400V/16A, 1x400V/32A s priestorom pre istenie, vrátane ističov, osadenia a zapojenia - IP44 | C71: ks | D71: 1 | E71: 0 | F71: =E71*D71 -> 0
A72: 14 | B72: Spínač jednopólový zapustený č.1 10A/250V, IP44 vrátane inštalačnej krabice do zateplenia | C72: ks | D72: 4 | E72: 0 | F72: =E72*D72 -> 0
A73: 15 | B73: Spínač jednopólový na povrch č.1 10A/250V - IP55 | C73: ks | D73: 2 | E73: 0 | F73: =E73*D73 -> 0
... A109: 51 | B109: Spojovací materiál pre ochranné a doplnkové pospájanie (HUS, svorky, Cu pásik, káblové oká, vejárovité podložky) | C109: ks | D109: 1 | E109: 0 | F109: =E109*D109 -> 0
B110: HODINOVÁ SADZBA
A111: 52 | B111: Odborná prehliadka a skúška (Revízia) | C111: h | D111: 16 | E111: 0 | F111: =E111*D111 -> 0
B113: Náklady celkom: | F113: =SUM(F6:F111) -> 0

Sheet SO-05 vzt
A1: DOBUDOVANIE A INTENZIFIKÁCIA ČOV LEVOČA
A2: SO-05 ZDRUŽENÝ OBJEKT DUCHÁRNE A PREVÁDZKOVEJ BUDOVY - VZDUCHOTECHNIKA
A4: Pozícia | B4: Názov pozície | C4: Materiál | D4: Rozmer [mm] | E4: MJ | F4: Počet | G4: J. cena (EUR) | H4: Celková cena (EUR)
A6: 1 | B6: Axiálny ventilátor potrubný ELEKTRODESIGN | D6: &500 | E6: 2 | F6: ks | G6: 0 | H6: =G6*E6 -> 0
B7: TXTR/4-500 (alebo ekvivalent) (9950 m3/h, 0,90 kW; 400V; 1,7A)
A8: 2 | B8: Sacia dýza TAD 500 Elektrodesign (alebo ekvivalent) | C8: ocel | D8: &500 | E8: 2 | F8: ks | G8: 0 | H8: =G8*E8 -> 0
A9: 3 | B9: Ochranná mriežka DEF 500T Elektrodesign (alebo ekvivalent) | C9: ocel | D9: &500 | E9: 2 | F9: ks | G9: 0 | H9: =G9*E9 -> 0
A10: 4 | B10: Tlmič hluku rúrový TAA 500 Elektrodesign (alebo ekvivalent) | C10: ocel | D10: &700 | E10: 2 | F10: ks | G10: 0 | H10: =G10*E10 -> 0
A11: 5 | B11: Žalúziová klapka samočinná PER-500 W Elektrodesign (alebo ekvivalent) | C11: plast | D11: &500 | E11: 2 | F11: ks | G11: 0 | H11: =G11*E11 -> 0
A12: 6 | B12: Protidažďová žalúzia | C12: pozink | D12: 1000x1000 | E12: 2 | F12: ks | G12: 0 | H12: =G12*E12 -> 0
A13: 7 | B13: Tlmič hluku v potrubí 1000 x 1000 + 5 vložiek | C13: pozink | D13: 1000x1000 | E13: 2 | F13: ks | G13: 0 | H13: =G13*E13 -> 0
A14: 8 | B14: Žalúziová klapka samočinná | C14: pozink | D14: 1000x1000 | E14: 2 | F14: ks | G14: 0 | H14: =G14*E14 -> 0
B15: vrátane:
B16: tesniaci a spojovací materiál
B17: pomocné konštrukcie
A19: 9 | B19: Axiálny ventilátor nástenný ELEKTRODESIGN | D19: &400 | E19: 1 | F19: ks | G19: 0 | H19: =G19*E19 -> 0
B20: HXBR/6-400 (alebo ekvivalent) (3387 m3/h, 90 Pa, 0,125 kW; 230V)
A21: 10 | B21: Žalúziová klapka samočinná TRKS-400 Elektrodesign (alebo ekvivalent) | C21: pozink | D21: &400 | E21: 1 | F21: ks | G21: 0 | H21: =G21*E21 -> 0
A22: 11 | B22: Protidažďová žalúzia | C22: pozink | D22: 600x500 | E22: 1 | F22: ks | G22: 0 | H22: =G22*E22 -> 0
A23: 12 | B23: Potrubie (nasávací otvor) 600x500-400 | C23: pozink | D23: 600x500 | E23: 1 | F23: ks | G23: 0 | H23: =G23*E23 -> 0
A24: 13 | B24: Žalúziová klapka samočinná | C24: pozink | D24: 600x500 | E24: 1 | F24: ks | G24: 0 | H24: =G24*E24 -> 0
B25: vrátane:
B26: tesniaci a spojovací materiál
B27: pomocné konštrukcie
A29: 14 | B29: Malý axiálny ventilátor nástenný ELEKTRODESIGN | C29: plast | D29: &118 | E29: 2 | F29: ks | G29: 0 | H29: =G29*E29 -> 0
B30: SILENT 200 CRZ (alebo ekvivalent) (180 m3/h, 16W; 230V)
A31: 15 | B31: Žalúziová klapka samočinná PER-125 W Elektrodesign (alebo ekvivalent) | C31: plast | D31: &125 | E31: 2 | F31: ks | G31: 0 | H31: =G31*E31 -> 0
A32: 16 | B32: Dverná mriežka PT 489 B (alebo ekvivalent) | C32: plast | D32: 445x82 | E32: 4 | F32: ks | G32: 0 | H32: =G32*E32 -> 0
B33: vrátane:
B34: tesniaci a spojovací materiál
B35: pomocné konštrukcie
A37: 17 | B37: Malý axiálny ventilátor nástenný ELEKTRODESIGN | C37: plast | D37: &99 | E37: 2 | F37: ks | G37: 0 | H37: =G37*E37 -> 0
B38: SILENT 100 CRZ (alebo ekvivalent) (95 m3/h, 8W; 230V)
A39: 18 | B39: Žalúziová klapka samočinná PER-100 W Elektrodesign (alebo ekvivalent) | C39: plast | D39: &100 | E39: 2 | F39: ks | G39: 0 | H39: =G39*E39 -> 0
A40: 19 | B40: Dverná mriežka PT 489 B (alebo ekvivalent) | C40: plast | D40: 445x82 | E40: 4 | F40: ks | G40: 0 | H40: =G40*E40 -> 0
B41: vrátane:
B42: tesniaci a spojovací materiál
B43: pomocné konštrukcie
B45: Dodávka celkom: | H45: =SUM(H6:H44) -> 0
A47: 20 | B47: Montáž celkom: | F47: % | G47: 20 | H47: =G47*H45/100 -> 0
...

Sheet SO-05 zti
A1: DOBUDOVANIE A INTENZIFIKÁCIA ČOV LEVOČA
A2: SO-05 ZDRUŽENÝ OBJEKT DUCHÁRNE A PREVŹDZKOVEJ BUDOVY - ZDRAVOTECHNIKA
A4: Pol. | B4: Popis položky, stavebného dielu, remesla, | C4: Množstvo | D4: Merná | E4: J. cena (EUR) | F4: Celková cena (EUR)
A5: číslo | B5: výkaz-výmer | C5: výmera | D5: jednotka
B7: PRÁCE A DODÁVKY HSV
B8: 1 - ZEMNE PRÁCE
A9: 1 | B9: Hĺbenie rýh šírka do 2 m v hornine 3, vr. naloženia, vyloženia, odvozu výkopku a prebytočnej zeminy, uloženia na skládke, všetkých poplatkov | C9: 21 | D9: m3 | E9: 0 | F9: =E9*C9 -> 0
A10: 2 | B10: Zásyp zhutnený rýh do 100 m3 | C10: 12.9 | D10: m3 | E10: 0 | F10: =E10*C10 -> 0
B11: 1 - ZEMNE PRÁCE spolu : | F11: =SUM(F9:F10) -> 0
B13: 4 - VODOROVNÉ KONŠTRUKCIE
A14: 3 | B14: Lôžko pod potrubie a obsyp potr. v otv. výkope z piesku | C14: 8.1 | D14: m3 | E14: 0 | F14: =E14*C14 -> 0
B15: 4 - VODOROVNÉ KONŠTRUKCIE spolu : | F15: =SUM(F14) -> 0
B17: 8 - RÚROVÉ VEDENIA
B18: Kanalizácia
A19: 4 | B19: Potrubie kanal. z PVC-U rúr hrdlových odpadné D 40x1,8 | C19: 2.5 | D19: m | E19: 0 | F19: =E19*C19 -> 0
A20: 5 | B20: Potrubie kanal. z PVC-U rúr hrdlových odpadné D 50x1,8 | C20: 5 | D20: m | E20: 0 | F20: =E20*C20 -> 0
A21: 6 | B21: Potrubie kanal. z PVC-U rúr hrdlových odpadné D 75x1,8 | C21: 1.5 | D21: m | E21: 0 | F21: =E21*C21 -> 0
A22: 7 | B22: Potrubie kanal. z PVC-U rúr hrdlových odpadné D 110x2,2 | C22: 19.5 | D22: m | E22: 0 | F22: =E22*C22 -> 0
A23: 8 | B23: Potrubie kanal. z PVC-U rúr hrdlových odpadné D 110x3,2 | C23: 3 | D23: m | E23: 0 | F23: =E23*C23 -> 0
A24: 9 | B24: Potrubie kanal. z PVC-U rúr hrdlových odpadné D 160x4,7 | C24: 8 | D24: m | E24: 0 | F24: =E24*C24 -> 0
A25: 10 | B25: Potrubie kanal. z PVC-U rúr hrdlových odpadné D 200x5,9 | C25: 1.6 | D25: m | E25: 0 | F25: =E25*C25 -> 0
A26: 11 | B26: Čistiaca tvarovka D110 | C26: 3 | D26: ks | E26: 0 | F26: =E26*C26 -> 0
A27: 12 | B27: Odbočka D110/50 | C27: 2 | D27: ks | E27: 0 | F27: =E27*C27 -> 0
A28: 13 | B28: Odbočka D110/75 | C28: 1 | D28: ks | E28: 0 | F28: =E28*C28 -> 0
A29: 14 | B29: Odbočka D110/110 (zvislá) | C29: 2 | D29: ks | E29: 0 | F29: =E29*C29 -> 0
A30: 15 | B30: Odbočka D110/110/50 ľavá (zvislá) | C30: 1 | D30: ks | E30: 0 | F30: =E30*C30 -> 0
... A50: 35 | B50: Skúška tesnosti kanalizácie vodou do DN 200 | C50: 9.6 | D50: m | E50: 0 | F50: =E50*C50 -> 0
B51: 8 - RÚROVÉ VEDENIA - Kanalizácia spolu : | F51: =SUM(F19:F50) -> 0
B53: Vodovod
A54: 36 | B54: Plasthlinikové potrubie D 32 vrátane všetkých tvaroviek | C54: 3.5 | D54: m | E54: 0 | F54: =E54*C54 -> 0
A55: 37 | B55: Plasthlinikové potrubie D 25 vrátane všetkých tvaroviek | C55: 21 | D55: m | E55: 0 | F55: =E55*C55 -> 0
A56: 38 | B56: Plasthlinikové potrubie D 20 vrátane všetkých tvaroviek | C56: 20 | D56: m | E56: 0 | F56: =E56*C56 -> 0
A57: 39 | B57: Plasthlinikové potrubie D 15 vrátane všetkých tvaroviek | C57: 24.5 | D57: m | E57: 0 | F57: =E57*C57 -> 0
A58: 40 | B58: Oceľová chránička DN 50 | C58: 1 | D58: m | E58: 0 | F58: =E58*C58 -> 0
A59: 41 | B59: Ochrana potrubia izoláciou hr. 20 mm - pr. 15-32mm | C59: 7 | D59: m2 | E59: 0 | F59: =E59*C59 -> 0
A60: 42 | B60: Guľový ventil DN 15 | C60: 1 | D60: ks | E60: 0 | F60: =E60*C60 -> 0
A61: 43 | B61: Guľový ventil DN 20 | C61: 3 | D61: ks | E61: 0 | F61: =E61*C61 -> 0
A62: 44 | B62: Guľový ventil DN 25 | C62: 4 | D62: ks | E62: 0 | F62: =E62*C62 -> 0
A63: 45 | B63: Guľový ventil DN 32 | C63: 1 | D63: ks | E63: 0 | F63: =E63*C63 -> 0
A64: 46 | B64: Ventil so spät. klapkou | C64: 1 | D64: ks | E64: 0 | F64: =E64*C64 -> 0
...

Sheet SO-06
A1: DOBUDOVANIE A INTENZIFIKÁCIA ČOV LEVOČA
A2: SO - 06 DÁVKOVANIE SÍRANU ŽELEZITÉHO
A4: ČP | B4: Kód položky | C4: Popis | D4: MJ | E4: Množstvo | F4: J. cena (EUR) | G4: Celková cena (EUR) | H4: Hmotnosť celkom
A5: 0 | B5: HSV | C5: Práce a dodávky HSV | G5: =G6+G12+G18+G29+G33+G37 -> 0 | H5: =H6+H12+H18+H29+H37 -> 97.233
A6: 0 | B6: 1 | C6: Zemné práce | G6: =SUM(G7:G11) -> 0
A7: 1 | B7: 131201101 | C7: Výkop nezapaženej jamy v hornine 3, do 100 m3 | D7: m3 | E7: 43.42 | F7: 0 | G7: =E7*F7 -> 0
A8: 2 | B8: 131201109 | C8: Hĺbenie nezapažených jám a zárezov. Príplatok za lepivosť horniny 3 | D8: m3 | E8: 13.026 | F8: 0 | G8: =E8*F8 -> 0
A9: 3 | B9: 162301101 | C9: Vodorovné premiestnenie výkopku po spevnenej ceste z horniny tr.1-4, do 100 m3 na vzdialenosť do 500 m | D9: m3 | E9: 43.42 | F9: 0 | G9: =E9*F9 -> 0
A10: 4 | B10: 171201201 | C10: Uloženie sypaniny na skládky do 100 m3 | D10: m3 | E10: 43.42 | F10: 0 | G10: =E10*F10 -> 0
A11: 5 | B11: 171209002 | C11: Poplatok za skladovanie zeminy | D11: t | E11: 56.446 | F11: 0 | G11: =E11*F11 -> 0
A12: 0 | B12: 2 | C12: Zakladanie | G12: =SUM(G13:G17) -> 0 | H12: =SUM(H13:H17) -> 97.217
A13: 6 | B13: 211971110 | C13: Zhotovenie opláštenia výplne z geotextílie, v ryhe alebo v záreze v rovine o sklone do 1:2,5 | D13: m2 | E13: 36.18 | F13: 0 | G13: =E13*F13 -> 0 | H13: 0.01
A14: 7 | B14: 693 | C14: Geotextília netkaná polypropylénová Tatratex PP 600 | D14: m2 | E14: 36.18 | F14: 0 | G14: =E14*F14 -> 0 | H14: 0.02
A15: 8 | B15: 211971121 | C15: Zhotov. oplášt. výplne z geotext. v ryhe alebo v záreze na ploche zvislej pri rozvinutej šírke oplášt. od 0 do 2, 5 m | D15: m2 | E15: 29.04 | F15: 0 | G15: =E15*F15 -> 0 | H15: 0.01
A16: 9 | B16: 693 | C16: Geotextília netkaná polypropylénová Tatratex PP 600 | D16: m2 | E16: 29.04 | F16: 0 | G16: =E16*F16 -> 0 | H16: 0.017
A17: 10 | B17: 271571111 | C17: Vankúše zhutnené pod základy zo štrkopiesku - výmena podložia | D17: m3 | E17: 47.03 | F17: 0 | G17: =E17*F17 -> 0 | H17: 97.16
A18: 0 | B18: 3 | C18: Zvislé a kompletné konštrukcie | G18: =SUM(G19:G23) -> 0
A19: 11 | B19: KP | C19: Kompletné konštrukcie čistiarní odpadových vôd z betónu prostého tr. C 12/15 - podkladný betón | D19: m3 | E19: 3.15 | F19: 0 | G19: =E19*F19 -> 0
C20: - zriadenie konštr. + dodávka bet. = 3,15 m3
C21: - zriadenie a odstránenie debnenia = 2,26 m2
C22: - presun hmôt = 7,11 t
A23: 12 | B23: KP | C23: Kompletné konštrukcie čistiarní odpadových vôd zo železobetónu vodostavebného C 30/37, | D23: m3 | E23: 15.48 | F23: 0 | G23: =E23*F23 -> 0
C24: - zriadenie konštr. + dodávka bet.= 15,48 m3
C25: - zriadenie a odstránenie debnenia = 19,3 m2
C26: - výstuž kompletných konštrukcií = 1,107t
C27: - osadenie a dodávka tesnenia pracovnej škáry oceľ. plechom 160/0,6m s bituménovým povlakom 0,5mm = 21,0 m
C28: - presun hmôt = 38,391 t
A29: 0 | B29: 8 | C29: Rúrové vedenie | G29: =SUM(G30:G32) -> 0 | H29: =SUM(H30:H32) -> 0.016
