Workbook

Sheet Rekapitulácia stavby
A1: Export Komplet | BA1: 2.0 | BT1: False | BU1: False | BV1: {f790d39e-beca-4c8f-9773-c1e138380560}
AR2: >> skryté stĺpce << | BS2: 0,01 | BT2: 23
BS3: 0,01 | BT3: 23
D4: REKAPITULÁCIA STAVBY | AS4: v --- nižšie sa nachádzajú doplnkové a pomocné údaje k zostavám --- v | BE4: Návod na vyplnenie | BS4: 0,001
D5: Kód: | K5: ZADANIE STAVBY S VV - SÚŤAŽNÉ PODKLADY | BE5: Meniť je možné iba bunky so žltým podfarbením!_x000D_ _x000D_ 1) na prvom liste Rekapitulácie stavby vyplňte v zostave_x000D_ _x000D_ a) Rekapitulácia stavby_x000D_ - údaje o Zhotoviteľovi_x000D_ (prenesú sa do ostatných zostáv aj v iných listoch)_x000D_ _x000D_ b) Rekapitulácia objektov stavby_x000D_ - potrebné Ostatné náklady_x000D_ _x000D_ 2) na vybraných listoch vyplňte v zostave_x000D_ _x000D_ a) Krycí list_x000D_ - údaje o Zhotoviteľovi, pokiaľ sa líšia od údajov o Zhotoviteľovi na Rekapitulácii stavby_x000D_ (údaje se prenesú do ostatných zostav v danom liste)_x000D_ _x000D_ b) Rekapitulácia rozpočtu_x000D_ - potrebné Ostatné náklady_x000D_ _x000D_ c) Celkové náklady za stavbu_x000D_ - ceny na položkách_x000D_ - množstvo, pokiaľ má žlté podfarbenie_x000D_ - a v prípade potreby poznámku (tá je v skrytom stĺpci) | BS5: 0,01
D6: Stavba: | K6: MULTIFUNKČNÉ IHRISKÁ časť 2 MULTIF. ŠPORTOVISKO - GYMNÁZIUM SKALICA | BS6: 0,01
D7: JKSO: | AK7: KS: | BS7: 0,01
D8: Miesto: | K8: Gymnázium , Skalica | AK8: Dátum: | AN8: 12. 5. 2025 | BS8: 0,01
BS9: 0,01
D10: Objednávateľ: | AK10: IČO: | BS10: 0,01
E11: Trnavský samosprávny kraj, Starohájska 10,TRNAVA | AK11: IČ DPH: | BS11: 0,01
BS12: 0,01
D13: Zhotoviteľ: | AK13: IČO: | AN13: Vyplň údaj | BS13: 0,01
E14: Vyplň údaj | AK14: IČ DPH: | AN14: Vyplň údaj | BS14: 0,01
BS15: False
D16: Projektant: | AK16: IČO: | BS16: False
E17: ING-STRUCTURE ARCH.ATELIER J.Burda, Ing.D.Boďo | AK17: IČ DPH: | BS17: True
BS18: 0,01
D19: Spracovateľ: | AK19: IČO: | BS19: 0,01
E20: K.Šinská | AK20: IČ DPH: | BS20: True
D22: Poznámka:
E23: Projekt pre ohlásenie stavebných úprav 12/2024 _x000D_ predpoklad výstavby : marec 2025 ukončenie júl 2025 výstavby 5 mesiacov_x000D_ _x000D_ Miesto stavby : Gymnázium F.V.Sasinka , Námestie slobody 3, Skalica 2385
D26: Cena bez DPH | AK26: =ROUND(AG94,2) -> 0
L28: Sadzba dane | W28: Základ dane | AK28: Výška dane
D29: DPH | F29: základná | L29: 0.23 | W29: =ROUND(AZ94, 2) -> 0 | AK29: =ROUND(AV94, 2) -> 0
F30: znížená | L30: 0.23 | W30: =ROUND(BA94, 2) -> 0 | AK30: =ROUND(AW94, 2) -> 0
F31: zákl. prenesená | L31: 0.23 | W31: =ROUND(BB94, 2) -> 0 | AK31: 0
F32: zníž. prenesená | L32: 0.23 | W32: =ROUND(BC94, 2) -> 0 | AK32: 0
F33: nulová | L33: 0 | W33: =ROUND(BD94, 2) -> 0 | AK33: 0
D35: Cena s DPH | T35: v | X35: EUR | AK35: =SUM(AK26:AK33) -> 0
D49: Projektant | AH49: Spracovateľ
D60: Dátum a podpis: | V60: Pečiatka | AH60: Dátum a podpis: | AM60: Pečiatka
D64: Objednávateľ | AH64: Zhotoviteľ
D75: Dátum a podpis: | V75: Pečiatka | AH75: Dátum a podpis: | AM75: Pečiatka
C82: REKAPITULÁCIA OBJEKTOV STAVBY
C84: Kód: | L84: =K5 -> ZADANIE STAVBY S VV - SÚŤAŽNÉ PODKLADY
C85: Stavba: | L85: =K6 -> MULTIFUNKČNÉ IHRISKÁ časť 2 MULTIF. ŠPORTOVISKO - GYMNÁZIUM SKALICA
C87: Miesto: | L87: =IF(K8="","",K8) -> Gymnázium , Skalica | AI87: Dátum: | AM87: =IF(AN8= "","",AN8) -> 12. 5. 2025
C89: Objednávateľ: | L89: =IF(E11= "","",E11) -> Trnavský samosprávny kraj, Starohájska 10,TRNAVA | AI89: Projektant: | AM89: =IF(E17="","",E17) -> ING-STRUCTURE ARCH.ATELIER J.Burda, Ing.D.Boďo | AS89: Informatívne údaje z listov zákaziek
C90: Zhotoviteľ: | L90: =IF(E14= "Vyplň údaj","",E14) | AI90: Spracovateľ: | AM90: =IF(E20="","",E20) -> K.Šinská
C92: Kód | I92: Popis | AG92: Cena bez DPH [EUR] | AN92: Cena s DPH [EUR] | AQ92: Typ | AS92: z toho Ostat._x000D_ náklady [EUR] | AT92: DPH [EUR] | AU92: Normohodiny [h] | AV92: DPH základná [EUR] | AW92: DPH znížená [EUR] | AX92: DPH základná prenesená_x000D_ [EUR] | AY92: DPH znížená prenesená_x000D_ [EUR] | AZ92: Základňa_x000D_ DPH základná | BA92: Základňa_x000D_ DPH znížená | BB92: Základňa_x000D_ DPH zákl. prenesená | BC92: Základňa_x000D_ DPH zníž. prenesená | BD92: Základňa_x000D_ DPH nulová
C94: Náklady z rozpočtov | AG94: =ROUND(SUM(AG95:AG96),2) -> 0 | AN94: =SUM(AG94,AT94) -> 0 | AS94: =ROUND(SUM(AS95:AS96),2) -> 0 | AT94: =ROUND(SUM(AV94:AW94),2) -> 0 | AU94: =ROUND(SUM(AU95:AU96),5) -> 0 | AV94: =ROUND(AZ94*L29,2) -> 0 | AW94: =ROUND(BA94*L30,2) -> 0 | AX94: =ROUND(BB94*L29,2) -> 0 | AY94: =ROUND(BC94*L30,2) -> 0 | AZ94: =ROUND(SUM(AZ95:AZ96),2) -> 0 | BA94: =ROUND(SUM(BA95:BA96),2) -> 0 | BB94: =ROUND(SUM(BB95:BB96),2) -> 0 | BC94: =ROUND(SUM(BC95:BC96),2) -> 0 | BD94: =ROUND(SUM(BD95:BD96),2) -> 0 | BS94: D | BT94: 0 | BU94: ###NOIMPORT### | BV94: IMPORT | BW94: {f790d39e-beca-4c8f-9773-c1e138380560} | BX94: {00000000-0000-0000-0000-000000000000}
A95: / | D95: 00 | J95: 00 - Inžinierska činnosť, Geodetické práce, PD skut. zhotovania, zariadenie staveniska | AG95: ='00 - 00 - Inžinierska čin...'!J30 -> 0 | AN95: =SUM(AG95,AT95) -> 0 | AQ95: STA | AS95: 0 | AT95: =ROUND(SUM(AV95:AW95),2) -> 0 | AU95: ='00 - 00 - Inžinierska čin...'!P119 -> 0 | AV95: ='00 - 00 - Inžinierska čin...'!J33 -> 0 | AW95: ='00 - 00 - Inžinierska čin...'!J34 -> 0 | AX95: ='00 - 00 - Inžinierska čin...'!J35 -> 0 | AY95: ='00 - 00 - Inžinierska čin...'!J36 -> 0 | AZ95: ='00 - 00 - Inžinierska čin...'!F33 -> 0 | BA95: ='00 - 00 - Inžinierska čin...'!F34 -> 0 | BB95: ='00 - 00 - Inžinierska čin...'!F35 -> 0 | BC95: ='00 - 00 - Inžinierska čin...'!F36 -> 0 | BD95: ='00 - 00 - Inžinierska čin...'!F37 -> 0 | BT95: 1 | BV95: IMPORT | BW95: {30231943-3a1f-4ede-8e32-b571622980f3} | BX95: {f790d39e-beca-4c8f-9773-c1e138380560} | CM95: 0
A96: / | D96: 01 | J96: 01 MULTIFUNKČNÉ IHRISKÁ čast2 MULTIFUNKČNÉ ŠPORTOVISKO- GYMNÁZIUM SKALICA | AG96: ='01 - 01 MULTIFUNKČNÉ IHRI...'!J30 -> 0 | AN96: =SUM(AG96,AT96) -> 0 | AQ96: STA | AS96: 0 | AT96: =ROUND(SUM(AV96:AW96),2) -> 0 | AU96: ='01 - 01 MULTIFUNKČNÉ IHRI...'!P136 -> 0 | AV96: ='01 - 01 MULTIFUNKČNÉ IHRI...'!J33 -> 0 | AW96: ='01 - 01 MULTIFUNKČNÉ IHRI...'!J34 -> 0 | AX96: ='01 - 01 MULTIFUNKČNÉ IHRI...'!J35 -> 0 | AY96: ='01 - 01 MULTIFUNKČNÉ IHRI...'!J36 -> 0 | AZ96: ='01 - 01 MULTIFUNKČNÉ IHRI...'!F33 -> 0 | BA96: ='01 - 01 MULTIFUNKČNÉ IHRI...'!F34 -> 0 | BB96: ='01 - 01 MULTIFUNKČNÉ IHRI...'!F35 -> 0 | BC96: ='01 - 01 MULTIFUNKČNÉ IHRI...'!F36 -> 0 | BD96: ='01 - 01 MULTIFUNKČNÉ IHRI...'!F37 -> 0 | BT96: 1 | BV96: IMPORT | BW96: {47a3578d-64c8-46e2-b22c-fc75d6fd4429} | BX96: {f790d39e-beca-4c8f-9773-c1e138380560} | CM96: 0

Sheet 00 - 00 - Inžinierska čin...
L2: >> skryté stĺpce << | AT2: {30231943-3a1f-4ede-8e32-b571622980f3}
AT3: 0
D4: KRYCÍ LIST ROZPOČTU | M4: v --- nižšie sa nachádzajú doplnkové a pomocné údaje k zostavám --- v | AT4: False
D6: Stavba:
E7: ='Rekapitulácia stavby'!K6 -> MULTIFUNKČNÉ IHRISKÁ časť 2 MULTIF. ŠPORTOVISKO - GYMNÁZIUM SKALICA
D8: Objekt:
E9: 00 - 00 - Inžinierska činnosť, Geodetické práce, PD skut. zhotovania, zariadenie staveniska
D11: JKSO: | I11: KS:
D12: Miesto: | F12: Gymnázium , Skalica | I12: Dátum: | J12: ='Rekapitulácia stavby'!AN8 -> 12. 5. 2025
D14: Objednávateľ: | I14: IČO:
E15: Trnavský samosprávny kraj, Starohájska 10,TRNAVA | I15: IČ DPH:
D17: Zhotoviteľ: | I17: IČO: | J17: ='Rekapitulácia stavby'!AN13 -> Vyplň údaj
E18: ='Rekapitulácia stavby'!E14 -> Vyplň údaj | I18: IČ DPH: | J18: ='Rekapitulácia stavby'!AN14 -> Vyplň údaj
D20: Projektant: | I20: IČO:
E21: ING-STRUCTURE ARCH.ATELIER .Burda, Ing.D.Boďo | I21: IČ DPH:
D23: Spracovateľ: | I23: IČO:
E24: K.Šinská | I24: IČ DPH:
D26: Poznámka:
D30: Cena bez DPH | J30: =ROUND(J119, 2) -> 0
F32: Základ dane | I32: Sadzba dane | J32: Výška dane
D33: DPH | E33: základná | F33: =ROUND((SUM(BE119:BE147)), 2) -> 0 | I33: 0.23 | J33: =ROUND(((SUM(BE119:BE147))*I33), 2) -> 0
E34: znížená | F34: =ROUND((SUM(BF119:BF147)), 2) -> 0 | I34: 0.23 | J34: =ROUND(((SUM(BF119:BF147))*I34), 2) -> 0
E35: zákl. prenesená | F35: =ROUND((SUM(BG119:BG147)), 2) -> 0 | I35: 0.23 | J35: =0 -> 0
E36: zníž. prenesená | F36: =ROUND((SUM(BH119:BH147)), 2) -> 0 | I36: 0.23 | J36: =0 -> 0
E37: nulová | F37: =ROUND((SUM(BI119:BI147)), 2) -> 0 | I37: 0 | J37: =0 -> 0
D39: Cena s DPH | G39: v | H39: EUR | J39: =SUM(J30:J37) -> 0
D50: Projektant | G50: Spracovateľ
D61: Dátum a podpis: | F61: Pečiatka | G61: Dátum a podpis: | J61: Pečiatka
D65: Objednávateľ | G65: Zhotoviteľ
D76: Dátum a podpis: | F76: Pečiatka | G76: Dátum a podpis: | J76: Pečiatka
C82: REKAPITULÁCIA ROZPOČTU
C84: Stavba:
E85: =E7 -> MULTIFUNKČNÉ IHRISKÁ časť 2 MULTIF. ŠPORTOVISKO - GYMNÁZIUM SKALICA
C86: Objekt:
E87: =E9 -> 00 - 00 - Inžinierska činnosť, Geodetické práce, PD skut. zhotovania, zariadenie staveniska
C89: Miesto: | F89: =F12 -> Gymnázium , Skalica | I89: Dátum: | J89: =IF(J12="","",J12) -> 12. 5. 2025
C91: Objednávateľ: | F91: =E15 -> Trnavský samosprávny kraj, Starohájska 10,TRNAVA | I91: Projektant: | J91: =E21 -> ING-STRUCTURE ARCH.ATELIER .Burda, Ing.D.Boďo
C92: Zhotoviteľ: | F92: =IF(E18="","",E18) -> Vyplň údaj | I92: Spracovateľ: | J92: =E24 -> K.Šinská
C94: Kód dielu - Popis | J94: Cena celkom [EUR]
C96: Náklady z rozpočtu | J96: =J119 -> 0 | AU96: -1
D97: IČ - Inžinierska činnosť | J97: =J120 -> 0
D98: 0004 - Projektové práce | J98: =J126 -> 0
D99: VRN - Investičné náklady neobsiahnuté v cenách | J99: =J133 -> 0
C106: ROZPOČET
C108: Stavba:
E109: =E7 -> MULTIFUNKČNÉ IHRISKÁ časť 2 MULTIF. ŠPORTOVISKO - GYMNÁZIUM SKALICA
C110: Objekt:
E111: =E9 -> 00 - 00 - Inžinierska činnosť, Geodetické práce, PD skut. zhotovania, zariadenie staveniska
C113: Miesto: | F113: =F12 -> Gymnázium , Skalica | I113: Dátum: | J113: =IF(J12="","",J12) -> 12. 5. 2025
C115: Objednávateľ: | F115: =E15 -> Trnavský samosprávny kraj, Starohájska 10,TRNAVA | I115: Projektant: | J115: =E21 -> ING-STRUCTURE ARCH.ATELIER .Burda, Ing.D.Boďo
C116: Zhotoviteľ: | F116: =IF(E18="","",E18) -> Vyplň údaj | I116: Spracovateľ: | J116: =E24 -> K.Šinská
C118: PČ | D118: Typ | E118: Kód | F118: Popis | G118: MJ | H118: Množstvo | I118: J.cena [EUR] | J118: Cena celkom [EUR] | K118: Cenová sústava | N118: DPH | O118: J. Nh [h] | P118: Nh celkom [h] | Q118: J. hmotnosť [t] | R118: Hmotnosť celkom [t] | S118: J. suť [t] | T118: Suť Celkom [t]
C119: Náklady z rozpočtu | J119: =BK119 -> 0 | P119: =P120+P133 -> 0 | R119: =R120+R133 -> 0 | T119: =T120+T133 -> 0 | AT119: D | AU119: -1 | BK119: =BK120+BK133 -> 0
D120: D | E120: IČ | F120: Inžinierska činnosť | J120: =BK120 -> 0 | P120: =P121+SUM(P122:P126) -> 0 | R120: =R121+SUM(R122:R126) -> 0 | T120: =T121+SUM(T122:T126) -> 0 | AR120: 4 | AT120: D | AU120: 0 | AY120: ROZPOCET | BK120: =BK121+SUM(BK122:BK126) -> 0
C121: 1 | D121: K | E121: 000300013.S | F121: Geodetické práce - vykonávané pred výstavbou určenie priebehu nadzemného alebo podzemného existujúceho aj plánovaného vedenia | G121: eur | H121: 1 | J121: =ROUND(I121*H121,2) -> 0 | N121: znížená | P121: =O121*H121 -> 0 | Q121: 0 | R121: =Q121*H121 -> 0 | S121: 0 | T121: =S121*H121 -> 0 | AR121: 4 | AT121: K | AU121: 1 | AY121: ROZPOCET | BE121: =IF(N121="základná",J121,0) -> 0 | BF121: =IF(N121="znížená",J121,0) -> 0 | BG121: =IF(N121="zákl. prenesená",J121,0) -> 0 | BH121: =IF(N121="zníž. prenesená",J121,0) -> 0 | BI121: =IF(N121="nulová",J121,0) -> 0 | BJ121: 2 | BK121: =ROUND(I121*H121,2) -> 0 | BL121: 4 | BM121: 1876885675
D122: VV | F122: " zameranie stavby, polohopisné a výškopisné zameranie | AT122: VV | AU122: 1 | AV122: 1 | AW122: True | AX122: 0 | AY122: ROZPOCET
D123: VV | F123: " vytýčenie jestv. sietí pred vystavbou | AT123: VV | AU123: 1 | AV123: 1 | AW123: True | AX123: 0 | AY123: ROZPOCET
D124: VV | F124: 1 | H124: 1 | AT124: VV | AU124: 1 | AV124: 2 | AW124: True | AX124: 0 | AY124: ROZPOCET
D125: VV | F125: Súčet | H125: 1 | AT125: VV | AU125: 1 | AV125: 4 | AW125: True | AX125: 1 | AY125: ROZPOCET
D126: D | E126: 0004 | F126: Projektové práce | J126: =BK126 -> 0 | P126: =SUM(P127:P132) -> 0 | R126: =SUM(R127:R132) -> 0 | T126: =SUM(T127:T132) -> 0 | AR126: 1 | AT126: D | AU126: 1 | AY126: ROZPOCET | BK126: =SUM(BK127:BK132) -> 0
C127: 2 | D127: K | E127: 000400022 | F127: Projektové práce - stavebná časť (stavebné objekty vrátane ich technického vybavenia). náklady na dokumentáciu skutočného zhotovenia stavby | G127: eur | H127: 1 | J127: =ROUND(I127*H127,2) -> 0 | N127: znížená | P127: =O127*H127 -> 0 | Q127: 0 | R127: =Q127*H127 -> 0 | S127: 0 | T127: =S127*H127 -> 0 | AR127: 4 | AT127: K | AU127: 2 | AY127: ROZPOCET | BE127: =IF(N127="základná",J127,0) -> 0 | BF127: =IF(N127="znížená",J127,0) -> 0 | BG127: =IF(N127="zákl. prenesená",J127,0) -> 0 | BH127: =IF(N127="zníž. prenesená",J127,0) -> 0 | BI127: =IF(N127="nulová",J127,0) -> 0 | BJ127: 2 | BK127: =ROUND(I127*H127,2) -> 0 | BL127: 4 | BM127: 765791023
D128: VV | F128: " počas výstavby je dodávateľ povinný viesť 1sadu technickej dokumentácie | AT128: VV | AU128: 2 | AV128: 1 | AW128: True | AX128: 0 | AY128: ROZPOCET
D129: VV | F129: " s vyzančením všetkých zmien vykonanné oproti projektu | AT129: VV | AU129: 2 | AV129: 1 | AW129: True | AX129: 0 | AY129: ROZPOCET
D130: VV | F130: " podla objektovej skladby | AT130: VV | AU130: 2 | AV130: 1 | AW130: True | AX130: 0 | AY130: ROZPOCET
D131: VV | F131: 1 | H131: 1 | AT131: VV | AU131: 2 | AV131: 2 | AW131: True | AX131: 0 | AY131: ROZPOCET
D132: VV | F132: Súčet | H132: 1 | AT132: VV | AU132: 2 | AV132: 4 | AW132: True | AX132: 1 | AY132: ROZPOCET
D133: D | E133: VRN | F133: Investičné náklady neobsiahnuté v cenách | J133: =BK133 -> 0 | P133: =SUM(P134:P147) -> 0 | R133: =SUM(R134:R147) -> 0 | T133: =SUM(T134:T147) -> 0 | AR133: 5 | AT133: D | AU133: 0 | AY133: ROZPOCET | BK133: =SUM(BK134:BK147) -> 0
C134: 3 | D134: K | E134: 000600018.S | F134: Zariadenie staveniska - prevádzkové prípojka elektrického prúdu - staveniska , meranie spotreby | G134: eur | H134: 1 | J134: =ROUND(I134*H134,2) -> 0 | N134: znížená | P134: =O134*H134 -> 0 | Q134: 0 | R134: =Q134*H134 -> 0 | S134: 0 | T134: =S134*H134 -> 0 | AR134: 262144 | AT134: K | AU134: 1 | AY134: ROZPOCET | BE134: =IF(N134="základná",J134,0) -> 0 | BF134: =IF(N134="znížená",J134,0) -> 0 | BG134: =IF(N134="zákl. prenesená",J134,0) -> 0 | BH134: =IF(N134="zníž. prenesená",J134,0) -> 0 | BI134: =IF(N134="nulová",J134,0) -> 0 | BJ134: 2 | BK134: =ROUND(I134*H134,2) -> 0 | BL134: 262144 | BM134: -1565862857
D135: VV | F135: 1 | H135: 1 | AT135: VV | AU135: 1 | AV135: 2 | AW135: True | AX135: 1 | AY135: ROZPOCET
C136: 4 | D136: K | E136: 000600011.S | F136: Zariadenie staveniska - prevádzkové kancelárie 1ks prenajom , montaž , demontaž | G136: mes | H136: 5 | J136: =ROUND(I136*H136,2) -> 0 | N136: znížená | P136: =O136*H136 -> 0 | Q136: 0 | R136: =Q136*H136 -> 0 | S136: 0 | T136: =S136*H136 -> 0 | AR136: 262144 | AT136: K | AU136: 1 | AY136: ROZPOCET | BE136: =IF(N136="základná",J136,0) -> 0 | BF136: =IF(N136="znížená",J136,0) -> 0 | BG136: =IF(N136="zákl. prenesená",J136,0) -> 0 | BH136: =IF(N136="zníž. prenesená",J136,0) -> 0 | BI136: =IF(N136="nulová",J136,0) -> 0 | BJ136: 2 | BK136: =ROUND(I136*H136,2) -> 0 | BL136: 262144 | BM136: -609450501
D137: VV | F137: " prenajom 5 mesiacov | AT137: VV | AU137: 1 | AV137: 1 | AW137: True | AX137: 0 | AY137: ROZPOCET
D138: VV | F138: 5 | H138: 5 | AT138: VV | AU138: 1 | AV138: 2 | AW138: True | AX138: 0 | AY138: ROZPOCET
D139: VV | F139: Súčet | H139: 5 | AT139: VV | AU139: 1 | AV139: 4 | AW139: True | AX139: 1 | AY139: ROZPOCET
C140: 5 | D140: K | E140: 000600012 | F140: Zariadenie staveniska - šatne 1ks prenajom , montaž demontaž | G140: mes | H140: 5 | J140: =ROUND(I140*H140,2) -> 0 | N140: znížená | P140: =O140*H140 -> 0 | Q140: 0 | R140: =Q140*H140 -> 0 | S140: 0 | T140: =S140*H140 -> 0 | AR140: 262144 | AT140: K | AU140: 1 | AY140: ROZPOCET | BE140: =IF(N140="základná",J140,0) -> 0 | BF140: =IF(N140="znížená",J140,0) -> 0 | BG140: =IF(N140="zákl. prenesená",J140,0) -> 0 | BH140: =IF(N140="zníž. prenesená",J140,0) -> 0 | BI140: =IF(N140="nulová",J140,0) -> 0 | BJ140: 2 | BK140: =ROUND(I140*H140,2) -> 0 | BL140: 262144 | BM140: 937837727
D141: VV | F141: 5 | H141: 5 | AT141: VV | AU141: 1 | AV141: 2 | AW141: True | AX141: 0 | AY141: ROZPOCET
D142: VV | F142: Súčet | H142: 5 | AT142: VV | AU142: 1 | AV142: 4 | AW142: True | AX142: 1 | AY142: ROZPOCET
C143: 6 | D143: K | E143: 000600013.S | F143: Zariadenie staveniska - prevádzkové sklady 1ks prenajom . montaž , demontaž | G143: mes | H143: 5 | J143: =ROUND(I143*H143,2) -> 0 | N143: znížená | P143: =O143*H143 -> 0 | Q143: 0 | R143: =Q143*H143 -> 0 | S143: 0 | T143: =S143*H143 -> 0 | AR143: 262144 | AT143: K | AU143: 1 | AY143: ROZPOCET | BE143: =IF(N143="základná",J143,0) -> 0 | BF143: =IF(N143="znížená",J143,0) -> 0 | BG143: =IF(N143="zákl. prenesená",J143,0) -> 0 | BH143: =IF(N143="zníž. prenesená",J143,0) -> 0 | BI143: =IF(N143="nulová",J143,0) -> 0 | BJ143: 2 | BK143: =ROUND(I143*H143,2) -> 0 | BL143: 262144 | BM143: 1097324836
D144: VV | F144: 5 | H144: 5 | AT144: VV | AU144: 1 | AV144: 2 | AW144: True | AX144: 1 | AY144: ROZPOCET
C145: 7 | D145: K | E145: 000600TOI | F145: Zariadenie staveniska - prenajom WC TOI - TOI 1ks prenajom, montaž , demontaž | G145: mes | H145: 5 | J145: =ROUND(I145*H145,2) -> 0 | N145: znížená | P145: =O145*H145 -> 0 | Q145: 0 | R145: =Q145*H145 -> 0 | S145: 0 | T145: =S145*H145 -> 0 | AR145: 262144 | AT145: K | AU145: 1 | AY145: ROZPOCET | BE145: =IF(N145="základná",J145,0) -> 0 | BF145: =IF(N145="znížená",J145,0) -> 0 | BG145: =IF(N145="zákl. prenesená",J145,0) -> 0 | BH145: =IF(N145="zníž. prenesená",J145,0) -> 0 | BI145: =IF(N145="nulová",J145,0) -> 0 | BJ145: 2 | BK145: =ROUND(I145*H145,2) -> 0 | BL145: 262144 | BM145: -853683159
D146: VV | F146: 5 " prenajom TOI TOI | H146: 5 | AT146: VV | AU146: 1 | AV146: 2 | AW146: True | AX146: 0 | AY146: ROZPOCET
D147: VV | F147: Súčet | H147: 5 | AT147: VV | AU147: 1 | AV147: 4 | AW147: True | AX147: 1 | AY147: ROZPOCET

Sheet 01 - 01 MULTIFUNKČNÉ IHRI...
L2: >> skryté stĺpce << | AT2: {47a3578d-64c8-46e2-b22c-fc75d6fd4429} | AZ2: P1konštIHR | BA2: atletický ovál s rovinkami | BB2: m2 | BC2: 284 | BD2: 2
AT3: 0 | AZ3: P2oddplocha | BA3: P2 oddychodvá plocha | BB3: m2 | BC3: 155 | BD3: 2
D4: KRYCÍ LIST ROZPOČTU | M4: v --- nižšie sa nachádzajú doplnkové a pomocné údaje k zostavám --- v | AT4: False | AZ4: P3krytvozovky | BA4: Obnova krytu vozovky jestv. | BB4: m2 | BC4: 181 | BD4: 2
AZ5: UV | BA5: ul. vpusť | BB5: ks | BC5: 1 | BD5: 2
D6: Stavba:
E7: ='Rekapitulácia stavby'!K6 -> MULTIFUNKČNÉ IHRISKÁ časť 2 MULTIF. ŠPORTOVISKO - GYMNÁZIUM SKALICA
D8: Objekt:
E9: 01 - 01 MULTIFUNKČNÉ IHRISKÁ čast2 MULTIFUNKČNÉ ŠPORTOVISKO- GYMNÁZIUM SKALICA
D11: JKSO: | I11: KS:
D12: Miesto: | F12: Gymnázium , Skalica | I12: Dátum: | J12: ='Rekapitulácia stavby'!AN8 -> 12. 5. 2025
D14: Objednávateľ: | I14: IČO:
E15: Trnavský samosprávny kraj, Starohájska 10,TRNAVA | I15: IČ DPH:
D17: Zhotoviteľ: | I17: IČO: | J17: ='Rekapitulácia stavby'!AN13 -> Vyplň údaj
E18: ='Rekapitulácia stavby'!E14 -> Vyplň údaj | I18: IČ DPH: | J18: ='Rekapitulácia stavby'!AN14 -> Vyplň údaj
D20: Projektant: | I20: IČO:
E21: ING-STRUCTURE ARCH.ATELIER .Burda, Ing.D.Boďo | I21: IČ DPH:
D23: Spracovateľ: | I23: IČO:
E24: K.Šinská | I24: IČ DPH:
D26: Poznámka:
D30: Cena bez DPH | J30: =ROUND(J136, 2) -> 0
F32: Základ dane | I32: Sadzba dane | J32: Výška dane
D33: DPH | E33: základná | F33: =ROUND((SUM(BE136:BE898)), 2) -> 0 | I33: 0.23 | J33: =ROUND(((SUM(BE136:BE898))*I33), 2) -> 0
E34: znížená | F34: =ROUND((SUM(BF136:BF898)), 2) -> 0 | I34: 0.23 | J34: =ROUND(((SUM(BF136:BF898))*I34), 2) -> 0
E35: zákl. prenesená | F35: =ROUND((SUM(BG136:BG898)), 2) -> 0 | I35: 0.23 | J35: =0 -> 0
E36: zníž. prenesená | F36: =ROUND((SUM(BH136:BH898)), 2) -> 0 | I36: 0.23 | J36: =0 -> 0
E37: nulová | F37: =ROUND((SUM(BI136:BI898)), 2) -> 0 | I37: 0 | J37: =0 -> 0
D39: Cena s DPH | G39: v | H39: EUR | J39: =SUM(J30:J37) -> 0
D50: Projektant | G50: Spracovateľ
D61: Dátum a podpis: | F61: Pečiatka | G61: Dátum a podpis: | J61: Pečiatka
D65: Objednávateľ | G65: Zhotoviteľ
D76: Dátum a podpis: | F76: Pečiatka | G76: Dátum a podpis: | J76: Pečiatka
C82: REKAPITULÁCIA ROZPOČTU
C84: Stavba:
E85: =E7 -> MULTIFUNKČNÉ IHRISKÁ časť 2 MULTIF. ŠPORTOVISKO - GYMNÁZIUM SKALICA
C86: Objekt:
E87: =E9 -> 01 - 01 MULTIFUNKČNÉ IHRISKÁ čast2 MULTIFUNKČNÉ ŠPORTOVISKO- GYMNÁZIUM SKALICA
C89: Miesto: | F89: =F12 -> Gymnázium , Skalica | I89: Dátum: | J89: =IF(J12="","",J12) -> 12. 5. 2025
C91: Objednávateľ: | F91: =E15 -> Trnavský samosprávny kraj, Starohájska 10,TRNAVA | I91: Projektant: | J91: =E21 -> ING-STRUCTURE ARCH.ATELIER .Burda, Ing.D.Boďo
C92: Zhotoviteľ: | F92: =IF(E18="","",E18) -> Vyplň údaj | I92: Spracovateľ: | J92: =E24 -> K.Šinská
C94: Kód dielu - Popis | J94: Cena celkom [EUR]
C96: Náklady z rozpočtu | J96: =J136 -> 0 | AU96: -1
D97: HSV - Práce a dodávky HSV | J97: =J137 -> 0
D98: 9 - Ostatné konštrukcie a práce-búranie | J98: =J139 -> 0
D99: 97 - Presun SUTÍ | J99: =J235 -> 0
D100: 979 - POPLATOK ZA SUTE | J100: =J240 -> 0
D101: 1 - Zemné práce | J101: =J253 -> 0
D102: 2 - Zakladanie | J102: =J329 -> 0
D103: 4 - Vodorovné konštrukcie | J103: =J423 -> 0
D104: 8 - Rúrové vedenie | J104: =J434 -> 0
D105: 6 - Úpravy povrchov, podlahy, osadenie | J105: =J450 -> 0
D106: 5Š - P1 -Športové povrchy ihriska | J106: =J473 -> 0
D107: 5Z - P2- Oddychová zona | J107: =J522 -> 0
D108: 5 - Komunikácie | J108: =J549 -> 0
D109: 89UV - Uličná vpusť a odv.žľab | J109: =J563 -> 0
D110: 9.1 - Obrubníky | J110: =J586 -> 0
D111: 9.M2 - Fitnes zariadenia na cvičenie a hracie prvky | J111: =J616 -> 0
D112: 99 - Presun hmôt HSV | J112: =J730 -> 0
D113: PSV - Práce a dodávky PSV | J113: =J732 -> 0
D114: 767 - Konštrukcie doplnkové kovové | J114: =J733 -> 0
D115: 767.1 - OPLOTENIE MANTINELOV | J115: =J818 -> 0
D116: 776 - Podlahy povlakové | J116: =J877 -> 0
C123: ROZPOČET
C125: Stavba:
E126: =E7 -> MULTIFUNKČNÉ IHRISKÁ časť 2 MULTIF. ŠPORTOVISKO - GYMNÁZIUM SKALICA
C127: Objekt:
E128: =E9 -> 01 - 01 MULTIFUNKČNÉ IHRISKÁ čast2 MULTIFUNKČNÉ ŠPORTOVISKO- GYMNÁZIUM SKALICA
C130: Miesto: | F130: =F12 -> Gymnázium , Skalica | I130: Dátum: | J130: =IF(J12="","",J12) -> 12. 5. 2025
C132: Objednávateľ: | F132: =E15 -> Trnavský samosprávny kraj, Starohájska 10,TRNAVA | I132: Projektant: | J132: =E21 -> ING-STRUCTURE ARCH.ATELIER .Burda, Ing.D.Boďo
C133: Zhotoviteľ: | F133: =IF(E18="","",E18) -> Vyplň údaj | I133: Spracovateľ: | J133: =E24 -> K.Šinská
C135: PČ | D135: Typ | E135: Kód | F135: Popis | G135: MJ | H135: Množstvo | I135: J.cena [EUR] | J135: Cena celkom [EUR] | K135: Cenová sústava | N135: DPH | O135: J. Nh [h] | P135: Nh celkom [h] | Q135: J. hmotnosť [t] | R135: Hmotnosť celkom [t] | S135: J. suť [t] | T135: Suť Celkom [t]
C136: Náklady z rozpočtu | J136: =BK136 -> 0 | P136: =P137+P732 -> 0 | R136: =R137+R732 -> 310.06847 | T136: =T137+T732 -> 7.589225 | AT136: D | AU136: -1 | BK136: =BK137+BK732 -> 0
D137: D | E137: HSV | F137: Práce a dodávky HSV | J137: =BK137 -> 0 | P137: =P138+P139+P235+P240+P253+P329+P423+P434+P450+P473+P522+P549+P563+P586+P616+P730 -> 0 | R137: =R138+R139+R235+R240+R253+R329+R423+R434+R450+R473+R522+R549+R563+R586+R616+R730 -> 307.98327 | T137: =T138+T139+T235+T240+T253+T329+T423+T434+T450+T473+T522+T549+T563+T586+T616+T730 -> 7.589225 | AR137: 1 | AT137: D | AU137: 0 | AY137: ROZPOCET | BK137: =BK138+BK139+BK235+BK240+BK253+BK329+BK423+BK434+BK450+BK473+BK522+BK549+BK563+BK586+BK616+BK730 -> 0
C138: 1 | D138: M | E138: Poz1POZN. | F138: V prípade výskytu obchodných názvov výrobkov a technoloógií, tieto majú informatívny charakter a slúžia ako minimálny štandart.Sú uvedené ako referenčná kvalita a môžu byťnahradené ekvival. výrobkom, ktorý má rovnaké alebo lepšie vlastnosti a parametre. | H138: 0 | J138: =ROUND(I138*H138,2) -> 0 | N138: znížená | P138: =O138*H138 -> 0 | Q138: 0 | R138: =Q138*H138 -> 0 | S138: 0 | T138: =S138*H138 -> 0 | AR138: 8 | AT138: M | AU138: 1 | AY138: ROZPOCET | BE138: =IF(N138="základná",J138,0) -> 0 | BF138: =IF(N138="znížená",J138,0) -> 0 | BG138: =IF(N138="zákl. prenesená",J138,0) -> 0 | BH138: =IF(N138="zníž. prenesená",J138,0) -> 0 | BI138: =IF(N138="nulová",J138,0) -> 0 | BJ138: 2 | BK138: =ROUND(I138*H138,2) -> 0 | BL138: 4 | BM138: -1469879109
D139: D | E139: 9 | F139: Ostatné konštrukcie a práce-búranie | J139: =BK139 -> 0 | P139: =SUM(P140:P234) -> 0 | R139: =SUM(R140:R234) -> 0 | T139: =SUM(T140:T234) -> 6.735225 | AR139: 1 | AT139: D | AU139: 1 | AY139: ROZPOCET | BK139: =SUM(BK140:BK234) -> 0
C140: 2 | D140: K | E140: HZSB1 | F140: B1 - Demontaž oc. konštrukcií ihriska basketb.kôš, stlpy volejbal. siete, presun s naložením do kontajnera | G140: hod | H140: 8 | J140: =ROUND(I140*H140,2) -> 0 | N140: znížená | P140: =O140*H140 -> 0 | Q140: 0 | R140: =Q140*H140 -> 0 | S140: 0 | T140: =S140*H140 -> 0 | AR140: 512 | AT140: K | AU140: 2 | AY140: ROZPOCET | BE140: =IF(N140="základná",J140,0) -> 0 | BF140: =IF(N140="znížená",J140,0) -> 0 | BG140: =IF(N140="zákl. prenesená",J140,0) -> 0 | BH140: =IF(N140="zníž. prenesená",J140,0) -> 0 | BI140: =IF(N140="nulová",J140,0) -> 0 | BJ140: 2 | BK140: =ROUND(I140*H140,2) -> 0 | BL140: 512 | BM140: -1344789887
D141: VV | F141: 2*4 | H141: 8 | AT141: VV | AU141: 2 | AV141: 2 | AW141: True | AX141: 0 | AY141: ROZPOCET
D142: VV | F142: Súčet | H142: 8 | AT142: VV | AU142: 2 | AV142: 4 | AW142: True | AX142: 1 | AY142: ROZPOCET
C143: 3 | D143: K | E143: 899109009.S | F143: B2 - Demontáž liatinových a oceľových poklopov vrátane rámov, hmotnosti nad 150 kg, -0,2t | G143: ks | H143: 6 | J143: =ROUND(I143*H143,2) -> 0 | N143: znížená | P143: =O143*H143 -> 0 | Q143: 0 | R143: =Q143*H143 -> 0 | S143: 0.2 | T143: =S143*H143 -> 1.2 | AR143: 4 | AT143: K | AU143: 2 | AY143: ROZPOCET | BE143: =IF(N143="základná",J143,0) -> 0 | BF143: =IF(N143="znížená",J143,0) -> 0 | BG143: =IF(N143="zákl. prenesená",J143,0) -> 0 | BH143: =IF(N143="zníž. prenesená",J143,0) -> 0 | BI143: =IF(N143="nulová",J143,0) -> 0 | BJ143: 2 | BK143: =ROUND(I143*H143,2) -> 0 | BL143: 4 | BM143: 482604199
D144: VV | F144: " B2 | AT144: VV | AU144: 2 | AV144: 1 | AW144: True | AX144: 0 | AY144: ROZPOCET
D145: VV | F145: 5 " demontaž oc. liatinových poklopov šachiet | H145: 5 | AT145: VV | AU145: 2 | AV145: 2 | AW145: True | AX145: 0 | AY145: ROZPOCET
D146: VV | F146: 1 " kanalizačný poklop š800x400mm | H146: 1 | AT146: VV | AU146: 2 | AV146: 2 | AW146: True | AX146: 0 | AY146: ROZPOCET
D147: VV | F147: Súčetv.č.A3 | H147: 6 | AT147: VV | AU147: 2 | AV147: 4 | AW147: True | AX147: 1 | AY147: ROZPOCET
C148: 4 | D148: K | E148: 113107141.S | F148: B3 , B6- Odstránenie krytu v ploche do 200 m2 asfaltového, hr. vrstvy do 50 mm, -0,12500t | G148: m2 | H148: 15.165 | J148: =ROUND(I148*H148,2) -> 0 | N148: znížená | P148: =O148*H148 -> 0 | Q148: 0 | R148: =Q148*H148 -> 0 | S148: 0.125 | T148: =S148*H148 -> 1.895625 | AR148: 4 | AT148: K | AU148: 2 | AY148: ROZPOCET | BE148: =IF(N148="základná",J148,0) -> 0 | BF148: =IF(N148="znížená",J148,0) -> 0 | BG148: =IF(N148="zákl. prenesená",J148,0) -> 0 | BH148: =IF(N148="zníž. prenesená",J148,0) -> 0 | BI148: =IF(N148="nulová",J148,0) -> 0 | BJ148: 2 | BK148: =ROUND(I148*H148,2) -> 0 | BL148: 4 | BM148: -372631146
D149: VV | F149: "predpokladaná skladba: | AT149: VV | AU149: 2 | AV149: 1 | AW149: True | AX149: 0 | AY149: ROZPOCET
D150: VV | F150: " 5cm asfalt | AT150: VV | AU150: 2 | AV150: 1 | AW150: True | AX150: 0 | AY150: ROZPOCET
D151: VV | F151: " 20cm štrkopiesok | AT151: VV | AU151: 2 | AV151: 1 | AW151: True | AX151: 0 | AY151: ROZPOCET
D152: VV | F152: " zemina tr1-2 | AT152: VV | AU152: 2 | AV152: 1 | AW152: True | AX152: 0 | AY152: ROZPOCET
D153: VV | F153: " B3 vyburanie jestv.asf.plochy hr.50mm | AT153: VV | AU153: 2 | AV153: 1 | AW153: True | AX153: 0 | AY153: ROZPOCET
D154: VV | F154: " B4.1 v.č.M1.1 | AT154: VV | AU154: 2 | AV154: 1 | AW154: True | AX154: 0 | AY154: ROZPOCET
D155: VV | F155: (0,5*0,3)*34 | H155: 5.1 | AT155: VV | AU155: 2 | AV155: 2 | AW155: True | AX155: 0 | AY155: ROZPOCET
D156: VV | F156: (0,5*0,3)*4 | H156: 0.6 | AT156: VV | AU156: 2 | AV156: 2 | AW156: True | AX156: 0 | AY156: ROZPOCET
D157: VV | F157: (0,5*0,3)*4 | H157: 0.6 | AT157: VV | AU157: 2 | AV157: 2 | AW157: True | AX157: 0 | AY157: ROZPOCET
D158: VV | F158: (0,5*0,5)*2 | H158: 0.5 | AT158: VV | AU158: 2 | AV158: 2 | AW158: True | AX158: 0 | AY158: ROZPOCET
D159: VV | F159: Medzisúčet B4.1 | H159: 6.8 | AT159: VV | AU159: 2 | AV159: 3 | AW159: True | AX159: 0 | AY159: ROZPOCET
D160: VV | F160: " B4.1 /v.č.M2 | AT160: VV | AU160: 2 | AV160: 1 | AW160: True | AX160: 0 | AY160: ROZPOCET
D161: VV | F161: (0,5*3)*1 | H161: 1.5 | AT161: VV | AU161: 2 | AV161: 2 | AW161: True | AX161: 0 | AY161: ROZPOCET
D162: VV | F162: (0,5*3,5)*1 | H162: 1.75 | AT162: VV | AU162: 2 | AV162: 2 | AW162: True | AX162: 0 | AY162: ROZPOCET
D163: VV | F163: (0,5*1,75)*1 | H163: 0.875 | AT163: VV | AU163: 2 | AV163: 2 | AW163: True | AX163: 0 | AY163: ROZPOCET
D164: VV | F164: (0,4*1)*1 | H164: 0.4 | AT164: VV | AU164: 2 | AV164: 2 | AW164: True | AX164: 0 | AY164: ROZPOCET
D165: VV | F165: (0,4*2)*1 | H165: 0.8 | AT165: VV | AU165: 2 | AV165: 2 | AW165: True | AX165: 0 | AY165: ROZPOCET
...
