Workbook

Sheet Rekapitulácia stavby
A1: Export Komplet | BA1: 2.0 | BB1: ZAMOK | BT1: False | BU1: False | BV1: {5491b77e-e732-4e54-aee3-0b253f8515e0}
BS2: 0,01 | BT2: 23
BS3: 0,01 | BT3: 23
D4: REKAPITULÁCIA STAVBY | AS4: v --- nižšie sa nachádzajú doplnkové a pomocné údaje k zostavám --- v | BE4: Návod na vyplnenie | BS4: 0,001
D5: Kód: | K5: -VO2- | BE5: Meniť je možné iba bunky so žltým podfarbením!_x000D_ _x000D_ 1) na prvom liste Rekapitulácie stavby vyplňte v zostave_x000D_ _x000D_ a) Rekapitulácia stavby_x000D_ - údaje o Zhotoviteľovi_x000D_ (prenesú sa do ostatných zostáv aj v iných listoch)_x000D_ _x000D_ b) Rekapitulácia objektov stavby_x000D_ - potrebné Ostatné náklady_x000D_ _x000D_ 2) na vybraných listoch vyplňte v zostave_x000D_ _x000D_ a) Krycí list_x000D_ - údaje o Zhotoviteľovi, pokiaľ sa líšia od údajov o Zhotoviteľovi na Rekapitulácii stavby_x000D_ (údaje se prenesú do ostatných zostav v danom liste)_x000D_ _x000D_ b) Rekapitulácia rozpočtu_x000D_ - potrebné Ostatné náklady_x000D_ _x000D_ c) Celkové náklady za stavbu_x000D_ - ceny na položkách_x000D_ - množstvo, pokiaľ má žlté podfarbenie_x000D_ - a v prípade potreby poznámku (tá je v skrytom stĺpci) | BS5: 0,01
D6: Stavba: | K6: Sociálno-zdravotné nízkokapacitné zariadenie s kapacitou 24 miest - CSS LÚČ | BS6: 0,01
D7: JKSO: | AK7: ČS: | BS7: 0,01
D8: Miesto: | K8: Bytča | AK8: Dátum: | AN8: 22. 6. 2026 | BS8: 0,01
BS9: 0,01
D10: Objednávateľ: | AK10: IČO: | BS10: 0,01
E11: Centrum sociálnych služieb LÚČ | AK11: IČ DPH: | BS11: 0,01
BS12: 0,01
D13: Zhotoviteľ: | AK13: IČO: | AN13: Vyplň údaj | BS13: 0,01
E14: Vyplň údaj | AK14: IČ DPH: | AN14: Vyplň údaj | BS14: 0,01
BS15: False
D16: Projektant: | AK16: IČO: | BS16: False
E17: expo AIR s.r.o. | AK17: IČ DPH: | BS17: True
BS18: 0,01
D19: Spracovateľ: | AK19: IČO: | BS19: 0,01
E20: Lacková | AK20: IČ DPH: | BS20: True
D22: Poznámka:
E23: V prípade výskytu obchodných názvov výrobkov a technológií, tieto majú informatívny charakter a slúžia ako minimálny štandard. Sú uvedené ako referenčná kvalita a môžu byť nahradené ekvivalentným výrobkom, ktorý má rovnaké, alebo lepšie vlastnosti a parametre._x000D_ Neoddeliteľnou súčasťou Výkazu výmer je Projektová dokumentácia stavby._x000D_ _x000D_
D26: Cena bez DPH | AK26: =ROUND(AG94,2) -> 0
L28: Sadzba dane | W28: Základ dane | AK28: Výška dane
D29: DPH | F29: základná | L29: 0.23 | W29: =ROUND(AZ94, 2) -> 0 | AK29: =ROUND(AV94, 2) -> 0
F30: znížená | L30: 0.23 | W30: =ROUND(BA94, 2) -> 0 | AK30: =ROUND(AW94, 2) -> 0
F31: zákl. prenesená | L31: 0.23 | W31: =ROUND(BB94, 2) -> 0 | AK31: 0
F32: zníž. prenesená | L32: 0.23 | W32: =ROUND(BC94, 2) -> 0 | AK32: 0
F33: nulová | L33: 0 | W33: =ROUND(BD94, 2) -> 0 | AK33: 0
D35: Cena s DPH | T35: v | X35: EUR | AK35: =SUM(AK26:AK33) -> 0
D49: Projektant | AH49: Spracovateľ
D60: Dátum a podpis: | V60: Pečiatka | AH60: Dátum a podpis: | AM60: Pečiatka
D64: Objednávateľ | AH64: Zhotoviteľ
D75: Dátum a podpis: | V75: Pečiatka | AH75: Dátum a podpis: | AM75: Pečiatka
C82: REKAPITULÁCIA OBJEKTOV STAVBY
C84: Kód: | L84: =K5 -> -VO2-
C85: Stavba: | L85: =K6 -> Sociálno-zdravotné nízkokapacitné zariadenie s kapacitou 24 miest - CSS LÚČ
C87: Miesto: | L87: =IF(K8="","",K8) -> Bytča | AI87: Dátum: | AM87: =IF(AN8= "","",AN8) -> 22. 6. 2026
C89: Objednávateľ: | L89: =IF(E11= "","",E11) -> Centrum sociálnych služieb LÚČ | AI89: Projektant: | AM89: =IF(E17="","",E17) -> expo AIR s.r.o. | AS89: Informatívne údaje z listov zákaziek
C90: Zhotoviteľ: | L90: =IF(E14= "Vyplň údaj","",E14) | AI90: Spracovateľ: | AM90: =IF(E20="","",E20) -> Lacková
...

Sheet a1 - E1.1a  Architektonic...
AT2: {1e6191ae-6d3e-43e3-9e53-293926fa2a3a}
AT3: 0
D4: KRYCÍ LIST ROZPOČTU | M4: v --- nižšie sa nachádzajú doplnkové a pomocné údaje k zostavám --- v | AT4: False
D6: Stavba:
E7: ='Rekapitulácia stavby'!K6 -> Sociálno-zdravotné nízkokapacitné zariadenie s kapacitou 24 miest - CSS LÚČ
D8: Objekt:
E9: 01 - SO-01 Navrhovaný objekt stavby CSS Lúč - prístavba a prestavba
D10: Časť:
E11: a1 - E1.1a Architektonické a stavebné riešenie - prestavba
D13: JKSO: | I13: ČS:
D14: Miesto: | F14: Bytča | I14: Dátum: | J14: ='Rekapitulácia stavby'!AN8 -> 22. 6. 2026
D16: Objednávateľ: | I16: IČO:
E17: Centrum sociálnych služieb LÚČ | I17: IČ DPH:
D19: Zhotoviteľ: | I19: IČO: | J19: ='Rekapitulácia stavby'!AN13 -> Vyplň údaj
E20: ='Rekapitulácia stavby'!E14 -> Vyplň údaj | I20: IČ DPH: | J20: ='Rekapitulácia stavby'!AN14 -> Vyplň údaj
D22: Projektant: | I22: IČO:
E23: expo AIR s.r.o. | I23: IČ DPH:
D25: Spracovateľ: | I25: IČO:
E26: Lacková | I26: IČ DPH:
D28: Poznámka:
E29: V prípade výskytu obchodných názvov výrobkov a technológií, tieto majú informatívny charakter a slúžia ako minimálny štandard. Sú uvedené ako referenčná kvalita a môžu byť nahradené ekvivalentným výrobkom, ktorý má rovnaké, alebo lepšie vlastnosti a parametre. Neoddeliteľnou súčasťou Výkazu výmer je Projektová dokumentácia stavby.
D32: Cena bez DPH | J32: =ROUND(J149, 2) -> 0
F34: Základ dane | I34: Sadzba dane | J34: Výška dane
D35: DPH | E35: základná | F35: =ROUND((SUM(BE149:BE1561)), 2) -> 0 | I35: 0.23 | J35: =ROUND(((SUM(BE149:BE1561))*I35), 2) -> 0
E36: znížená | F36: =ROUND((SUM(BF149:BF1561)), 2) -> 0 | I36: 0.23 | J36: =ROUND(((SUM(BF149:BF1561))*I36), 2) -> 0
E37: zákl. prenesená | F37: =ROUND((SUM(BG149:BG1561)), 2) -> 0 | I37: 0.23 | J37: =0 -> 0
E38: zníž. prenesená | F38: =ROUND((SUM(BH149:BH1561)), 2) -> 0 | I38: 0.23 | J38: =0 -> 0
E39: nulová | F39: =ROUND((SUM(BI149:BI1561)), 2) -> 0 | I39: 0 | J39: =0 -> 0
D41: Cena s DPH | G41: v | H41: EUR | J41: =SUM(J32:J39) -> 0
D50: Projektant | G50: Spracovateľ
D61: Dátum a podpis: | F61: Pečiatka | G61: Dátum a podpis: | J61: Pečiatka
D65: Objednávateľ | G65: Zhotoviteľ
D76: Dátum a podpis: | F76: Pečiatka | G76: Dátum a podpis: | J76: Pečiatka
C82: REKAPITULÁCIA ROZPOČTU
C84: Stavba:
E85: =E7 -> Sociálno-zdravotné nízkokapacitné zariadenie s kapacitou 24 miest - CSS LÚČ
C86: Objekt:
E87: 01 - SO-01 Navrhovaný objekt stavby CSS Lúč - prístavba a prestavba
C88: Časť:
E89: =E11 -> a1 - E1.1a Architektonické a stavebné riešenie - prestavba
...

Sheet a2 - E1.1b  Architektonic...
AT2: {125f32b5-40fd-471b-be4b-38b703b0548e}
AT3: 0
D4: KRYCÍ LIST ROZPOČTU | M4: v --- nižšie sa nachádzajú doplnkové a pomocné údaje k zostavám --- v | AT4: False
D6: Stavba:
E7: ='Rekapitulácia stavby'!K6 -> Sociálno-zdravotné nízkokapacitné zariadenie s kapacitou 24 miest - CSS LÚČ
D8: Objekt:
E9: 01 - SO-01 Navrhovaný objekt stavby CSS Lúč - prístavba a prestavba
D10: Časť:
E11: a2 - E1.1b Architektonické a stavebné riešenie - prístavba
D13: JKSO: | I13: ČS:
D14: Miesto: | F14: Bytča | I14: Dátum: | J14: ='Rekapitulácia stavby'!AN8 -> 22. 6. 2026
D16: Objednávateľ: | I16: IČO:
E17: Centrum sociálnych služieb LÚČ | I17: IČ DPH:
D19: Zhotoviteľ: | I19: IČO: | J19: ='Rekapitulácia stavby'!AN13 -> Vyplň údaj
E20: ='Rekapitulácia stavby'!E14 -> Vyplň údaj | I20: IČ DPH: | J20: ='Rekapitulácia stavby'!AN14 -> Vyplň údaj
D22: Projektant: | I22: IČO:
E23: expo AIR s.r.o. | I23: IČ DPH:
D25: Spracovateľ: | I25: IČO:
E26: Lacková | I26: IČ DPH:
D28: Poznámka:
E29: V prípade výskytu obchodných názvov výrobkov a technológií, tieto majú informatívny charakter a slúžia ako minimálny štandard. Sú uvedené ako referenčná kvalita a môžu byť nahradené ekvivalentným výrobkom, ktorý má rovnaké, alebo lepšie vlastnosti a parametre. Neoddeliteľnou súčasťou Výkazu výmer je Projektová dokumentácia stavby.
D32: Cena bez DPH | J32: =ROUND(J144, 2) -> 0
F34: Základ dane | I34: Sadzba dane | J34: Výška dane
D35: DPH | E35: základná | F35: =ROUND((SUM(BE144:BE781)), 2) -> 0 | I35: 0.23 | J35: =ROUND(((SUM(BE144:BE781))*I35), 2) -> 0
E36: znížená | F36: =ROUND((SUM(BF144:BF781)), 2) -> 0 | I36: 0.23 | J36: =ROUND(((SUM(BF144:BF781))*I36), 2) -> 0
E37: zákl. prenesená | F37: =ROUND((SUM(BG144:BG781)), 2) -> 0 | I37: 0.23 | J37: =0 -> 0
E38: zníž. prenesená | F38: =ROUND((SUM(BH144:BH781)), 2) -> 0 | I38: 0.23 | J38: =0 -> 0
E39: nulová | F39: =ROUND((SUM(BI144:BI781)), 2) -> 0 | I39: 0 | J39: =0 -> 0
D41: Cena s DPH | G41: v | H41: EUR | J41: =SUM(J32:J39) -> 0
D50: Projektant | G50: Spracovateľ
D61: Dátum a podpis: | F61: Pečiatka | G61: Dátum a podpis: | J61: Pečiatka
D65: Objednávateľ | G65: Zhotoviteľ
D76: Dátum a podpis: | F76: Pečiatka | G76: Dátum a podpis: | J76: Pečiatka
C82: REKAPITULÁCIA ROZPOČTU
C84: Stavba:
E85: =E7 -> Sociálno-zdravotné nízkokapacitné zariadenie s kapacitou 24 miest - CSS LÚČ
C86: Objekt:
E87: 01 - SO-01 Navrhovaný objekt stavby CSS Lúč - prístavba a prestavba
C88: Časť:
E89: =E11 -> a2 - E1.1b Architektonické a stavebné riešenie - prístavba
...

Sheet b1 - E1.4a  Zdravotechnic...
AT2: {1dcb4e80-d8f2-4023-89a1-d5c771fde3ed}
AT3: 0
D4: KRYCÍ LIST ROZPOČTU | M4: v --- nižšie sa nachádzajú doplnkové a pomocné údaje k zostavám --- v | AT4: False
D6: Stavba:
E7: ='Rekapitulácia stavby'!K6 -> Sociálno-zdravotné nízkokapacitné zariadenie s kapacitou 24 miest - CSS LÚČ
D8: Objekt:
E9: 01 - SO-01 Navrhovaný objekt stavby CSS Lúč - prístavba a prestavba
D10: Časť:
E11: b1 - E1.4a Zdravotechnická inštalácia - prestavba
D13: JKSO: | I13: ČS:
D14: Miesto: | F14: Bytča | I14: Dátum: | J14: ='Rekapitulácia stavby'!AN8 -> 22. 6. 2026
D16: Objednávateľ: | I16: IČO:
E17: Centrum sociálnych služieb LÚČ | I17: IČ DPH:
D19: Zhotoviteľ: | I19: IČO: | J19: ='Rekapitulácia stavby'!AN13 -> Vyplň údaj
E20: ='Rekapitulácia stavby'!E14 -> Vyplň údaj | I20: IČ DPH: | J20: ='Rekapitulácia stavby'!AN14 -> Vyplň údaj
D22: Projektant: | I22: IČO:
E23: expo AIR s.r.o. | I23: IČ DPH:
D25: Spracovateľ: | I25: IČO:
E26: Roman Kostelník | I26: IČ DPH:
D28: Poznámka:
E29: V prípade výskytu obchodných názvov výrobkov a technológií, tieto majú informatívny charakter a slúžia ako minimálny štandard. Sú uvedené ako referenčná kvalita a môžu byť nahradené ekvivalentným výrobkom, ktorý má rovnaké, alebo lepšie vlastnosti a parametre. Neoddeliteľnou súčasťou Výkazu výmer je Projektová dokumentácia stavby.
D32: Cena bez DPH | J32: =ROUND(J131, 2) -> 0
F34: Základ dane | I34: Sadzba dane | J34: Výška dane
D35: DPH | E35: základná | F35: =ROUND((SUM(BE131:BE285)), 2) -> 0 | I35: 0.23 | J35: =ROUND(((SUM(BE131:BE285))*I35), 2) -> 0
E36: znížená | F36: =ROUND((SUM(BF131:BF285)), 2) -> 0 | I36: 0.23 | J36: =ROUND(((SUM(BF131:BF285))*I36), 2) -> 0
E37: zákl. prenesená | F37: =ROUND((SUM(BG131:BG285)), 2) -> 0 | I37: 0.23 | J37: =0 -> 0
E38: zníž. prenesená | F38: =ROUND((SUM(BH131:BH285)), 2) -> 0 | I38: 0.23 | J38: =0 -> 0
E39: nulová | F39: =ROUND((SUM(BI131:BI285)), 2) -> 0 | I39: 0 | J39: =0 -> 0
D41: Cena s DPH | G41: v | H41: EUR | J41: =SUM(J32:J39) -> 0
D50: Projektant | G50: Spracovateľ
D61: Dátum a podpis: | F61: Pečiatka | G61: Dátum a podpis: | J61: Pečiatka
D65: Objednávateľ | G65: Zhotoviteľ
D76: Dátum a podpis: | F76: Pečiatka | G76: Dátum a podpis: | J76: Pečiatka
C82: REKAPITULÁCIA ROZPOČTU
C84: Stavba:
E85: =E7 -> Sociálno-zdravotné nízkokapacitné zariadenie s kapacitou 24 miest - CSS LÚČ
C86: Objekt:
E87: 01 - SO-01 Navrhovaný objekt stavby CSS Lúč - prístavba a prestavba
C88: Časť:
E89: =E11 -> b1 - E1.4a Zdravotechnická inštalácia - prestavba
...

Sheet b2 - E1.4b  Zdravotechnic...
AT2: {6e8f6fac-b989-4770-b88b-e166fd62ce9b}
AT3: 0
D4: KRYCÍ LIST ROZPOČTU | M4: v --- nižšie sa nachádzajú doplnkové a pomocné údaje k zostavám --- v | AT4: False
D6: Stavba:
E7: ='Rekapitulácia stavby'!K6 -> Sociálno-zdravotné nízkokapacitné zariadenie s kapacitou 24 miest - CSS LÚČ
D8: Objekt:
E9: 01 - SO-01 Navrhovaný objekt stavby CSS Lúč - prístavba a prestavba
D10: Časť:
E11: b2 - E1.4b Zdravotechnická inštalácia - prístavba
D13: JKSO: | I13: ČS:
D14: Miesto: | F14: Bytča | I14: Dátum: | J14: ='Rekapitulácia stavby'!AN8 -> 22. 6. 2026
D16: Objednávateľ: | I16: IČO:
E17: Centrum sociálnych služieb LÚČ | I17: IČ DPH:
D19: Zhotoviteľ: | I19: IČO: | J19: ='Rekapitulácia stavby'!AN13 -> Vyplň údaj
E20: ='Rekapitulácia stavby'!E14 -> Vyplň údaj | I20: IČ DPH: | J20: ='Rekapitulácia stavby'!AN14 -> Vyplň údaj
D22: Projektant: | I22: IČO:
E23: expo AIR s.r.o. | I23: IČ DPH:
D25: Spracovateľ: | I25: IČO:
E26: Roman Kostelník | I26: IČ DPH:
D28: Poznámka:
E29: V prípade výskytu obchodných názvov výrobkov a technológií, tieto majú informatívny charakter a slúžia ako minimálny štandard. Sú uvedené ako referenčná kvalita a môžu byť nahradené ekvivalentným výrobkom, ktorý má rovnaké, alebo lepšie vlastnosti a parametre. Neoddeliteľnou súčasťou Výkazu výmer je Projektová dokumentácia stavby.
D32: Cena bez DPH | J32: =ROUND(J130, 2) -> 0
F34: Základ dane | I34: Sadzba dane | J34: Výška dane
D35: DPH | E35: základná | F35: =ROUND((SUM(BE130:BE223)), 2) -> 0 | I35: 0.23 | J35: =ROUND(((SUM(BE130:BE223))*I35), 2) -> 0
E36: znížená | F36: =ROUND((SUM(BF130:BF223)), 2) -> 0 | I36: 0.23 | J36: =ROUND(((SUM(BF130:BF223))*I36), 2) -> 0
E37: zákl. prenesená | F37: =ROUND((SUM(BG130:BG223)), 2) -> 0 | I37: 0.23 | J37: =0 -> 0
E38: zníž. prenesená | F38: =ROUND((SUM(BH130:BH223)), 2) -> 0 | I38: 0.23 | J38: =0 -> 0
E39: nulová | F39: =ROUND((SUM(BI130:BI223)), 2) -> 0 | I39: 0 | J39: =0 -> 0
D41: Cena s DPH | G41: v | H41: EUR | J41: =SUM(J32:J39) -> 0
D50: Projektant | G50: Spracovateľ
D61: Dátum a podpis: | F61: Pečiatka | G61: Dátum a podpis: | J61: Pečiatka
D65: Objednávateľ | G65: Zhotoviteľ
D76: Dátum a podpis: | F76: Pečiatka | G76: Dátum a podpis: | J76: Pečiatka
C82: REKAPITULÁCIA ROZPOČTU
C84: Stavba:
E85: =E7 -> Sociálno-zdravotné nízkokapacitné zariadenie s kapacitou 24 miest - CSS LÚČ
C86: Objekt:
E87: 01 - SO-01 Navrhovaný objekt stavby CSS Lúč - prístavba a prestavba
C88: Časť:
E89: =E11 -> b2 - E1.4b Zdravotechnická inštalácia - prístavba
...

Sheet b3 - E1.4c  Vnútorný plyn...
AT2: {2bf29ede-7249-4f16-992f-2fab55664669}
AT3: 0
D4: KRYCÍ LIST ROZPOČTU | M4: v --- nižšie sa nachádzajú doplnkové a pomocné údaje k zostavám --- v | AT4: False
D6: Stavba:
E7: ='Rekapitulácia stavby'!K6 -> Sociálno-zdravotné nízkokapacitné zariadenie s kapacitou 24 miest - CSS LÚČ
D8: Objekt:
E9: 01 - SO-01 Navrhovaný objekt stavby CSS Lúč - prístavba a prestavba
D10: Časť:
E11: b3 - E1.4c Vnútorný plynovod - prestavba
D13: JKSO: | I13: ČS:
D14: Miesto: | F14: Bytča | I14: Dátum: | J14: ='Rekapitulácia stavby'!AN8 -> 22. 6. 2026
D16: Objednávateľ: | I16: IČO:
E17: Centrum sociálnych služieb LÚČ | I17: IČ DPH:
D19: Zhotoviteľ: | I19: IČO: | J19: ='Rekapitulácia stavby'!AN13 -> Vyplň údaj
E20: ='Rekapitulácia stavby'!E14 -> Vyplň údaj | I20: IČ DPH: | J20: ='Rekapitulácia stavby'!AN14 -> Vyplň údaj
D22: Projektant: | I22: IČO:
E23: expo AIR s.r.o. | I23: IČ DPH:
D25: Spracovateľ: | I25: IČO:
E26: Ing. Vladimír Štrifler | I26: IČ DPH:
D28: Poznámka:
E29: V prípade výskytu obchodných názvov výrobkov a technológií, tieto majú informatívny charakter a slúžia ako minimálny štandard. Sú uvedené ako referenčná kvalita a môžu byť nahradené ekvivalentným výrobkom, ktorý má rovnaké, alebo lepšie vlastnosti a parametre. Neoddeliteľnou súčasťou Výkazu výmer je Projektová dokumentácia stavby.
D32: Cena bez DPH | J32: =ROUND(J131, 2) -> 0
F34: Základ dane | I34: Sadzba dane | J34: Výška dane
D35: DPH | E35: základná | F35: =ROUND((SUM(BE131:BE187)), 2) -> 0 | I35: 0.23 | J35: =ROUND(((SUM(BE131:BE187))*I35), 2) -> 0
E36: znížená | F36: =ROUND((SUM(BF131:BF187)), 2) -> 0 | I36: 0.23 | J36: =ROUND(((SUM(BF131:BF187))*I36), 2) -> 0
E37: zákl. prenesená | F37: =ROUND((SUM(BG131:BG187)), 2) -> 0 | I37: 0.23 | J37: =0 -> 0
E38: zníž. prenesená | F38: =ROUND((SUM(BH131:BH187)), 2) -> 0 | I38: 0.23 | J38: =0 -> 0
E39: nulová | F39: =ROUND((SUM(BI131:BI187)), 2) -> 0 | I39: 0 | J39: =0 -> 0
D41: Cena s DPH | G41: v | H41: EUR | J41: =SUM(J32:J39) -> 0
D50: Projektant | G50: Spracovateľ
D61: Dátum a podpis: | F61: Pečiatka | G61: Dátum a podpis: | J61: Pečiatka
D65: Objednávateľ | G65: Zhotoviteľ
D76: Dátum a podpis: | F76: Pečiatka | G76: Dátum a podpis: | J76: Pečiatka
C82: REKAPITULÁCIA ROZPOČTU
C84: Stavba:
E85: =E7 -> Sociálno-zdravotné nízkokapacitné zariadenie s kapacitou 24 miest - CSS LÚČ
C86: Objekt:
E87: 01 - SO-01 Navrhovaný objekt stavby CSS Lúč - prístavba a prestavba
C88: Časť:
E89: =E11 -> b3 - E1.4c Vnútorný plynovod - prestavba
...

Sheet c - E1.5  Vykurovanie
AT2: {ec18943a-e621-4bb4-89b5-fb772b481284}
AT3: 0
D4: KRYCÍ LIST ROZPOČTU | M4: v --- nižšie sa nachádzajú doplnkové a pomocné údaje k zostavám --- v | AT4: False
D6: Stavba:
E7: ='Rekapitulácia stavby'!K6 -> Sociálno-zdravotné nízkokapacitné zariadenie s kapacitou 24 miest - CSS LÚČ
D8: Objekt:
E9: 01 - SO-01 Navrhovaný objekt stavby CSS Lúč - prístavba a prestavba
D10: Časť:
E11: c - E1.5 Vykurovanie
D13: JKSO: | I13: ČS:
D14: Miesto: | F14: Bytča | I14: Dátum: | J14: ='Rekapitulácia stavby'!AN8 -> 22. 6. 2026
D16: Objednávateľ: | I16: IČO:
E17: Centrum sociálnych služieb LÚČ | I17: IČ DPH:
D19: Zhotoviteľ: | I19: IČO: | J19: ='Rekapitulácia stavby'!AN13 -> Vyplň údaj
E20: ='Rekapitulácia stavby'!E14 -> Vyplň údaj | I20: IČ DPH: | J20: ='Rekapitulácia stavby'!AN14 -> Vyplň údaj
D22: Projektant: | I22: IČO:
E23: expo AIR s.r.o. | I23: IČ DPH:
D25: Spracovateľ: | I25: IČO:
E26: Ing. Vladimír Štrifler | I26: IČ DPH:
D28: Poznámka:
D32: Cena bez DPH | J32: =ROUND(J134, 2) -> 0
F34: Základ dane | I34: Sadzba dane | J34: Výška dane
D35: DPH | E35: základná | F35: =ROUND((SUM(BE134:BE321)), 2) -> 0 | I35: 0.23 | J35: =ROUND(((SUM(BE134:BE321))*I35), 2) -> 0
E36: znížená | F36: =ROUND((SUM(BF134:BF321)), 2) -> 0 | I36: 0.23 | J36: =ROUND(((SUM(BF134:BF321))*I36), 2) -> 0
E37: zákl. prenesená | F37: =ROUND((SUM(BG134:BG321)), 2) -> 0 | I37: 0.23 | J37: =0 -> 0
E38: zníž. prenesená | F38: =ROUND((SUM(BH134:BH321)), 2) -> 0 | I38: 0.23 | J38: =0 -> 0
E39: nulová | F39: =ROUND((SUM(BI134:BI321)), 2) -> 0 | I39: 0 | J39: =0 -> 0
D41: Cena s DPH | G41: v | H41: EUR | J41: =SUM(J32:J39) -> 0
D50: Projektant | G50: Spracovateľ
D61: Dátum a podpis: | F61: Pečiatka | G61: Dátum a podpis: | J61: Pečiatka
D65: Objednávateľ | G65: Zhotoviteľ
D76: Dátum a podpis: | F76: Pečiatka | G76: Dátum a podpis: | J76: Pečiatka
C82: REKAPITULÁCIA ROZPOČTU
C84: Stavba:
E85: =E7 -> Sociálno-zdravotné nízkokapacitné zariadenie s kapacitou 24 miest - CSS LÚČ
C86: Objekt:
E87: 01 - SO-01 Navrhovaný objekt stavby CSS Lúč - prístavba a prestavba
C88: Časť:
E89: =E11 -> c - E1.5 Vykurovanie
C91: Miesto: | F91: =F14 -> Bytča | I91: Dátum: | J91: =IF(J14="","",J14) -> 22. 6. 2026
...

Sheet d1 - E1.6a  Vzduchotechni...
AT2: {c98d1b17-e3b4-41e5-a71b-d16a1350b2bd}
AT3: 0
D4: KRYCÍ LIST ROZPOČTU | M4: v --- nižšie sa nachádzajú doplnkové a pomocné údaje k zostavám --- v | AT4: False
D6: Stavba:
E7: ='Rekapitulácia stavby'!K6 -> Sociálno-zdravotné nízkokapacitné zariadenie s kapacitou 24 miest - CSS LÚČ
D8: Objekt:
E9: 01 - SO-01 Navrhovaný objekt stavby CSS Lúč - prístavba a prestavba
D10: Časť:
E11: d1 - E1.6a Vzduchotechnické zariadenia - prestavba
D13: JKSO: | I13: ČS:
D14: Miesto: | F14: Bytča | I14: Dátum: | J14: ='Rekapitulácia stavby'!AN8 -> 22. 6. 2026
D16: Objednávateľ: | I16: IČO:
E17: Centrum sociálnych služieb LÚČ | I17: IČ DPH:
D19: Zhotoviteľ: | I19: IČO: | J19: ='Rekapitulácia stavby'!AN13 -> Vyplň údaj
E20: ='Rekapitulácia stavby'!E14 -> Vyplň údaj | I20: IČ DPH: | J20: ='Rekapitulácia stavby'!AN14 -> Vyplň údaj
D22: Projektant: | I22: IČO:
E23: expo AIR s.r.o. | I23: IČ DPH:
D25: Spracovateľ: | I25: IČO:
E26: Ing. Štefan Glovaťák | I26: IČ DPH:
D28: Poznámka:
E29: V prípade výskytu obchodných názvov výrobkov a technológií, tieto majú informatívny charakter a slúžia ako minimálny štandard. Sú uvedené ako referenčná kvalita a môžu byť nahradené ekvivalentným výrobkom, ktorý má rovnaké, alebo lepšie vlastnosti a parametre. Neoddeliteľnou súčasťou Výkazu výmer je Projektová dokumentácia stavby.
D32: Cena bez DPH | J32: =ROUND(J130, 2) -> 0
F34: Základ dane | I34: Sadzba dane | J34: Výška dane
D35: DPH | E35: základná | F35: =ROUND((SUM(BE130:BE246)), 2) -> 0 | I35: 0.23 | J35: =ROUND(((SUM(BE130:BE246))*I35), 2) -> 0
E36: znížená | F36: =ROUND((SUM(BF130:BF246)), 2) -> 0 | I36: 0.23 | J36: =ROUND(((SUM(BF130:BF246))*I36), 2) -> 0
E37: zákl. prenesená | F37: =ROUND((SUM(BG130:BG246)), 2) -> 0 | I37: 0.23 | J37: =0 -> 0
E38: zníž. prenesená | F38: =ROUND((SUM(BH130:BH246)), 2) -> 0 | I38: 0.23 | J38: =0 -> 0
E39: nulová | F39: =ROUND((SUM(BI130:BI246)), 2) -> 0 | I39: 0 | J39: =0 -> 0
D41: Cena s DPH | G41: v | H41: EUR | J41: =SUM(J32:J39) -> 0
D50: Projektant | G50: Spracovateľ
D61: Dátum a podpis: | F61: Pečiatka | G61: Dátum a podpis: | J61: Pečiatka
D65: Objednávateľ | G65: Zhotoviteľ
D76: Dátum a podpis: | F76: Pečiatka | G76: Dátum a podpis: | J76: Pečiatka
C82: REKAPITULÁCIA ROZPOČTU
C84: Stavba:
E85: =E7 -> Sociálno-zdravotné nízkokapacitné zariadenie s kapacitou 24 miest - CSS LÚČ
C86: Objekt:
E87: 01 - SO-01 Navrhovaný objekt stavby CSS Lúč - prístavba a prestavba
C88: Časť:
E89: =E11 -> d1 - E1.6a Vzduchotechnické zariadenia - prestavba
...

Sheet d2 - E1.6b  Vzduchotechni...
AT2: {e3b130e3-0a60-4dfb-9945-a94e46d1a37b}
AT3: 0
D4: KRYCÍ LIST ROZPOČTU | M4: v --- nižšie sa nachádzajú doplnkové a pomocné údaje k zostavám --- v | AT4: False
D6: Stavba:
E7: ='Rekapitulácia stavby'!K6 -> Sociálno-zdravotné nízkokapacitné zariadenie s kapacitou 24 miest - CSS LÚČ
D8: Objekt:
E9: 01 - SO-01 Navrhovaný objekt stavby CSS Lúč - prístavba a prestavba
D10: Časť:
E11: d2 - E1.6b Vzduchotechnické zariadenia - prístavba
D13: JKSO: | I13: ČS:
D14: Miesto: | F14: Bytča | I14: Dátum: | J14: ='Rekapitulácia stavby'!AN8 -> 22. 6. 2026
D16: Objednávateľ: | I16: IČO:
E17: Centrum sociálnych služieb LÚČ | I17: IČ DPH:
D19: Zhotoviteľ: | I19: IČO: | J19: ='Rekapitulácia stavby'!AN13 -> Vyplň údaj
E20: ='Rekapitulácia stavby'!E14 -> Vyplň údaj | I20: IČ DPH: | J20: ='Rekapitulácia stavby'!AN14 -> Vyplň údaj
D22: Projektant: | I22: IČO:
E23: expo AIR s.r.o. | I23: IČ DPH:
D25: Spracovateľ: | I25: IČO:
E26: Ing. Štefan Glovaťák | I26: IČ DPH:
D28: Poznámka:
E29: V prípade výskytu obchodných názvov výrobkov a technológií, tieto majú informatívny charakter a slúžia ako minimálny štandard. Sú uvedené ako referenčná kvalita a môžu byť nahradené ekvivalentným výrobkom, ktorý má rovnaké, alebo lepšie vlastnosti a parametre. Neoddeliteľnou súčasťou Výkazu výmer je Projektová dokumentácia stavby.
D32: Cena bez DPH | J32: =ROUND(J125, 2) -> 0
F34: Základ dane | I34: Sadzba dane | J34: Výška dane
D35: DPH | E35: základná | F35: =ROUND((SUM(BE125:BE177)), 2) -> 0 | I35: 0.23 | J35: =ROUND(((SUM(BE125:BE177))*I35), 2) -> 0
E36: znížená | F36: =ROUND((SUM(BF125:BF177)), 2) -> 0 | I36: 0.23 | J36: =ROUND(((SUM(BF125:BF177))*I36), 2) -> 0
E37: zákl. prenesená | F37: =ROUND((SUM(BG125:BG177)), 2) -> 0 | I37: 0.23 | J37: =0 -> 0
E38: zníž. prenesená | F38: =ROUND((SUM(BH125:BH177)), 2) -> 0 | I38: 0.23 | J38: =0 -> 0
E39: nulová | F39: =ROUND((SUM(BI125:BI177)), 2) -> 0 | I39: 0 | J39: =0 -> 0
D41: Cena s DPH | G41: v | H41: EUR | J41: =SUM(J32:J39) -> 0
D50: Projektant | G50: Spracovateľ
D61: Dátum a podpis: | F61: Pečiatka | G61: Dátum a podpis: | J61: Pečiatka
D65: Objednávateľ | G65: Zhotoviteľ
D76: Dátum a podpis: | F76: Pečiatka | G76: Dátum a podpis: | J76: Pečiatka
C82: REKAPITULÁCIA ROZPOČTU
C84: Stavba:
E85: =E7 -> Sociálno-zdravotné nízkokapacitné zariadenie s kapacitou 24 miest - CSS LÚČ
C86: Objekt:
E87: 01 - SO-01 Navrhovaný objekt stavby CSS Lúč - prístavba a prestavba
C88: Časť:
E89: =E11 -> d2 - E1.6b Vzduchotechnické zariadenia - prístavba
...

Sheet e - E1.7  Umelé osvetleni...
AT2: {dfb1a1b4-526e-4463-9b1f-24343f2cc8c5}
AT3: 0
D4: KRYCÍ LIST ROZPOČTU | M4: v --- nižšie sa nachádzajú doplnkové a pomocné údaje k zostavám --- v | AT4: False
D6: Stavba:
E7: ='Rekapitulácia stavby'!K6 -> Sociálno-zdravotné nízkokapacitné zariadenie s kapacitou 24 miest - CSS LÚČ
D8: Objekt:
E9: 01 - SO-01 Navrhovaný objekt stavby CSS Lúč - prístavba a prestavba
D10: Časť:
E11: e - E1.7 Umelé osvetlenie a vnútorné elektroinštalačné rozvody
D13: JKSO: | I13: ČS:
D14: Miesto: | F14: Bytča | I14: Dátum: | J14: ='Rekapitulácia stavby'!AN8 -> 22. 6. 2026
D16: Objednávateľ: | I16: IČO:
E17: Centrum sociálnych služieb LÚČ | I17: IČ DPH:
D19: Zhotoviteľ: | I19: IČO: | J19: ='Rekapitulácia stavby'!AN13 -> Vyplň údaj
E20: ='Rekapitulácia stavby'!E14 -> Vyplň údaj | I20: IČ DPH: | J20: ='Rekapitulácia stavby'!AN14 -> Vyplň údaj
D22: Projektant: | I22: IČO:
E23: expo AIR s.r.o. | I23: IČ DPH:
D25: Spracovateľ: | I25: IČO:
E26: Ing. Richard Ďuriš | I26: IČ DPH:
D28: Poznámka:
E29: V prípade výskytu obchodných názvov výrobkov a technológií, tieto majú informatívny charakter a slúžia ako minimálny štandard. Sú uvedené ako referenčná kvalita a môžu byť nahradené ekvivalentným výrobkom, ktorý má rovnaké, alebo lepšie vlastnosti a parametre. Neoddeliteľnou súčasťou Výkazu výmer je Projektová dokumentácia stavby.
D32: Cena bez DPH | J32: =ROUND(J139, 2) -> 0
F34: Základ dane | I34: Sadzba dane | J34: Výška dane
D35: DPH | E35: základná | F35: =ROUND((SUM(BE139:BE455)), 2) -> 0 | I35: 0.23 | J35: =ROUND(((SUM(BE139:BE455))*I35), 2) -> 0
E36: znížená | F36: =ROUND((SUM(BF139:BF455)), 2) -> 0 | I36: 0.23 | J36: =ROUND(((SUM(BF139:BF455))*I36), 2) -> 0
E37: zákl. prenesená | F37: =ROUND((SUM(BG139:BG455)), 2) -> 0 | I37: 0.23 | J37: =0 -> 0
E38: zníž. prenesená | F38: =ROUND((SUM(BH139:BH455)), 2) -> 0 | I38: 0.23 | J38: =0 -> 0
E39: nulová | F39: =ROUND((SUM(BI139:BI455)), 2) -> 0 | I39: 0 | J39: =0 -> 0
D41: Cena s DPH | G41: v | H41: EUR | J41: =SUM(J32:J39) -> 0
D50: Projektant | G50: Spracovateľ
D61: Dátum a podpis: | F61: Pečiatka | G61: Dátum a podpis: | J61: Pečiatka
D65: Objednávateľ | G65: Zhotoviteľ
D76: Dátum a podpis: | F76: Pečiatka | G76: Dátum a podpis: | J76: Pečiatka
C82: REKAPITULÁCIA ROZPOČTU
C84: Stavba:
E85: =E7 -> Sociálno-zdravotné nízkokapacitné zariadenie s kapacitou 24 miest - CSS LÚČ
C86: Objekt:
E87: 01 - SO-01 Navrhovaný objekt stavby CSS Lúč - prístavba a prestavba
C88: Časť:
E89: =E11 -> e - E1.7 Umelé osvetlenie a vnútorné elektroinštalačné rozvody
...

Sheet f - E1.8  Fotovoltický zd...
AT2: {47d88031-4416-4756-af3f-3fa33e643705}
AT3: 0
D4: KRYCÍ LIST ROZPOČTU | M4: v --- nižšie sa nachádzajú doplnkové a pomocné údaje k zostavám --- v | AT4: False
D6: Stavba:
E7: ='Rekapitulácia stavby'!K6 -> Sociálno-zdravotné nízkokapacitné zariadenie s kapacitou 24 miest - CSS LÚČ
D8: Objekt:
E9: 01 - SO-01 Navrhovaný objekt stavby CSS Lúč - prístavba a prestavba
D10: Časť:
E11: f - E1.8 Fotovoltický zdroj FVZ
D13: JKSO: | I13: ČS:
D14: Miesto: | F14: Bytča | I14: Dátum: | J14: ='Rekapitulácia stavby'!AN8 -> 22. 6. 2026
D16: Objednávateľ: | I16: IČO:
E17: Centrum sociálnych služieb LÚČ | I17: IČ DPH:
D19: Zhotoviteľ: | I19: IČO: | J19: ='Rekapitulácia stavby'!AN13 -> Vyplň údaj
E20: ='Rekapitulácia stavby'!E14 -> Vyplň údaj | I20: IČ DPH: | J20: ='Rekapitulácia stavby'!AN14 -> Vyplň údaj
D22: Projektant: | I22: IČO:
E23: expo AIR s.r.o. | I23: IČ DPH:
D25: Spracovateľ: | I25: IČO:
E26: Ing. Richard Ďuriš | I26: IČ DPH:
D28: Poznámka:
E29: V prípade výskytu obchodných názvov výrobkov a technológií, tieto majú informatívny charakter a slúžia ako minimálny štandard. Sú uvedené ako referenčná kvalita a môžu byť nahradené ekvivalentným výrobkom, ktorý má rovnaké, alebo lepšie vlastnosti a parametre. Neoddeliteľnou súčasťou Výkazu výmer je Projektová dokumentácia stavby.
D32: Cena bez DPH | J32: =ROUND(J127, 2) -> 0
F34: Základ dane | I34: Sadzba dane | J34: Výška dane
D35: DPH | E35: základná | F35: =ROUND((SUM(BE127:BE183)), 2) -> 0 | I35: 0.23 | J35: =ROUND(((SUM(BE127:BE183))*I35), 2) -> 0
E36: znížená | F36: =ROUND((SUM(BF127:BF183)), 2) -> 0 | I36: 0.23 | J36: =ROUND(((SUM(BF127:BF183))*I36), 2) -> 0
E37: zákl. prenesená | F37: =ROUND((SUM(BG127:BG183)), 2) -> 0 | I37: 0.23 | J37: =0 -> 0
E38: zníž. prenesená | F38: =ROUND((SUM(BH127:BH183)), 2) -> 0 | I38: 0.23 | J38: =0 -> 0
E39: nulová | F39: =ROUND((SUM(BI127:BI183)), 2) -> 0 | I39: 0 | J39: =0 -> 0
D41: Cena s DPH | G41: v | H41: EUR | J41: =SUM(J32:J39) -> 0
D50: Projektant | G50: Spracovateľ
D61: Dátum a podpis: | F61: Pečiatka | G61: Dátum a podpis: | J61: Pečiatka
D65: Objednávateľ | G65: Zhotoviteľ
D76: Dátum a podpis: | F76: Pečiatka | G76: Dátum a podpis: | J76: Pečiatka
C82: REKAPITULÁCIA ROZPOČTU
C84: Stavba:
E85: =E7 -> Sociálno-zdravotné nízkokapacitné zariadenie s kapacitou 24 miest - CSS LÚČ
C86: Objekt:
E87: 01 - SO-01 Navrhovaný objekt stavby CSS Lúč - prístavba a prestavba
C88: Časť:
E89: =E11 -> f - E1.8 Fotovoltický zdroj FVZ
...

Sheet g - E1.9  Bleskozvod
AT2: {e43b973f-51fa-4808-b7c8-b1b3d7a14f9e}
AT3: 0
D4: KRYCÍ LIST ROZPOČTU | M4: v --- nižšie sa nachádzajú doplnkové a pomocné údaje k zostavám --- v | AT4: False
D6: Stavba:
E7: ='Rekapitulácia stavby'!K6 -> Sociálno-zdravotné nízkokapacitné zariadenie s kapacitou 24 miest - CSS LÚČ
D8: Objekt:
E9: 01 - SO-01 Navrhovaný objekt stavby CSS Lúč - prístavba a prestavba
D10: Časť:
E11: g - E1.9 Bleskozvod
D13: JKSO: | I13: ČS:
D14: Miesto: | F14: Bytča | I14: Dátum: | J14: ='Rekapitulácia stavby'!AN8 -> 22. 6. 2026
D16: Objednávateľ: | I16: IČO:
E17: Centrum sociálnych služieb LÚČ | I17: IČ DPH:
D19: Zhotoviteľ: | I19: IČO: | J19: ='Rekapitulácia stavby'!AN13 -> Vyplň údaj
E20: ='Rekapitulácia stavby'!E14 -> Vyplň údaj | I20: IČ DPH: | J20: ='Rekapitulácia stavby'!AN14 -> Vyplň údaj
D22: Projektant: | I22: IČO:
E23: expo AIR s.r.o. | I23: IČ DPH:
D25: Spracovateľ: | I25: IČO:
E26: Ing. Richard Ďuriš | I26: IČ DPH:
D28: Poznámka:
E29: V prípade výskytu obchodných názvov výrobkov a technológií, tieto majú informatívny charakter a slúžia ako minimálny štandard. Sú uvedené ako referenčná kvalita a môžu byť nahradené ekvivalentným výrobkom, ktorý má rovnaké, alebo lepšie vlastnosti a parametre. Neoddeliteľnou súčasťou Výkazu výmer je Projektová dokumentácia stavby.
D32: Cena bez DPH | J32: =ROUND(J124, 2) -> 0
F34: Základ dane | I34: Sadzba dane | J34: Výška dane
D35: DPH | E35: základná | F35: =ROUND((SUM(BE124:BE175)), 2) -> 0 | I35: 0.23 | J35: =ROUND(((SUM(BE124:BE175))*I35), 2) -> 0
E36: znížená | F36: =ROUND((SUM(BF124:BF175)), 2) -> 0 | I36: 0.23 | J36: =ROUND(((SUM(BF124:BF175))*I36), 2) -> 0
E37: zákl. prenesená | F37: =ROUND((SUM(BG124:BG175)), 2) -> 0 | I37: 0.23 | J37: =0 -> 0
E38: zníž. prenesená | F38: =ROUND((SUM(BH124:BH175)), 2) -> 0 | I38: 0.23 | J38: =0 -> 0
E39: nulová | F39: =ROUND((SUM(BI124:BI175)), 2) -> 0 | I39: 0 | J39: =0 -> 0
D41: Cena s DPH | G41: v | H41: EUR | J41: =SUM(J32:J39) -> 0
D50: Projektant | G50: Spracovateľ
D61: Dátum a podpis: | F61: Pečiatka | G61: Dátum a podpis: | J61: Pečiatka
D65: Objednávateľ | G65: Zhotoviteľ
D76: Dátum a podpis: | F76: Pečiatka | G76: Dátum a podpis: | J76: Pečiatka
C82: REKAPITULÁCIA ROZPOČTU
C84: Stavba:
E85: =E7 -> Sociálno-zdravotné nízkokapacitné zariadenie s kapacitou 24 miest - CSS LÚČ
C86: Objekt:
E87: 01 - SO-01 Navrhovaný objekt stavby CSS Lúč - prístavba a prestavba
C88: Časť:
E89: =E11 -> g - E1.9 Bleskozvod
...

Sheet h - E1.10  Elektrická pož...
AT2: {d93d57b1-89da-435d-af42-584a6b611cb1}
AT3: 0
D4: KRYCÍ LIST ROZPOČTU | M4: v --- nižšie sa nachádzajú doplnkové a pomocné údaje k zostavám --- v | AT4: False
D6: Stavba:
E7: ='Rekapitulácia stavby'!K6 -> Sociálno-zdravotné nízkokapacitné zariadenie s kapacitou 24 miest - CSS LÚČ
D8: Objekt:
E9: 01 - SO-01 Navrhovaný objekt stavby CSS Lúč - prístavba a prestavba
D10: Časť:
E11: h - E1.10 Elektrická požiarna signalizácia EPS
D13: JKSO: | I13: ČS:
D14: Miesto: | F14: Bytča | I14: Dátum: | J14: ='Rekapitulácia stavby'!AN8 -> 22. 6. 2026
D16: Objednávateľ: | I16: IČO:
E17: Centrum sociálnych služieb LÚČ | I17: IČ DPH:
D19: Zhotoviteľ: | I19: IČO: | J19: ='Rekapitulácia stavby'!AN13 -> Vyplň údaj
E20: ='Rekapitulácia stavby'!E14 -> Vyplň údaj | I20: IČ DPH: | J20: ='Rekapitulácia stavby'!AN14 -> Vyplň údaj
D22: Projektant: | I22: IČO:
E23: expo AIR s.r.o. | I23: IČ DPH:
D25: Spracovateľ: | I25: IČO:
E26: Peter Marek | I26: IČ DPH:
D28: Poznámka:
E29: V prípade výskytu obchodných názvov výrobkov a technológií, tieto majú informatívny charakter a slúžia ako minimálny štandard. Sú uvedené ako referenčná kvalita a môžu byť nahradené ekvivalentným výrobkom, ktorý má rovnaké, alebo lepšie vlastnosti a parametre. Neoddeliteľnou súčasťou Výkazu výmer je Projektová dokumentácia stavby.
D32: Cena bez DPH | J32: =ROUND(J122, 2) -> 0
F34: Základ dane | I34: Sadzba dane | J34: Výška dane
D35: DPH | E35: základná | F35: =ROUND((SUM(BE122:BE207)), 2) -> 0 | I35: 0.23 | J35: =ROUND(((SUM(BE122:BE207))*I35), 2) -> 0
E36: znížená | F36: =ROUND((SUM(BF122:BF207)), 2) -> 0 | I36: 0.23 | J36: =ROUND(((SUM(BF122:BF207))*I36), 2) -> 0
E37: zákl. prenesená | F37: =ROUND((SUM(BG122:BG207)), 2) -> 0 | I37: 0.23 | J37: =0 -> 0
E38: zníž. prenesená | F38: =ROUND((SUM(BH122:BH207)), 2) -> 0 | I38: 0.23 | J38: =0 -> 0
E39: nulová | F39: =ROUND((SUM(BI122:BI207)), 2) -> 0 | I39: 0 | J39: =0 -> 0
D41: Cena s DPH | G41: v | H41: EUR | J41: =SUM(J32:J39) -> 0
D50: Projektant | G50: Spracovateľ
D61: Dátum a podpis: | F61: Pečiatka | G61: Dátum a podpis: | J61: Pečiatka
D65: Objednávateľ | G65: Zhotoviteľ
D76: Dátum a podpis: | F76: Pečiatka | G76: Dátum a podpis: | J76: Pečiatka
C82: REKAPITULÁCIA ROZPOČTU
C84: Stavba:
E85: =E7 -> Sociálno-zdravotné nízkokapacitné zariadenie s kapacitou 24 miest - CSS LÚČ
C86: Objekt:
E87: 01 - SO-01 Navrhovaný objekt stavby CSS Lúč - prístavba a prestavba
C88: Časť:
E89: =E11 -> h - E1.10 Elektrická požiarna signalizácia EPS
...

Sheet i - E1.11  Hlasová signal...
AT2: {a10c6bda-976c-46f6-81cd-faf307f5c049}
AT3: 0
D4: KRYCÍ LIST ROZPOČTU | M4: v --- nižšie sa nachádzajú doplnkové a pomocné údaje k zostavám --- v | AT4: False
D6: Stavba:
E7: ='Rekapitulácia stavby'!K6 -> Sociálno-zdravotné nízkokapacitné zariadenie s kapacitou 24 miest - CSS LÚČ
D8: Objekt:
E9: 01 - SO-01 Navrhovaný objekt stavby CSS Lúč - prístavba a prestavba
D10: Časť:
E11: i - E1.11 Hlasová signalizácia požiaru HSP
D13: JKSO: | I13: ČS:
D14: Miesto: | F14: Bytča | I14: Dátum: | J14: ='Rekapitulácia stavby'!AN8 -> 22. 6. 2026
D16: Objednávateľ: | I16: IČO:
E17: Centrum sociálnych služieb LÚČ | I17: IČ DPH:
D19: Zhotoviteľ: | I19: IČO: | J19: ='Rekapitulácia stavby'!AN13 -> Vyplň údaj
E20: ='Rekapitulácia stavby'!E14 -> Vyplň údaj | I20: IČ DPH: | J20: ='Rekapitulácia stavby'!AN14 -> Vyplň údaj
D22: Projektant: | I22: IČO:
E23: expo AIR s.r.o. | I23: IČ DPH:
D25: Spracovateľ: | I25: IČO:
E26: Ing. Jozef Milde | I26: IČ DPH:
D28: Poznámka:
E29: V prípade výskytu obchodných názvov výrobkov a technológií, tieto majú informatívny charakter a slúžia ako minimálny štandard. Sú uvedené ako referenčná kvalita a môžu byť nahradené ekvivalentným výrobkom, ktorý má rovnaké, alebo lepšie vlastnosti a parametre. Neoddeliteľnou súčasťou Výkazu výmer je Projektová dokumentácia stavby.
D32: Cena bez DPH | J32: =ROUND(J122, 2) -> 0
F34: Základ dane | I34: Sadzba dane | J34: Výška dane
D35: DPH | E35: základná | F35: =ROUND((SUM(BE122:BE187)), 2) -> 0 | I35: 0.23 | J35: =ROUND(((SUM(BE122:BE187))*I35), 2) -> 0
E36: znížená | F36: =ROUND((SUM(BF122:BF187)), 2) -> 0 | I36: 0.23 | J36: =ROUND(((SUM(BF122:BF187))*I36), 2) -> 0
E37: zákl. prenesená | F37: =ROUND((SUM(BG122:BG187)), 2) -> 0 | I37: 0.23 | J37: =0 -> 0
E38: zníž. prenesená | F38: =ROUND((SUM(BH122:BH187)), 2) -> 0 | I38: 0.23 | J38: =0 -> 0
E39: nulová | F39: =ROUND((SUM(BI122:BI187)), 2) -> 0 | I39: 0 | J39: =0 -> 0
D41: Cena s DPH | G41: v | H41: EUR | J41: =SUM(J32:J39) -> 0
D50: Projektant | G50: Spracovateľ
D61: Dátum a podpis: | F61: Pečiatka | G61: Dátum a podpis: | J61: Pečiatka
D65: Objednávateľ | G65: Zhotoviteľ
D76: Dátum a podpis: | F76: Pečiatka | G76: Dátum a podpis: | J76: Pečiatka
C82: REKAPITULÁCIA ROZPOČTU
C84: Stavba:
E85: =E7 -> Sociálno-zdravotné nízkokapacitné zariadenie s kapacitou 24 miest - CSS LÚČ
C86: Objekt:
E87: 01 - SO-01 Navrhovaný objekt stavby CSS Lúč - prístavba a prestavba
C88: Časť:
E89: =E11 -> i - E1.11 Hlasová signalizácia požiaru HSP
...

Sheet j - E1.12  Meranie a regu...
AT2: {505545e1-075d-4a2f-835c-d985599c90ab}
AT3: 0
D4: KRYCÍ LIST ROZPOČTU | M4: v --- nižšie sa nachádzajú doplnkové a pomocné údaje k zostavám --- v | AT4: False
D6: Stavba:
E7: ='Rekapitulácia stavby'!K6 -> Sociálno-zdravotné nízkokapacitné zariadenie s kapacitou 24 miest - CSS LÚČ
D8: Objekt:
E9: 01 - SO-01 Navrhovaný objekt stavby CSS Lúč - prístavba a prestavba
D10: Časť:
E11: j - E1.12 Meranie a regulácia
D13: JKSO: | I13: ČS:
D14: Miesto: | F14: Bytča | I14: Dátum: | J14: ='Rekapitulácia stavby'!AN8 -> 22. 6. 2026
D16: Objednávateľ: | I16: IČO:
E17: Centrum sociálnych služieb LÚČ | I17: IČ DPH:
D19: Zhotoviteľ: | I19: IČO: | J19: ='Rekapitulácia stavby'!AN13 -> Vyplň údaj
E20: ='Rekapitulácia stavby'!E14 -> Vyplň údaj | I20: IČ DPH: | J20: ='Rekapitulácia stavby'!AN14 -> Vyplň údaj
D22: Projektant: | I22: IČO:
E23: expo AIR s.r.o. | I23: IČ DPH:
D25: Spracovateľ: | I25: IČO:
E26: Ing. Richard Ďuriš | I26: IČ DPH:
D28: Poznámka:
E29: V prípade výskytu obchodných názvov výrobkov a technológií, tieto majú informatívny charakter a slúžia ako minimálny štandard. Sú uvedené ako referenčná kvalita a môžu byť nahradené ekvivalentným výrobkom, ktorý má rovnaké, alebo lepšie vlastnosti a parametre. Neoddeliteľnou súčasťou Výkazu výmer je Projektová dokumentácia stavby.
D32: Cena bez DPH | J32: =ROUND(J125, 2) -> 0
F34: Základ dane | I34: Sadzba dane | J34: Výška dane
D35: DPH | E35: základná | F35: =ROUND((SUM(BE125:BE188)), 2) -> 0 | I35: 0.23 | J35: =ROUND(((SUM(BE125:BE188))*I35), 2) -> 0
E36: znížená | F36: =ROUND((SUM(BF125:BF188)), 2) -> 0 | I36: 0.23 | J36: =ROUND(((SUM(BF125:BF188))*I36), 2) -> 0
E37: zákl. prenesená | F37: =ROUND((SUM(BG125:BG188)), 2) -> 0 | I37: 0.23 | J37: =0 -> 0
E38: zníž. prenesená | F38: =ROUND((SUM(BH125:BH188)), 2) -> 0 | I38: 0.23 | J38: =0 -> 0
E39: nulová | F39: =ROUND((SUM(BI125:BI188)), 2) -> 0 | I39: 0 | J39: =0 -> 0
D41: Cena s DPH | G41: v | H41: EUR | J41: =SUM(J32:J39) -> 0
D50: Projektant | G50: Spracovateľ
D61: Dátum a podpis: | F61: Pečiatka | G61: Dátum a podpis: | J61: Pečiatka
D65: Objednávateľ | G65: Zhotoviteľ
D76: Dátum a podpis: | F76: Pečiatka | G76: Dátum a podpis: | J76: Pečiatka
C82: REKAPITULÁCIA ROZPOČTU
C84: Stavba:
E85: =E7 -> Sociálno-zdravotné nízkokapacitné zariadenie s kapacitou 24 miest - CSS LÚČ
C86: Objekt:
E87: 01 - SO-01 Navrhovaný objekt stavby CSS Lúč - prístavba a prestavba
C88: Časť:
E89: =E11 -> j - E1.12 Meranie a regulácia
...

Sheet k - E1.13  Kamerový systém
AT2: {648c49d6-7f10-4449-9caa-0bee11c65bd1}
AT3: 0
D4: KRYCÍ LIST ROZPOČTU | M4: v --- nižšie sa nachádzajú doplnkové a pomocné údaje k zostavám --- v | AT4: False
D6: Stavba:
E7: ='Rekapitulácia stavby'!K6 -> Sociálno-zdravotné nízkokapacitné zariadenie s kapacitou 24 miest - CSS LÚČ
D8: Objekt:
E9: 01 - SO-01 Navrhovaný objekt stavby CSS Lúč - prístavba a prestavba
D10: Časť:
E11: k - E1.13 Kamerový systém
D13: JKSO: | I13: ČS:
D14: Miesto: | F14: Bytča | I14: Dátum: | J14: ='Rekapitulácia stavby'!AN8 -> 22. 6. 2026
D16: Objednávateľ: | I16: IČO:
E17: Centrum sociálnych služieb LÚČ | I17: IČ DPH:
D19: Zhotoviteľ: | I19: IČO: | J19: ='Rekapitulácia stavby'!AN13 -> Vyplň údaj
E20: ='Rekapitulácia stavby'!E14 -> Vyplň údaj | I20: IČ DPH: | J20: ='Rekapitulácia stavby'!AN14 -> Vyplň údaj
D22: Projektant: | I22: IČO:
E23: expo AIR s.r.o. | I23: IČ DPH:
D25: Spracovateľ: | I25: IČO:
E26: Ing. Jozef Milde | I26: IČ DPH:
D28: Poznámka:
E29: V prípade výskytu obchodných názvov výrobkov a technológií, tieto majú informatívny charakter a slúžia ako minimálny štandard. Sú uvedené ako referenčná kvalita a môžu byť nahradené ekvivalentným výrobkom, ktorý má rovnaké, alebo lepšie vlastnosti a parametre. Neoddeliteľnou súčasťou Výkazu výmer je Projektová dokumentácia stavby.
D32: Cena bez DPH | J32: =ROUND(J122, 2) -> 0
F34: Základ dane | I34: Sadzba dane | J34: Výška dane
D35: DPH | E35: základná | F35: =ROUND((SUM(BE122:BE172)), 2) -> 0 | I35: 0.23 | J35: =ROUND(((SUM(BE122:BE172))*I35), 2) -> 0
E36: znížená | F36: =ROUND((SUM(BF122:BF172)), 2) -> 0 | I36: 0.23 | J36: =ROUND(((SUM(BF122:BF172))*I36), 2) -> 0
E37: zákl. prenesená | F37: =ROUND((SUM(BG122:BG172)), 2) -> 0 | I37: 0.23 | J37: =0 -> 0
E38: zníž. prenesená | F38: =ROUND((SUM(BH122:BH172)), 2) -> 0 | I38: 0.23 | J38: =0 -> 0
E39: nulová | F39: =ROUND((SUM(BI122:BI172)), 2) -> 0 | I39: 0 | J39: =0 -> 0
D41: Cena s DPH | G41: v | H41: EUR | J41: =SUM(J32:J39) -> 0
D50: Projektant | G50: Spracovateľ
D61: Dátum a podpis: | F61: Pečiatka | G61: Dátum a podpis: | J61: Pečiatka
D65: Objednávateľ | G65: Zhotoviteľ
D76: Dátum a podpis: | F76: Pečiatka | G76: Dátum a podpis: | J76: Pečiatka
C82: REKAPITULÁCIA ROZPOČTU
C84: Stavba:
E85: =E7 -> Sociálno-zdravotné nízkokapacitné zariadenie s kapacitou 24 miest - CSS LÚČ
C86: Objekt:
E87: 01 - SO-01 Navrhovaný objekt stavby CSS Lúč - prístavba a prestavba
C88: Časť:
E89: =E11 -> k - E1.13 Kamerový systém
...

Sheet l - PS1.1  Stropný zdvíha...
AT2: {5eee6089-6ca8-4d58-b98f-5b401ee4831e}
AT3: 0
D4: KRYCÍ LIST ROZPOČTU | M4: v --- nižšie sa nachádzajú doplnkové a pomocné údaje k zostavám --- v | AT4: False
D6: Stavba:
E7: ='Rekapitulácia stavby'!K6 -> Sociálno-zdravotné nízkokapacitné zariadenie s kapacitou 24 miest - CSS LÚČ
D8: Objekt:
E9: 01 - SO-01 Navrhovaný objekt stavby CSS Lúč - prístavba a prestavba
D10: Časť:
E11: l - PS1.1 Stropný zdvíhací systém
D13: JKSO: | I13: ČS:
D14: Miesto: | F14: Bytča | I14: Dátum: | J14: ='Rekapitulácia stavby'!AN8 -> 22. 6. 2026
D16: Objednávateľ: | I16: IČO:
E17: Centrum sociálnych služieb LÚČ | I17: IČ DPH:
D19: Zhotoviteľ: | I19: IČO: | J19: ='Rekapitulácia stavby'!AN13 -> Vyplň údaj
E20: ='Rekapitulácia stavby'!E14 -> Vyplň údaj | I20: IČ DPH: | J20: ='Rekapitulácia stavby'!AN14 -> Vyplň údaj
D22: Projektant: | I22: IČO:
E23: expo AIR s.r.o. | I23: IČ DPH:
D25: Spracovateľ: | I25: IČO: | J25: =IF('Rekapitulácia stavby'!AN19="","",'Rekapitulácia stavby'!AN19)
E26: =IF('Rekapitulácia stavby'!E20="","",'Rekapitulácia stavby'!E20) -> Lacková | I26: IČ DPH: | J26: =IF('Rekapitulácia stavby'!AN20="","",'Rekapitulácia stavby'!AN20)
D28: Poznámka:
E29: V prípade výskytu obchodných názvov výrobkov a technológií, tieto majú informatívny charakter a slúžia ako minimálny štandard. Sú uvedené ako referenčná kvalita a môžu byť nahradené ekvivalentným výrobkom, ktorý má rovnaké, alebo lepšie vlastnosti a parametre. Neoddeliteľnou súčasťou Výkazu výmer je Projektová dokumentácia stavby.
D32: Cena bez DPH | J32: =ROUND(J122, 2) -> 0
F34: Základ dane | I34: Sadzba dane | J34: Výška dane
D35: DPH | E35: základná | F35: =ROUND((SUM(BE122:BE142)), 2) -> 0 | I35: 0.23 | J35: =ROUND(((SUM(BE122:BE142))*I35), 2) -> 0
E36: znížená | F36: =ROUND((SUM(BF122:BF142)), 2) -> 0 | I36: 0.23 | J36: =ROUND(((SUM(BF122:BF142))*I36), 2) -> 0
E37: zákl. prenesená | F37: =ROUND((SUM(BG122:BG142)), 2) -> 0 | I37: 0.23 | J37: =0 -> 0
E38: zníž. prenesená | F38: =ROUND((SUM(BH122:BH142)), 2) -> 0 | I38: 0.23 | J38: =0 -> 0
E39: nulová | F39: =ROUND((SUM(BI122:BI142)), 2) -> 0 | I39: 0 | J39: =0 -> 0
D41: Cena s DPH | G41: v | H41: EUR | J41: =SUM(J32:J39) -> 0
D50: Projektant | G50: Spracovateľ
D61: Dátum a podpis: | F61: Pečiatka | G61: Dátum a podpis: | J61: Pečiatka
D65: Objednávateľ | G65: Zhotoviteľ
D76: Dátum a podpis: | F76: Pečiatka | G76: Dátum a podpis: | J76: Pečiatka
C82: REKAPITULÁCIA ROZPOČTU
C84: Stavba:
E85: =E7 -> Sociálno-zdravotné nízkokapacitné zariadenie s kapacitou 24 miest - CSS LÚČ
C86: Objekt:
E87: 01 - SO-01 Navrhovaný objekt stavby CSS Lúč - prístavba a prestavba
C88: Časť:
E89: =E11 -> l - PS1.1 Stropný zdvíhací systém
...

Sheet a - SO-02  Navrhovaná úpr...
AT2: {2621a554-7c79-4dd3-ab2f-b2b03abaa075}
AT3: 0
D4: KRYCÍ LIST ROZPOČTU | M4: v --- nižšie sa nachádzajú doplnkové a pomocné údaje k zostavám --- v | AT4: False
D6: Stavba:
E7: ='Rekapitulácia stavby'!K6 -> Sociálno-zdravotné nízkokapacitné zariadenie s kapacitou 24 miest - CSS LÚČ
D8: Objekt:
E9: 02 - SO-02 Navrhovaná úprava spevnených plôch
D10: Časť:
E11: a - SO-02 Navrhovaná úprava spevnených plôch
D13: JKSO: | I13: ČS:
D14: Miesto: | F14: Bytča | I14: Dátum: | J14: ='Rekapitulácia stavby'!AN8 -> 22. 6. 2026
D16: Objednávateľ: | I16: IČO:
E17: Centrum sociálnych služieb LÚČ | I17: IČ DPH:
D19: Zhotoviteľ: | I19: IČO: | J19: ='Rekapitulácia stavby'!AN13 -> Vyplň údaj
E20: ='Rekapitulácia stavby'!E14 -> Vyplň údaj | I20: IČ DPH: | J20: ='Rekapitulácia stavby'!AN14 -> Vyplň údaj
D22: Projektant: | I22: IČO:
E23: expo AIR s.r.o. | I23: IČ DPH:
D25: Spracovateľ: | I25: IČO:
E26: Lacková | I26: IČ DPH:
D28: Poznámka:
E29: V prípade výskytu obchodných názvov výrobkov a technológií, tieto majú informatívny charakter a slúžia ako minimálny štandard. Sú uvedené ako referenčná kvalita a môžu byť nahradené ekvivalentným výrobkom, ktorý má rovnaké, alebo lepšie vlastnosti a parametre. Neoddeliteľnou súčasťou Výkazu výmer je Projektová dokumentácia stavby.
D32: Cena bez DPH | J32: =ROUND(J128, 2) -> 0
F34: Základ dane | I34: Sadzba dane | J34: Výška dane
D35: DPH | E35: základná | F35: =ROUND((SUM(BE128:BE236)), 2) -> 0 | I35: 0.23 | J35: =ROUND(((SUM(BE128:BE236))*I35), 2) -> 0
E36: znížená | F36: =ROUND((SUM(BF128:BF236)), 2) -> 0 | I36: 0.23 | J36: =ROUND(((SUM(BF128:BF236))*I36), 2) -> 0
E37: zákl. prenesená | F37: =ROUND((SUM(BG128:BG236)), 2) -> 0 | I37: 0.23 | J37: =0 -> 0
E38: zníž. prenesená | F38: =ROUND((SUM(BH128:BH236)), 2) -> 0 | I38: 0.23 | J38: =0 -> 0
E39: nulová | F39: =ROUND((SUM(BI128:BI236)), 2) -> 0 | I39: 0 | J39: =0 -> 0
D41: Cena s DPH | G41: v | H41: EUR | J41: =SUM(J32:J39) -> 0
D50: Projektant | G50: Spracovateľ
D61: Dátum a podpis: | F61: Pečiatka | G61: Dátum a podpis: | J61: Pečiatka
D65: Objednávateľ | G65: Zhotoviteľ
D76: Dátum a podpis: | F76: Pečiatka | G76: Dátum a podpis: | J76: Pečiatka
C82: REKAPITULÁCIA ROZPOČTU
C84: Stavba:
E85: =E7 -> Sociálno-zdravotné nízkokapacitné zariadenie s kapacitou 24 miest - CSS LÚČ
C86: Objekt:
E87: 02 - SO-02 Navrhovaná úprava spevnených plôch
C88: Časť:
E89: =E11 -> a - SO-02 Navrhovaná úprava spevnených plôch
...

Sheet b - E2.21  Vonkajšie siln...
AT2: {3677e1c9-46ef-4af9-933a-6f54b15da4a0}
AT3: 0
D4: KRYCÍ LIST ROZPOČTU | M4: v --- nižšie sa nachádzajú doplnkové a pomocné údaje k zostavám --- v | AT4: False
D6: Stavba:
E7: ='Rekapitulácia stavby'!K6 -> Sociálno-zdravotné nízkokapacitné zariadenie s kapacitou 24 miest - CSS LÚČ
D8: Objekt:
E9: 02 - SO-02 Navrhovaná úprava spevnených plôch
D10: Časť:
E11: b - E2.21 Vonkajšie silnoprúdové rozvody NN
D13: JKSO: | I13: ČS:
D14: Miesto: | F14: Bytča | I14: Dátum: | J14: ='Rekapitulácia stavby'!AN8 -> 22. 6. 2026
D16: Objednávateľ: | I16: IČO:
E17: Centrum sociálnych služieb LÚČ | I17: IČ DPH:
D19: Zhotoviteľ: | I19: IČO: | J19: ='Rekapitulácia stavby'!AN13 -> Vyplň údaj
E20: ='Rekapitulácia stavby'!E14 -> Vyplň údaj | I20: IČ DPH: | J20: ='Rekapitulácia stavby'!AN14 -> Vyplň údaj
D22: Projektant: | I22: IČO:
E23: expo AIR s.r.o. | I23: IČ DPH:
D25: Spracovateľ: | I25: IČO:
E26: Ing. Richard Ďuriš | I26: IČ DPH:
D28: Poznámka:
E29: V prípade výskytu obchodných názvov výrobkov a technológií, tieto majú informatívny charakter a slúžia ako minimálny štandard. Sú uvedené ako referenčná kvalita a môžu byť nahradené ekvivalentným výrobkom, ktorý má rovnaké, alebo lepšie vlastnosti a parametre. Neoddeliteľnou súčasťou Výkazu výmer je Projektová dokumentácia stavby.
D32: Cena bez DPH | J32: =ROUND(J126, 2) -> 0
F34: Základ dane | I34: Sadzba dane | J34: Výška dane
D35: DPH | E35: základná | F35: =ROUND((SUM(BE126:BE204)), 2) -> 0 | I35: 0.23 | J35: =ROUND(((SUM(BE126:BE204))*I35), 2) -> 0
E36: znížená | F36: =ROUND((SUM(BF126:BF204)), 2) -> 0 | I36: 0.23 | J36: =ROUND(((SUM(BF126:BF204))*I36), 2) -> 0
E37: zákl. prenesená | F37: =ROUND((SUM(BG126:BG204)), 2) -> 0 | I37: 0.23 | J37: =0 -> 0
E38: zníž. prenesená | F38: =ROUND((SUM(BH126:BH204)), 2) -> 0 | I38: 0.23 | J38: =0 -> 0
E39: nulová | F39: =ROUND((SUM(BI126:BI204)), 2) -> 0 | I39: 0 | J39: =0 -> 0
D41: Cena s DPH | G41: v | H41: EUR | J41: =SUM(J32:J39) -> 0
D50: Projektant | G50: Spracovateľ
D61: Dátum a podpis: | F61: Pečiatka | G61: Dátum a podpis: | J61: Pečiatka
D65: Objednávateľ | G65: Zhotoviteľ
D76: Dátum a podpis: | F76: Pečiatka | G76: Dátum a podpis: | J76: Pečiatka
C82: REKAPITULÁCIA ROZPOČTU
C84: Stavba:
E85: =E7 -> Sociálno-zdravotné nízkokapacitné zariadenie s kapacitou 24 miest - CSS LÚČ
C86: Objekt:
E87: 02 - SO-02 Navrhovaná úprava spevnených plôch
C88: Časť:
E89: =E11 -> b - E2.21 Vonkajšie silnoprúdové rozvody NN
...

Sheet 03 - SO-03  Navrhované no...
AT2: {d6e6e817-8f5e-4e8a-ac9a-a67e3ecc259a}
AT3: 0
D4: KRYCÍ LIST ROZPOČTU | M4: v --- nižšie sa nachádzajú doplnkové a pomocné údaje k zostavám --- v | AT4: False
D6: Stavba:
E7: ='Rekapitulácia stavby'!K6 -> Sociálno-zdravotné nízkokapacitné zariadenie s kapacitou 24 miest - CSS LÚČ
D8: Objekt:
E9: 03 - SO-03 Navrhované nové oplotenie
D11: JKSO: | I11: ČS:
D12: Miesto: | F12: Bytča | I12: Dátum: | J12: ='Rekapitulácia stavby'!AN8 -> 22. 6. 2026
D14: Objednávateľ: | I14: IČO:
E15: Centrum sociálnych služieb LÚČ | I15: IČ DPH:
D17: Zhotoviteľ: | I17: IČO: | J17: ='Rekapitulácia stavby'!AN13 -> Vyplň údaj
E18: ='Rekapitulácia stavby'!E14 -> Vyplň údaj | I18: IČ DPH: | J18: ='Rekapitulácia stavby'!AN14 -> Vyplň údaj
D20: Projektant: | I20: IČO:
E21: expo AIR s.r.o. | I21: IČ DPH:
D23: Spracovateľ: | I23: IČO:
E24: Lacková | I24: IČ DPH:
D26: Poznámka:
E27: V prípade výskytu obchodných názvov výrobkov a technológií, tieto majú informatívny charakter a slúžia ako minimálny štandard. Sú uvedené ako referenčná kvalita a môžu byť nahradené ekvivalentným výrobkom, ktorý má rovnaké, alebo lepšie vlastnosti a parametre. Neoddeliteľnou súčasťou Výkazu výmer je Projektová dokumentácia stavby.
D30: Cena bez DPH | J30: =ROUND(J123, 2) -> 0
F32: Základ dane | I32: Sadzba dane | J32: Výška dane
D33: DPH | E33: základná | F33: =ROUND((SUM(BE123:BE167)), 2) -> 0 | I33: 0.23 | J33: =ROUND(((SUM(BE123:BE167))*I33), 2) -> 0
E34: znížená | F34: =ROUND((SUM(BF123:BF167)), 2) -> 0 | I34: 0.23 | J34: =ROUND(((SUM(BF123:BF167))*I34), 2) -> 0
E35: zákl. prenesená | F35: =ROUND((SUM(BG123:BG167)), 2) -> 0 | I35: 0.23 | J35: =0 -> 0
E36: zníž. prenesená | F36: =ROUND((SUM(BH123:BH167)), 2) -> 0 | I36: 0.23 | J36: =0 -> 0
E37: nulová | F37: =ROUND((SUM(BI123:BI167)), 2) -> 0 | I37: 0 | J37: =0 -> 0
D39: Cena s DPH | G39: v | H39: EUR | J39: =SUM(J30:J37) -> 0
D50: Projektant | G50: Spracovateľ
D61: Dátum a podpis: | F61: Pečiatka | G61: Dátum a podpis: | J61: Pečiatka
D65: Objednávateľ | G65: Zhotoviteľ
D76: Dátum a podpis: | F76: Pečiatka | G76: Dátum a podpis: | J76: Pečiatka
C82: REKAPITULÁCIA ROZPOČTU
C84: Stavba:
E85: =E7 -> Sociálno-zdravotné nízkokapacitné zariadenie s kapacitou 24 miest - CSS LÚČ
C86: Objekt:
E87: =E9 -> 03 - SO-03 Navrhované nové oplotenie
C89: Miesto: | F89: =F12 -> Bytča | I89: Dátum: | J89: =IF(J12="","",J12) -> 22. 6. 2026
C91: Objednávateľ: | F91: =E15 -> Centrum sociálnych služieb LÚČ | I91: Projektant: | J91: =E21 -> expo AIR s.r.o.
C92: Zhotoviteľ: | F92: =IF(E18="","",E18) -> Vyplň údaj | I92: Spracovateľ: | J92: =E24 -> Lacková
C94: Kód dielu - Popis | J94: Cena celkom [EUR]
...

Sheet 04 - SO-04  Navrhovaný Altán
AT2: {b42aa4e7-fd7c-448c-8178-49ee5e4a08d3}
AT3: 0
D4: KRYCÍ LIST ROZPOČTU | M4: v --- nižšie sa nachádzajú doplnkové a pomocné údaje k zostavám --- v | AT4: False
D6: Stavba:
E7: ='Rekapitulácia stavby'!K6 -> Sociálno-zdravotné nízkokapacitné zariadenie s kapacitou 24 miest - CSS LÚČ
D8: Objekt:
E9: 04 - SO-04 Navrhovaný Altán
D11: JKSO: | I11: ČS:
D12: Miesto: | F12: Bytča | I12: Dátum: | J12: ='Rekapitulácia stavby'!AN8 -> 22. 6. 2026
D14: Objednávateľ: | I14: IČO:
E15: Centrum sociálnych služieb LÚČ | I15: IČ DPH:
D17: Zhotoviteľ: | I17: IČO: | J17: ='Rekapitulácia stavby'!AN13 -> Vyplň údaj
E18: ='Rekapitulácia stavby'!E14 -> Vyplň údaj | I18: IČ DPH: | J18: ='Rekapitulácia stavby'!AN14 -> Vyplň údaj
D20: Projektant: | I20: IČO:
E21: expo AIR s.r.o. | I21: IČ DPH:
D23: Spracovateľ: | I23: IČO:
E24: Lacková | I24: IČ DPH:
D26: Poznámka:
E27: V prípade výskytu obchodných názvov výrobkov a technológií, tieto majú informatívny charakter a slúžia ako minimálny štandard. Sú uvedené ako referenčná kvalita a môžu byť nahradené ekvivalentným výrobkom, ktorý má rovnaké, alebo lepšie vlastnosti a parametre. Neoddeliteľnou súčasťou Výkazu výmer je Projektová dokumentácia stavby.
D30: Cena bez DPH | J30: =ROUND(J126, 2) -> 0
F32: Základ dane | I32: Sadzba dane | J32: Výška dane
D33: DPH | E33: základná | F33: =ROUND((SUM(BE126:BE208)), 2) -> 0 | I33: 0.23 | J33: =ROUND(((SUM(BE126:BE208))*I33), 2) -> 0
E34: znížená | F34: =ROUND((SUM(BF126:BF208)), 2) -> 0 | I34: 0.23 | J34: =ROUND(((SUM(BF126:BF208))*I34), 2) -> 0
E35: zákl. prenesená | F35: =ROUND((SUM(BG126:BG208)), 2) -> 0 | I35: 0.23 | J35: =0 -> 0
E36: zníž. prenesená | F36: =ROUND((SUM(BH126:BH208)), 2) -> 0 | I36: 0.23 | J36: =0 -> 0
E37: nulová | F37: =ROUND((SUM(BI126:BI208)), 2) -> 0 | I37: 0 | J37: =0 -> 0
D39: Cena s DPH | G39: v | H39: EUR | J39: =SUM(J30:J37) -> 0
D50: Projektant | G50: Spracovateľ
D61: Dátum a podpis: | F61: Pečiatka | G61: Dátum a podpis: | J61: Pečiatka
D65: Objednávateľ | G65: Zhotoviteľ
D76: Dátum a podpis: | F76: Pečiatka | G76: Dátum a podpis: | J76: Pečiatka
C82: REKAPITULÁCIA ROZPOČTU
C84: Stavba:
E85: =E7 -> Sociálno-zdravotné nízkokapacitné zariadenie s kapacitou 24 miest - CSS LÚČ
C86: Objekt:
E87: =E9 -> 04 - SO-04 Navrhovaný Altán
C89: Miesto: | F89: =F12 -> Bytča | I89: Dátum: | J89: =IF(J12="","",J12) -> 22. 6. 2026
C91: Objednávateľ: | F91: =E15 -> Centrum sociálnych služieb LÚČ | I91: Projektant: | J91: =E21 -> expo AIR s.r.o.
C92: Zhotoviteľ: | F92: =IF(E18="","",E18) -> Vyplň údaj | I92: Spracovateľ: | J92: =E24 -> Lacková
C94: Kód dielu - Popis | J94: Cena celkom [EUR]
...

Sheet 05 - SO-05  Objekt garáže...
AT2: {244e7a97-c65d-430f-8266-54adde0b2a6b}
AT3: 0
D4: KRYCÍ LIST ROZPOČTU | M4: v --- nižšie sa nachádzajú doplnkové a pomocné údaje k zostavám --- v | AT4: False
D6: Stavba:
E7: ='Rekapitulácia stavby'!K6 -> Sociálno-zdravotné nízkokapacitné zariadenie s kapacitou 24 miest - CSS LÚČ
D8: Objekt:
E9: 05 - SO-05 Objekt garáže určený na kompletnú asanáciu
D11: JKSO: | I11: ČS:
D12: Miesto: | F12: Bytča | I12: Dátum: | J12: ='Rekapitulácia stavby'!AN8 -> 22. 6. 2026
D14: Objednávateľ: | I14: IČO:
E15: Centrum sociálnych služieb LÚČ | I15: IČ DPH:
D17: Zhotoviteľ: | I17: IČO: | J17: ='Rekapitulácia stavby'!AN13 -> Vyplň údaj
E18: ='Rekapitulácia stavby'!E14 -> Vyplň údaj | I18: IČ DPH: | J18: ='Rekapitulácia stavby'!AN14 -> Vyplň údaj
D20: Projektant: | I20: IČO:
E21: expo AIR s.r.o. | I21: IČ DPH:
D23: Spracovateľ: | I23: IČO:
E24: Lacková | I24: IČ DPH:
D26: Poznámka:
E27: V prípade výskytu obchodných názvov výrobkov a technológií, tieto majú informatívny charakter a slúžia ako minimálny štandard. Sú uvedené ako referenčná kvalita a môžu byť nahradené ekvivalentným výrobkom, ktorý má rovnaké, alebo lepšie vlastnosti a parametre. Neoddeliteľnou súčasťou Výkazu výmer je Projektová dokumentácia stavby.
D30: Cena bez DPH | J30: =ROUND(J123, 2) -> 0
F32: Základ dane | I32: Sadzba dane | J32: Výška dane
D33: DPH | E33: základná | F33: =ROUND((SUM(BE123:BE158)), 2) -> 0 | I33: 0.23 | J33: =ROUND(((SUM(BE123:BE158))*I33), 2) -> 0
E34: znížená | F34: =ROUND((SUM(BF123:BF158)), 2) -> 0 | I34: 0.23 | J34: =ROUND(((SUM(BF123:BF158))*I34), 2) -> 0
E35: zákl. prenesená | F35: =ROUND((SUM(BG123:BG158)), 2) -> 0 | I35: 0.23 | J35: =0 -> 0
E36: zníž. prenesená | F36: =ROUND((SUM(BH123:BH158)), 2) -> 0 | I36: 0.23 | J36: =0 -> 0
E37: nulová | F37: =ROUND((SUM(BI123:BI158)), 2) -> 0 | I37: 0 | J37: =0 -> 0
D39: Cena s DPH | G39: v | H39: EUR | J39: =SUM(J30:J37) -> 0
D50: Projektant | G50: Spracovateľ
D61: Dátum a podpis: | F61: Pečiatka | G61: Dátum a podpis: | J61: Pečiatka
D65: Objednávateľ | G65: Zhotoviteľ
D76: Dátum a podpis: | F76: Pečiatka | G76: Dátum a podpis: | J76: Pečiatka
C82: REKAPITULÁCIA ROZPOČTU
C84: Stavba:
E85: =E7 -> Sociálno-zdravotné nízkokapacitné zariadenie s kapacitou 24 miest - CSS LÚČ
C86: Objekt:
E87: =E9 -> 05 - SO-05 Objekt garáže určený na kompletnú asanáciu
C89: Miesto: | F89: =F12 -> Bytča | I89: Dátum: | J89: =IF(J12="","",J12) -> 22. 6. 2026
C91: Objednávateľ: | F91: =E15 -> Centrum sociálnych služieb LÚČ | I91: Projektant: | J91: =E21 -> expo AIR s.r.o.
C92: Zhotoviteľ: | F92: =IF(E18="","",E18) -> Vyplň údaj | I92: Spracovateľ: | J92: =E24 -> Lacková
C94: Kód dielu - Popis | J94: Cena celkom [EUR]
...

Sheet 06 - SO-06  Prípojka vody
AT2: {efb4b846-7267-45c2-99a6-85489c776e75}
AT3: 0
D4: KRYCÍ LIST ROZPOČTU | M4: v --- nižšie sa nachádzajú doplnkové a pomocné údaje k zostavám --- v | AT4: False
D6: Stavba:
E7: ='Rekapitulácia stavby'!K6 -> Sociálno-zdravotné nízkokapacitné zariadenie s kapacitou 24 miest - CSS LÚČ
D8: Objekt:
E9: 06 - SO-06 Prípojka vody
D11: JKSO: | I11: ČS:
D12: Miesto: | F12: Bytča | I12: Dátum: | J12: ='Rekapitulácia stavby'!AN8 -> 22. 6. 2026
D14: Objednávateľ: | I14: IČO:
E15: Centrum sociálnych služieb LÚČ | I15: IČ DPH:
D17: Zhotoviteľ: | I17: IČO: | J17: ='Rekapitulácia stavby'!AN13 -> Vyplň údaj
E18: ='Rekapitulácia stavby'!E14 -> Vyplň údaj | I18: IČ DPH: | J18: ='Rekapitulácia stavby'!AN14 -> Vyplň údaj
D20: Projektant: | I20: IČO:
E21: expo AIR s.r.o. | I21: IČ DPH:
D23: Spracovateľ: | I23: IČO:
E24: Roman Kostelník | I24: IČ DPH:
D26: Poznámka:
E27: V prípade výskytu obchodných názvov výrobkov a technológií, tieto majú informatívny charakter a slúžia ako minimálny štandard. Sú uvedené ako referenčná kvalita a môžu byť nahradené ekvivalentným výrobkom, ktorý má rovnaké, alebo lepšie vlastnosti a parametre. Neoddeliteľnou súčasťou Výkazu výmer je Projektová dokumentácia stavby.
D30: Cena bez DPH | J30: =ROUND(J123, 2) -> 0
F32: Základ dane | I32: Sadzba dane | J32: Výška dane
D33: DPH | E33: základná | F33: =ROUND((SUM(BE123:BE184)), 2) -> 0 | I33: 0.23 | J33: =ROUND(((SUM(BE123:BE184))*I33), 2) -> 0
E34: znížená | F34: =ROUND((SUM(BF123:BF184)), 2) -> 0 | I34: 0.23 | J34: =ROUND(((SUM(BF123:BF184))*I34), 2) -> 0
E35: zákl. prenesená | F35: =ROUND((SUM(BG123:BG184)), 2) -> 0 | I35: 0.23 | J35: =0 -> 0
E36: zníž. prenesená | F36: =ROUND((SUM(BH123:BH184)), 2) -> 0 | I36: 0.23 | J36: =0 -> 0
E37: nulová | F37: =ROUND((SUM(BI123:BI184)), 2) -> 0 | I37: 0 | J37: =0 -> 0
D39: Cena s DPH | G39: v | H39: EUR | J39: =SUM(J30:J37) -> 0
D50: Projektant | G50: Spracovateľ
D61: Dátum a podpis: | F61: Pečiatka | G61: Dátum a podpis: | J61: Pečiatka
D65: Objednávateľ | G65: Zhotoviteľ
D76: Dátum a podpis: | F76: Pečiatka | G76: Dátum a podpis: | J76: Pečiatka
C82: REKAPITULÁCIA ROZPOČTU
C84: Stavba:
E85: =E7 -> Sociálno-zdravotné nízkokapacitné zariadenie s kapacitou 24 miest - CSS LÚČ
C86: Objekt:
E87: =E9 -> 06 - SO-06 Prípojka vody
C89: Miesto: | F89: =F12 -> Bytča | I89: Dátum: | J89: =IF(J12="","",J12) -> 22. 6. 2026
C91: Objednávateľ: | F91: =E15 -> Centrum sociálnych služieb LÚČ | I91: Projektant: | J91: =E21 -> expo AIR s.r.o.
C92: Zhotoviteľ: | F92: =IF(E18="","",E18) -> Vyplň údaj | I92: Spracovateľ: | J92: =E24 -> Roman Kostelník
C94: Kód dielu - Popis | J94: Cena celkom [EUR]
...

Sheet 07 - SO-07  Prípojka spla...
AT2: {49546cb7-9986-46cb-8988-e3707db4ae0d}
AT3: 0
D4: KRYCÍ LIST ROZPOČTU | M4: v --- nižšie sa nachádzajú doplnkové a pomocné údaje k zostavám --- v | AT4: False
D6: Stavba:
E7: ='Rekapitulácia stavby'!K6 -> Sociálno-zdravotné nízkokapacitné zariadenie s kapacitou 24 miest - CSS LÚČ
D8: Objekt:
E9: 07 - SO-07 Prípojka splaškovej kanalizácie
D11: JKSO: | I11: ČS:
D12: Miesto: | F12: Bytča | I12: Dátum: | J12: ='Rekapitulácia stavby'!AN8 -> 22. 6. 2026
D14: Objednávateľ: | I14: IČO:
E15: Centrum sociálnych služieb LÚČ | I15: IČ DPH:
D17: Zhotoviteľ: | I17: IČO: | J17: ='Rekapitulácia stavby'!AN13 -> Vyplň údaj
E18: ='Rekapitulácia stavby'!E14 -> Vyplň údaj | I18: IČ DPH: | J18: ='Rekapitulácia stavby'!AN14 -> Vyplň údaj
