Workbook

Sheet Rekapitulácia stavby
A1: Export Komplet | BA1: 2.0 | BB1: ZAMOK | BT1: False | BU1: False | BV1: {5491b77e-e732-4e54-aee3-0b253f8515e0}
BS2: 0,01 | BT2: 23
BS3: 0,01 | BT3: 23
D4: REKAPITULÁCIA STAVBY | AS4: v --- nižšie sa nachádzajú doplnkové a pomocné údaje k zostavám --- v | BE4: Návod na vyplnenie | BS4: 0,001
D5: Kód: | K5: -VO2- | BE5: Meniť je možné iba bunky so žltým podfarbením!_x000D_ _x000D_ 1) na prvom liste Rekapitulácie stavby vyplňte v zostave_x000D_ _x000D_ a) Rekapitulácia stavby_x000D_ - údaje o Zhotoviteľovi_x000D_ (prenesú sa do ostatných zostáv aj v iných listoch)_x000D_ _x000D_ b) Rekapitulácia objektov stavby_x000D_ - potrebné Ostatné náklady_x000D_ _x000D_ 2) na vybraných listoch vyplňte v zostave_x000D_ _x000D_ a) Krycí list_x000D_ - údaje o Zhotoviteľovi, pokiaľ sa líšia od údajov o Zhotoviteľovi na Rekapitulácii stavby_x000D_ (údaje se prenesú do ostatných zostav v danom liste)_x000D_ _x000D_ b) Rekapitulácia rozpočtu_x000D_ - potrebné Ostatné náklady_x000D_ _x000D_ c) Celkové náklady za stavbu_x000D_ - ceny na položkách_x000D_ - množstvo, pokiaľ má žlté podfarbenie_x000D_ - a v prípade potreby poznámku (tá je v skrytom stĺpci) | BS5: 0,01
D6: Stavba: | K6: Sociálno-zdravotné nízkokapacitné zariadenie s kapacitou 24 miest - CSS LÚČ | BS6: 0,01
D7: JKSO: | AK7: ČS: | BS7: 0,01
D8: Miesto: | K8: Bytča | AK8: Dátum: | AN8: 22. 6. 2026 | BS8: 0,01
BS9: 0,01
D10: Objednávateľ: | AK10: IČO: | BS10: 0,01
E11: Centrum sociálnych služieb LÚČ | AK11: IČ DPH: | BS11: 0,01
BS12: 0,01
D13: Zhotoviteľ: | AK13: IČO: | AN13: Vyplň údaj | BS13: 0,01
E14: Vyplň údaj | AK14: IČ DPH: | AN14: Vyplň údaj | BS14: 0,01
BS15: False
D16: Projektant: | AK16: IČO: | BS16: False
E17: expo AIR s.r.o. | AK17: IČ DPH: | BS17: True
BS18: 0,01
D19: Spracovateľ: | AK19: IČO: | BS19: 0,01
E20: Lacková | AK20: IČ DPH: | BS20: True
D22: Poznámka:
E23: V prípade výskytu obchodných názvov výrobkov a technológií, tieto majú informatívny charakter a slúžia ako minimálny štandard. Sú uvedené ako referenčná kvalita a môžu byť nahradené ekvivalentným výrobkom, ktorý má rovnaké, alebo lepšie vlastnosti a parametre._x000D_ Neoddeliteľnou súčasťou Výkazu výmer je Projektová dokumentácia stavby._x000D_ _x000D_
D26: Cena bez DPH | AK26: =ROUND(AG94,2) -> 0
L28: Sadzba dane | W28: Základ dane | AK28: Výška dane
D29: DPH | F29: základná | L29: 0.23 | W29: =ROUND(AZ94, 2) -> 0 | AK29: =ROUND(AV94, 2) -> 0
F30: znížená | L30: 0.23 | W30: =ROUND(BA94, 2) -> 0 | AK30: =ROUND(AW94, 2) -> 0
F31: zákl. prenesená | L31: 0.23 | W31: =ROUND(BB94, 2) -> 0 | AK31: 0
F32: zníž. prenesená | L32: 0.23 | W32: =ROUND(BC94, 2) -> 0 | AK32: 0
F33: nulová | L33: 0 | W33: =ROUND(BD94, 2) -> 0 | AK33: 0
D35: Cena s DPH | T35: v | X35: EUR | AK35: =SUM(AK26:AK33) -> 0
D49: Projektant | AH49: Spracovateľ
D60: Dátum a podpis: | V60: Pečiatka | AH60: Dátum a podpis: | AM60: Pečiatka
D64: Objednávateľ | AH64: Zhotoviteľ
D75: Dátum a podpis: | V75: Pečiatka | AH75: Dátum a podpis: | AM75: Pečiatka
C82: REKAPITULÁCIA OBJEKTOV STAVBY
C84: Kód: | L84: =K5 -> -VO2-
C85: Stavba: | L85: =K6 -> Sociálno-zdravotné nízkokapacitné zariadenie s kapacitou 24 miest - CSS LÚČ
C87: Miesto: | L87: =IF(K8="","",K8) -> Bytča | AI87: Dátum: | AM87: =IF(AN8= "","",AN8) -> 22. 6. 2026
C89: Objednávateľ: | L89: =IF(E11= "","",E11) -> Centrum sociálnych služieb LÚČ | AI89: Projektant: | AM89: =IF(E17="","",E17) -> expo AIR s.r.o. | AS89: Informatívne údaje z listov zákaziek
C90: Zhotoviteľ: | L90: =IF(E14= "Vyplň údaj","",E14) | AI90: Spracovateľ: | AM90: =IF(E20="","",E20) -> Lacková
C92: Kód | I92: Popis | AG92: Cena bez DPH [EUR] | AN92: Cena s DPH [EUR] | AQ92: Typ | AS92: z toho Ostat._x000D_ náklady [EUR] | AT92: DPH [EUR] | AU92: Normohodiny [h] | AV92: DPH základná [EUR] | AW92: DPH znížená [EUR] | AX92: DPH základná prenesená_x000D_ [EUR] | AY92: DPH znížená prenesená_x000D_ [EUR] | AZ92: Základňa_x000D_ DPH základná | BA92: Základňa_x000D_ DPH znížená | BB92: Základňa_x000D_ DPH zákl. prenesená | BC92: Základňa_x000D_ DPH zníž. prenesená | BD92: Základňa_x000D_ DPH nulová
C94: Náklady z rozpočtov | AG94: =ROUND(AG95+AG112+SUM(AG115:AG123),2) -> 0 | AN94: =SUM(AG94,AT94) -> 0 | AS94: =ROUND(AS95+AS112+SUM(AS115:AS123),2) -> 0 | AT94: =ROUND(SUM(AV94:AW94),2) -> 0 | AU94: =ROUND(AU95+AU112+SUM(AU115:AU123),5) -> 0 | AV94: =ROUND(AZ94*L29,2) -> 0 | AW94: =ROUND(BA94*L30,2) -> 0 | AX94: =ROUND(BB94*L29,2) -> 0 | AY94: =ROUND(BC94*L30,2) -> 0 | AZ94: =ROUND(AZ95+AZ112+SUM(AZ115:AZ123),2) -> 0 | BA94: =ROUND(BA95+BA112+SUM(BA115:BA123),2) -> 0 | BB94: =ROUND(BB95+BB112+SUM(BB115:BB123),2) -> 0 | BC94: =ROUND(BC95+BC112+SUM(BC115:BC123),2) -> 0 | BD94: =ROUND(BD95+BD112+SUM(BD115:BD123),2) -> 0 | BS94: D | BT94: 0 | BU94: ###NOIMPORT### | BV94: IMPORT | BW94: {5491b77e-e732-4e54-aee3-0b253f8515e0} | BX94: {00000000-0000-0000-0000-000000000000}
D95: 01 | J95: SO-01 Navrhovaný objekt stavby CSS Lúč - prístavba a prestavba | AG95: =ROUND(SUM(AG96:AG111),2) -> 0 | AN95: =SUM(AG95,AT95) -> 0 | AQ95: STA | AS95: =ROUND(SUM(AS96:AS111),2) -> 0 | AT95: =ROUND(SUM(AV95:AW95),2) -> 0 | AU95: =ROUND(SUM(AU96:AU111),5) -> 0 | AV95: =ROUND(AZ95*L29,2) -> 0 | AW95: =ROUND(BA95*L30,2) -> 0 | AX95: =ROUND(BB95*L29,2) -> 0 | AY95: =ROUND(BC95*L30,2) -> 0 | AZ95: =ROUND(SUM(AZ96:AZ111),2) -> 0 | BA95: =ROUND(SUM(BA96:BA111),2) -> 0 | BB95: =ROUND(SUM(BB96:BB111),2) -> 0 | BC95: =ROUND(SUM(BC96:BC111),2) -> 0 | BD95: =ROUND(SUM(BD96:BD111),2) -> 0 | BS95: D | BT95: 1 | BU95: ###NOIMPORT### | BV95: IMPORT | BW95: {03a6c381-6c3e-47f2-b67f-7f716022041b} | BX95: {5491b77e-e732-4e54-aee3-0b253f8515e0} | CM95: 0
A96: / | E96: a1 | K96: E1.1a Architektonické a stavebné riešenie - prestavba | AG96: ='a1 - E1.1a Architektonic...'!J32 -> 0 | AN96: =SUM(AG96,AT96) -> 0 | AQ96: Časť | AS96: 0 | AT96: =ROUND(SUM(AV96:AW96),2) -> 0 | AU96: ='a1 - E1.1a Architektonic...'!P149 -> 0 | AV96: ='a1 - E1.1a Architektonic...'!J35 -> 0 | AW96: ='a1 - E1.1a Architektonic...'!J36 -> 0 | AX96: ='a1 - E1.1a Architektonic...'!J37 -> 0 | AY96: ='a1 - E1.1a Architektonic...'!J38 -> 0 | AZ96: ='a1 - E1.1a Architektonic...'!F35 -> 0 | BA96: ='a1 - E1.1a Architektonic...'!F36 -> 0 | BB96: ='a1 - E1.1a Architektonic...'!F37 -> 0 | BC96: ='a1 - E1.1a Architektonic...'!F38 -> 0 | BD96: ='a1 - E1.1a Architektonic...'!F39 -> 0 | BT96: 2 | BV96: IMPORT | BW96: {1e6191ae-6d3e-43e3-9e53-293926fa2a3a} | BX96: {03a6c381-6c3e-47f2-b67f-7f716022041b}
A97: / | E97: a2 | K97: E1.1b Architektonické a stavebné riešenie - prístavba | AG97: ='a2 - E1.1b Architektonic...'!J32 -> 0 | AN97: =SUM(AG97,AT97) -> 0 | AQ97: Časť | AS97: 0 | AT97: =ROUND(SUM(AV97:AW97),2) -> 0 | AU97: ='a2 - E1.1b Architektonic...'!P144 -> 0 | AV97: ='a2 - E1.1b Architektonic...'!J35 -> 0 | AW97: ='a2 - E1.1b Architektonic...'!J36 -> 0 | AX97: ='a2 - E1.1b Architektonic...'!J37 -> 0 | AY97: ='a2 - E1.1b Architektonic...'!J38 -> 0 | AZ97: ='a2 - E1.1b Architektonic...'!F35 -> 0 | BA97: ='a2 - E1.1b Architektonic...'!F36 -> 0 | BB97: ='a2 - E1.1b Architektonic...'!F37 -> 0 | BC97: ='a2 - E1.1b Architektonic...'!F38 -> 0 | BD97: ='a2 - E1.1b Architektonic...'!F39 -> 0 | BT97: 2 | BV97: IMPORT | BW97: {125f32b5-40fd-471b-be4b-38b703b0548e} | BX97: {03a6c381-6c3e-47f2-b67f-7f716022041b}
A98: / | E98: b1 | K98: E1.4a Zdravotechnická inštalácia - prestavba | AG98: ='b1 - E1.4a Zdravotechnic...'!J32 -> 0 | AN98: =SUM(AG98,AT98) -> 0 | AQ98: Časť | AS98: 0 | AT98: =ROUND(SUM(AV98:AW98),2) -> 0 | AU98: ='b1 - E1.4a Zdravotechnic...'!P131 -> 0 | AV98: ='b1 - E1.4a Zdravotechnic...'!J35 -> 0 | AW98: ='b1 - E1.4a Zdravotechnic...'!J36 -> 0 | AX98: ='b1 - E1.4a Zdravotechnic...'!J37 -> 0 | AY98: ='b1 - E1.4a Zdravotechnic...'!J38 -> 0 | AZ98: ='b1 - E1.4a Zdravotechnic...'!F35 -> 0 | BA98: ='b1 - E1.4a Zdravotechnic...'!F36 -> 0 | BB98: ='b1 - E1.4a Zdravotechnic...'!F37 -> 0 | BC98: ='b1 - E1.4a Zdravotechnic...'!F38 -> 0 | BD98: ='b1 - E1.4a Zdravotechnic...'!F39 -> 0 | BT98: 2 | BV98: IMPORT | BW98: {1dcb4e80-d8f2-4023-89a1-d5c771fde3ed} | BX98: {03a6c381-6c3e-47f2-b67f-7f716022041b}
A99: / | E99: b2 | K99: E1.4b Zdravotechnická inštalácia - prístavba | AG99: ='b2 - E1.4b Zdravotechnic...'!J32 -> 0 | AN99: =SUM(AG99,AT99) -> 0 | AQ99: Časť | AS99: 0 | AT99: =ROUND(SUM(AV99:AW99),2) -> 0 | AU99: ='b2 - E1.4b Zdravotechnic...'!P130 -> 0 | AV99: ='b2 - E1.4b Zdravotechnic...'!J35 -> 0 | AW99: ='b2 - E1.4b Zdravotechnic...'!J36 -> 0 | AX99: ='b2 - E1.4b Zdravotechnic...'!J37 -> 0 | AY99: ='b2 - E1.4b Zdravotechnic...'!J38 -> 0 | AZ99: ='b2 - E1.4b Zdravotechnic...'!F35 -> 0 | BA99: ='b2 - E1.4b Zdravotechnic...'!F36 -> 0 | BB99: ='b2 - E1.4b Zdravotechnic...'!F37 -> 0 | BC99: ='b2 - E1.4b Zdravotechnic...'!F38 -> 0 | BD99: ='b2 - E1.4b Zdravotechnic...'!F39 -> 0 | BT99: 2 | BV99: IMPORT | BW99: {6e8f6fac-b989-4770-b88b-e166fd62ce9b} | BX99: {03a6c381-6c3e-47f2-b67f-7f716022041b}
A100: / | E100: b3 | K100: E1.4c Vnútorný plynovod - prestavba | AG100: ='b3 - E1.4c Vnútorný plyn...'!J32 -> 0 | AN100: =SUM(AG100,AT100) -> 0 | AQ100: Časť | AS100: 0 | AT100: =ROUND(SUM(AV100:AW100),2) -> 0 | AU100: ='b3 - E1.4c Vnútorný plyn...'!P131 -> 0 | AV100: ='b3 - E1.4c Vnútorný plyn...'!J35 -> 0 | AW100: ='b3 - E1.4c Vnútorný plyn...'!J36 -> 0 | AX100: ='b3 - E1.4c Vnútorný plyn...'!J37 -> 0 | AY100: ='b3 - E1.4c Vnútorný plyn...'!J38 -> 0 | AZ100: ='b3 - E1.4c Vnútorný plyn...'!F35 -> 0 | BA100: ='b3 - E1.4c Vnútorný plyn...'!F36 -> 0 | BB100: ='b3 - E1.4c Vnútorný plyn...'!F37 -> 0 | BC100: ='b3 - E1.4c Vnútorný plyn...'!F38 -> 0 | BD100: ='b3 - E1.4c Vnútorný plyn...'!F39 -> 0 | BT100: 2 | BV100: IMPORT | BW100: {2bf29ede-7249-4f16-992f-2fab55664669} | BX100: {03a6c381-6c3e-47f2-b67f-7f716022041b}
A101: / | E101: c | K101: E1.5 Vykurovanie | AG101: ='c - E1.5 Vykurovanie'!J32 -> 0 | AN101: =SUM(AG101,AT101) -> 0 | AQ101: Časť | AS101: 0 | AT101: =ROUND(SUM(AV101:AW101),2) -> 0 | AU101: ='c - E1.5 Vykurovanie'!P134 -> 0 | AV101: ='c - E1.5 Vykurovanie'!J35 -> 0 | AW101: ='c - E1.5 Vykurovanie'!J36 -> 0 | AX101: ='c - E1.5 Vykurovanie'!J37 -> 0 | AY101: ='c - E1.5 Vykurovanie'!J38 -> 0 | AZ101: ='c - E1.5 Vykurovanie'!F35 -> 0 | BA101: ='c - E1.5 Vykurovanie'!F36 -> 0 | BB101: ='c - E1.5 Vykurovanie'!F37 -> 0 | BC101: ='c - E1.5 Vykurovanie'!F38 -> 0 | BD101: ='c - E1.5 Vykurovanie'!F39 -> 0 | BT101: 2 | BV101: IMPORT | BW101: {ec18943a-e621-4bb4-89b5-fb772b481284} | BX101: {03a6c381-6c3e-47f2-b67f-7f716022041b}
A102: / | E102: d1 | K102: E1.6a Vzduchotechnické zariadenia - prestavba | AG102: ='d1 - E1.6a Vzduchotechni...'!J32 -> 0 | AN102: =SUM(AG102,AT102) -> 0 | AQ102: Časť | AS102: 0 | AT102: =ROUND(SUM(AV102:AW102),2) -> 0 | AU102: ='d1 - E1.6a Vzduchotechni...'!P130 -> 0 | AV102: ='d1 - E1.6a Vzduchotechni...'!J35 -> 0 | AW102: ='d1 - E1.6a Vzduchotechni...'!J36 -> 0 | AX102: ='d1 - E1.6a Vzduchotechni...'!J37 -> 0 | AY102: ='d1 - E1.6a Vzduchotechni...'!J38 -> 0 | AZ102: ='d1 - E1.6a Vzduchotechni...'!F35 -> 0 | BA102: ='d1 - E1.6a Vzduchotechni...'!F36 -> 0 | BB102: ='d1 - E1.6a Vzduchotechni...'!F37 -> 0 | BC102: ='d1 - E1.6a Vzduchotechni...'!F38 -> 0 | BD102: ='d1 - E1.6a Vzduchotechni...'!F39 -> 0 | BT102: 2 | BV102: IMPORT | BW102: {c98d1b17-e3b4-41e5-a71b-d16a1350b2bd} | BX102: {03a6c381-6c3e-47f2-b67f-7f716022041b}
A103: / | E103: d2 | K103: E1.6b Vzduchotechnické zariadenia - prístavba | AG103: ='d2 - E1.6b Vzduchotechni...'!J32 -> 0 | AN103: =SUM(AG103,AT103) -> 0 | AQ103: Časť | AS103: 0 | AT103: =ROUND(SUM(AV103:AW103),2) -> 0 | AU103: ='d2 - E1.6b Vzduchotechni...'!P125 -> 0 | AV103: ='d2 - E1.6b Vzduchotechni...'!J35 -> 0 | AW103: ='d2 - E1.6b Vzduchotechni...'!J36 -> 0 | AX103: ='d2 - E1.6b Vzduchotechni...'!J37 -> 0 | AY103: ='d2 - E1.6b Vzduchotechni...'!J38 -> 0 | AZ103: ='d2 - E1.6b Vzduchotechni...'!F35 -> 0 | BA103: ='d2 - E1.6b Vzduchotechni...'!F36 -> 0 | BB103: ='d2 - E1.6b Vzduchotechni...'!F37 -> 0 | BC103: ='d2 - E1.6b Vzduchotechni...'!F38 -> 0 | BD103: ='d2 - E1.6b Vzduchotechni...'!F39 -> 0 | BT103: 2 | BV103: IMPORT | BW103: {e3b130e3-0a60-4dfb-9945-a94e46d1a37b} | BX103: {03a6c381-6c3e-47f2-b67f-7f716022041b}
A104: / | E104: e | K104: E1.7 Umelé osvetlenie a vnútorné elektroinštalačné rozvody | AG104: ='e - E1.7 Umelé osvetleni...'!J32 -> 0 | AN104: =SUM(AG104,AT104) -> 0 | AQ104: Časť | AS104: 0 | AT104: =ROUND(SUM(AV104:AW104),2) -> 0 | AU104: ='e - E1.7 Umelé osvetleni...'!P139 -> 0 | AV104: ='e - E1.7 Umelé osvetleni...'!J35 -> 0 | AW104: ='e - E1.7 Umelé osvetleni...'!J36 -> 0 | AX104: ='e - E1.7 Umelé osvetleni...'!J37 -> 0 | AY104: ='e - E1.7 Umelé osvetleni...'!J38 -> 0 | AZ104: ='e - E1.7 Umelé osvetleni...'!F35 -> 0 | BA104: ='e - E1.7 Umelé osvetleni...'!F36 -> 0 | BB104: ='e - E1.7 Umelé osvetleni...'!F37 -> 0 | BC104: ='e - E1.7 Umelé osvetleni...'!F38 -> 0 | BD104: ='e - E1.7 Umelé osvetleni...'!F39 -> 0 | BT104: 2 | BV104: IMPORT | BW104: {dfb1a1b4-526e-4463-9b1f-24343f2cc8c5} | BX104: {03a6c381-6c3e-47f2-b67f-7f716022041b}
A105: / | E105: f | K105: E1.8 Fotovoltický zdroj FVZ | AG105: ='f - E1.8 Fotovoltický zd...'!J32 -> 0 | AN105: =SUM(AG105,AT105) -> 0 | AQ105: Časť | AS105: 0 | AT105: =ROUND(SUM(AV105:AW105),2) -> 0 | AU105: ='f - E1.8 Fotovoltický zd...'!P127 -> 0 | AV105: ='f - E1.8 Fotovoltický zd...'!J35 -> 0 | AW105: ='f - E1.8 Fotovoltický zd...'!J36 -> 0 | AX105: ='f - E1.8 Fotovoltický zd...'!J37 -> 0 | AY105: ='f - E1.8 Fotovoltický zd...'!J38 -> 0 | AZ105: ='f - E1.8 Fotovoltický zd...'!F35 -> 0 | BA105: ='f - E1.8 Fotovoltický zd...'!F36 -> 0 | BB105: ='f - E1.8 Fotovoltický zd...'!F37 -> 0 | BC105: ='f - E1.8 Fotovoltický zd...'!F38 -> 0 | BD105: ='f - E1.8 Fotovoltický zd...'!F39 -> 0 | BT105: 2 | BV105: IMPORT | BW105: {47d88031-4416-4756-af3f-3fa33e643705} | BX105: {03a6c381-6c3e-47f2-b67f-7f716022041b}
A106: / | E106: g | K106: E1.9 Bleskozvod | AG106: ='g - E1.9 Bleskozvod'!J32 -> 0 | AN106: =SUM(AG106,AT106) -> 0 | AQ106: Časť | AS106: 0 | AT106: =ROUND(SUM(AV106:AW106),2) -> 0 | AU106: ='g - E1.9 Bleskozvod'!P124 -> 0 | AV106: ='g - E1.9 Bleskozvod'!J35 -> 0 | AW106: ='g - E1.9 Bleskozvod'!J36 -> 0 | AX106: ='g - E1.9 Bleskozvod'!J37 -> 0 | AY106: ='g - E1.9 Bleskozvod'!J38 -> 0 | AZ106: ='g - E1.9 Bleskozvod'!F35 -> 0 | BA106: ='g - E1.9 Bleskozvod'!F36 -> 0 | BB106: ='g - E1.9 Bleskozvod'!F37 -> 0 | BC106: ='g - E1.9 Bleskozvod'!F38 -> 0 | BD106: ='g - E1.9 Bleskozvod'!F39 -> 0 | BT106: 2 | BV106: IMPORT | BW106: {e43b973f-51fa-4808-b7c8-b1b3d7a14f9e} | BX106: {03a6c381-6c3e-47f2-b67f-7f716022041b}
A107: / | E107: h | K107: E1.10 Elektrická požiarna signalizácia EPS | AG107: ='h - E1.10 Elektrická pož...'!J32 -> 0 | AN107: =SUM(AG107,AT107) -> 0 | AQ107: Časť | AS107: 0 | AT107: =ROUND(SUM(AV107:AW107),2) -> 0 | AU107: ='h - E1.10 Elektrická pož...'!P122 -> 0 | AV107: ='h - E1.10 Elektrická pož...'!J35 -> 0 | AW107: ='h - E1.10 Elektrická pož...'!J36 -> 0 | AX107: ='h - E1.10 Elektrická pož...'!J37 -> 0 | AY107: ='h - E1.10 Elektrická pož...'!J38 -> 0 | AZ107: ='h - E1.10 Elektrická pož...'!F35 -> 0 | BA107: ='h - E1.10 Elektrická pož...'!F36 -> 0 | BB107: ='h - E1.10 Elektrická pož...'!F37 -> 0 | BC107: ='h - E1.10 Elektrická pož...'!F38 -> 0 | BD107: ='h - E1.10 Elektrická pož...'!F39 -> 0 | BT107: 2 | BV107: IMPORT | BW107: {d93d57b1-89da-435d-af42-584a6b611cb1} | BX107: {03a6c381-6c3e-47f2-b67f-7f716022041b}
A108: / | E108: i | K108: E1.11 Hlasová signalizácia požiaru HSP | AG108: ='i - E1.11 Hlasová signal...'!J32 -> 0 | AN108: =SUM(AG108,AT108) -> 0 | AQ108: Časť | AS108: 0 | AT108: =ROUND(SUM(AV108:AW108),2) -> 0 | AU108: ='i - E1.11 Hlasová signal...'!P122 -> 0 | AV108: ='i - E1.11 Hlasová signal...'!J35 -> 0 | AW108: ='i - E1.11 Hlasová signal...'!J36 -> 0 | AX108: ='i - E1.11 Hlasová signal...'!J37 -> 0 | AY108: ='i - E1.11 Hlasová signal...'!J38 -> 0 | AZ108: ='i - E1.11 Hlasová signal...'!F35 -> 0 | BA108: ='i - E1.11 Hlasová signal...'!F36 -> 0 | BB108: ='i - E1.11 Hlasová signal...'!F37 -> 0 | BC108: ='i - E1.11 Hlasová signal...'!F38 -> 0 | BD108: ='i - E1.11 Hlasová signal...'!F39 -> 0 | BT108: 2 | BV108: IMPORT | BW108: {a10c6bda-976c-46f6-81cd-faf307f5c049} | BX108: {03a6c381-6c3e-47f2-b67f-7f716022041b}
A109: / | E109: j | K109: E1.12 Meranie a regulácia | AG109: ='j - E1.12 Meranie a regu...'!J32 -> 0 | AN109: =SUM(AG109,AT109) -> 0 | AQ109: Časť | AS109: 0 | AT109: =ROUND(SUM(AV109:AW109),2) -> 0 | AU109: ='j - E1.12 Meranie a regu...'!P125 -> 0 | AV109: ='j - E1.12 Meranie a regu...'!J35 -> 0 | AW109: ='j - E1.12 Meranie a regu...'!J36 -> 0 | AX109: ='j - E1.12 Meranie a regu...'!J37 -> 0 | AY109: ='j - E1.12 Meranie a regu...'!J38 -> 0 | AZ109: ='j - E1.12 Meranie a regu...'!F35 -> 0 | BA109: ='j - E1.12 Meranie a regu...'!F36 -> 0 | BB109: ='j - E1.12 Meranie a regu...'!F37 -> 0 | BC109: ='j - E1.12 Meranie a regu...'!F38 -> 0 | BD109: ='j - E1.12 Meranie a regu...'!F39 -> 0 | BT109: 2 | BV109: IMPORT | BW109: {505545e1-075d-4a2f-835c-d985599c90ab} | BX109: {03a6c381-6c3e-47f2-b67f-7f716022041b}
A110: / | E110: k | K110: E1.13 Kamerový systém | AG110: ='k - E1.13 Kamerový systém'!J32 -> 0 | AN110: =SUM(AG110,AT110) -> 0 | AQ110: Časť | AS110: 0 | AT110: =ROUND(SUM(AV110:AW110),2) -> 0 | AU110: ='k - E1.13 Kamerový systém'!P122 -> 0 | AV110: ='k - E1.13 Kamerový systém'!J35 -> 0 | AW110: ='k - E1.13 Kamerový systém'!J36 -> 0 | AX110: ='k - E1.13 Kamerový systém'!J37 -> 0 | AY110: ='k - E1.13 Kamerový systém'!J38 -> 0 | AZ110: ='k - E1.13 Kamerový systém'!F35 -> 0 | BA110: ='k - E1.13 Kamerový systém'!F36 -> 0 | BB110: ='k - E1.13 Kamerový systém'!F37 -> 0 | BC110: ='k - E1.13 Kamerový systém'!F38 -> 0 | BD110: ='k - E1.13 Kamerový systém'!F39 -> 0 | BT110: 2 | BV110: IMPORT | BW110: {648c49d6-7f10-4449-9caa-0bee11c65bd1} | BX110: {03a6c381-6c3e-47f2-b67f-7f716022041b}
A111: / | E111: l | K111: PS1.1 Stropný zdvíhací systém | AG111: ='l - PS1.1 Stropný zdvíha...'!J32 -> 0 | AN111: =SUM(AG111,AT111) -> 0 | AQ111: Časť | AS111: 0 | AT111: =ROUND(SUM(AV111:AW111),2) -> 0 | AU111: ='l - PS1.1 Stropný zdvíha...'!P122 -> 0 | AV111: ='l - PS1.1 Stropný zdvíha...'!J35 -> 0 | AW111: ='l - PS1.1 Stropný zdvíha...'!J36 -> 0 | AX111: ='l - PS1.1 Stropný zdvíha...'!J37 -> 0 | AY111: ='l - PS1.1 Stropný zdvíha...'!J38 -> 0 | AZ111: ='l - PS1.1 Stropný zdvíha...'!F35 -> 0 | BA111: ='l - PS1.1 Stropný zdvíha...'!F36 -> 0 | BB111: ='l - PS1.1 Stropný zdvíha...'!F37 -> 0 | BC111: ='l - PS1.1 Stropný zdvíha...'!F38 -> 0 | BD111: ='l - PS1.1 Stropný zdvíha...'!F39 -> 0 | BT111: 2 | BV111: IMPORT | BW111: {5eee6089-6ca8-4d58-b98f-5b401ee4831e} | BX111: {03a6c381-6c3e-47f2-b67f-7f716022041b}
D112: 02 | J112: SO-02 Navrhovaná úprava spevnených plôch | AG112: =ROUND(SUM(AG113:AG114),2) -> 0 | AN112: =SUM(AG112,AT112) -> 0 | AQ112: STA | AS112: =ROUND(SUM(AS113:AS114),2) -> 0 | AT112: =ROUND(SUM(AV112:AW112),2) -> 0 | AU112: =ROUND(SUM(AU113:AU114),5) -> 0 | AV112: =ROUND(AZ112*L29,2) -> 0 | AW112: =ROUND(BA112*L30,2) -> 0 | AX112: =ROUND(BB112*L29,2) -> 0 | AY112: =ROUND(BC112*L30,2) -> 0 | AZ112: =ROUND(SUM(AZ113:AZ114),2) -> 0 | BA112: =ROUND(SUM(BA113:BA114),2) -> 0 | BB112: =ROUND(SUM(BB113:BB114),2) -> 0 | BC112: =ROUND(SUM(BC113:BC114),2) -> 0 | BD112: =ROUND(SUM(BD113:BD114),2) -> 0 | BS112: D | BT112: 1 | BU112: ###NOIMPORT### | BV112: IMPORT | BW112: {acfa5bb8-f90d-406c-95a1-43c9fd1ba8b0} | BX112: {5491b77e-e732-4e54-aee3-0b253f8515e0} | CM112: 0
A113: / | E113: a | K113: SO-02 Navrhovaná úprava spevnených plôch | AG113: ='a - SO-02 Navrhovaná úpr...'!J32 -> 0 | AN113: =SUM(AG113,AT113) -> 0 | AQ113: Časť | AS113: 0 | AT113: =ROUND(SUM(AV113:AW113),2) -> 0 | AU113: ='a - SO-02 Navrhovaná úpr...'!P128 -> 0 | AV113: ='a - SO-02 Navrhovaná úpr...'!J35 -> 0 | AW113: ='a - SO-02 Navrhovaná úpr...'!J36 -> 0 | AX113: ='a - SO-02 Navrhovaná úpr...'!J37 -> 0 | AY113: ='a - SO-02 Navrhovaná úpr...'!J38 -> 0 | AZ113: ='a - SO-02 Navrhovaná úpr...'!F35 -> 0 | BA113: ='a - SO-02 Navrhovaná úpr...'!F36 -> 0 | BB113: ='a - SO-02 Navrhovaná úpr...'!F37 -> 0 | BC113: ='a - SO-02 Navrhovaná úpr...'!F38 -> 0 | BD113: ='a - SO-02 Navrhovaná úpr...'!F39 -> 0 | BT113: 2 | BV113: IMPORT | BW113: {2621a554-7c79-4dd3-ab2f-b2b03abaa075} | BX113: {acfa5bb8-f90d-406c-95a1-43c9fd1ba8b0}
A114: / | E114: b | K114: E2.21 Vonkajšie silnoprúdové rozvody NN | AG114: ='b - E2.21 Vonkajšie siln...'!J32 -> 0 | AN114: =SUM(AG114,AT114) -> 0 | AQ114: Časť | AS114: 0 | AT114: =ROUND(SUM(AV114:AW114),2) -> 0 | AU114: ='b - E2.21 Vonkajšie siln...'!P126 -> 0 | AV114: ='b - E2.21 Vonkajšie siln...'!J35 -> 0 | AW114: ='b - E2.21 Vonkajšie siln...'!J36 -> 0 | AX114: ='b - E2.21 Vonkajšie siln...'!J37 -> 0 | AY114: ='b - E2.21 Vonkajšie siln...'!J38 -> 0 | AZ114: ='b - E2.21 Vonkajšie siln...'!F35 -> 0 | BA114: ='b - E2.21 Vonkajšie siln...'!F36 -> 0 | BB114: ='b - E2.21 Vonkajšie siln...'!F37 -> 0 | BC114: ='b - E2.21 Vonkajšie siln...'!F38 -> 0 | BD114: ='b - E2.21 Vonkajšie siln...'!F39 -> 0 | BT114: 2 | BV114: IMPORT | BW114: {3677e1c9-46ef-4af9-933a-6f54b15da4a0} | BX114: {acfa5bb8-f90d-406c-95a1-43c9fd1ba8b0}
A115: / | D115: 03 | J115: SO-03 Navrhované nové oplotenie | AG115: ='03 - SO-03 Navrhované no...'!J30 -> 0 | AN115: =SUM(AG115,AT115) -> 0 | AQ115: STA | AS115: 0 | AT115: =ROUND(SUM(AV115:AW115),2) -> 0 | AU115: ='03 - SO-03 Navrhované no...'!P123 -> 0 | AV115: ='03 - SO-03 Navrhované no...'!J33 -> 0 | AW115: ='03 - SO-03 Navrhované no...'!J34 -> 0 | AX115: ='03 - SO-03 Navrhované no...'!J35 -> 0 | AY115: ='03 - SO-03 Navrhované no...'!J36 -> 0 | AZ115: ='03 - SO-03 Navrhované no...'!F33 -> 0 | BA115: ='03 - SO-03 Navrhované no...'!F34 -> 0 | BB115: ='03 - SO-03 Navrhované no...'!F35 -> 0 | BC115: ='03 - SO-03 Navrhované no...'!F36 -> 0 | BD115: ='03 - SO-03 Navrhované no...'!F37 -> 0 | BT115: 1 | BV115: IMPORT | BW115: {d6e6e817-8f5e-4e8a-ac9a-a67e3ecc259a} | BX115: {5491b77e-e732-4e54-aee3-0b253f8515e0} | CM115: 0
A116: / | D116: 04 | J116: SO-04 Navrhovaný Altán | AG116: ='04 - SO-04 Navrhovaný Altán'!J30 -> 0 | AN116: =SUM(AG116,AT116) -> 0 | AQ116: STA | AS116: 0 | AT116: =ROUND(SUM(AV116:AW116),2) -> 0 | AU116: ='04 - SO-04 Navrhovaný Altán'!P126 -> 0 | AV116: ='04 - SO-04 Navrhovaný Altán'!J33 -> 0 | AW116: ='04 - SO-04 Navrhovaný Altán'!J34 -> 0 | AX116: ='04 - SO-04 Navrhovaný Altán'!J35 -> 0 | AY116: ='04 - SO-04 Navrhovaný Altán'!J36 -> 0 | AZ116: ='04 - SO-04 Navrhovaný Altán'!F33 -> 0 | BA116: ='04 - SO-04 Navrhovaný Altán'!F34 -> 0 | BB116: ='04 - SO-04 Navrhovaný Altán'!F35 -> 0 | BC116: ='04 - SO-04 Navrhovaný Altán'!F36 -> 0 | BD116: ='04 - SO-04 Navrhovaný Altán'!F37 -> 0 | BT116: 1 | BV116: IMPORT | BW116: {b42aa4e7-fd7c-448c-8178-49ee5e4a08d3} | BX116: {5491b77e-e732-4e54-aee3-0b253f8515e0} | CM116: 0
A117: / | D117: 05 | J117: SO-05 Objekt garáže určený na kompletnú asanáciu | AG117: ='05 - SO-05 Objekt garáže...'!J30 -> 0 | AN117: =SUM(AG117,AT117) -> 0 | AQ117: STA | AS117: 0 | AT117: =ROUND(SUM(AV117:AW117),2) -> 0 | AU117: ='05 - SO-05 Objekt garáže...'!P123 -> 0 | AV117: ='05 - SO-05 Objekt garáže...'!J33 -> 0 | AW117: ='05 - SO-05 Objekt garáže...'!J34 -> 0 | AX117: ='05 - SO-05 Objekt garáže...'!J35 -> 0 | AY117: ='05 - SO-05 Objekt garáže...'!J36 -> 0 | AZ117: ='05 - SO-05 Objekt garáže...'!F33 -> 0 | BA117: ='05 - SO-05 Objekt garáže...'!F34 -> 0 | BB117: ='05 - SO-05 Objekt garáže...'!F35 -> 0 | BC117: ='05 - SO-05 Objekt garáže...'!F36 -> 0 | BD117: ='05 - SO-05 Objekt garáže...'!F37 -> 0 | BT117: 1 | BV117: IMPORT | BW117: {244e7a97-c65d-430f-8266-54adde0b2a6b} | BX117: {5491b77e-e732-4e54-aee3-0b253f8515e0} | CM117: 0
A118: / | D118: 06 | J118: SO-06 Prípojka vody | AG118: ='06 - SO-06 Prípojka vody'!J30 -> 0 | AN118: =SUM(AG118,AT118) -> 0 | AQ118: STA | AS118: 0 | AT118: =ROUND(SUM(AV118:AW118),2) -> 0 | AU118: ='06 - SO-06 Prípojka vody'!P123 -> 0 | AV118: ='06 - SO-06 Prípojka vody'!J33 -> 0 | AW118: ='06 - SO-06 Prípojka vody'!J34 -> 0 | AX118: ='06 - SO-06 Prípojka vody'!J35 -> 0 | AY118: ='06 - SO-06 Prípojka vody'!J36 -> 0 | AZ118: ='06 - SO-06 Prípojka vody'!F33 -> 0 | BA118: ='06 - SO-06 Prípojka vody'!F34 -> 0 | BB118: ='06 - SO-06 Prípojka vody'!F35 -> 0 | BC118: ='06 - SO-06 Prípojka vody'!F36 -> 0 | BD118: ='06 - SO-06 Prípojka vody'!F37 -> 0 | BT118: 1 | BV118: IMPORT | BW118: {efb4b846-7267-45c2-99a6-85489c776e75} | BX118: {5491b77e-e732-4e54-aee3-0b253f8515e0} | CM118: 0
A119: / | D119: 07 | J119: SO-07 Prípojka splaškovej kanalizácie | AG119: ='07 - SO-07 Prípojka spla...'!J30 -> 0 | AN119: =SUM(AG119,AT119) -> 0 | AQ119: STA | AS119: 0 | AT119: =ROUND(SUM(AV119:AW119),2) -> 0 | AU119: ='07 - SO-07 Prípojka spla...'!P121 -> 0 | AV119: ='07 - SO-07 Prípojka spla...'!J33 -> 0 | AW119: ='07 - SO-07 Prípojka spla...'!J34 -> 0 | AX119: ='07 - SO-07 Prípojka spla...'!J35 -> 0 | AY119: ='07 - SO-07 Prípojka spla...'!J36 -> 0 | AZ119: ='07 - SO-07 Prípojka spla...'!F33 -> 0 | BA119: ='07 - SO-07 Prípojka spla...'!F34 -> 0 | BB119: ='07 - SO-07 Prípojka spla...'!F35 -> 0 | BC119: ='07 - SO-07 Prípojka spla...'!F36 -> 0 | BD119: ='07 - SO-07 Prípojka spla...'!F37 -> 0 | BT119: 1 | BV119: IMPORT | BW119: {49546cb7-9986-46cb-8988-e3707db4ae0d} | BX119: {5491b77e-e732-4e54-aee3-0b253f8515e0} | CM119: 0
A120: / | D120: 08 | J120: SO-08 HDS/RIS Prípojka NN a navrhovaná rozpáj. a istiaca skrina, s el.rozvádzačom s hl.ističom | AG120: ='08 - SO-08 HDS-RIS Prípo...'!J30 -> 0 | AN120: =SUM(AG120,AT120) -> 0 | AQ120: STA | AS120: 0 | AT120: =ROUND(SUM(AV120:AW120),2) -> 0 | AU120: ='08 - SO-08 HDS-RIS Prípo...'!P123 -> 0 | AV120: ='08 - SO-08 HDS-RIS Prípo...'!J33 -> 0 | AW120: ='08 - SO-08 HDS-RIS Prípo...'!J34 -> 0 | AX120: ='08 - SO-08 HDS-RIS Prípo...'!J35 -> 0 | AY120: ='08 - SO-08 HDS-RIS Prípo...'!J36 -> 0 | AZ120: ='08 - SO-08 HDS-RIS Prípo...'!F33 -> 0 | BA120: ='08 - SO-08 HDS-RIS Prípo...'!F34 -> 0 | BB120: ='08 - SO-08 HDS-RIS Prípo...'!F35 -> 0 | BC120: ='08 - SO-08 HDS-RIS Prípo...'!F36 -> 0 | BD120: ='08 - SO-08 HDS-RIS Prípo...'!F37 -> 0 | BT120: 1 | BV120: IMPORT | BW120: {2adb3fa3-f98b-454f-a308-22491708f20f} | BX120: {5491b77e-e732-4e54-aee3-0b253f8515e0} | CM120: 0
A121: / | D121: 09 | J121: SO-09 HUP+DRZ Prípojka plynu s HUP s plynomernou zostavou a reg. tlaku | AG121: ='09 - SO-09 HUP+DRZ Príp...'!J30 -> 0 | AN121: =SUM(AG121,AT121) -> 0 | AQ121: STA | AS121: 0 | AT121: =ROUND(SUM(AV121:AW121),2) -> 0 | AU121: ='09 - SO-09 HUP+DRZ Príp...'!P126 -> 0 | AV121: ='09 - SO-09 HUP+DRZ Príp...'!J33 -> 0 | AW121: ='09 - SO-09 HUP+DRZ Príp...'!J34 -> 0 | AX121: ='09 - SO-09 HUP+DRZ Príp...'!J35 -> 0 | AY121: ='09 - SO-09 HUP+DRZ Príp...'!J36 -> 0 | AZ121: ='09 - SO-09 HUP+DRZ Príp...'!F33 -> 0 | BA121: ='09 - SO-09 HUP+DRZ Príp...'!F34 -> 0 | BB121: ='09 - SO-09 HUP+DRZ Príp...'!F35 -> 0 | BC121: ='09 - SO-09 HUP+DRZ Príp...'!F36 -> 0 | BD121: ='09 - SO-09 HUP+DRZ Príp...'!F37 -> 0 | BT121: 1 | BV121: IMPORT | BW121: {d5df5808-7168-40ac-a6a3-45019d8321e4} | BX121: {5491b77e-e732-4e54-aee3-0b253f8515e0} | CM121: 0
A122: / | D122: 10 | J122: SO-10 Prípojka dažďovej kanalizácie | AG122: ='10 - SO-10 Prípojka dažď...'!J30 -> 0 | AN122: =SUM(AG122,AT122) -> 0 | AQ122: STA | AS122: 0 | AT122: =ROUND(SUM(AV122:AW122),2) -> 0 | AU122: ='10 - SO-10 Prípojka dažď...'!P121 -> 0 | AV122: ='10 - SO-10 Prípojka dažď...'!J33 -> 0 | AW122: ='10 - SO-10 Prípojka dažď...'!J34 -> 0 | AX122: ='10 - SO-10 Prípojka dažď...'!J35 -> 0 | AY122: ='10 - SO-10 Prípojka dažď...'!J36 -> 0 | AZ122: ='10 - SO-10 Prípojka dažď...'!F33 -> 0 | BA122: ='10 - SO-10 Prípojka dažď...'!F34 -> 0 | BB122: ='10 - SO-10 Prípojka dažď...'!F35 -> 0 | BC122: ='10 - SO-10 Prípojka dažď...'!F36 -> 0 | BD122: ='10 - SO-10 Prípojka dažď...'!F37 -> 0 | BT122: 1 | BV122: IMPORT | BW122: {caeb6d92-71dd-47a8-8ff7-bee1f66220e6} | BX122: {5491b77e-e732-4e54-aee3-0b253f8515e0} | CM122: 0
A123: / | D123: 11 | J123: RN Retenčná nádrž na dažďovú vodu | AG123: ='11 - RN Retenčná nád...'!J30 -> 0 | AN123: =SUM(AG123,AT123) -> 0 | AQ123: STA | AS123: 0 | AT123: =ROUND(SUM(AV123:AW123),2) -> 0 | AU123: ='11 - RN Retenčná nád...'!P124 -> 0 | AV123: ='11 - RN Retenčná nád...'!J33 -> 0 | AW123: ='11 - RN Retenčná nád...'!J34 -> 0 | AX123: ='11 - RN Retenčná nád...'!J35 -> 0 | AY123: ='11 - RN Retenčná nád...'!J36 -> 0 | AZ123: ='11 - RN Retenčná nád...'!F33 -> 0 | BA123: ='11 - RN Retenčná nád...'!F34 -> 0 | BB123: ='11 - RN Retenčná nád...'!F35 -> 0 | BC123: ='11 - RN Retenčná nád...'!F36 -> 0 | BD123: ='11 - RN Retenčná nád...'!F37 -> 0 | BT123: 1 | BV123: IMPORT | BW123: {d606708a-20fb-4be3-9522-e4246d9b9f33} | BX123: {5491b77e-e732-4e54-aee3-0b253f8515e0} | CM123: 0

Sheet a1 - E1.1a  Architektonic...
AT2: {1e6191ae-6d3e-43e3-9e53-293926fa2a3a}
AT3: 0
D4: KRYCÍ LIST ROZPOČTU | M4: v --- nižšie sa nachádzajú doplnkové a pomocné údaje k zostavám --- v | AT4: False
D6: Stavba:
E7: ='Rekapitulácia stavby'!K6 -> Sociálno-zdravotné nízkokapacitné zariadenie s kapacitou 24 miest - CSS LÚČ
D8: Objekt:
E9: 01 - SO-01 Navrhovaný objekt stavby CSS Lúč - prístavba a prestavba
D10: Časť:
E11: a1 - E1.1a Architektonické a stavebné riešenie - prestavba
D13: JKSO: | I13: ČS:
D14: Miesto: | F14: Bytča | I14: Dátum: | J14: ='Rekapitulácia stavby'!AN8 -> 22. 6. 2026
D16: Objednávateľ: | I16: IČO:
E17: Centrum sociálnych služieb LÚČ | I17: IČ DPH:
D19: Zhotoviteľ: | I19: IČO: | J19: ='Rekapitulácia stavby'!AN13 -> Vyplň údaj
E20: ='Rekapitulácia stavby'!E14 -> Vyplň údaj | I20: IČ DPH: | J20: ='Rekapitulácia stavby'!AN14 -> Vyplň údaj
D22: Projektant: | I22: IČO:
E23: expo AIR s.r.o. | I23: IČ DPH:
D25: Spracovateľ: | I25: IČO:
E26: Lacková | I26: IČ DPH:
D28: Poznámka:
E29: V prípade výskytu obchodných názvov výrobkov a technológií, tieto majú informatívny charakter a slúžia ako minimálny štandard. Sú uvedené ako referenčná kvalita a môžu byť nahradené ekvivalentným výrobkom, ktorý má rovnaké, alebo lepšie vlastnosti a parametre. Neoddeliteľnou súčasťou Výkazu výmer je Projektová dokumentácia stavby.
D32: Cena bez DPH | J32: =ROUND(J149, 2) -> 0
F34: Základ dane | I34: Sadzba dane | J34: Výška dane
D35: DPH | E35: základná | F35: =ROUND((SUM(BE149:BE1561)), 2) -> 0 | I35: 0.23 | J35: =ROUND(((SUM(BE149:BE1561))*I35), 2) -> 0
E36: znížená | F36: =ROUND((SUM(BF149:BF1561)), 2) -> 0 | I36: 0.23 | J36: =ROUND(((SUM(BF149:BF1561))*I36), 2) -> 0
E37: zákl. prenesená | F37: =ROUND((SUM(BG149:BG1561)), 2) -> 0 | I37: 0.23 | J37: =0 -> 0
E38: zníž. prenesená | F38: =ROUND((SUM(BH149:BH1561)), 2) -> 0 | I38: 0.23 | J38: =0 -> 0
E39: nulová | F39: =ROUND((SUM(BI149:BI1561)), 2) -> 0 | I39: 0 | J39: =0 -> 0
D41: Cena s DPH | G41: v | H41: EUR | J41: =SUM(J32:J39) -> 0
D50: Projektant | G50: Spracovateľ
D61: Dátum a podpis: | F61: Pečiatka | G61: Dátum a podpis: | J61: Pečiatka
D65: Objednávateľ | G65: Zhotoviteľ
D76: Dátum a podpis: | F76: Pečiatka | G76: Dátum a podpis: | J76: Pečiatka
C82: REKAPITULÁCIA ROZPOČTU
C84: Stavba:
E85: =E7 -> Sociálno-zdravotné nízkokapacitné zariadenie s kapacitou 24 miest - CSS LÚČ
C86: Objekt:
E87: 01 - SO-01 Navrhovaný objekt stavby CSS Lúč - prístavba a prestavba
C88: Časť:
E89: =E11 -> a1 - E1.1a Architektonické a stavebné riešenie - prestavba
C91: Miesto: | F91: =F14 -> Bytča | I91: Dátum: | J91: =IF(J14="","",J14) -> 22. 6. 2026
C93: Objednávateľ: | F93: =E17 -> Centrum sociálnych služieb LÚČ | I93: Projektant: | J93: =E23 -> expo AIR s.r.o.
C94: Zhotoviteľ: | F94: =IF(E20="","",E20) -> Vyplň údaj | I94: Spracovateľ: | J94: =E26 -> Lacková
C96: Kód dielu - Popis | J96: Cena celkom [EUR]
C98: Náklady z rozpočtu | J98: =J149 -> 0 | AU98: -1
D99: HSV - Práce a dodávky HSV | J99: =J150 -> 0
D100: 1 - Zemné práce | J100: =J151 -> 0
D101: 2 - Zakladanie | J101: =J201 -> 0
D102: 3 - Zvislé a kompletné konštrukcie | J102: =J264 -> 0
D103: 4 - Vodorovné konštrukcie | J103: =J417 -> 0
D104: 5.2 - Komunikácie - okapový chodník | J104: =J487 -> 0
D105: 6 - Úpravy povrchov, podlahy, osadenie | J105: =J493 -> 0
D106: 9 - Ostatné konštrukcie a práce | J106: =J723 -> 0
D107: 9.1 - Ostatné konštrukcie a práce - Búranie | J107: =J758 -> 0
D108: 99 - Presun hmôt HSV | J108: =J908 -> 0
D109: PSV - Práce a dodávky PSV | J109: =J910 -> 0
D110: 711 - Izolácie proti vode a vlhkosti | J110: =J911 -> 0
D111: 712 - Izolácie striech, povlakové krytiny | J111: =J1001 -> 0
D112: 713 - Izolácie tepelné | J112: =J1066 -> 0
D113: 725 - Zdravotechnika - zariaďovacie predmety | J113: =J1131 -> 0
D114: 762 - Konštrukcie tesárske | J114: =J1145 -> 0
D115: 763 - Konštrukcie - drevostavby | J115: =J1172 -> 0
D116: 764 - Konštrukcie klampiarske | J116: =J1213 -> 0
D117: 766 - Konštrukcie stolárske | J117: =J1248 -> 0
D118: 767 - Konštrukcie doplnkové kovové | J118: =J1367 -> 0
D119: 771 - Podlahy z dlaždíc | J119: =J1398 -> 0
D120: 776 - Podlahy povlakové | J120: =J1431 -> 0
D121: 781 - Obklady | J121: =J1452 -> 0
D122: 782 - Obklady z prírodného a konglomerovaného kameňa | J122: =J1513 -> 0
D123: 783 - Nátery | J123: =J1521 -> 0
D124: 784 - Dokončovacie práce - maľby | J124: =J1550 -> 0
D125: M - Práce a dodávky M | J125: =J1555 -> 0
D126: 33-M - Montáže dopr.zariad.sklad.zar.a váh | J126: =J1556 -> 0
D127: N00 - P o z n á m k a : | J127: =J1559 -> 0
C134: ROZPOČET
C136: Stavba:
E137: =E7 -> Sociálno-zdravotné nízkokapacitné zariadenie s kapacitou 24 miest - CSS LÚČ
C138: Objekt:
E139: 01 - SO-01 Navrhovaný objekt stavby CSS Lúč - prístavba a prestavba
C140: Časť:
E141: =E11 -> a1 - E1.1a Architektonické a stavebné riešenie - prestavba
C143: Miesto: | F143: =F14 -> Bytča | I143: Dátum: | J143: =IF(J14="","",J14) -> 22. 6. 2026
C145: Objednávateľ: | F145: =E17 -> Centrum sociálnych služieb LÚČ | I145: Projektant: | J145: =E23 -> expo AIR s.r.o.
C146: Zhotoviteľ: | F146: =IF(E20="","",E20) -> Vyplň údaj | I146: Spracovateľ: | J146: =E26 -> Lacková
C148: PČ | D148: Typ | E148: Kód | F148: Popis | G148: MJ | H148: Množstvo | I148: J.cena [EUR] | J148: Cena celkom [EUR] | K148: Cenová sústava | N148: DPH | O148: J. Nh [h] | P148: Nh celkom [h] | Q148: J. hmotnosť [t] | R148: Hmotnosť celkom [t] | S148: J. suť [t] | T148: Suť Celkom [t]
C149: Náklady z rozpočtu | J149: =BK149 -> 0 | P149: =P150+P910+P1555+P1559 -> 0 | R149: =R150+R910+R1555+R1559 -> 1189.0475 | T149: =T150+T910+T1555+T1559 -> 630.46375 | AT149: D | AU149: -1 | BK149: =BK150+BK910+BK1555+BK1559 -> 0
D150: D | E150: HSV | F150: Práce a dodávky HSV | J150: =BK150 -> 0 | P150: =P151+P201+P264+P417+P487+P493+P723+P758+P908 -> 0 | R150: =R151+R201+R264+R417+R487+R493+R723+R758+R908 -> 1055.4657 | T150: =T151+T201+T264+T417+T487+T493+T723+T758+T908 -> 611.23483 | AR150: 1 | AT150: D | AU150: 0 | AY150: ROZPOCET | BK150: =BK151+BK201+BK264+BK417+BK487+BK493+BK723+BK758+BK908 -> 0
D151: D | E151: 1 | F151: Zemné práce | J151: =BK151 -> 0 | P151: =SUM(P152:P200) -> 0 | R151: =SUM(R152:R200) -> 77.915 | T151: =SUM(T152:T200) -> 0 | AR151: 1 | AT151: D | AU151: 1 | AY151: ROZPOCET | BK151: =SUM(BK152:BK200) -> 0
C152: 1 | D152: K | E152: 130901121.S | F152: Búranie konštrukcií z prostého betónu neprekladaného kameňom vo vykopávkach | G152: m3 | H152: 1.2 | J152: =ROUND(I152*H152,2) -> 0 | N152: znížená | P152: =O152*H152 -> 0 | Q152: 0 | R152: =Q152*H152 -> 0 | S152: 0 | T152: =S152*H152 -> 0 | AR152: 4 | AT152: K | AU152: 2 | AY152: ROZPOCET | BE152: =IF(N152="základná",J152,0) -> 0 | BF152: =IF(N152="znížená",J152,0) -> 0 | BG152: =IF(N152="zákl. prenesená",J152,0) -> 0 | BH152: =IF(N152="zníž. prenesená",J152,0) -> 0 | BI152: =IF(N152="nulová",J152,0) -> 0 | BJ152: 2 | BK152: =ROUND(I152*H152,2) -> 0 | BL152: 4 | BM152: -1583105680
D153: VV | F153: "predpoklad " 1,2 | H153: 1.2 | AT153: VV | AU153: 2 | AV153: 2 | AW153: True | AX153: 1 | AY153: ROZPOCET
C154: 2 | D154: K | E154: 131201101.S | F154: Výkop nezapaženej jamy v hornine 3, do 100 m3 | G154: m3 | H154: 87.42 | J154: =ROUND(I154*H154,2) -> 0 | N154: znížená | P154: =O154*H154 -> 0 | Q154: 0 | R154: =Q154*H154 -> 0 | S154: 0 | T154: =S154*H154 -> 0 | AR154: 4 | AT154: K | AU154: 2 | AY154: ROZPOCET | BE154: =IF(N154="základná",J154,0) -> 0 | BF154: =IF(N154="znížená",J154,0) -> 0 | BG154: =IF(N154="zákl. prenesená",J154,0) -> 0 | BH154: =IF(N154="zníž. prenesená",J154,0) -> 0 | BI154: =IF(N154="nulová",J154,0) -> 0 | BJ154: 2 | BK154: =ROUND(I154*H154,2) -> 0 | BL154: 4 | BM154: 237533745
D155: VV | F155: "výkop pre schodisko -3,675" 4,7*8*(3,675-1,35) | H155: 87.42 | AT155: VV | AU155: 2 | AV155: 2 | AW155: True | AX155: 1 | AY155: ROZPOCET
C156: 3 | D156: K | E156: 131201109.S | F156: Hĺbenie nezapažených jám a zárezov. Príplatok za lepivosť horniny 3 | G156: m3 | H156: 87.42 | J156: =ROUND(I156*H156,2) -> 0 | N156: znížená | P156: =O156*H156 -> 0 | Q156: 0 | R156: =Q156*H156 -> 0 | S156: 0 | T156: =S156*H156 -> 0 | AR156: 4 | AT156: K | AU156: 2 | AY156: ROZPOCET | BE156: =IF(N156="základná",J156,0) -> 0 | BF156: =IF(N156="znížená",J156,0) -> 0 | BG156: =IF(N156="zákl. prenesená",J156,0) -> 0 | BH156: =IF(N156="zníž. prenesená",J156,0) -> 0 | BI156: =IF(N156="nulová",J156,0) -> 0 | BJ156: 2 | BK156: =ROUND(I156*H156,2) -> 0 | BL156: 4 | BM156: -2065113685
C157: 4 | D157: K | E157: 132201101.S | F157: Výkop ryhy do šírky 600 mm v horn.3 do 100 m3 | G157: m3 | H157: 3.254 | J157: =ROUND(I157*H157,2) -> 0 | N157: znížená | P157: =O157*H157 -> 0 | Q157: 0 | R157: =Q157*H157 -> 0 | S157: 0 | T157: =S157*H157 -> 0 | AR157: 4 | AT157: K | AU157: 2 | AY157: ROZPOCET | BE157: =IF(N157="základná",J157,0) -> 0 | BF157: =IF(N157="znížená",J157,0) -> 0 | BG157: =IF(N157="zákl. prenesená",J157,0) -> 0 | BH157: =IF(N157="zníž. prenesená",J157,0) -> 0 | BI157: =IF(N157="nulová",J157,0) -> 0 | BJ157: 2 | BK157: =ROUND(I157*H157,2) -> 0 | BL157: 4 | BM157: 1717166120
D158: VV | F158: "základ výťahovej šachty 2x" (3,285*2+1,8*2)*0,4*0,4*2 | H158: 3.254 | AT158: VV | AU158: 2 | AV158: 2 | AW158: True | AX158: 1 | AY158: ROZPOCET
C159: 5 | D159: K | E159: 132201109.S | F159: Príplatok k cene za lepivosť pri hĺbení rýh šírky do 600 mm zapažených i nezapažených s urovnaním dna v hornine 3 | G159: m3 | H159: 3.254 | J159: =ROUND(I159*H159,2) -> 0 | N159: znížená | P159: =O159*H159 -> 0 | Q159: 0 | R159: =Q159*H159 -> 0 | S159: 0 | T159: =S159*H159 -> 0 | AR159: 4 | AT159: K | AU159: 2 | AY159: ROZPOCET | BE159: =IF(N159="základná",J159,0) -> 0 | BF159: =IF(N159="znížená",J159,0) -> 0 | BG159: =IF(N159="zákl. prenesená",J159,0) -> 0 | BH159: =IF(N159="zníž. prenesená",J159,0) -> 0 | BI159: =IF(N159="nulová",J159,0) -> 0 | BJ159: 2 | BK159: =ROUND(I159*H159,2) -> 0 | BL159: 4 | BM159: 589532173
C160: 6 | D160: K | E160: 132201202.S | F160: Výkop ryhy šírky 600-2000mm horn.3 od 100 do 1000 m3 | G160: m3 | H160: 142.65 | J160: =ROUND(I160*H160,2) -> 0 | N160: znížená | P160: =O160*H160 -> 0 | Q160: 0 | R160: =Q160*H160 -> 0 | S160: 0 | T160: =S160*H160 -> 0 | AR160: 4 | AT160: K | AU160: 2 | AY160: ROZPOCET | BE160: =IF(N160="základná",J160,0) -> 0 | BF160: =IF(N160="znížená",J160,0) -> 0 | BG160: =IF(N160="zákl. prenesená",J160,0) -> 0 | BH160: =IF(N160="zníž. prenesená",J160,0) -> 0 | BI160: =IF(N160="nulová",J160,0) -> 0 | BJ160: 2 | BK160: =ROUND(I160*H160,2) -> 0 | BL160: 4 | BM160: -1429420451
D161: VV | F161: "základ schodiska" ((6,5+3,2*2)*0,4+(4,2+3,2)*0,6+3,3*0,25)*(4,075-3,675) | H161: 4.17 | AT161: VV | AU161: 2 | AV161: 2 | AW161: True | AX161: 0 | AY161: ROZPOCET
D162: VV | F162: "základ pod upratovaciu komoru" (3,2+2,3)*0,8*(2,45-1,25) | H162: 5.28 | AT162: VV | AU162: 2 | AV162: 2 | AW162: True | AX162: 0 | AY162: ROZPOCET
D163: VV | F163: "výkop okolo budovy pre izoláciu suterénnych stien" (24,7+17+11,5+2+11,4)*2*1 | H163: 133.2 | AT163: VV | AU163: 2 | AV163: 2 | AW163: True | AX163: 0 | AY163: ROZPOCET
...

Sheet a2 - E1.1b  Architektonic...
AT2: {125f32b5-40fd-471b-be4b-38b703b0548e}
AT3: 0
D4: KRYCÍ LIST ROZPOČTU | M4: v --- nižšie sa nachádzajú doplnkové a pomocné údaje k zostavám --- v | AT4: False
D6: Stavba:
E7: ='Rekapitulácia stavby'!K6 -> Sociálno-zdravotné nízkokapacitné zariadenie s kapacitou 24 miest - CSS LÚČ
D8: Objekt:
E9: 01 - SO-01 Navrhovaný objekt stavby CSS Lúč - prístavba a prestavba
D10: Časť:
E11: a2 - E1.1b Architektonické a stavebné riešenie - prístavba
D13: JKSO: | I13: ČS:
D14: Miesto: | F14: Bytča | I14: Dátum: | J14: ='Rekapitulácia stavby'!AN8 -> 22. 6. 2026
D16: Objednávateľ: | I16: IČO:
E17: Centrum sociálnych služieb LÚČ | I17: IČ DPH:
D19: Zhotoviteľ: | I19: IČO: | J19: ='Rekapitulácia stavby'!AN13 -> Vyplň údaj
E20: ='Rekapitulácia stavby'!E14 -> Vyplň údaj | I20: IČ DPH: | J20: ='Rekapitulácia stavby'!AN14 -> Vyplň údaj
D22: Projektant: | I22: IČO:
E23: expo AIR s.r.o. | I23: IČ DPH:
D25: Spracovateľ: | I25: IČO:
E26: Lacková | I26: IČ DPH:
D28: Poznámka:
E29: V prípade výskytu obchodných názvov výrobkov a technológií, tieto majú informatívny charakter a slúžia ako minimálny štandard. Sú uvedené ako referenčná kvalita a môžu byť nahradené ekvivalentným výrobkom, ktorý má rovnaké, alebo lepšie vlastnosti a parametre. Neoddeliteľnou súčasťou Výkazu výmer je Projektová dokumentácia stavby.
D32: Cena bez DPH | J32: =ROUND(J144, 2) -> 0
F34: Základ dane | I34: Sadzba dane | J34: Výška dane
D35: DPH | E35: základná | F35: =ROUND((SUM(BE144:BE781)), 2) -> 0 | I35: 0.23 | J35: =ROUND(((SUM(BE144:BE781))*I35), 2) -> 0
E36: znížená | F36: =ROUND((SUM(BF144:BF781)), 2) -> 0 | I36: 0.23 | J36: =ROUND(((SUM(BF144:BF781))*I36), 2) -> 0
E37: zákl. prenesená | F37: =ROUND((SUM(BG144:BG781)), 2) -> 0 | I37: 0.23 | J37: =0 -> 0
E38: zníž. prenesená | F38: =ROUND((SUM(BH144:BH781)), 2) -> 0 | I38: 0.23 | J38: =0 -> 0
E39: nulová | F39: =ROUND((SUM(BI144:BI781)), 2) -> 0 | I39: 0 | J39: =0 -> 0
D41: Cena s DPH | G41: v | H41: EUR | J41: =SUM(J32:J39) -> 0
D50: Projektant | G50: Spracovateľ
D61: Dátum a podpis: | F61: Pečiatka | G61: Dátum a podpis: | J61: Pečiatka
D65: Objednávateľ | G65: Zhotoviteľ
D76: Dátum a podpis: | F76: Pečiatka | G76: Dátum a podpis: | J76: Pečiatka
C82: REKAPITULÁCIA ROZPOČTU
C84: Stavba:
E85: =E7 -> Sociálno-zdravotné nízkokapacitné zariadenie s kapacitou 24 miest - CSS LÚČ
C86: Objekt:
E87: 01 - SO-01 Navrhovaný objekt stavby CSS Lúč - prístavba a prestavba
C88: Časť:
E89: =E11 -> a2 - E1.1b Architektonické a stavebné riešenie - prístavba
C91: Miesto: | F91: =F14 -> Bytča | I91: Dátum: | J91: =IF(J14="","",J14) -> 22. 6. 2026
C93: Objednávateľ: | F93: =E17 -> Centrum sociálnych služieb LÚČ | I93: Projektant: | J93: =E23 -> expo AIR s.r.o.
C94: Zhotoviteľ: | F94: =IF(E20="","",E20) -> Vyplň údaj | I94: Spracovateľ: | J94: =E26 -> Lacková
C96: Kód dielu - Popis | J96: Cena celkom [EUR]
C98: Náklady z rozpočtu | J98: =J144 -> 0 | AU98: -1
D99: HSV - Práce a dodávky HSV | J99: =J145 -> 0
D100: 1 - Zemné práce | J100: =J146 -> 0
D101: 2 - Zakladanie | J101: =J175 -> 0
D102: 3 - Zvislé a kompletné konštrukcie | J102: =J194 -> 0
D103: 4 - Vodorovné konštrukcie | J103: =J254 -> 0
D104: 6 - Úpravy povrchov, podlahy, osadenie | J104: =J324 -> 0
D105: 9 - Ostatné konštrukcie a práce | J105: =J426 -> 0
D106: 9.1 - Ostatné konštrukcie a práce - Búranie | J106: =J447 -> 0
D107: 99 - Presun hmôt HSV | J107: =J489 -> 0
D108: PSV - Práce a dodávky PSV | J108: =J491 -> 0
D109: 711 - Izolácie proti vode a vlhkosti | J109: =J492 -> 0
D110: 712 - Izolácie striech, povlakové krytiny | J110: =J537 -> 0
D111: 713 - Izolácie tepelné | J111: =J578 -> 0
D112: 763 - Konštrukcie - drevostavby | J112: =J617 -> 0
D113: 764 - Konštrukcie klampiarske | J113: =J627 -> 0
D114: 766 - Konštrukcie stolárske | J114: =J639 -> 0
D115: 767 - Konštrukcie doplnkové kovové | J115: =J674 -> 0
D116: 771 - Podlahy z dlaždíc | J116: =J679 -> 0
D117: 776 - Podlahy povlakové | J117: =J707 -> 0
D118: 781 - Obklady | J118: =J721 -> 0
D119: 782 - Obklady z prírodného a konglomerovaného kameňa | J119: =J744 -> 0
D120: 783 - Nátery | J120: =J752 -> 0
D121: 784 - Dokončovacie práce - maľby | J121: =J774 -> 0
D122: N00 - P o z n á m k a : | J122: =J779 -> 0
C129: ROZPOČET
C131: Stavba:
E132: =E7 -> Sociálno-zdravotné nízkokapacitné zariadenie s kapacitou 24 miest - CSS LÚČ
C133: Objekt:
E134: 01 - SO-01 Navrhovaný objekt stavby CSS Lúč - prístavba a prestavba
C135: Časť:
E136: =E11 -> a2 - E1.1b Architektonické a stavebné riešenie - prístavba
C138: Miesto: | F138: =F14 -> Bytča | I138: Dátum: | J138: =IF(J14="","",J14) -> 22. 6. 2026
C140: Objednávateľ: | F140: =E17 -> Centrum sociálnych služieb LÚČ | I140: Projektant: | J140: =E23 -> expo AIR s.r.o.
C141: Zhotoviteľ: | F141: =IF(E20="","",E20) -> Vyplň údaj | I141: Spracovateľ: | J141: =E26 -> Lacková
C143: PČ | D143: Typ | E143: Kód | F143: Popis | G143: MJ | H143: Množstvo | I143: J.cena [EUR] | J143: Cena celkom [EUR] | K143: Cenová sústava | N143: DPH | O143: J. Nh [h] | P143: Nh celkom [h] | Q143: J. hmotnosť [t] | R143: Hmotnosť celkom [t] | S143: J. suť [t] | T143: Suť Celkom [t]
C144: Náklady z rozpočtu | J144: =BK144 -> 0 | P144: =P145+P491+P779 -> 0 | R144: =R145+R491+R779 -> 455.88527 | T144: =T145+T491+T779 -> 96.083481 | AT144: D | AU144: -1 | BK144: =BK145+BK491+BK779 -> 0
D145: D | E145: HSV | F145: Práce a dodávky HSV | J145: =BK145 -> 0 | P145: =P146+P175+P194+P254+P324+P426+P447+P489 -> 0 | R145: =R146+R175+R194+R254+R324+R426+R447+R489 -> 432.40816 | T145: =T146+T175+T194+T254+T324+T426+T447+T489 -> 95.771628 | AR145: 1 | AT145: D | AU145: 0 | AY145: ROZPOCET | BK145: =BK146+BK175+BK194+BK254+BK324+BK426+BK447+BK489 -> 0
D146: D | E146: 1 | F146: Zemné práce | J146: =BK146 -> 0 | P146: =SUM(P147:P174) -> 0 | R146: =SUM(R147:R174) -> 0 | T146: =SUM(T147:T174) -> 3.5 | AR146: 1 | AT146: D | AU146: 1 | AY146: ROZPOCET | BK146: =SUM(BK147:BK174) -> 0
C147: 1 | D147: K | E147: 130901121.S | F147: Búranie konštrukcií z prostého betónu neprekladaného kameňom vo vykopávkach | G147: m3 | H147: 3.5 | J147: =ROUND(I147*H147,2) -> 0 | N147: znížená | P147: =O147*H147 -> 0 | Q147: 0 | R147: =Q147*H147 -> 0 | S147: 1 | T147: =S147*H147 -> 3.5 | AR147: 4 | AT147: K | AU147: 2 | AY147: ROZPOCET | BE147: =IF(N147="základná",J147,0) -> 0 | BF147: =IF(N147="znížená",J147,0) -> 0 | BG147: =IF(N147="zákl. prenesená",J147,0) -> 0 | BH147: =IF(N147="zníž. prenesená",J147,0) -> 0 | BI147: =IF(N147="nulová",J147,0) -> 0 | BJ147: 2 | BK147: =ROUND(I147*H147,2) -> 0 | BL147: 4 | BM147: -1953364082
D148: VV | F148: "predpoklad pri výkope pre suterén" 3,5 | H148: 3.5 | AT148: VV | AU148: 2 | AV148: 2 | AW148: True | AX148: 1 | AY148: ROZPOCET
C149: 2 | D149: K | E149: 131201102.S | F149: Výkop nezapaženej jamy v hornine 3, nad 100 do 1000 m3 | G149: m3 | H149: 337.5 | J149: =ROUND(I149*H149,2) -> 0 | N149: znížená | P149: =O149*H149 -> 0 | Q149: 0 | R149: =Q149*H149 -> 0 | S149: 0 | T149: =S149*H149 -> 0 | AR149: 4 | AT149: K | AU149: 2 | AY149: ROZPOCET | BE149: =IF(N149="základná",J149,0) -> 0 | BF149: =IF(N149="znížená",J149,0) -> 0 | BG149: =IF(N149="zákl. prenesená",J149,0) -> 0 | BH149: =IF(N149="zníž. prenesená",J149,0) -> 0 | BI149: =IF(N149="nulová",J149,0) -> 0 | BJ149: 2 | BK149: =ROUND(I149*H149,2) -> 0 | BL149: 4 | BM149: -1765042948
D150: VV | F150: "Výkop po vybúraní sociálok" 13,5*10*2,5 | H150: 337.5 | AT150: VV | AU150: 2 | AV150: 2 | AW150: True | AX150: 1 | AY150: ROZPOCET
C151: 3 | D151: K | E151: 131201109.S | F151: Hĺbenie nezapažených jám a zárezov. Príplatok za lepivosť horniny 3 | G151: m3 | H151: 337.5 | J151: =ROUND(I151*H151,2) -> 0 | N151: znížená | P151: =O151*H151 -> 0 | Q151: 0 | R151: =Q151*H151 -> 0 | S151: 0 | T151: =S151*H151 -> 0 | AR151: 4 | AT151: K | AU151: 2 | AY151: ROZPOCET | BE151: =IF(N151="základná",J151,0) -> 0 | BF151: =IF(N151="znížená",J151,0) -> 0 | BG151: =IF(N151="zákl. prenesená",J151,0) -> 0 | BH151: =IF(N151="zníž. prenesená",J151,0) -> 0 | BI151: =IF(N151="nulová",J151,0) -> 0 | BJ151: 2 | BK151: =ROUND(I151*H151,2) -> 0 | BL151: 4 | BM151: -1532798936
C152: 4 | D152: K | E152: 132201101.S | F152: Výkop ryhy do šírky 600 mm v horn.3 do 100 m3 | G152: m3 | H152: 0.434 | J152: =ROUND(I152*H152,2) -> 0 | N152: znížená | P152: =O152*H152 -> 0 | Q152: 0 | R152: =Q152*H152 -> 0 | S152: 0 | T152: =S152*H152 -> 0 | AR152: 4 | AT152: K | AU152: 2 | AY152: ROZPOCET | BE152: =IF(N152="základná",J152,0) -> 0 | BF152: =IF(N152="znížená",J152,0) -> 0 | BG152: =IF(N152="zákl. prenesená",J152,0) -> 0 | BH152: =IF(N152="zníž. prenesená",J152,0) -> 0 | BI152: =IF(N152="nulová",J152,0) -> 0 | BJ152: 2 | BK152: =ROUND(I152*H152,2) -> 0 | BL152: 4 | BM152: 298923003
D153: VV | F153: "základ š. 0,4m" 3,1*0,4*0,35 | H153: 0.434 | AT153: VV | AU153: 2 | AV153: 2 | AW153: True | AX153: 1 | AY153: ROZPOCET
C154: 5 | D154: K | E154: 132201109.S | F154: Príplatok k cene za lepivosť pri hĺbení rýh šírky do 600 mm zapažených i nezapažených s urovnaním dna v hornine 3 | G154: m3 | H154: 0.434 | J154: =ROUND(I154*H154,2) -> 0 | N154: znížená | P154: =O154*H154 -> 0 | Q154: 0 | R154: =Q154*H154 -> 0 | S154: 0 | T154: =S154*H154 -> 0 | AR154: 4 | AT154: K | AU154: 2 | AY154: ROZPOCET | BE154: =IF(N154="základná",J154,0) -> 0 | BF154: =IF(N154="znížená",J154,0) -> 0 | BG154: =IF(N154="zákl. prenesená",J154,0) -> 0 | BH154: =IF(N154="zníž. prenesená",J154,0) -> 0 | BI154: =IF(N154="nulová",J154,0) -> 0 | BJ154: 2 | BK154: =ROUND(I154*H154,2) -> 0 | BL154: 4 | BM154: -1616240224
C155: 6 | D155: K | E155: 132201201.S | F155: Výkop ryhy šírky 600-2000mm horn.3 do 100m3 | G155: m3 | H155: 11.082 | J155: =ROUND(I155*H155,2) -> 0 | N155: znížená | P155: =O155*H155 -> 0 | Q155: 0 | R155: =Q155*H155 -> 0 | S155: 0 | T155: =S155*H155 -> 0 | AR155: 4 | AT155: K | AU155: 2 | AY155: ROZPOCET | BE155: =IF(N155="základná",J155,0) -> 0 | BF155: =IF(N155="znížená",J155,0) -> 0 | BG155: =IF(N155="zákl. prenesená",J155,0) -> 0 | BH155: =IF(N155="zníž. prenesená",J155,0) -> 0 | BI155: =IF(N155="nulová",J155,0) -> 0 | BJ155: 2 | BK155: =ROUND(I155*H155,2) -> 0 | BL155: 4 | BM155: 1166632944
D156: VV | F156: "základy š. 0,8m -3,74/-4,075" (9,8+9,8+8,1)*0,8*0,335 | H156: 7.424 | AT156: VV | AU156: 2 | AV156: 2 | AW156: True | AX156: 0 | AY156: ROZPOCET
D157: VV | F157: "š.0,6m " (4,8+4,4+9)*0,6*0,335 | H157: 3.658 | AT157: VV | AU157: 2 | AV157: 2 | AW157: True | AX157: 0 | AY157: ROZPOCET
D158: VV | F158: Súčet | H158: 11.082 | AT158: VV | AU158: 2 | AV158: 4 | AW158: True | AX158: 1 | AY158: ROZPOCET
C159: 7 | D159: K | E159: 132201209.S | F159: Príplatok k cenám za lepivosť pri hĺbení rýh š. 600 do 2 000 mm zapaž. i nezapažených, s urovnaním dna v hornine 3 | G159: m3 | H159: 11.082 | J159: =ROUND(I159*H159,2) -> 0 | N159: znížená | P159: =O159*H159 -> 0 | Q159: 0 | R159: =Q159*H159 -> 0 | S159: 0 | T159: =S159*H159 -> 0 | AR159: 4 | AT159: K | AU159: 2 | AY159: ROZPOCET | BE159: =IF(N159="základná",J159,0) -> 0 | BF159: =IF(N159="znížená",J159,0) -> 0 | BG159: =IF(N159="zákl. prenesená",J159,0) -> 0 | BH159: =IF(N159="zníž. prenesená",J159,0) -> 0 | BI159: =IF(N159="nulová",J159,0) -> 0 | BJ159: 2 | BK159: =ROUND(I159*H159,2) -> 0 | BL159: 4 | BM159: 2127130124
C160: 8 | D160: K | E160: 171201201.S | F160: Uloženie sypaniny na skládky do 100 m3 | G160: m3 | H160: 349.016 | J160: =ROUND(I160*H160,2) -> 0 | N160: znížená | P160: =O160*H160 -> 0 | Q160: 0 | R160: =Q160*H160 -> 0 | S160: 0 | T160: =S160*H160 -> 0 | AR160: 4 | AT160: K | AU160: 2 | AY160: ROZPOCET | BE160: =IF(N160="základná",J160,0) -> 0 | BF160: =IF(N160="znížená",J160,0) -> 0 | BG160: =IF(N160="zákl. prenesená",J160,0) -> 0 | BH160: =IF(N160="zníž. prenesená",J160,0) -> 0 | BI160: =IF(N160="nulová",J160,0) -> 0 | BJ160: 2 | BK160: =ROUND(I160*H160,2) -> 0 | BL160: 4 | BM160: -1771813681
D161: VV | F161: 337,5+11,082+0,434 | H161: 349.016 | AT161: VV | AU161: 2 | AV161: 2 | AW161: True | AX161: 1 | AY161: ROZPOCET
C162: 9 | D162: K | E162: 162501102.S | F162: Vodorovné premiestnenie výkopku po spevnenej ceste z horniny tr.1-4, do 100 m3 na vzdialenosť do 3000 m | G162: m3 | H162: 286.016 | J162: =ROUND(I162*H162,2) -> 0 | N162: znížená | P162: =O162*H162 -> 0 | Q162: 0 | R162: =Q162*H162 -> 0 | S162: 0 | T162: =S162*H162 -> 0 | AR162: 4 | AT162: K | AU162: 2 | AY162: ROZPOCET | BE162: =IF(N162="základná",J162,0) -> 0 | BF162: =IF(N162="znížená",J162,0) -> 0 | BG162: =IF(N162="zákl. prenesená",J162,0) -> 0 | BH162: =IF(N162="zníž. prenesená",J162,0) -> 0 | BI162: =IF(N162="nulová",J162,0) -> 0 | BJ162: 2 | BK162: =ROUND(I162*H162,2) -> 0 | BL162: 4 | BM162: -1791057346
D163: VV | F163: "výkopy" 337,5+11,082+0,434 | H163: 349.016 | AT163: VV | AU163: 2 | AV163: 2 | AW163: True | AX163: 0 | AY163: ROZPOCET
...

Sheet b1 - E1.4a  Zdravotechnic...
AT2: {1dcb4e80-d8f2-4023-89a1-d5c771fde3ed}
AT3: 0
D4: KRYCÍ LIST ROZPOČTU | M4: v --- nižšie sa nachádzajú doplnkové a pomocné údaje k zostavám --- v | AT4: False
D6: Stavba:
E7: ='Rekapitulácia stavby'!K6 -> Sociálno-zdravotné nízkokapacitné zariadenie s kapacitou 24 miest - CSS LÚČ
D8: Objekt:
E9: 01 - SO-01 Navrhovaný objekt stavby CSS Lúč - prístavba a prestavba
D10: Časť:
E11: b1 - E1.4a Zdravotechnická inštalácia - prestavba
D13: JKSO: | I13: ČS:
D14: Miesto: | F14: Bytča | I14: Dátum: | J14: ='Rekapitulácia stavby'!AN8 -> 22. 6. 2026
D16: Objednávateľ: | I16: IČO:
E17: Centrum sociálnych služieb LÚČ | I17: IČ DPH:
D19: Zhotoviteľ: | I19: IČO: | J19: ='Rekapitulácia stavby'!AN13 -> Vyplň údaj
E20: ='Rekapitulácia stavby'!E14 -> Vyplň údaj | I20: IČ DPH: | J20: ='Rekapitulácia stavby'!AN14 -> Vyplň údaj
D22: Projektant: | I22: IČO:
E23: expo AIR s.r.o. | I23: IČ DPH:
D25: Spracovateľ: | I25: IČO:
E26: Roman Kostelník | I26: IČ DPH:
D28: Poznámka:
E29: V prípade výskytu obchodných názvov výrobkov a technológií, tieto majú informatívny charakter a slúžia ako minimálny štandard. Sú uvedené ako referenčná kvalita a môžu byť nahradené ekvivalentným výrobkom, ktorý má rovnaké, alebo lepšie vlastnosti a parametre. Neoddeliteľnou súčasťou Výkazu výmer je Projektová dokumentácia stavby.
D32: Cena bez DPH | J32: =ROUND(J131, 2) -> 0
F34: Základ dane | I34: Sadzba dane | J34: Výška dane
D35: DPH | E35: základná | F35: =ROUND((SUM(BE131:BE285)), 2) -> 0 | I35: 0.23 | J35: =ROUND(((SUM(BE131:BE285))*I35), 2) -> 0
E36: znížená | F36: =ROUND((SUM(BF131:BF285)), 2) -> 0 | I36: 0.23 | J36: =ROUND(((SUM(BF131:BF285))*I36), 2) -> 0
E37: zákl. prenesená | F37: =ROUND((SUM(BG131:BG285)), 2) -> 0 | I37: 0.23 | J37: =0 -> 0
E38: zníž. prenesená | F38: =ROUND((SUM(BH131:BH285)), 2) -> 0 | I38: 0.23 | J38: =0 -> 0
E39: nulová | F39: =ROUND((SUM(BI131:BI285)), 2) -> 0 | I39: 0 | J39: =0 -> 0
D41: Cena s DPH | G41: v | H41: EUR | J41: =SUM(J32:J39) -> 0
D50: Projektant | G50: Spracovateľ
D61: Dátum a podpis: | F61: Pečiatka | G61: Dátum a podpis: | J61: Pečiatka
D65: Objednávateľ | G65: Zhotoviteľ
D76: Dátum a podpis: | F76: Pečiatka | G76: Dátum a podpis: | J76: Pečiatka
C82: REKAPITULÁCIA ROZPOČTU
C84: Stavba:
E85: =E7 -> Sociálno-zdravotné nízkokapacitné zariadenie s kapacitou 24 miest - CSS LÚČ
C86: Objekt:
E87: 01 - SO-01 Navrhovaný objekt stavby CSS Lúč - prístavba a prestavba
C88: Časť:
E89: =E11 -> b1 - E1.4a Zdravotechnická inštalácia - prestavba
C91: Miesto: | F91: =F14 -> Bytča | I91: Dátum: | J91: =IF(J14="","",J14) -> 22. 6. 2026
C93: Objednávateľ: | F93: =E17 -> Centrum sociálnych služieb LÚČ | I93: Projektant: | J93: =E23 -> expo AIR s.r.o.
C94: Zhotoviteľ: | F94: =IF(E20="","",E20) -> Vyplň údaj | I94: Spracovateľ: | J94: =E26 -> Roman Kostelník
C96: Kód dielu - Popis | J96: Cena celkom [EUR]
C98: Náklady z rozpočtu | J98: =J131 -> 0 | AU98: -1
D99: D1 - PRÁCE A DODÁVKY HSV | J99: =J132 -> 0
D100: 1 - Zemné práce | J100: =J133 -> 0
D101: 6 - ÚPRAVY POVRCHOV, PODLAHY, VÝPLNE | J101: =J151 -> 0
D102: 8 - RÚROVÉ VEDENIA | J102: =J153 -> 0
D103: 9 - OSTATNÉ KONŠTRUKCIE A PRÁCE | J103: =J160 -> 0
D104: D2 - PRÁCE A DODÁVKY PSV | J104: =J168 -> 0
D105: 713 - Izolácie tepelné | J105: =J169 -> 0
D106: 721 - Vnútorná kanalizácia | J106: =J181 -> 0
D107: 722 - Vnútorný vodovod | J107: =J216 -> 0
D108: 725 - Zariaďovacie predmety | J108: =J252 -> 0
D109: 767 - Konštrukcie doplnk. kovové stavebné | J109: =J283 -> 0
C116: ROZPOČET
C118: Stavba:
E119: =E7 -> Sociálno-zdravotné nízkokapacitné zariadenie s kapacitou 24 miest - CSS LÚČ
C120: Objekt:
E121: 01 - SO-01 Navrhovaný objekt stavby CSS Lúč - prístavba a prestavba
C122: Časť:
E123: =E11 -> b1 - E1.4a Zdravotechnická inštalácia - prestavba
C125: Miesto: | F125: =F14 -> Bytča | I125: Dátum: | J125: =IF(J14="","",J14) -> 22. 6. 2026
C127: Objednávateľ: | F127: =E17 -> Centrum sociálnych služieb LÚČ | I127: Projektant: | J127: =E23 -> expo AIR s.r.o.
C128: Zhotoviteľ: | F128: =IF(E20="","",E20) -> Vyplň údaj | I128: Spracovateľ: | J128: =E26 -> Roman Kostelník
C130: PČ | D130: Typ | E130: Kód | F130: Popis | G130: MJ | H130: Množstvo | I130: J.cena [EUR] | J130: Cena celkom [EUR] | K130: Cenová sústava | N130: DPH | O130: J. Nh [h] | P130: Nh celkom [h] | Q130: J. hmotnosť [t] | R130: Hmotnosť celkom [t] | S130: J. suť [t] | T130: Suť Celkom [t]
C131: Náklady z rozpočtu | J131: =BK131 -> 0 | P131: =P132+P168 -> 0 | R131: =R132+R168 -> 57.231222 | T131: =T132+T168 -> 3.3812 | AT131: D | AU131: -1 | BK131: =BK132+BK168 -> 0
D132: D | E132: D1 | F132: PRÁCE A DODÁVKY HSV | J132: =BK132 -> 0 | P132: =P133+P151+P153+P160 -> 0 | R132: =R133+R151+R153+R160 -> 44.995432 | T132: =T133+T151+T153+T160 -> 0.646 | AR132: 1 | AT132: D | AU132: 0 | AY132: ROZPOCET | BK132: =BK133+BK151+BK153+BK160 -> 0
D133: D | E133: 1 | F133: Zemné práce | J133: =BK133 -> 0 | P133: =SUM(P134:P150) -> 0 | R133: =SUM(R134:R150) -> 0 | T133: =SUM(T134:T150) -> 0 | AR133: 1 | AT133: D | AU133: 1 | AY133: ROZPOCET | BK133: =SUM(BK134:BK150) -> 0
C134: 1 | D134: K | E134: 13220-1202 | F134: Hĺbenie rýh šírka do 2 m v horn. tr. 3 do 1000 m3 | G134: m3 | H134: 85 | J134: =ROUND(I134*H134,2) -> 0 | N134: znížená | P134: =O134*H134 -> 0 | Q134: 0 | R134: =Q134*H134 -> 0 | S134: 0 | T134: =S134*H134 -> 0 | AR134: 4 | AT134: K | AU134: 2 | AY134: ROZPOCET | BE134: =IF(N134="základná",J134,0) -> 0 | BF134: =IF(N134="znížená",J134,0) -> 0 | BG134: =IF(N134="zákl. prenesená",J134,0) -> 0 | BH134: =IF(N134="zníž. prenesená",J134,0) -> 0 | BI134: =IF(N134="nulová",J134,0) -> 0 | BJ134: 2 | BK134: =ROUND(I134*H134,2) -> 0 | BL134: 4 | BM134: 2
C135: 2 | D135: K | E135: 13220-1209 | F135: Príplatok za lepivosť horniny tr.3 | G135: m3 | H135: 85 | J135: =ROUND(I135*H135,2) -> 0 | N135: znížená | P135: =O135*H135 -> 0 | Q135: 0 | R135: =Q135*H135 -> 0 | S135: 0 | T135: =S135*H135 -> 0 | AR135: 4 | AT135: K | AU135: 2 | AY135: ROZPOCET | BE135: =IF(N135="základná",J135,0) -> 0 | BF135: =IF(N135="znížená",J135,0) -> 0 | BG135: =IF(N135="zákl. prenesená",J135,0) -> 0 | BH135: =IF(N135="zníž. prenesená",J135,0) -> 0 | BI135: =IF(N135="nulová",J135,0) -> 0 | BJ135: 2 | BK135: =ROUND(I135*H135,2) -> 0 | BL135: 4 | BM135: 4
C136: 3 | D136: K | E136: 13220-1210 | F136: Piesok pre obsyp | G136: m3 | H136: 8.5 | J136: =ROUND(I136*H136,2) -> 0 | N136: znížená | P136: =O136*H136 -> 0 | Q136: 0 | R136: =Q136*H136 -> 0 | S136: 0 | T136: =S136*H136 -> 0 | AR136: 4 | AT136: K | AU136: 2 | AY136: ROZPOCET | BE136: =IF(N136="základná",J136,0) -> 0 | BF136: =IF(N136="znížená",J136,0) -> 0 | BG136: =IF(N136="zákl. prenesená",J136,0) -> 0 | BH136: =IF(N136="zníž. prenesená",J136,0) -> 0 | BI136: =IF(N136="nulová",J136,0) -> 0 | BJ136: 2 | BK136: =ROUND(I136*H136,2) -> 0 | BL136: 4 | BM136: 6
C137: 4 | D137: K | E137: 16110-1101 | F137: Zvislé premiestnenie výkopu horn. tr. 1-4 do 2,5 m | G137: m3 | H137: 85 | J137: =ROUND(I137*H137,2) -> 0 | N137: znížená | P137: =O137*H137 -> 0 | Q137: 0 | R137: =Q137*H137 -> 0 | S137: 0 | T137: =S137*H137 -> 0 | AR137: 4 | AT137: K | AU137: 2 | AY137: ROZPOCET | BE137: =IF(N137="základná",J137,0) -> 0 | BF137: =IF(N137="znížená",J137,0) -> 0 | BG137: =IF(N137="zákl. prenesená",J137,0) -> 0 | BH137: =IF(N137="zníž. prenesená",J137,0) -> 0 | BI137: =IF(N137="nulová",J137,0) -> 0 | BJ137: 2 | BK137: =ROUND(I137*H137,2) -> 0 | BL137: 4 | BM137: 8
C138: 5 | D138: K | E138: 162501102.S | F138: Vodorovné premiestnenie výkopku po spevnenej ceste z horniny tr.1-4, do 100 m3 na vzdialenosť do 3000 m | G138: m3 | H138: 11 | J138: =ROUND(I138*H138,2) -> 0 | N138: znížená | P138: =O138*H138 -> 0 | Q138: 0 | R138: =Q138*H138 -> 0 | S138: 0 | T138: =S138*H138 -> 0 | AR138: 4 | AT138: K | AU138: 2 | AY138: ROZPOCET | BE138: =IF(N138="základná",J138,0) -> 0 | BF138: =IF(N138="znížená",J138,0) -> 0 | BG138: =IF(N138="zákl. prenesená",J138,0) -> 0 | BH138: =IF(N138="zníž. prenesená",J138,0) -> 0 | BI138: =IF(N138="nulová",J138,0) -> 0 | BJ138: 2 | BK138: =ROUND(I138*H138,2) -> 0 | BL138: 4 | BM138: 2012120464
D139: VV | F139: "výkopy" 85 | H139: 85 | AT139: VV | AU139: 2 | AV139: 2 | AW139: True | AX139: 0 | AY139: ROZPOCET
D140: VV | F140: " zásyp výkopkom" -(55+19) | H140: -74 | AT140: VV | AU140: 2 | AV140: 2 | AW140: True | AX140: 0 | AY140: ROZPOCET
D141: VV | F141: Súčet prebytok zeminy | H141: 11 | AT141: VV | AU141: 2 | AV141: 4 | AW141: True | AX141: 1 | AY141: ROZPOCET
C142: 6 | D142: K | E142: 162501105.S | F142: Vodorovné premiestnenie výkopku po spevnenej ceste z horniny tr.1-4, do 100 m3, príplatok k cene za každých ďalšich a začatých 1000 m | G142: m3 | H142: 77 | J142: =ROUND(I142*H142,2) -> 0 | N142: znížená | P142: =O142*H142 -> 0 | Q142: 0 | R142: =Q142*H142 -> 0 | S142: 0 | T142: =S142*H142 -> 0 | AR142: 4 | AT142: K | AU142: 2 | AY142: ROZPOCET | BE142: =IF(N142="základná",J142,0) -> 0 | BF142: =IF(N142="znížená",J142,0) -> 0 | BG142: =IF(N142="zákl. prenesená",J142,0) -> 0 | BH142: =IF(N142="zníž. prenesená",J142,0) -> 0 | BI142: =IF(N142="nulová",J142,0) -> 0 | BJ142: 2 | BK142: =ROUND(I142*H142,2) -> 0 | BL142: 4 | BM142: -679761363
D143: VV | F143: 11*7 | H143: 77 | AT143: VV | AU143: 2 | AV143: 2 | AW143: True | AX143: 1 | AY143: ROZPOCET
C144: 7 | D144: K | E144: 167101102.S | F144: Nakladanie neuľahnutého výkopku z hornín tr.1-4 nad 100 do 1000 m3 | G144: m3 | H144: 11 | J144: =ROUND(I144*H144,2) -> 0 | N144: znížená | P144: =O144*H144 -> 0 | Q144: 0 | R144: =Q144*H144 -> 0 | S144: 0 | T144: =S144*H144 -> 0 | AR144: 4 | AT144: K | AU144: 2 | AY144: ROZPOCET | BE144: =IF(N144="základná",J144,0) -> 0 | BF144: =IF(N144="znížená",J144,0) -> 0 | BG144: =IF(N144="zákl. prenesená",J144,0) -> 0 | BH144: =IF(N144="zníž. prenesená",J144,0) -> 0 | BI144: =IF(N144="nulová",J144,0) -> 0 | BJ144: 2 | BK144: =ROUND(I144*H144,2) -> 0 | BL144: 4 | BM144: -1133204387
C145: 8 | D145: K | E145: 171201201.S | F145: Uloženie sypaniny na skládky do 100 m3 | G145: m3 | H145: 11 | J145: =ROUND(I145*H145,2) -> 0 | N145: znížená | P145: =O145*H145 -> 0 | Q145: 0 | R145: =Q145*H145 -> 0 | S145: 0 | T145: =S145*H145 -> 0 | AR145: 4 | AT145: K | AU145: 2 | AY145: ROZPOCET | BE145: =IF(N145="základná",J145,0) -> 0 | BF145: =IF(N145="znížená",J145,0) -> 0 | BG145: =IF(N145="zákl. prenesená",J145,0) -> 0 | BH145: =IF(N145="zníž. prenesená",J145,0) -> 0 | BI145: =IF(N145="nulová",J145,0) -> 0 | BJ145: 2 | BK145: =ROUND(I145*H145,2) -> 0 | BL145: 4 | BM145: 1211765860
C146: 9 | D146: K | E146: 171209002.S | F146: Poplatok za skladovanie - zemina a kamenivo (17 05) ostatné | G146: t | H146: 19.8 | J146: =ROUND(I146*H146,2) -> 0 | N146: znížená | P146: =O146*H146 -> 0 | Q146: 0 | R146: =Q146*H146 -> 0 | S146: 0 | T146: =S146*H146 -> 0 | AR146: 4 | AT146: K | AU146: 2 | AY146: ROZPOCET | BE146: =IF(N146="základná",J146,0) -> 0 | BF146: =IF(N146="znížená",J146,0) -> 0 | BG146: =IF(N146="zákl. prenesená",J146,0) -> 0 | BH146: =IF(N146="zníž. prenesená",J146,0) -> 0 | BI146: =IF(N146="nulová",J146,0) -> 0 | BJ146: 2 | BK146: =ROUND(I146*H146,2) -> 0 | BL146: 4 | BM146: -1670029196
D147: VV | F147: "1m3 = 1,8T" 11*1,8 | H147: 19.8 | AT147: VV | AU147: 2 | AV147: 2 | AW147: True | AX147: 1 | AY147: ROZPOCET
C148: 10 | D148: K | E148: 17410-1101 | F148: Zásyp zhutnený jám, rýh, šachiet alebo okolo objektu | G148: m3 | H148: 55 | J148: =ROUND(I148*H148,2) -> 0 | N148: znížená | P148: =O148*H148 -> 0 | Q148: 0 | R148: =Q148*H148 -> 0 | S148: 0 | T148: =S148*H148 -> 0 | AR148: 4 | AT148: K | AU148: 2 | AY148: ROZPOCET | BE148: =IF(N148="základná",J148,0) -> 0 | BF148: =IF(N148="znížená",J148,0) -> 0 | BG148: =IF(N148="zákl. prenesená",J148,0) -> 0 | BH148: =IF(N148="zníž. prenesená",J148,0) -> 0 | BI148: =IF(N148="nulová",J148,0) -> 0 | BJ148: 2 | BK148: =ROUND(I148*H148,2) -> 0 | BL148: 4 | BM148: 10
C149: 11 | D149: K | E149: 17510-1101 | F149: Obsyp potrubia bez prehodenia sypaniny | G149: m3 | H149: 19 | J149: =ROUND(I149*H149,2) -> 0 | N149: znížená | P149: =O149*H149 -> 0 | Q149: 0 | R149: =Q149*H149 -> 0 | S149: 0 | T149: =S149*H149 -> 0 | AR149: 4 | AT149: K | AU149: 2 | AY149: ROZPOCET | BE149: =IF(N149="základná",J149,0) -> 0 | BF149: =IF(N149="znížená",J149,0) -> 0 | BG149: =IF(N149="zákl. prenesená",J149,0) -> 0 | BH149: =IF(N149="zníž. prenesená",J149,0) -> 0 | BI149: =IF(N149="nulová",J149,0) -> 0 | BJ149: 2 | BK149: =ROUND(I149*H149,2) -> 0 | BL149: 4 | BM149: 12
C150: 12 | D150: K | E150: 17510-1109 | F150: Obsyp potrubia príplatok za prehodenie sypaniny | G150: m3 | H150: 19 | J150: =ROUND(I150*H150,2) -> 0 | N150: znížená | P150: =O150*H150 -> 0 | Q150: 0 | R150: =Q150*H150 -> 0 | S150: 0 | T150: =S150*H150 -> 0 | AR150: 4 | AT150: K | AU150: 2 | AY150: ROZPOCET | BE150: =IF(N150="základná",J150,0) -> 0 | BF150: =IF(N150="znížená",J150,0) -> 0 | BG150: =IF(N150="zákl. prenesená",J150,0) -> 0 | BH150: =IF(N150="zníž. prenesená",J150,0) -> 0 | BI150: =IF(N150="nulová",J150,0) -> 0 | BJ150: 2 | BK150: =ROUND(I150*H150,2) -> 0 | BL150: 4 | BM150: 14
D151: D | E151: 6 | F151: ÚPRAVY POVRCHOV, PODLAHY, VÝPLNE | J151: =BK151 -> 0 | P151: =P152 -> 0 | R151: =R152 -> 0.546312 | T151: =T152 -> 0 | AR151: 1 | AT151: D | AU151: 1 | AY151: ROZPOCET | BK151: =BK152 -> 0
C152: 13 | D152: K | E152: 61240-3399 | F152: Zaplnenie rýh v stenách maltou | G152: m2 | H152: 5.1 | J152: =ROUND(I152*H152,2) -> 0 | N152: znížená | P152: =O152*H152 -> 0 | Q152: 0.10712 | R152: =Q152*H152 -> 0.546312 | S152: 0 | T152: =S152*H152 -> 0 | AR152: 4 | AT152: K | AU152: 2 | AY152: ROZPOCET | BE152: =IF(N152="základná",J152,0) -> 0 | BF152: =IF(N152="znížená",J152,0) -> 0 | BG152: =IF(N152="zákl. prenesená",J152,0) -> 0 | BH152: =IF(N152="zníž. prenesená",J152,0) -> 0 | BI152: =IF(N152="nulová",J152,0) -> 0 | BJ152: 2 | BK152: =ROUND(I152*H152,2) -> 0 | BL152: 4 | BM152: 16
D153: D | E153: 8 | F153: RÚROVÉ VEDENIA | J153: =BK153 -> 0 | P153: =SUM(P154:P159) -> 0 | R153: =SUM(R154:R159) -> 43.80312 | T153: =SUM(T154:T159) -> 0 | AR153: 1 | AT153: D | AU153: 1 | AY153: ROZPOCET | BK153: =SUM(BK154:BK159) -> 0
C154: 14 | D154: K | E154: 89422-1326 | F154: Odlučovač tukov prietok 2l/s , objem kalový priestor 200l, tukový priestor 830l | G154: kus | H154: 1 | J154: =ROUND(I154*H154,2) -> 0 | N154: znížená | P154: =O154*H154 -> 0 | Q154: 21.86516 | R154: =Q154*H154 -> 21.86516 | S154: 0 | T154: =S154*H154 -> 0 | AR154: 4 | AT154: K | AU154: 2 | AY154: ROZPOCET | BE154: =IF(N154="základná",J154,0) -> 0 | BF154: =IF(N154="znížená",J154,0) -> 0 | BG154: =IF(N154="zákl. prenesená",J154,0) -> 0 | BH154: =IF(N154="zníž. prenesená",J154,0) -> 0 | BI154: =IF(N154="nulová",J154,0) -> 0 | BJ154: 2 | BK154: =ROUND(I154*H154,2) -> 0 | BL154: 4 | BM154: 18
C155: 15 | D155: K | E155: 89422-1327 | F155: Montáž odlučovača | G155: kus | H155: 1 | J155: =ROUND(I155*H155,2) -> 0 | N155: znížená | P155: =O155*H155 -> 0 | Q155: 21.86516 | R155: =Q155*H155 -> 21.86516 | S155: 0 | T155: =S155*H155 -> 0 | AR155: 4 | AT155: K | AU155: 2 | AY155: ROZPOCET | BE155: =IF(N155="základná",J155,0) -> 0 | BF155: =IF(N155="znížená",J155,0) -> 0 | BG155: =IF(N155="zákl. prenesená",J155,0) -> 0 | BH155: =IF(N155="zníž. prenesená",J155,0) -> 0 | BI155: =IF(N155="nulová",J155,0) -> 0 | BJ155: 2 | BK155: =ROUND(I155*H155,2) -> 0 | BL155: 4 | BM155: 20
C156: 16 | D156: K | E156: 89950-2412 | F156: Prečerp. zariadenie splaškové rezacie 300 l/min, H=30m | G156: kus | H156: 1 | J156: =ROUND(I156*H156,2) -> 0 | N156: znížená | P156: =O156*H156 -> 0 | Q156: 0.0182 | R156: =Q156*H156 -> 0.0182 | S156: 0 | T156: =S156*H156 -> 0 | AR156: 4 | AT156: K | AU156: 2 | AY156: ROZPOCET | BE156: =IF(N156="základná",J156,0) -> 0 | BF156: =IF(N156="znížená",J156,0) -> 0 | BG156: =IF(N156="zákl. prenesená",J156,0) -> 0 | BH156: =IF(N156="zníž. prenesená",J156,0) -> 0 | BI156: =IF(N156="nulová",J156,0) -> 0 | BJ156: 2 | BK156: =ROUND(I156*H156,2) -> 0 | BL156: 4 | BM156: 22
C157: 17 | D157: K | E157: 89950-2413 | F157: Montáž prečerp. zariadenia | G157: kus | H157: 1 | J157: =ROUND(I157*H157,2) -> 0 | N157: znížená | P157: =O157*H157 -> 0 | Q157: 0.0182 | R157: =Q157*H157 -> 0.0182 | S157: 0 | T157: =S157*H157 -> 0 | AR157: 4 | AT157: K | AU157: 2 | AY157: ROZPOCET | BE157: =IF(N157="základná",J157,0) -> 0 | BF157: =IF(N157="znížená",J157,0) -> 0 | BG157: =IF(N157="zákl. prenesená",J157,0) -> 0 | BH157: =IF(N157="zníž. prenesená",J157,0) -> 0 | BI157: =IF(N157="nulová",J157,0) -> 0 | BJ157: 2 | BK157: =ROUND(I157*H157,2) -> 0 | BL157: 4 | BM157: 24
C158: 18 | D158: K | E158: 89950-24131 | F158: Čerpadlo na kondenz 240V, 75W | G158: kus | H158: 1 | J158: =ROUND(I158*H158,2) -> 0 | N158: znížená | P158: =O158*H158 -> 0 | Q158: 0.0182 | R158: =Q158*H158 -> 0.0182 | S158: 0 | T158: =S158*H158 -> 0 | AR158: 4 | AT158: K | AU158: 2 | AY158: ROZPOCET | BE158: =IF(N158="základná",J158,0) -> 0 | BF158: =IF(N158="znížená",J158,0) -> 0 | BG158: =IF(N158="zákl. prenesená",J158,0) -> 0 | BH158: =IF(N158="zníž. prenesená",J158,0) -> 0 | BI158: =IF(N158="nulová",J158,0) -> 0 | BJ158: 2 | BK158: =ROUND(I158*H158,2) -> 0 | BL158: 4 | BM158: 26
C159: 19 | D159: K | E159: 89950-24132 | F159: Montáž čerpadla | G159: kus | H159: 1 | J159: =ROUND(I159*H159,2) -> 0 | N159: znížená | P159: =O159*H159 -> 0 | Q159: 0.0182 | R159: =Q159*H159 -> 0.0182 | S159: 0 | T159: =S159*H159 -> 0 | AR159: 4 | AT159: K | AU159: 2 | AY159: ROZPOCET | BE159: =IF(N159="základná",J159,0) -> 0 | BF159: =IF(N159="znížená",J159,0) -> 0 | BG159: =IF(N159="zákl. prenesená",J159,0) -> 0 | BH159: =IF(N159="zníž. prenesená",J159,0) -> 0 | BI159: =IF(N159="nulová",J159,0) -> 0 | BJ159: 2 | BK159: =ROUND(I159*H159,2) -> 0 | BL159: 4 | BM159: 28
D160: D | E160: 9 | F160: OSTATNÉ KONŠTRUKCIE A PRÁCE | J160: =BK160 -> 0 | P160: =SUM(P161:P167) -> 0 | R160: =SUM(R161:R167) -> 0.646 | T160: =SUM(T161:T167) -> 0.646 | AR160: 1 | AT160: D | AU160: 1 | AY160: ROZPOCET | BK160: =SUM(BK161:BK167) -> 0
C161: 20 | D161: K | E161: 97403-1144 | F161: Vysekanie rýh v tehelnom murive hl. do 7 cm š. do 15 cm 0,01900t | G161: m | H161: 34 | J161: =ROUND(I161*H161,2) -> 0 | N161: znížená | P161: =O161*H161 -> 0 | Q161: 0.019 | R161: =Q161*H161 -> 0.646 | S161: 0.019 | T161: =S161*H161 -> 0.646 | AR161: 4 | AT161: K | AU161: 2 | AY161: ROZPOCET | BE161: =IF(N161="základná",J161,0) -> 0 | BF161: =IF(N161="znížená",J161,0) -> 0 | BG161: =IF(N161="zákl. prenesená",J161,0) -> 0 | BH161: =IF(N161="zníž. prenesená",J161,0) -> 0 | BI161: =IF(N161="nulová",J161,0) -> 0 | BJ161: 2 | BK161: =ROUND(I161*H161,2) -> 0 | BL161: 4 | BM161: 30
C162: 21 | D162: K | E162: 979081111.S | F162: Odvoz sutiny a vybúraných hmôt na skládku do 1 km | G162: t | H162: 3.381 | J162: =ROUND(I162*H162,2) -> 0 | N162: znížená | P162: =O162*H162 -> 0 | Q162: 0 | R162: =Q162*H162 -> 0 | S162: 0 | T162: =S162*H162 -> 0 | AR162: 4 | AT162: K | AU162: 2 | AY162: ROZPOCET | BE162: =IF(N162="základná",J162,0) -> 0 | BF162: =IF(N162="znížená",J162,0) -> 0 | BG162: =IF(N162="zákl. prenesená",J162,0) -> 0 | BH162: =IF(N162="zníž. prenesená",J162,0) -> 0 | BI162: =IF(N162="nulová",J162,0) -> 0 | BJ162: 2 | BK162: =ROUND(I162*H162,2) -> 0 | BL162: 4 | BM162: -1458456944
C163: 22 | D163: K | E163: 979081121.S | F163: Odvoz sutiny a vybúraných hmôt na skládku za každý ďalší 1 km | G163: t | H163: 27.048 | J163: =ROUND(I163*H163,2) -> 0 | N163: znížená | P163: =O163*H163 -> 0 | Q163: 0 | R163: =Q163*H163 -> 0 | S163: 0 | T163: =S163*H163 -> 0 | AR163: 4 | AT163: K | AU163: 2 | AY163: ROZPOCET | BE163: =IF(N163="základná",J163,0) -> 0 | BF163: =IF(N163="znížená",J163,0) -> 0 | BG163: =IF(N163="zákl. prenesená",J163,0) -> 0 | BH163: =IF(N163="zníž. prenesená",J163,0) -> 0 | BI163: =IF(N163="nulová",J163,0) -> 0 | BJ163: 2 | BK163: =ROUND(I163*H163,2) -> 0 | BL163: 4 | BM163: 1561696662
...

Sheet b2 - E1.4b  Zdravotechnic...
AT2: {6e8f6fac-b989-4770-b88b-e166fd62ce9b}
AT3: 0
D4: KRYCÍ LIST ROZPOČTU | M4: v --- nižšie sa nachádzajú doplnkové a pomocné údaje k zostavám --- v | AT4: False
D6: Stavba:
E7: ='Rekapitulácia stavby'!K6 -> Sociálno-zdravotné nízkokapacitné zariadenie s kapacitou 24 miest - CSS LÚČ
D8: Objekt:
E9: 01 - SO-01 Navrhovaný objekt stavby CSS Lúč - prístavba a prestavba
D10: Časť:
E11: b2 - E1.4b Zdravotechnická inštalácia - prístavba
D13: JKSO: | I13: ČS:
D14: Miesto: | F14: Bytča | I14: Dátum: | J14: ='Rekapitulácia stavby'!AN8 -> 22. 6. 2026
D16: Objednávateľ: | I16: IČO:
E17: Centrum sociálnych služieb LÚČ | I17: IČ DPH:
D19: Zhotoviteľ: | I19: IČO: | J19: ='Rekapitulácia stavby'!AN13 -> Vyplň údaj
E20: ='Rekapitulácia stavby'!E14 -> Vyplň údaj | I20: IČ DPH: | J20: ='Rekapitulácia stavby'!AN14 -> Vyplň údaj
D22: Projektant: | I22: IČO:
E23: expo AIR s.r.o. | I23: IČ DPH:
D25: Spracovateľ: | I25: IČO:
E26: Roman Kostelník | I26: IČ DPH:
D28: Poznámka:
E29: V prípade výskytu obchodných názvov výrobkov a technológií, tieto majú informatívny charakter a slúžia ako minimálny štandard. Sú uvedené ako referenčná kvalita a môžu byť nahradené ekvivalentným výrobkom, ktorý má rovnaké, alebo lepšie vlastnosti a parametre. Neoddeliteľnou súčasťou Výkazu výmer je Projektová dokumentácia stavby.
D32: Cena bez DPH | J32: =ROUND(J130, 2) -> 0
F34: Základ dane | I34: Sadzba dane | J34: Výška dane
D35: DPH | E35: základná | F35: =ROUND((SUM(BE130:BE223)), 2) -> 0 | I35: 0.23 | J35: =ROUND(((SUM(BE130:BE223))*I35), 2) -> 0
E36: znížená | F36: =ROUND((SUM(BF130:BF223)), 2) -> 0 | I36: 0.23 | J36: =ROUND(((SUM(BF130:BF223))*I36), 2) -> 0
E37: zákl. prenesená | F37: =ROUND((SUM(BG130:BG223)), 2) -> 0 | I37: 0.23 | J37: =0 -> 0
E38: zníž. prenesená | F38: =ROUND((SUM(BH130:BH223)), 2) -> 0 | I38: 0.23 | J38: =0 -> 0
E39: nulová | F39: =ROUND((SUM(BI130:BI223)), 2) -> 0 | I39: 0 | J39: =0 -> 0
D41: Cena s DPH | G41: v | H41: EUR | J41: =SUM(J32:J39) -> 0
D50: Projektant | G50: Spracovateľ
D61: Dátum a podpis: | F61: Pečiatka | G61: Dátum a podpis: | J61: Pečiatka
D65: Objednávateľ | G65: Zhotoviteľ
D76: Dátum a podpis: | F76: Pečiatka | G76: Dátum a podpis: | J76: Pečiatka
C82: REKAPITULÁCIA ROZPOČTU
C84: Stavba:
E85: =E7 -> Sociálno-zdravotné nízkokapacitné zariadenie s kapacitou 24 miest - CSS LÚČ
C86: Objekt:
E87: 01 - SO-01 Navrhovaný objekt stavby CSS Lúč - prístavba a prestavba
C88: Časť:
E89: =E11 -> b2 - E1.4b Zdravotechnická inštalácia - prístavba
C91: Miesto: | F91: =F14 -> Bytča | I91: Dátum: | J91: =IF(J14="","",J14) -> 22. 6. 2026
C93: Objednávateľ: | F93: =E17 -> Centrum sociálnych služieb LÚČ | I93: Projektant: | J93: =E23 -> expo AIR s.r.o.
C94: Zhotoviteľ: | F94: =IF(E20="","",E20) -> Vyplň údaj | I94: Spracovateľ: | J94: =E26 -> Roman Kostelník
C96: Kód dielu - Popis | J96: Cena celkom [EUR]
C98: Náklady z rozpočtu | J98: =J130 -> 0 | AU98: -1
D99: D1 - PRÁCE A DODÁVKY HSV | J99: =J131 -> 0
D100: 1 - Zemné práce | J100: =J132 -> 0
D101: 6 - ÚPRAVY POVRCHOV, PODLAHY, VÝPLNE | J101: =J150 -> 0
D102: 9 - OSTATNÉ KONŠTRUKCIE A PRÁCE | J102: =J152 -> 0
D103: D2 - PRÁCE A DODÁVKY PSV | J103: =J154 -> 0
D104: 713 - Izolácie tepelné | J104: =J155 -> 0
D105: 721 - Vnútorná kanalizácia | J105: =J163 -> 0
D106: 722 - Vnútorný vodovod | J106: =J185 -> 0
D107: 725 - Zariaďovacie predmety | J107: =J197 -> 0
D108: 767 - Konštrukcie doplnk. kovové stavebné | J108: =J221 -> 0
C115: ROZPOČET
C117: Stavba:
E118: =E7 -> Sociálno-zdravotné nízkokapacitné zariadenie s kapacitou 24 miest - CSS LÚČ
C119: Objekt:
E120: 01 - SO-01 Navrhovaný objekt stavby CSS Lúč - prístavba a prestavba
C121: Časť:
E122: =E11 -> b2 - E1.4b Zdravotechnická inštalácia - prístavba
C124: Miesto: | F124: =F14 -> Bytča | I124: Dátum: | J124: =IF(J14="","",J14) -> 22. 6. 2026
C126: Objednávateľ: | F126: =E17 -> Centrum sociálnych služieb LÚČ | I126: Projektant: | J126: =E23 -> expo AIR s.r.o.
C127: Zhotoviteľ: | F127: =IF(E20="","",E20) -> Vyplň údaj | I127: Spracovateľ: | J127: =E26 -> Roman Kostelník
C129: PČ | D129: Typ | E129: Kód | F129: Popis | G129: MJ | H129: Množstvo | I129: J.cena [EUR] | J129: Cena celkom [EUR] | K129: Cenová sústava | N129: DPH | O129: J. Nh [h] | P129: Nh celkom [h] | Q129: J. hmotnosť [t] | R129: Hmotnosť celkom [t] | S129: J. suť [t] | T129: Suť Celkom [t]
C130: Náklady z rozpočtu | J130: =BK130 -> 0 | P130: =P131+P154 -> 0 | R130: =R131+R154 -> 2.994614 | T130: =T131+T154 -> 0.209 | AT130: D | AU130: -1 | BK130: =BK131+BK154 -> 0
D131: D | E131: D1 | F131: PRÁCE A DODÁVKY HSV | J131: =BK131 -> 0 | P131: =P132+P150+P152 -> 0 | R131: =R132+R150+R152 -> 0.187604 | T131: =T132+T150+T152 -> 0.209 | AR131: 1 | AT131: D | AU131: 0 | AY131: ROZPOCET | BK131: =BK132+BK150+BK152 -> 0
D132: D | E132: 1 | F132: Zemné práce | J132: =BK132 -> 0 | P132: =SUM(P133:P149) -> 0 | R132: =SUM(R133:R149) -> 0 | T132: =SUM(T133:T149) -> 0 | AR132: 1 | AT132: D | AU132: 1 | AY132: ROZPOCET | BK132: =SUM(BK133:BK149) -> 0
C133: 1 | D133: K | E133: 13220-1202 | F133: Hĺbenie rýh šírka do 2 m v horn. tr. 3 do 1000 m3 | G133: m3 | H133: 22 | J133: =ROUND(I133*H133,2) -> 0 | N133: znížená | P133: =O133*H133 -> 0 | Q133: 0 | R133: =Q133*H133 -> 0 | S133: 0 | T133: =S133*H133 -> 0 | AR133: 4 | AT133: K | AU133: 2 | AY133: ROZPOCET | BE133: =IF(N133="základná",J133,0) -> 0 | BF133: =IF(N133="znížená",J133,0) -> 0 | BG133: =IF(N133="zákl. prenesená",J133,0) -> 0 | BH133: =IF(N133="zníž. prenesená",J133,0) -> 0 | BI133: =IF(N133="nulová",J133,0) -> 0 | BJ133: 2 | BK133: =ROUND(I133*H133,2) -> 0 | BL133: 4 | BM133: 2
C134: 2 | D134: K | E134: 13220-1209 | F134: Príplatok za lepivosť horniny tr.3 | G134: m3 | H134: 22 | J134: =ROUND(I134*H134,2) -> 0 | N134: znížená | P134: =O134*H134 -> 0 | Q134: 0 | R134: =Q134*H134 -> 0 | S134: 0 | T134: =S134*H134 -> 0 | AR134: 4 | AT134: K | AU134: 2 | AY134: ROZPOCET | BE134: =IF(N134="základná",J134,0) -> 0 | BF134: =IF(N134="znížená",J134,0) -> 0 | BG134: =IF(N134="zákl. prenesená",J134,0) -> 0 | BH134: =IF(N134="zníž. prenesená",J134,0) -> 0 | BI134: =IF(N134="nulová",J134,0) -> 0 | BJ134: 2 | BK134: =ROUND(I134*H134,2) -> 0 | BL134: 4 | BM134: 4
C135: 3 | D135: K | E135: 13220-1210 | F135: Piesok pre obsyp | G135: m3 | H135: 3.5 | J135: =ROUND(I135*H135,2) -> 0 | N135: znížená | P135: =O135*H135 -> 0 | Q135: 0 | R135: =Q135*H135 -> 0 | S135: 0 | T135: =S135*H135 -> 0 | AR135: 4 | AT135: K | AU135: 2 | AY135: ROZPOCET | BE135: =IF(N135="základná",J135,0) -> 0 | BF135: =IF(N135="znížená",J135,0) -> 0 | BG135: =IF(N135="zákl. prenesená",J135,0) -> 0 | BH135: =IF(N135="zníž. prenesená",J135,0) -> 0 | BI135: =IF(N135="nulová",J135,0) -> 0 | BJ135: 2 | BK135: =ROUND(I135*H135,2) -> 0 | BL135: 4 | BM135: 6
C136: 4 | D136: K | E136: 16110-1101 | F136: Zvislé premiestnenie výkopu horn. tr. 1-4 do 2,5 m | G136: m3 | H136: 22 | J136: =ROUND(I136*H136,2) -> 0 | N136: znížená | P136: =O136*H136 -> 0 | Q136: 0 | R136: =Q136*H136 -> 0 | S136: 0 | T136: =S136*H136 -> 0 | AR136: 4 | AT136: K | AU136: 2 | AY136: ROZPOCET | BE136: =IF(N136="základná",J136,0) -> 0 | BF136: =IF(N136="znížená",J136,0) -> 0 | BG136: =IF(N136="zákl. prenesená",J136,0) -> 0 | BH136: =IF(N136="zníž. prenesená",J136,0) -> 0 | BI136: =IF(N136="nulová",J136,0) -> 0 | BJ136: 2 | BK136: =ROUND(I136*H136,2) -> 0 | BL136: 4 | BM136: 8
C137: 5 | D137: K | E137: 162501102.S | F137: Vodorovné premiestnenie výkopku po spevnenej ceste z horniny tr.1-4, do 100 m3 na vzdialenosť do 3000 m | G137: m3 | H137: 4 | J137: =ROUND(I137*H137,2) -> 0 | N137: znížená | P137: =O137*H137 -> 0 | Q137: 0 | R137: =Q137*H137 -> 0 | S137: 0 | T137: =S137*H137 -> 0 | AR137: 4 | AT137: K | AU137: 2 | AY137: ROZPOCET | BE137: =IF(N137="základná",J137,0) -> 0 | BF137: =IF(N137="znížená",J137,0) -> 0 | BG137: =IF(N137="zákl. prenesená",J137,0) -> 0 | BH137: =IF(N137="zníž. prenesená",J137,0) -> 0 | BI137: =IF(N137="nulová",J137,0) -> 0 | BJ137: 2 | BK137: =ROUND(I137*H137,2) -> 0 | BL137: 4 | BM137: 851440144
D138: VV | F138: "výkopy" 22 | H138: 22 | AT138: VV | AU138: 2 | AV138: 2 | AW138: True | AX138: 0 | AY138: ROZPOCET
D139: VV | F139: " zásyp výkopkom" -(13+5) | H139: -18 | AT139: VV | AU139: 2 | AV139: 2 | AW139: True | AX139: 0 | AY139: ROZPOCET
D140: VV | F140: Súčet prebytok zeminy | H140: 4 | AT140: VV | AU140: 2 | AV140: 4 | AW140: True | AX140: 1 | AY140: ROZPOCET
C141: 6 | D141: K | E141: 162501105.S | F141: Vodorovné premiestnenie výkopku po spevnenej ceste z horniny tr.1-4, do 100 m3, príplatok k cene za každých ďalšich a začatých 1000 m | G141: m3 | H141: 28 | J141: =ROUND(I141*H141,2) -> 0 | N141: znížená | P141: =O141*H141 -> 0 | Q141: 0 | R141: =Q141*H141 -> 0 | S141: 0 | T141: =S141*H141 -> 0 | AR141: 4 | AT141: K | AU141: 2 | AY141: ROZPOCET | BE141: =IF(N141="základná",J141,0) -> 0 | BF141: =IF(N141="znížená",J141,0) -> 0 | BG141: =IF(N141="zákl. prenesená",J141,0) -> 0 | BH141: =IF(N141="zníž. prenesená",J141,0) -> 0 | BI141: =IF(N141="nulová",J141,0) -> 0 | BJ141: 2 | BK141: =ROUND(I141*H141,2) -> 0 | BL141: 4 | BM141: -612617821
D142: VV | F142: 4*7 | H142: 28 | AT142: VV | AU142: 2 | AV142: 2 | AW142: True | AX142: 1 | AY142: ROZPOCET
C143: 7 | D143: K | E143: 167101102.S | F143: Nakladanie neuľahnutého výkopku z hornín tr.1-4 nad 100 do 1000 m3 | G143: m3 | H143: 4 | J143: =ROUND(I143*H143,2) -> 0 | N143: znížená | P143: =O143*H143 -> 0 | Q143: 0 | R143: =Q143*H143 -> 0 | S143: 0 | T143: =S143*H143 -> 0 | AR143: 4 | AT143: K | AU143: 2 | AY143: ROZPOCET | BE143: =IF(N143="základná",J143,0) -> 0 | BF143: =IF(N143="znížená",J143,0) -> 0 | BG143: =IF(N143="zákl. prenesená",J143,0) -> 0 | BH143: =IF(N143="zníž. prenesená",J143,0) -> 0 | BI143: =IF(N143="nulová",J143,0) -> 0 | BJ143: 2 | BK143: =ROUND(I143*H143,2) -> 0 | BL143: 4 | BM143: 506459514
C144: 8 | D144: K | E144: 171201201.S | F144: Uloženie sypaniny na skládky do 100 m3 | G144: m3 | H144: 4 | J144: =ROUND(I144*H144,2) -> 0 | N144: znížená | P144: =O144*H144 -> 0 | Q144: 0 | R144: =Q144*H144 -> 0 | S144: 0 | T144: =S144*H144 -> 0 | AR144: 4 | AT144: K | AU144: 2 | AY144: ROZPOCET | BE144: =IF(N144="základná",J144,0) -> 0 | BF144: =IF(N144="znížená",J144,0) -> 0 | BG144: =IF(N144="zákl. prenesená",J144,0) -> 0 | BH144: =IF(N144="zníž. prenesená",J144,0) -> 0 | BI144: =IF(N144="nulová",J144,0) -> 0 | BJ144: 2 | BK144: =ROUND(I144*H144,2) -> 0 | BL144: 4 | BM144: -318452623
C145: 9 | D145: K | E145: 171209002.S | F145: Poplatok za skladovanie - zemina a kamenivo (17 05) ostatné | G145: t | H145: 7.2 | J145: =ROUND(I145*H145,2) -> 0 | N145: znížená | P145: =O145*H145 -> 0 | Q145: 0 | R145: =Q145*H145 -> 0 | S145: 0 | T145: =S145*H145 -> 0 | AR145: 4 | AT145: K | AU145: 2 | AY145: ROZPOCET | BE145: =IF(N145="základná",J145,0) -> 0 | BF145: =IF(N145="znížená",J145,0) -> 0 | BG145: =IF(N145="zákl. prenesená",J145,0) -> 0 | BH145: =IF(N145="zníž. prenesená",J145,0) -> 0 | BI145: =IF(N145="nulová",J145,0) -> 0 | BJ145: 2 | BK145: =ROUND(I145*H145,2) -> 0 | BL145: 4 | BM145: -88233836
D146: VV | F146: "1m3 = 1,8T" 4*1,8 | H146: 7.2 | AT146: VV | AU146: 2 | AV146: 2 | AW146: True | AX146: 1 | AY146: ROZPOCET
C147: 10 | D147: K | E147: 17410-1101 | F147: Zásyp zhutnený jám, rýh, šachiet alebo okolo objektu | G147: m3 | H147: 13 | J147: =ROUND(I147*H147,2) -> 0 | N147: znížená | P147: =O147*H147 -> 0 | Q147: 0 | R147: =Q147*H147 -> 0 | S147: 0 | T147: =S147*H147 -> 0 | AR147: 4 | AT147: K | AU147: 2 | AY147: ROZPOCET | BE147: =IF(N147="základná",J147,0) -> 0 | BF147: =IF(N147="znížená",J147,0) -> 0 | BG147: =IF(N147="zákl. prenesená",J147,0) -> 0 | BH147: =IF(N147="zníž. prenesená",J147,0) -> 0 | BI147: =IF(N147="nulová",J147,0) -> 0 | BJ147: 2 | BK147: =ROUND(I147*H147,2) -> 0 | BL147: 4 | BM147: 10
C148: 11 | D148: K | E148: 17510-1101 | F148: Obsyp potrubia bez prehodenia sypaniny | G148: m3 | H148: 5 | J148: =ROUND(I148*H148,2) -> 0 | N148: znížená | P148: =O148*H148 -> 0 | Q148: 0 | R148: =Q148*H148 -> 0 | S148: 0 | T148: =S148*H148 -> 0 | AR148: 4 | AT148: K | AU148: 2 | AY148: ROZPOCET | BE148: =IF(N148="základná",J148,0) -> 0 | BF148: =IF(N148="znížená",J148,0) -> 0 | BG148: =IF(N148="zákl. prenesená",J148,0) -> 0 | BH148: =IF(N148="zníž. prenesená",J148,0) -> 0 | BI148: =IF(N148="nulová",J148,0) -> 0 | BJ148: 2 | BK148: =ROUND(I148*H148,2) -> 0 | BL148: 4 | BM148: 12
C149: 12 | D149: K | E149: 17510-1109 | F149: Obsyp potrubia príplatok za prehodenie sypaniny | G149: m3 | H149: 5 | J149: =ROUND(I149*H149,2) -> 0 | N149: znížená | P149: =O149*H149 -> 0 | Q149: 0 | R149: =Q149*H149 -> 0 | S149: 0 | T149: =S149*H149 -> 0 | AR149: 4 | AT149: K | AU149: 2 | AY149: ROZPOCET | BE149: =IF(N149="základná",J149,0) -> 0 | BF149: =IF(N149="znížená",J149,0) -> 0 | BG149: =IF(N149="zákl. prenesená",J149,0) -> 0 | BH149: =IF(N149="zníž. prenesená",J149,0) -> 0 | BI149: =IF(N149="nulová",J149,0) -> 0 | BJ149: 2 | BK149: =ROUND(I149*H149,2) -> 0 | BL149: 4 | BM149: 14
D150: D | E150: 6 | F150: ÚPRAVY POVRCHOV, PODLAHY, VÝPLNE | J150: =BK150 -> 0 | P150: =P151 -> 0 | R150: =R151 -> 0.182104 | T150: =T151 -> 0 | AR150: 1 | AT150: D | AU150: 1 | AY150: ROZPOCET | BK150: =BK151 -> 0
C151: 13 | D151: K | E151: 61240-3399 | F151: Zaplnenie rýh v stenách maltou | G151: m2 | H151: 1.7 | J151: =ROUND(I151*H151,2) -> 0 | N151: znížená | P151: =O151*H151 -> 0 | Q151: 0.10712 | R151: =Q151*H151 -> 0.182104 | S151: 0 | T151: =S151*H151 -> 0 | AR151: 4 | AT151: K | AU151: 2 | AY151: ROZPOCET | BE151: =IF(N151="základná",J151,0) -> 0 | BF151: =IF(N151="znížená",J151,0) -> 0 | BG151: =IF(N151="zákl. prenesená",J151,0) -> 0 | BH151: =IF(N151="zníž. prenesená",J151,0) -> 0 | BI151: =IF(N151="nulová",J151,0) -> 0 | BJ151: 2 | BK151: =ROUND(I151*H151,2) -> 0 | BL151: 4 | BM151: 16
D152: D | E152: 9 | F152: OSTATNÉ KONŠTRUKCIE A PRÁCE | J152: =BK152 -> 0 | P152: =P153 -> 0 | R152: =R153 -> 0.0055 | T152: =T153 -> 0.209 | AR152: 1 | AT152: D | AU152: 1 | AY152: ROZPOCET | BK152: =BK153 -> 0
C153: 14 | D153: K | E153: 97403-1144 | F153: Vysekanie rýh v tehelnom murive hl. do 7 cm š. do 15 cm | G153: m | H153: 11 | J153: =ROUND(I153*H153,2) -> 0 | N153: znížená | P153: =O153*H153 -> 0 | Q153: 0.0005 | R153: =Q153*H153 -> 0.0055 | S153: 0.019 | T153: =S153*H153 -> 0.209 | AR153: 4 | AT153: K | AU153: 2 | AY153: ROZPOCET | BE153: =IF(N153="základná",J153,0) -> 0 | BF153: =IF(N153="znížená",J153,0) -> 0 | BG153: =IF(N153="zákl. prenesená",J153,0) -> 0 | BH153: =IF(N153="zníž. prenesená",J153,0) -> 0 | BI153: =IF(N153="nulová",J153,0) -> 0 | BJ153: 2 | BK153: =ROUND(I153*H153,2) -> 0 | BL153: 4 | BM153: 18
D154: D | E154: D2 | F154: PRÁCE A DODÁVKY PSV | J154: =BK154 -> 0 | P154: =P155+P163+P185+P197+P221 -> 0 | R154: =R155+R163+R185+R197+R221 -> 2.80701 | T154: =T155+T163+T185+T197+T221 -> 0 | AR154: 1 | AT154: D | AU154: 0 | AY154: ROZPOCET | BK154: =BK155+BK163+BK185+BK197+BK221 -> 0
D155: D | E155: 713 | F155: Izolácie tepelné | J155: =BK155 -> 0 | P155: =SUM(P156:P162) -> 0 | R155: =SUM(R156:R162) -> 0.18252 | T155: =SUM(T156:T162) -> 0 | AR155: 2 | AT155: D | AU155: 1 | AY155: ROZPOCET | BK155: =SUM(BK156:BK162) -> 0
C156: 15 | D156: K | E156: 71346-2142 | F156: Montáž tep.izolácie potrubia trubice | G156: m | H156: 214 | J156: =ROUND(I156*H156,2) -> 0 | N156: znížená | P156: =O156*H156 -> 0 | Q156: 0.00045 | R156: =Q156*H156 -> 0.0963 | S156: 0 | T156: =S156*H156 -> 0 | AR156: 16 | AT156: K | AU156: 2 | AY156: ROZPOCET | BE156: =IF(N156="základná",J156,0) -> 0 | BF156: =IF(N156="znížená",J156,0) -> 0 | BG156: =IF(N156="zákl. prenesená",J156,0) -> 0 | BH156: =IF(N156="zníž. prenesená",J156,0) -> 0 | BI156: =IF(N156="nulová",J156,0) -> 0 | BJ156: 2 | BK156: =ROUND(I156*H156,2) -> 0 | BL156: 16 | BM156: 20
C157: 16 | D157: M | E157: 71346-2144 | F157: Tepelná izolácia trubice hr. 22/10 | G157: m | H157: 60 | J157: =ROUND(I157*H157,2) -> 0 | N157: znížená | P157: =O157*H157 -> 0 | Q157: 0.00045 | R157: =Q157*H157 -> 0.027 | S157: 0 | T157: =S157*H157 -> 0 | AR157: 32 | AT157: M | AU157: 2 | AY157: ROZPOCET | BE157: =IF(N157="základná",J157,0) -> 0 | BF157: =IF(N157="znížená",J157,0) -> 0 | BG157: =IF(N157="zákl. prenesená",J157,0) -> 0 | BH157: =IF(N157="zníž. prenesená",J157,0) -> 0 | BI157: =IF(N157="nulová",J157,0) -> 0 | BJ157: 2 | BK157: =ROUND(I157*H157,2) -> 0 | BL157: 16 | BM157: -1036599090
C158: 17 | D158: M | E158: 71346-2145 | F158: Tepelná izolácia trubice hr. 28/10 | G158: m | H158: 18 | J158: =ROUND(I158*H158,2) -> 0 | N158: znížená | P158: =O158*H158 -> 0 | Q158: 0.00045 | R158: =Q158*H158 -> 0.0081 | S158: 0 | T158: =S158*H158 -> 0 | AR158: 32 | AT158: M | AU158: 2 | AY158: ROZPOCET | BE158: =IF(N158="základná",J158,0) -> 0 | BF158: =IF(N158="znížená",J158,0) -> 0 | BG158: =IF(N158="zákl. prenesená",J158,0) -> 0 | BH158: =IF(N158="zníž. prenesená",J158,0) -> 0 | BI158: =IF(N158="nulová",J158,0) -> 0 | BJ158: 2 | BK158: =ROUND(I158*H158,2) -> 0 | BL158: 16 | BM158: 119351252
C159: 18 | D159: M | E159: 71346-2146 | F159: Tepelná izolácia trubice hr. 35/10 | G159: m | H159: 15 | J159: =ROUND(I159*H159,2) -> 0 | N159: znížená | P159: =O159*H159 -> 0 | Q159: 0.00045 | R159: =Q159*H159 -> 0.00675 | S159: 0 | T159: =S159*H159 -> 0 | AR159: 32 | AT159: M | AU159: 2 | AY159: ROZPOCET | BE159: =IF(N159="základná",J159,0) -> 0 | BF159: =IF(N159="znížená",J159,0) -> 0 | BG159: =IF(N159="zákl. prenesená",J159,0) -> 0 | BH159: =IF(N159="zníž. prenesená",J159,0) -> 0 | BI159: =IF(N159="nulová",J159,0) -> 0 | BJ159: 2 | BK159: =ROUND(I159*H159,2) -> 0 | BL159: 16 | BM159: -723034388
C160: 19 | D160: M | E160: 71346-2149 | F160: Tepelná izolácia trubice hr. 22/20 | G160: m | H160: 76 | J160: =ROUND(I160*H160,2) -> 0 | N160: znížená | P160: =O160*H160 -> 0 | Q160: 0.00045 | R160: =Q160*H160 -> 0.0342 | S160: 0 | T160: =S160*H160 -> 0 | AR160: 32 | AT160: M | AU160: 2 | AY160: ROZPOCET | BE160: =IF(N160="základná",J160,0) -> 0 | BF160: =IF(N160="znížená",J160,0) -> 0 | BG160: =IF(N160="zákl. prenesená",J160,0) -> 0 | BH160: =IF(N160="zníž. prenesená",J160,0) -> 0 | BI160: =IF(N160="nulová",J160,0) -> 0 | BJ160: 2 | BK160: =ROUND(I160*H160,2) -> 0 | BL160: 16 | BM160: -2089650697
C161: 20 | D161: M | E161: 71346-2150 | F161: Tepelná izolácia trubice hr. 28/30 | G161: m | H161: 21 | J161: =ROUND(I161*H161,2) -> 0 | N161: znížená | P161: =O161*H161 -> 0 | Q161: 0.00045 | R161: =Q161*H161 -> 0.00945 | S161: 0 | T161: =S161*H161 -> 0 | AR161: 32 | AT161: M | AU161: 2 | AY161: ROZPOCET | BE161: =IF(N161="základná",J161,0) -> 0 | BF161: =IF(N161="znížená",J161,0) -> 0 | BG161: =IF(N161="zákl. prenesená",J161,0) -> 0 | BH161: =IF(N161="zníž. prenesená",J161,0) -> 0 | BI161: =IF(N161="nulová",J161,0) -> 0 | BJ161: 2 | BK161: =ROUND(I161*H161,2) -> 0 | BL161: 16 | BM161: -162526520
C162: 21 | D162: M | E162: 71346-21501 | F162: Tepelná izolácia trubice hr. 35/30 | G162: m | H162: 24 | J162: =ROUND(I162*H162,2) -> 0 | N162: znížená | P162: =O162*H162 -> 0 | Q162: 3e-05 | R162: =Q162*H162 -> 0.00072 | S162: 0 | T162: =S162*H162 -> 0 | AR162: 32 | AT162: M | AU162: 2 | AY162: ROZPOCET | BE162: =IF(N162="základná",J162,0) -> 0 | BF162: =IF(N162="znížená",J162,0) -> 0 | BG162: =IF(N162="zákl. prenesená",J162,0) -> 0 | BH162: =IF(N162="zníž. prenesená",J162,0) -> 0 | BI162: =IF(N162="nulová",J162,0) -> 0 | BJ162: 2 | BK162: =ROUND(I162*H162,2) -> 0 | BL162: 16 | BM162: -2144406585
D163: D | E163: 721 | F163: Vnútorná kanalizácia | J163: =BK163 -> 0 | P163: =SUM(P164:P184) -> 0 | R163: =SUM(R164:R184) -> 1.21896 | T163: =SUM(T164:T184) -> 0 | AR163: 2 | AT163: D | AU163: 1 | AY163: ROZPOCET | BK163: =SUM(BK164:BK184) -> 0
...

Sheet b3 - E1.4c  Vnútorný plyn...
AT2: {2bf29ede-7249-4f16-992f-2fab55664669}
AT3: 0
D4: KRYCÍ LIST ROZPOČTU | M4: v --- nižšie sa nachádzajú doplnkové a pomocné údaje k zostavám --- v | AT4: False
D6: Stavba:
E7: ='Rekapitulácia stavby'!K6 -> Sociálno-zdravotné nízkokapacitné zariadenie s kapacitou 24 miest - CSS LÚČ
D8: Objekt:
E9: 01 - SO-01 Navrhovaný objekt stavby CSS Lúč - prístavba a prestavba
D10: Časť:
E11: b3 - E1.4c Vnútorný plynovod - prestavba
D13: JKSO: | I13: ČS:
D14: Miesto: | F14: Bytča | I14: Dátum: | J14: ='Rekapitulácia stavby'!AN8 -> 22. 6. 2026
D16: Objednávateľ: | I16: IČO:
E17: Centrum sociálnych služieb LÚČ | I17: IČ DPH:
D19: Zhotoviteľ: | I19: IČO: | J19: ='Rekapitulácia stavby'!AN13 -> Vyplň údaj
E20: ='Rekapitulácia stavby'!E14 -> Vyplň údaj | I20: IČ DPH: | J20: ='Rekapitulácia stavby'!AN14 -> Vyplň údaj
D22: Projektant: | I22: IČO:
E23: expo AIR s.r.o. | I23: IČ DPH:
D25: Spracovateľ: | I25: IČO:
E26: Ing. Vladimír Štrifler | I26: IČ DPH:
D28: Poznámka:
E29: V prípade výskytu obchodných názvov výrobkov a technológií, tieto majú informatívny charakter a slúžia ako minimálny štandard. Sú uvedené ako referenčná kvalita a môžu byť nahradené ekvivalentným výrobkom, ktorý má rovnaké, alebo lepšie vlastnosti a parametre. Neoddeliteľnou súčasťou Výkazu výmer je Projektová dokumentácia stavby.
D32: Cena bez DPH | J32: =ROUND(J131, 2) -> 0
F34: Základ dane | I34: Sadzba dane | J34: Výška dane
D35: DPH | E35: základná | F35: =ROUND((SUM(BE131:BE187)), 2) -> 0 | I35: 0.23 | J35: =ROUND(((SUM(BE131:BE187))*I35), 2) -> 0
E36: znížená | F36: =ROUND((SUM(BF131:BF187)), 2) -> 0 | I36: 0.23 | J36: =ROUND(((SUM(BF131:BF187))*I36), 2) -> 0
E37: zákl. prenesená | F37: =ROUND((SUM(BG131:BG187)), 2) -> 0 | I37: 0.23 | J37: =0 -> 0
E38: zníž. prenesená | F38: =ROUND((SUM(BH131:BH187)), 2) -> 0 | I38: 0.23 | J38: =0 -> 0
E39: nulová | F39: =ROUND((SUM(BI131:BI187)), 2) -> 0 | I39: 0 | J39: =0 -> 0
D41: Cena s DPH | G41: v | H41: EUR | J41: =SUM(J32:J39) -> 0
D50: Projektant | G50: Spracovateľ
D61: Dátum a podpis: | F61: Pečiatka | G61: Dátum a podpis: | J61: Pečiatka
D65: Objednávateľ | G65: Zhotoviteľ
D76: Dátum a podpis: | F76: Pečiatka | G76: Dátum a podpis: | J76: Pečiatka
C82: REKAPITULÁCIA ROZPOČTU
C84: Stavba:
E85: =E7 -> Sociálno-zdravotné nízkokapacitné zariadenie s kapacitou 24 miest - CSS LÚČ
C86: Objekt:
E87: 01 - SO-01 Navrhovaný objekt stavby CSS Lúč - prístavba a prestavba
C88: Časť:
E89: =E11 -> b3 - E1.4c Vnútorný plynovod - prestavba
C91: Miesto: | F91: =F14 -> Bytča | I91: Dátum: | J91: =IF(J14="","",J14) -> 22. 6. 2026
C93: Objednávateľ: | F93: =E17 -> Centrum sociálnych služieb LÚČ | I93: Projektant: | J93: =E23 -> expo AIR s.r.o.
C94: Zhotoviteľ: | F94: =IF(E20="","",E20) -> Vyplň údaj | I94: Spracovateľ: | J94: =E26 -> Ing. Vladimír Štrifler
C96: Kód dielu - Popis | J96: Cena celkom [EUR]
C98: Náklady z rozpočtu | J98: =J131 -> 0 | AU98: -1
D99: HSV - Práce a dodávky HSV | J99: =J132 -> 0
D100: 8 - Rúrové vedenie | J100: =J133 -> 0
D101: PSV - Práce a dodávky PSV | J101: =J137 -> 0
D102: 723 - Zdravotechnika - vnútorný plynovod | J102: =J138 -> 0
D103: 725 - Zdravotechnika - zariaďovacie predmety | J103: =J167 -> 0
D104: 734 - Ústredné kúrenie - armatúry | J104: =J170 -> 0
D105: 783 - Nátery | J105: =J176 -> 0
D106: M - Práce a dodávky M | J106: =J178 -> 0
D107: 23-M - Montáže potrubia | J107: =J179 -> 0
D108: 95-M - Revízie | J108: =J183 -> 0
D109: HZS - Hodinové zúčtovacie sadzby | J109: =J186 -> 0
C116: ROZPOČET
C118: Stavba:
E119: =E7 -> Sociálno-zdravotné nízkokapacitné zariadenie s kapacitou 24 miest - CSS LÚČ
C120: Objekt:
E121: 01 - SO-01 Navrhovaný objekt stavby CSS Lúč - prístavba a prestavba
C122: Časť:
E123: =E11 -> b3 - E1.4c Vnútorný plynovod - prestavba
C125: Miesto: | F125: =F14 -> Bytča | I125: Dátum: | J125: =IF(J14="","",J14) -> 22. 6. 2026
C127: Objednávateľ: | F127: =E17 -> Centrum sociálnych služieb LÚČ | I127: Projektant: | J127: =E23 -> expo AIR s.r.o.
C128: Zhotoviteľ: | F128: =IF(E20="","",E20) -> Vyplň údaj | I128: Spracovateľ: | J128: =E26 -> Ing. Vladimír Štrifler
C130: PČ | D130: Typ | E130: Kód | F130: Popis | G130: MJ | H130: Množstvo | I130: J.cena [EUR] | J130: Cena celkom [EUR] | K130: Cenová sústava | N130: DPH | O130: J. Nh [h] | P130: Nh celkom [h] | Q130: J. hmotnosť [t] | R130: Hmotnosť celkom [t] | S130: J. suť [t] | T130: Suť Celkom [t]
C131: Náklady z rozpočtu | J131: =BK131 -> 0 | P131: =P132+P137+P178+P186 -> 0 | R131: =R132+R137+R178+R186 -> 0.56199373 | T131: =T132+T137+T178+T186 -> 0 | AT131: D | AU131: -1 | BK131: =BK132+BK137+BK178+BK186 -> 0
D132: D | E132: HSV | F132: Práce a dodávky HSV | J132: =BK132 -> 0 | P132: =P133 -> 0 | R132: =R133 -> 0.00581 | T132: =T133 -> 0 | AR132: 1 | AT132: D | AU132: 0 | AY132: ROZPOCET | BK132: =BK133 -> 0
D133: D | E133: 8 | F133: Rúrové vedenie | J133: =BK133 -> 0 | P133: =SUM(P134:P136) -> 0 | R133: =SUM(R134:R136) -> 0.00581 | T133: =SUM(T134:T136) -> 0 | AR133: 1 | AT133: D | AU133: 1 | AY133: ROZPOCET | BK133: =SUM(BK134:BK136) -> 0
C134: 1 | D134: K | E134: 899721121.S | F134: Signalizačný vodič na potrubí PVC DN do 150 | G134: m | H134: 30 | J134: =ROUND(I134*H134,2) -> 0 | N134: znížená | P134: =O134*H134 -> 0 | Q134: 8.7e-05 | R134: =Q134*H134 -> 0.00261 | S134: 0 | T134: =S134*H134 -> 0 | AR134: 4 | AT134: K | AU134: 2 | AY134: ROZPOCET | BE134: =IF(N134="základná",J134,0) -> 0 | BF134: =IF(N134="znížená",J134,0) -> 0 | BG134: =IF(N134="zákl. prenesená",J134,0) -> 0 | BH134: =IF(N134="zníž. prenesená",J134,0) -> 0 | BI134: =IF(N134="nulová",J134,0) -> 0 | BJ134: 2 | BK134: =ROUND(I134*H134,2) -> 0 | BL134: 4 | BM134: 1350434163
C135: 2 | D135: M | E135: 345810006700.S | F135: Koncovka káblová pre vyvedeni signalizačného vodiča (autozásuvka) | G135: ks | H135: 1 | J135: =ROUND(I135*H135,2) -> 0 | N135: znížená | P135: =O135*H135 -> 0 | Q135: 0.0002 | R135: =Q135*H135 -> 0.0002 | S135: 0 | T135: =S135*H135 -> 0 | AR135: 128 | AT135: M | AU135: 2 | AY135: ROZPOCET | BE135: =IF(N135="základná",J135,0) -> 0 | BF135: =IF(N135="znížená",J135,0) -> 0 | BG135: =IF(N135="zákl. prenesená",J135,0) -> 0 | BH135: =IF(N135="zníž. prenesená",J135,0) -> 0 | BI135: =IF(N135="nulová",J135,0) -> 0 | BJ135: 2 | BK135: =ROUND(I135*H135,2) -> 0 | BL135: 128 | BM135: -1310028332
C136: 3 | D136: K | E136: 899721133.S | F136: Označenie plynovodného potrubia žltou výstražnou fóliou | G136: m | H136: 30 | J136: =ROUND(I136*H136,2) -> 0 | N136: znížená | P136: =O136*H136 -> 0 | Q136: 0.0001 | R136: =Q136*H136 -> 0.003 | S136: 0 | T136: =S136*H136 -> 0 | AR136: 4 | AT136: K | AU136: 2 | AY136: ROZPOCET | BE136: =IF(N136="základná",J136,0) -> 0 | BF136: =IF(N136="znížená",J136,0) -> 0 | BG136: =IF(N136="zákl. prenesená",J136,0) -> 0 | BH136: =IF(N136="zníž. prenesená",J136,0) -> 0 | BI136: =IF(N136="nulová",J136,0) -> 0 | BJ136: 2 | BK136: =ROUND(I136*H136,2) -> 0 | BL136: 4 | BM136: -1440061040
D137: D | E137: PSV | F137: Práce a dodávky PSV | J137: =BK137 -> 0 | P137: =P138+P167+P170+P176 -> 0 | R137: =R138+R167+R170+R176 -> 0.55618373 | T137: =T138+T167+T170+T176 -> 0 | AR137: 2 | AT137: D | AU137: 0 | AY137: ROZPOCET | BK137: =BK138+BK167+BK170+BK176 -> 0
D138: D | E138: 723 | F138: Zdravotechnika - vnútorný plynovod | J138: =BK138 -> 0 | P138: =SUM(P139:P166) -> 0 | R138: =SUM(R139:R166) -> 0.54811663 | T138: =SUM(T139:T166) -> 0 | AR138: 2 | AT138: D | AU138: 1 | AY138: ROZPOCET | BK138: =SUM(BK139:BK166) -> 0
C139: 4 | D139: K | E139: 723120202.S | F139: Potrubie z oceľových rúrok závitových čiernych spájaných zvarovaním - akosť 11 353.0 DN 15 | G139: m | H139: 2 | J139: =ROUND(I139*H139,2) -> 0 | N139: znížená | P139: =O139*H139 -> 0 | Q139: 0.00147508 | R139: =Q139*H139 -> 0.00295016 | S139: 0 | T139: =S139*H139 -> 0 | AR139: 16 | AT139: K | AU139: 2 | AY139: ROZPOCET | BE139: =IF(N139="základná",J139,0) -> 0 | BF139: =IF(N139="znížená",J139,0) -> 0 | BG139: =IF(N139="zákl. prenesená",J139,0) -> 0 | BH139: =IF(N139="zníž. prenesená",J139,0) -> 0 | BI139: =IF(N139="nulová",J139,0) -> 0 | BJ139: 2 | BK139: =ROUND(I139*H139,2) -> 0 | BL139: 16 | BM139: 1607373549
C140: 5 | D140: K | E140: 723120203.S | F140: Potrubie z oceľových rúrok závitových čiernych spájaných zvarovaním - akosť 11 353.0 DN 20 | G140: m | H140: 2 | J140: =ROUND(I140*H140,2) -> 0 | N140: znížená | P140: =O140*H140 -> 0 | Q140: 0.0018545 | R140: =Q140*H140 -> 0.003709 | S140: 0 | T140: =S140*H140 -> 0 | AR140: 16 | AT140: K | AU140: 2 | AY140: ROZPOCET | BE140: =IF(N140="základná",J140,0) -> 0 | BF140: =IF(N140="znížená",J140,0) -> 0 | BG140: =IF(N140="zákl. prenesená",J140,0) -> 0 | BH140: =IF(N140="zníž. prenesená",J140,0) -> 0 | BI140: =IF(N140="nulová",J140,0) -> 0 | BJ140: 2 | BK140: =ROUND(I140*H140,2) -> 0 | BL140: 16 | BM140: 741539404
C141: 6 | D141: K | E141: 723120204.S | F141: Potrubie z oceľových rúrok závitových čiernych spájaných zvarovaním - akosť 11 353.0 DN 25 | G141: m | H141: 28 | J141: =ROUND(I141*H141,2) -> 0 | N141: znížená | P141: =O141*H141 -> 0 | Q141: 0.00274091 | R141: =Q141*H141 -> 0.07674548 | S141: 0 | T141: =S141*H141 -> 0 | AR141: 16 | AT141: K | AU141: 2 | AY141: ROZPOCET | BE141: =IF(N141="základná",J141,0) -> 0 | BF141: =IF(N141="znížená",J141,0) -> 0 | BG141: =IF(N141="zákl. prenesená",J141,0) -> 0 | BH141: =IF(N141="zníž. prenesená",J141,0) -> 0 | BI141: =IF(N141="nulová",J141,0) -> 0 | BJ141: 2 | BK141: =ROUND(I141*H141,2) -> 0 | BL141: 16 | BM141: -1179109199
C142: 7 | D142: K | E142: 723120206.S | F142: Potrubie z oceľových rúrok závitových čiernych spájaných zvarovaním - akosť 11 353.0 DN 40 | G142: m | H142: 8 | J142: =ROUND(I142*H142,2) -> 0 | N142: znížená | P142: =O142*H142 -> 0 | Q142: 0.00408836 | R142: =Q142*H142 -> 0.03270688 | S142: 0 | T142: =S142*H142 -> 0 | AR142: 16 | AT142: K | AU142: 2 | AY142: ROZPOCET | BE142: =IF(N142="základná",J142,0) -> 0 | BF142: =IF(N142="znížená",J142,0) -> 0 | BG142: =IF(N142="zákl. prenesená",J142,0) -> 0 | BH142: =IF(N142="zníž. prenesená",J142,0) -> 0 | BI142: =IF(N142="nulová",J142,0) -> 0 | BJ142: 2 | BK142: =ROUND(I142*H142,2) -> 0 | BL142: 16 | BM142: -1189345713
C143: 8 | D143: K | E143: 723150312.S | F143: Potrubie z oceľových rúrok hladkých čiernych spájaných zvarov. akosť 11 353.0 Dxt 57x2, 9 mm | G143: m | H143: 12 | J143: =ROUND(I143*H143,2) -> 0 | N143: znížená | P143: =O143*H143 -> 0 | Q143: 0.00479572 | R143: =Q143*H143 -> 0.05754864 | S143: 0 | T143: =S143*H143 -> 0 | AR143: 16 | AT143: K | AU143: 2 | AY143: ROZPOCET | BE143: =IF(N143="základná",J143,0) -> 0 | BF143: =IF(N143="znížená",J143,0) -> 0 | BG143: =IF(N143="zákl. prenesená",J143,0) -> 0 | BH143: =IF(N143="zníž. prenesená",J143,0) -> 0 | BI143: =IF(N143="nulová",J143,0) -> 0 | BJ143: 2 | BK143: =ROUND(I143*H143,2) -> 0 | BL143: 16 | BM143: -1381644095
C144: 9 | D144: K | E144: 723130255.S | F144: Montáž potrubia plynovodného PE | G144: m | H144: 30 | J144: =ROUND(I144*H144,2) -> 0 | N144: znížená | P144: =O144*H144 -> 0 | Q144: 0.00790875 | R144: =Q144*H144 -> 0.2372625 | S144: 0 | T144: =S144*H144 -> 0 | AR144: 16 | AT144: K | AU144: 2 | AY144: ROZPOCET | BE144: =IF(N144="základná",J144,0) -> 0 | BF144: =IF(N144="znížená",J144,0) -> 0 | BG144: =IF(N144="zákl. prenesená",J144,0) -> 0 | BH144: =IF(N144="zníž. prenesená",J144,0) -> 0 | BI144: =IF(N144="nulová",J144,0) -> 0 | BJ144: 2 | BK144: =ROUND(I144*H144,2) -> 0 | BL144: 16 | BM144: 101210341
C145: 10 | D145: M | E145: 286130007100.S | F145: Rúra jednovrstvová pre zemný plyn SDR11, 63x5,8x100 m, materiál: PE 100 RC | G145: m | H145: 30 | J145: =ROUND(I145*H145,2) -> 0 | N145: znížená | P145: =O145*H145 -> 0 | Q145: 0.00106 | R145: =Q145*H145 -> 0.0318 | S145: 0 | T145: =S145*H145 -> 0 | AR145: 32 | AT145: M | AU145: 2 | AY145: ROZPOCET | BE145: =IF(N145="základná",J145,0) -> 0 | BF145: =IF(N145="znížená",J145,0) -> 0 | BG145: =IF(N145="zákl. prenesená",J145,0) -> 0 | BH145: =IF(N145="zníž. prenesená",J145,0) -> 0 | BI145: =IF(N145="nulová",J145,0) -> 0 | BJ145: 2 | BK145: =ROUND(I145*H145,2) -> 0 | BL145: 16 | BM145: -266078499
C146: 11 | D146: K | E146: 723150317.S | F146: Potrubie z oceľových rúrok hladkých čiernych spájaných zvarov. akosť 11 353.0 Dxt 168/4,0 mm | G146: m | H146: 2 | J146: =ROUND(I146*H146,2) -> 0 | N146: znížená | P146: =O146*H146 -> 0 | Q146: 0.02002523 | R146: =Q146*H146 -> 0.04005046 | S146: 0 | T146: =S146*H146 -> 0 | AR146: 16 | AT146: K | AU146: 2 | AY146: ROZPOCET | BE146: =IF(N146="základná",J146,0) -> 0 | BF146: =IF(N146="znížená",J146,0) -> 0 | BG146: =IF(N146="zákl. prenesená",J146,0) -> 0 | BH146: =IF(N146="zníž. prenesená",J146,0) -> 0 | BI146: =IF(N146="nulová",J146,0) -> 0 | BJ146: 2 | BK146: =ROUND(I146*H146,2) -> 0 | BL146: 16 | BM146: 197306860
C147: 12 | D147: K | E147: 723150365.S | F147: Potrubie z oceľových rúrok hladkých čiernych, chránička Dxt 38x2,6 mm | G147: m | H147: 1 | J147: =ROUND(I147*H147,2) -> 0 | N147: znížená | P147: =O147*H147 -> 0 | Q147: 0.00256504 | R147: =Q147*H147 -> 0.00256504 | S147: 0 | T147: =S147*H147 -> 0 | AR147: 16 | AT147: K | AU147: 2 | AY147: ROZPOCET | BE147: =IF(N147="základná",J147,0) -> 0 | BF147: =IF(N147="znížená",J147,0) -> 0 | BG147: =IF(N147="zákl. prenesená",J147,0) -> 0 | BH147: =IF(N147="zníž. prenesená",J147,0) -> 0 | BI147: =IF(N147="nulová",J147,0) -> 0 | BJ147: 2 | BK147: =ROUND(I147*H147,2) -> 0 | BL147: 16 | BM147: -2098084185
C148: 13 | D148: K | E148: 723150366.S | F148: Potrubie z oceľových rúrok hladkých čiernych, chránička Dxt 44,5x2 mm | G148: m | H148: 2 | J148: =ROUND(I148*H148,2) -> 0 | N148: znížená | P148: =O148*H148 -> 0 | Q148: 0.00301077 | R148: =Q148*H148 -> 0.00602154 | S148: 0 | T148: =S148*H148 -> 0 | AR148: 16 | AT148: K | AU148: 2 | AY148: ROZPOCET | BE148: =IF(N148="základná",J148,0) -> 0 | BF148: =IF(N148="znížená",J148,0) -> 0 | BG148: =IF(N148="zákl. prenesená",J148,0) -> 0 | BH148: =IF(N148="zníž. prenesená",J148,0) -> 0 | BI148: =IF(N148="nulová",J148,0) -> 0 | BJ148: 2 | BK148: =ROUND(I148*H148,2) -> 0 | BL148: 16 | BM148: 1067990052
C149: 14 | D149: K | E149: 723150368.S | F149: Potrubie z oceľových rúrok hladkých čiernych, chránička Dxt 76x3,2 mm | G149: m | H149: 1 | J149: =ROUND(I149*H149,2) -> 0 | N149: znížená | P149: =O149*H149 -> 0 | Q149: 0.00632794 | R149: =Q149*H149 -> 0.00632794 | S149: 0 | T149: =S149*H149 -> 0 | AR149: 16 | AT149: K | AU149: 2 | AY149: ROZPOCET | BE149: =IF(N149="základná",J149,0) -> 0 | BF149: =IF(N149="znížená",J149,0) -> 0 | BG149: =IF(N149="zákl. prenesená",J149,0) -> 0 | BH149: =IF(N149="zníž. prenesená",J149,0) -> 0 | BI149: =IF(N149="nulová",J149,0) -> 0 | BJ149: 2 | BK149: =ROUND(I149*H149,2) -> 0 | BL149: 16 | BM149: -253343774
C150: 15 | D150: K | E150: 723150369.S | F150: Potrubie z oceľových rúrok hladkých čiernych, chránička Dxt 89x3,6 mm | G150: m | H150: 2 | J150: =ROUND(I150*H150,2) -> 0 | N150: znížená | P150: =O150*H150 -> 0 | Q150: 0.00827744 | R150: =Q150*H150 -> 0.01655488 | S150: 0 | T150: =S150*H150 -> 0 | AR150: 16 | AT150: K | AU150: 2 | AY150: ROZPOCET | BE150: =IF(N150="základná",J150,0) -> 0 | BF150: =IF(N150="znížená",J150,0) -> 0 | BG150: =IF(N150="zákl. prenesená",J150,0) -> 0 | BH150: =IF(N150="zníž. prenesená",J150,0) -> 0 | BI150: =IF(N150="nulová",J150,0) -> 0 | BJ150: 2 | BK150: =ROUND(I150*H150,2) -> 0 | BL150: 16 | BM150: 2071708293
... C165: 30 | D165: M | E165: 551340004900.S | F165: Guľový uzáver na plyn 1", plnoprietokový s obojstranne predĺženým závitom, niklovaná mosadz | G165: ks | H165: 2 | J165: =ROUND(I165*H165,2) -> 0 | N165: znížená | P165: =O165*H165 -> 0 | Q165: 0.00031 | R165: =Q165*H165 -> 0.00062 | S165: 0 | T165: =S165*H165 -> 0 | AR165: 32 | AT165: M | AU165: 2 | AY165: ROZPOCET | BE165: =IF(N165="základná",J165,0) -> 0 | BF165: =IF(N165="znížená",J165,0) -> 0 | BG165: =IF(N165="zákl. prenesená",J165,0) -> 0 | BH165: =IF(N165="zníž. prenesená",J165,0) -> 0 | BI165: =IF(N165="nulová",J165,0) -> 0 | BJ165: 2 | BK165: =ROUND(I165*H165,2) -> 0 | BL165: 16 | BM165: 1324773117
C166: 31 | D166: K | E166: 998723203.S | F166: Presun hmôt pre vnútorný plynovod v objektoch výšky nad 12 do 24 m | G166: % | J166: =ROUND(I166*H166,2) -> 0 | N166: znížená | P166: =O166*H166 -> 0 | Q166: 0 | R166: =Q166*H166 -> 0 | S166: 0 | T166: =S166*H166 -> 0 | AR166: 16 | AT166: K | AU166: 2 | AY166: ROZPOCET | BE166: =IF(N166="základná",J166,0) -> 0 | BF166: =IF(N166="znížená",J166,0) -> 0 | BG166: =IF(N166="zákl. prenesená",J166,0) -> 0 | BH166: =IF(N166="zníž. prenesená",J166,0) -> 0 | BI166: =IF(N166="nulová",J166,0) -> 0 | BJ166: 2 | BK166: =ROUND(I166*H166,2) -> 0 | BL166: 16 | BM166: -1791871814
D167: D | E167: 725 | F167: Zdravotechnika - zariaďovacie predmety | J167: =BK167 -> 0 | P167: =SUM(P168:P169) -> 0 | R167: =SUM(R168:R169) -> 0.00204 | T167: =SUM(T168:T169) -> 0 | AR167: 2 | AT167: D | AU167: 1 | AY167: ROZPOCET | BK167: =SUM(BK168:BK169) -> 0
C168: 32 | D168: K | E168: 725619101.S | F168: Montáž plynového sporáka bez regulátora tlaku, svietiplynový,metánový | G168: ks | H168: 1 | J168: =ROUND(I168*H168,2) -> 0 | N168: znížená | P168: =O168*H168 -> 0 | Q168: 0.00204 | R168: =Q168*H168 -> 0.00204 | S168: 0 | T168: =S168*H168 -> 0 | AR168: 16 | AT168: K | AU168: 2 | AY168: ROZPOCET | BE168: =IF(N168="základná",J168,0) -> 0 | BF168: =IF(N168="znížená",J168,0) -> 0 | BG168: =IF(N168="zákl. prenesená",J168,0) -> 0 | BH168: =IF(N168="zníž. prenesená",J168,0) -> 0 | BI168: =IF(N168="nulová",J168,0) -> 0 | BJ168: 2 | BK168: =ROUND(I168*H168,2) -> 0 | BL168: 16 | BM168: -952722892
C169: 33 | D169: K | E169: 998725202.S | F169: Presun hmôt pre zariaďovacie predmety v objektoch výšky nad 6 do 12 m | G169: % | J169: =ROUND(I169*H169,2) -> 0 | N169: znížená | P169: =O169*H169 -> 0 | Q169: 0 | R169: =Q169*H169 -> 0 | S169: 0 | T169: =S169*H169 -> 0 | AR169: 16 | AT169: K | AU169: 2 | AY169: ROZPOCET | BE169: =IF(N169="základná",J169,0) -> 0 | BF169: =IF(N169="znížená",J169,0) -> 0 | BG169: =IF(N169="zákl. prenesená",J169,0) -> 0 | BH169: =IF(N169="zníž. prenesená",J169,0) -> 0 | BI169: =IF(N169="nulová",J169,0) -> 0 | BJ169: 2 | BK169: =ROUND(I169*H169,2) -> 0 | BL169: 16 | BM169: -1796606586
D170: D | E170: 734 | F170: Ústredné kúrenie - armatúry | J170: =BK170 -> 0 | P170: =SUM(P171:P175) -> 0 | R170: =SUM(R171:R175) -> 0.00241934 | T170: =SUM(T171:T175) -> 0 | AR170: 2 | AT170: D | AU170: 1 | AY170: ROZPOCET | BK170: =SUM(BK171:BK175) -> 0
C171: 34 | D171: K | E171: 734424140.S | F171: Montáž tlakomera - manometra radiálneho priemer 63 mm | G171: ks | H171: 1 | J171: =ROUND(I171*H171,2) -> 0 | N171: znížená | P171: =O171*H171 -> 0 | Q171: 0.00122934 | R171: =Q171*H171 -> 0.00122934 | S171: 0 | T171: =S171*H171 -> 0 | AR171: 16 | AT171: K | AU171: 2 | AY171: ROZPOCET | BE171: =IF(N171="základná",J171,0) -> 0 | BF171: =IF(N171="znížená",J171,0) -> 0 | BG171: =IF(N171="zákl. prenesená",J171,0) -> 0 | BH171: =IF(N171="zníž. prenesená",J171,0) -> 0 | BI171: =IF(N171="nulová",J171,0) -> 0 | BJ171: 2 | BK171: =ROUND(I171*H171,2) -> 0 | BL171: 16 | BM171: -595628022
C172: 35 | D172: M | E172: 388430003900.S | F172: Manometer radiálny d 63 mm, pripojenie 1/4" spodné, 0-0,6 MPa | G172: ks | H172: 1 | J172: =ROUND(I172*H172,2) -> 0 | N172: znížená | P172: =O172*H172 -> 0 | Q172: 0.00021 | R172: =Q172*H172 -> 0.00021 | S172: 0 | T172: =S172*H172 -> 0 | AR172: 32 | AT172: M | AU172: 2 | AY172: ROZPOCET | BE172: =IF(N172="základná",J172,0) -> 0 | BF172: =IF(N172="znížená",J172,0) -> 0 | BG172: =IF(N172="zákl. prenesená",J172,0) -> 0 | BH172: =IF(N172="zníž. prenesená",J172,0) -> 0 | BI172: =IF(N172="nulová",J172,0) -> 0 | BJ172: 2 | BK172: =ROUND(I172*H172,2) -> 0 | BL172: 16 | BM172: -368566554
C173: 36 | D173: M | E173: 551240012200.S | F173: Kohút tlakomerový obyčajný M 20x1,5 mm | G173: ks | H173: 1 | J173: =ROUND(I173*H173,2) -> 0 | N173: znížená | P173: =O173*H173 -> 0 | Q173: 0.0004 | R173: =Q173*H173 -> 0.0004 | S173: 0 | T173: =S173*H173 -> 0 | AR173: 32 | AT173: M | AU173: 2 | AY173: ROZPOCET | BE173: =IF(N173="základná",J173,0) -> 0 | BF173: =IF(N173="znížená",J173,0) -> 0 | BG173: =IF(N173="zákl. prenesená",J173,0) -> 0 | BH173: =IF(N173="zníž. prenesená",J173,0) -> 0 | BI173: =IF(N173="nulová",J173,0) -> 0 | BJ173: 2 | BK173: =ROUND(I173*H173,2) -> 0 | BL173: 16 | BM173: 1439224384
C174: 37 | D174: M | E174: 551290000100.S | F174: Kondenzačná slučka zahnutá PN 250, k privareniu M20x1,5 mm | G174: ks | H174: 1 | J174: =ROUND(I174*H174,2) -> 0 | N174: znížená | P174: =O174*H174 -> 0 | Q174: 0.00058 | R174: =Q174*H174 -> 0.00058 | S174: 0 | T174: =S174*H174 -> 0 | AR174: 32 | AT174: M | AU174: 2 | AY174: ROZPOCET | BE174: =IF(N174="základná",J174,0) -> 0 | BF174: =IF(N174="znížená",J174,0) -> 0 | BG174: =IF(N174="zákl. prenesená",J174,0) -> 0 | BH174: =IF(N174="zníž. prenesená",J174,0) -> 0 | BI174: =IF(N174="nulová",J174,0) -> 0 | BJ174: 2 | BK174: =ROUND(I174*H174,2) -> 0 | BL174: 16 | BM174: 1274874143
C175: 38 | D175: K | E175: 998734203.S | F175: Presun hmôt pre armatúry v objektoch výšky nad 6 do 24 m | G175: % | J175: =ROUND(I175*H175,2) -> 0 | N175: znížená | P175: =O175*H175 -> 0 | Q175: 0 | R175: =Q175*H175 -> 0 | S175: 0 | T175: =S175*H175 -> 0 | AR175: 16 | AT175: K | AU175: 2 | AY175: ROZPOCET | BE175: =IF(N175="základná",J175,0) -> 0 | BF175: =IF(N175="znížená",J175,0) -> 0 | BG175: =IF(N175="zákl. prenesená",J175,0) -> 0 | BH175: =IF(N175="zníž. prenesená",J175,0) -> 0 | BI175: =IF(N175="nulová",J175,0) -> 0 | BJ175: 2 | BK175: =ROUND(I175*H175,2) -> 0 | BL175: 16 | BM175: -1808024849
D176: D | E176: 783 | F176: Nátery | J176: =BK176 -> 0 | P176: =P177 -> 0 | R176: =R177 -> 0.00360776 | T176: =T177 -> 0 | AR176: 2 | AT176: D | AU176: 1 | AY176: ROZPOCET | BK176: =BK177 -> 0
C177: 39 | D177: K | E177: 783424141.S | F177: Nátery kov.potr.a armatúr v kanáloch a šachtách syntetické potrubie do DN 50 mm dvojnás. so základným náterom - 105µm | G177: m | H177: 52 | J177: =ROUND(I177*H177,2) -> 0 | N177: znížená | P177: =O177*H177 -> 0 | Q177: 6.938e-05 | R177: =Q177*H177 -> 0.00360776 | S177: 0 | T177: =S177*H177 -> 0 | AR177: 16 | AT177: K | AU177: 2 | AY177: ROZPOCET | BE177: =IF(N177="základná",J177,0) -> 0 | BF177: =IF(N177="znížená",J177,0) -> 0 | BG177: =IF(N177="zákl. prenesená",J177,0) -> 0 | BH177: =IF(N177="zníž. prenesená",J177,0) -> 0 | BI177: =IF(N177="nulová",J177,0) -> 0 | BJ177: 2 | BK177: =ROUND(I177*H177,2) -> 0 | BL177: 16 | BM177: -1099180207
...

Sheet c - E1.5  Vykurovanie
AT2: {ec18943a-e621-4bb4-89b5-fb772b481284}
AT3: 0
D4: KRYCÍ LIST ROZPOČTU | M4: v --- nižšie sa nachádzajú doplnkové a pomocné údaje k zostavám --- v | AT4: False
D6: Stavba:
E7: ='Rekapitulácia stavby'!K6 -> Sociálno-zdravotné nízkokapacitné zariadenie s kapacitou 24 miest - CSS LÚČ
D8: Objekt:
E9: 01 - SO-01 Navrhovaný objekt stavby CSS Lúč - prístavba a prestavba
D10: Časť:
E11: c - E1.5 Vykurovanie
D13: JKSO: | I13: ČS:
D14: Miesto: | F14: Bytča | I14: Dátum: | J14: ='Rekapitulácia stavby'!AN8 -> 22. 6. 2026
D16: Objednávateľ: | I16: IČO:
E17: Centrum sociálnych služieb LÚČ | I17: IČ DPH:
D19: Zhotoviteľ: | I19: IČO: | J19: ='Rekapitulácia stavby'!AN13 -> Vyplň údaj
E20: ='Rekapitulácia stavby'!E14 -> Vyplň údaj | I20: IČ DPH: | J20: ='Rekapitulácia stavby'!AN14 -> Vyplň údaj
D22: Projektant: | I22: IČO:
E23: expo AIR s.r.o. | I23: IČ DPH:
D25: Spracovateľ: | I25: IČO:
E26: Ing. Vladimír Štrifler | I26: IČ DPH:
D28: Poznámka:
D32: Cena bez DPH | J32: =ROUND(J134, 2) -> 0
F34: Základ dane | I34: Sadzba dane | J34: Výška dane
D35: DPH | E35: základná | F35: =ROUND((SUM(BE134:BE321)), 2) -> 0 | I35: 0.23 | J35: =ROUND(((SUM(BE134:BE321))*I35), 2) -> 0
E36: znížená | F36: =ROUND((SUM(BF134:BF321)), 2) -> 0 | I36: 0.23 | J36: =ROUND(((SUM(BF134:BF321))*I36), 2) -> 0
E37: zákl. prenesená | F37: =ROUND((SUM(BG134:BG321)), 2) -> 0 | I37: 0.23 | J37: =0 -> 0
E38: zníž. prenesená | F38: =ROUND((SUM(BH134:BH321)), 2) -> 0 | I38: 0.23 | J38: =0 -> 0
E39: nulová | F39: =ROUND((SUM(BI134:BI321)), 2) -> 0 | I39: 0 | J39: =0 -> 0
D41: Cena s DPH | G41: v | H41: EUR | J41: =SUM(J32:J39) -> 0
D50: Projektant | G50: Spracovateľ
D61: Dátum a podpis: | F61: Pečiatka | G61: Dátum a podpis: | J61: Pečiatka
D65: Objednávateľ | G65: Zhotoviteľ
D76: Dátum a podpis: | F76: Pečiatka | G76: Dátum a podpis: | J76: Pečiatka
C82: REKAPITULÁCIA ROZPOČTU
C84: Stavba:
E85: =E7 -> Sociálno-zdravotné nízkokapacitné zariadenie s kapacitou 24 miest - CSS LÚČ
C86: Objekt:
E87: 01 - SO-01 Navrhovaný objekt stavby CSS Lúč - prístavba a prestavba
C88: Časť:
E89: =E11 -> c - E1.5 Vykurovanie
C91: Miesto: | F91: =F14 -> Bytča | I91: Dátum: | J91: =IF(J14="","",J14) -> 22. 6. 2026
C93: Objednávateľ: | F93: =E17 -> Centrum sociálnych služieb LÚČ | I93: Projektant: | J93: =E23 -> expo AIR s.r.o.
C94: Zhotoviteľ: | F94: =IF(E20="","",E20) -> Vyplň údaj | I94: Spracovateľ: | J94: =E26 -> Ing. Vladimír Štrifler
C96: Kód dielu - Popis | J96: Cena celkom [EUR]
C98: Náklady z rozpočtu | J98: =J134 -> 0 | AU98: -1
D99: PSV - Práce a dodávky PSV | J99: =J135 -> 0
D100: 713 - Izolácie tepelné | J100: =J136 -> 0
D101: 722 - Zdravotechnika - vnútorný vodovod | J101: =J150 -> 0
D102: 724 - Zdravotechnika - strojné vybavenie | J102: =J163 -> 0
D103: 731 - Ústredné kúrenie - kotolne | J103: =J168 -> 0
D104: 732 - Ústredné kúrenie - strojovne | J104: =J196 -> 0
D105: 733 - Ústredné kúrenie - rozvodné potrubie | J105: =J218 -> 0
D106: 734 - Ústredné kúrenie - armatúry | J106: =J230 -> 0
D107: 735 - Ústredné kúrenie - vykurovacie telesá | J107: =J273 -> 0
D108: 783 - Nátery | J108: =J309 -> 0
D109: M - Práce a dodávky M | J109: =J311 -> 0
D110: 23-M - Montáže potrubia | J110: =J312 -> 0
D111: 95-M - Revízie | J111: =J317 -> 0
D112: HZS - Hodinové zúčtovacie sadzby | J112: =J320 -> 0
C119: ROZPOČET
C121: Stavba:
E122: =E7 -> Sociálno-zdravotné nízkokapacitné zariadenie s kapacitou 24 miest - CSS LÚČ
C123: Objekt:
E124: 01 - SO-01 Navrhovaný objekt stavby CSS Lúč - prístavba a prestavba
C125: Časť:
E126: =E11 -> c - E1.5 Vykurovanie
C128: Miesto: | F128: =F14 -> Bytča | I128: Dátum: | J128: =IF(J14="","",J14) -> 22. 6. 2026
C130: Objednávateľ: | F130: =E17 -> Centrum sociálnych služieb LÚČ | I130: Projektant: | J130: =E23 -> expo AIR s.r.o.
C131: Zhotoviteľ: | F131: =IF(E20="","",E20) -> Vyplň údaj | I131: Spracovateľ: | J131: =E26 -> Ing. Vladimír Štrifler
C133: PČ | D133: Typ | E133: Kód | F133: Popis | G133: MJ | H133: Množstvo | I133: J.cena [EUR] | J133: Cena celkom [EUR] | K133: Cenová sústava | N133: DPH | O133: J. Nh [h] | P133: Nh celkom [h] | Q133: J. hmotnosť [t] | R133: Hmotnosť celkom [t] | S133: J. suť [t] | T133: Suť Celkom [t]
C134: Náklady z rozpočtu | J134: =BK134 -> 0 | P134: =P135+P311+P320 -> 0 | R134: =R135+R311+R320 -> 0 | T134: =T135+T311+T320 -> 0 | AT134: D | AU134: -1 | BK134: =BK135+BK311+BK320 -> 0
D135: D | E135: PSV | F135: Práce a dodávky PSV | J135: =BK135 -> 0 | P135: =P136+P150+P163+P168+P196+P218+P230+P273+P309 -> 0 | R135: =R136+R150+R163+R168+R196+R218+R230+R273+R309 -> 0 | T135: =T136+T150+T163+T168+T196+T218+T230+T273+T309 -> 0 | AR135: 2 | AT135: D | AU135: 0 | AY135: ROZPOCET | BK135: =BK136+BK150+BK163+BK168+BK196+BK218+BK230+BK273+BK309 -> 0
D136: D | E136: 713 | F136: Izolácie tepelné | J136: =BK136 -> 0 | P136: =SUM(P137:P149) -> 0 | R136: =SUM(R137:R149) -> 0 | T136: =SUM(T137:T149) -> 0 | AR136: 2 | AT136: D | AU136: 1 | AY136: ROZPOCET | BK136: =SUM(BK137:BK149) -> 0
C137: 1 | D137: K | E137: 713311112.S | F137: Montáž izolácie tepelnej telies pásmi, rohožami pripevnenými, plôch rovných dvojvrstvová | G137: m2 | H137: 2 | J137: =ROUND(I137*H137,2) -> 0 | N137: znížená | P137: =O137*H137 -> 0 | Q137: 0 | R137: =Q137*H137 -> 0 | S137: 0 | T137: =S137*H137 -> 0 | AR137: 16 | AT137: K | AU137: 2 | AY137: ROZPOCET | BE137: =IF(N137="základná",J137,0) -> 0 | BF137: =IF(N137="znížená",J137,0) -> 0 | BG137: =IF(N137="zákl. prenesená",J137,0) -> 0 | BH137: =IF(N137="zníž. prenesená",J137,0) -> 0 | BI137: =IF(N137="nulová",J137,0) -> 0 | BJ137: 2 | BK137: =ROUND(I137*H137,2) -> 0 | BL137: 16 | BM137: 2
C138: 2 | D138: M | E138: azf1262-2 | F138: Tepelná izolácia zo syntetického kaučuku, z pásov, hr. 50 mm (ekvivalent - Armaflex ACe 50-99 / P9 izolácia-pás) | G138: m2 | H138: 4.4 | J138: =ROUND(I138*H138,2) -> 0 | N138: znížená | P138: =O138*H138 -> 0 | Q138: 0 | R138: =Q138*H138 -> 0 | S138: 0 | T138: =S138*H138 -> 0 | AR138: 32 | AT138: M | AU138: 2 | AY138: ROZPOCET | BE138: =IF(N138="základná",J138,0) -> 0 | BF138: =IF(N138="znížená",J138,0) -> 0 | BG138: =IF(N138="zákl. prenesená",J138,0) -> 0 | BH138: =IF(N138="zníž. prenesená",J138,0) -> 0 | BI138: =IF(N138="nulová",J138,0) -> 0 | BJ138: 2 | BK138: =ROUND(I138*H138,2) -> 0 | BL138: 16 | BM138: 4
C139: 3 | D139: K | E139: 713411111.S | F139: Montáž izolácie tepelnej potrubia a ohybov pásmi jednovrstvová | G139: m2 | H139: 13.5 | J139: =ROUND(I139*H139,2) -> 0 | N139: znížená | P139: =O139*H139 -> 0 | Q139: 0 | R139: =Q139*H139 -> 0 | S139: 0 | T139: =S139*H139 -> 0 | AR139: 16 | AT139: K | AU139: 2 | AY139: ROZPOCET | BE139: =IF(N139="základná",J139,0) -> 0 | BF139: =IF(N139="znížená",J139,0) -> 0 | BG139: =IF(N139="zákl. prenesená",J139,0) -> 0 | BH139: =IF(N139="zníž. prenesená",J139,0) -> 0 | BI139: =IF(N139="nulová",J139,0) -> 0 | BJ139: 2 | BK139: =ROUND(I139*H139,2) -> 0 | BL139: 16 | BM139: 6
C140: 4 | D140: M | E140: azf1262 | F140: Tepelná izolácia zo syntetického kaučuku, z pásov, hr. 50 mm (ekvivalent - Armaflex ACe 50-99 / P9 izolácia-pás) | G140: m2 | H140: 14.85 | J140: =ROUND(I140*H140,2) -> 0 | N140: znížená | P140: =O140*H140 -> 0 | Q140: 0 | R140: =Q140*H140 -> 0 | S140: 0 | T140: =S140*H140 -> 0 | AR140: 32 | AT140: M | AU140: 2 | AY140: ROZPOCET | BE140: =IF(N140="základná",J140,0) -> 0 | BF140: =IF(N140="znížená",J140,0) -> 0 | BG140: =IF(N140="zákl. prenesená",J140,0) -> 0 | BH140: =IF(N140="zníž. prenesená",J140,0) -> 0 | BI140: =IF(N140="nulová",J140,0) -> 0 | BJ140: 2 | BK140: =ROUND(I140*H140,2) -> 0 | BL140: 16 | BM140: 8
C141: 5 | D141: K | E141: 713482121.S | F141: Montáž trubíc z PE, hr.15-20 mm,vnút.priemer do 38 mm | G141: m | H141: 440 | J141: =ROUND(I141*H141,2) -> 0 | N141: znížená | P141: =O141*H141 -> 0 | Q141: 0 | R141: =Q141*H141 -> 0 | S141: 0 | T141: =S141*H141 -> 0 | AR141: 16 | AT141: K | AU141: 2 | AY141: ROZPOCET | BE141: =IF(N141="základná",J141,0) -> 0 | BF141: =IF(N141="znížená",J141,0) -> 0 | BG141: =IF(N141="zákl. prenesená",J141,0) -> 0 | BH141: =IF(N141="zníž. prenesená",J141,0) -> 0 | BI141: =IF(N141="nulová",J141,0) -> 0 | BJ141: 2 | BK141: =ROUND(I141*H141,2) -> 0 | BL141: 16 | BM141: 10
C142: 6 | D142: M | E142: azf1227 | F142: Tepelná izolácia zo syntetického kaučuku, trubica, hr. 22 mm (ekvivalent - Armaflex ACe 19x22 | G142: m | H142: 378 | J142: =ROUND(I142*H142,2) -> 0 | N142: znížená | P142: =O142*H142 -> 0 | Q142: 0 | R142: =Q142*H142 -> 0 | S142: 0 | T142: =S142*H142 -> 0 | AR142: 32 | AT142: M | AU142: 2 | AY142: ROZPOCET | BE142: =IF(N142="základná",J142,0) -> 0 | BF142: =IF(N142="znížená",J142,0) -> 0 | BG142: =IF(N142="zákl. prenesená",J142,0) -> 0 | BH142: =IF(N142="zníž. prenesená",J142,0) -> 0 | BI142: =IF(N142="nulová",J142,0) -> 0 | BJ142: 2 | BK142: =ROUND(I142*H142,2) -> 0 | BL142: 16 | BM142: 12
C143: 7 | D143: M | E143: azf1228 | F143: Tepelná izolácia zo syntetického kaučuku, trubica, hr. 28 mm (ekvivalent - Armaflex ACe 19x28 trubica) | G143: m | H143: 81.6 | J143: =ROUND(I143*H143,2) -> 0 | N143: znížená | P143: =O143*H143 -> 0 | Q143: 0 | R143: =Q143*H143 -> 0 | S143: 0 | T143: =S143*H143 -> 0 | AR143: 32 | AT143: M | AU143: 2 | AY143: ROZPOCET | BE143: =IF(N143="základná",J143,0) -> 0 | BF143: =IF(N143="znížená",J143,0) -> 0 | BG143: =IF(N143="zákl. prenesená",J143,0) -> 0 | BH143: =IF(N143="zníž. prenesená",J143,0) -> 0 | BI143: =IF(N143="nulová",J143,0) -> 0 | BJ143: 2 | BK143: =ROUND(I143*H143,2) -> 0 | BL143: 16 | BM143: 14
C144: 8 | D144: K | E144: 713482131.S | F144: Montáž trubíc z PE, hr.30 mm,vnút.priemer do 38 mm | G144: m | H144: 45 | J144: =ROUND(I144*H144,2) -> 0 | N144: znížená | P144: =O144*H144 -> 0 | Q144: 0 | R144: =Q144*H144 -> 0 | S144: 0 | T144: =S144*H144 -> 0 | AR144: 16 | AT144: K | AU144: 2 | AY144: ROZPOCET | BE144: =IF(N144="základná",J144,0) -> 0 | BF144: =IF(N144="znížená",J144,0) -> 0 | BG144: =IF(N144="zákl. prenesená",J144,0) -> 0 | BH144: =IF(N144="zníž. prenesená",J144,0) -> 0 | BI144: =IF(N144="nulová",J144,0) -> 0 | BJ144: 2 | BK144: =ROUND(I144*H144,2) -> 0 | BL144: 16 | BM144: 16
C145: 9 | D145: M | E145: azf3032 | F145: Tepelná izolácia zo syntetického kaučuku, trubica, hr. 32 mm (ekvivalent -Armaflex ACe/Plus 32x035 trubica) | G145: m | H145: 36.75 | J145: =ROUND(I145*H145,2) -> 0 | N145: znížená | P145: =O145*H145 -> 0 | Q145: 0 | R145: =Q145*H145 -> 0 | S145: 0 | T145: =S145*H145 -> 0 | AR145: 32 | AT145: M | AU145: 2 | AY145: ROZPOCET | BE145: =IF(N145="základná",J145,0) -> 0 | BF145: =IF(N145="znížená",J145,0) -> 0 | BG145: =IF(N145="zákl. prenesená",J145,0) -> 0 | BH145: =IF(N145="zníž. prenesená",J145,0) -> 0 | BI145: =IF(N145="nulová",J145,0) -> 0 | BJ145: 2 | BK145: =ROUND(I145*H145,2) -> 0 | BL145: 16 | BM145: 18
C146: 10 | D146: M | E146: azf3033 | F146: Tepelná izolácia zo syntetického kaučuku, trubica, hr. 32 mm (ekvivalent - Armaflex ACe/Plus 32x042 trubica) | G146: m | H146: 105 | J146: =ROUND(I146*H146,2) -> 0 | N146: znížená | P146: =O146*H146 -> 0 | Q146: 0 | R146: =Q146*H146 -> 0 | S146: 0 | T146: =S146*H146 -> 0 | AR146: 32 | AT146: M | AU146: 2 | AY146: ROZPOCET | BE146: =IF(N146="základná",J146,0) -> 0 | BF146: =IF(N146="znížená",J146,0) -> 0 | BG146: =IF(N146="zákl. prenesená",J146,0) -> 0 | BH146: =IF(N146="zníž. prenesená",J146,0) -> 0 | BI146: =IF(N146="nulová",J146,0) -> 0 | BJ146: 2 | BK146: =ROUND(I146*H146,2) -> 0 | BL146: 16 | BM146: 20
C147: 11 | D147: K | E147: 713482132.S | F147: Montáž trubíc z PE, hr.30 mm,vnút.priemer 39-70 mm | G147: m | H147: 55 | J147: =ROUND(I147*H147,2) -> 0 | N147: znížená | P147: =O147*H147 -> 0 | Q147: 0 | R147: =Q147*H147 -> 0 | S147: 0 | T147: =S147*H147 -> 0 | AR147: 16 | AT147: K | AU147: 2 | AY147: ROZPOCET | BE147: =IF(N147="základná",J147,0) -> 0 | BF147: =IF(N147="znížená",J147,0) -> 0 | BG147: =IF(N147="zákl. prenesená",J147,0) -> 0 | BH147: =IF(N147="zníž. prenesená",J147,0) -> 0 | BI147: =IF(N147="nulová",J147,0) -> 0 | BJ147: 2 | BK147: =ROUND(I147*H147,2) -> 0 | BL147: 16 | BM147: 22
C148: 12 | D148: M | E148: azf3034 | F148: Tepelná izolácia zo syntetického kaučuku, trubica, hr. 32 mm (ekvivalent - Armaflex ACe/Plus 32x048 trubica) | G148: m | H148: 57.75 | J148: =ROUND(I148*H148,2) -> 0 | N148: znížená | P148: =O148*H148 -> 0 | Q148: 0 | R148: =Q148*H148 -> 0 | S148: 0 | T148: =S148*H148 -> 0 | AR148: 32 | AT148: M | AU148: 2 | AY148: ROZPOCET | BE148: =IF(N148="základná",J148,0) -> 0 | BF148: =IF(N148="znížená",J148,0) -> 0 | BG148: =IF(N148="zákl. prenesená",J148,0) -> 0 | BH148: =IF(N148="zníž. prenesená",J148,0) -> 0 | BI148: =IF(N148="nulová",J148,0) -> 0 | BJ148: 2 | BK148: =ROUND(I148*H148,2) -> 0 | BL148: 16 | BM148: 24
C149: 13 | D149: K | E149: 998713202.S | F149: Presun hmôt pre izolácie tepelné v objektoch výšky nad 6 m do 12 m | G149: % | J149: =ROUND(I149*H149,2) -> 0 | N149: znížená | P149: =O149*H149 -> 0 | Q149: 0 | R149: =Q149*H149 -> 0 | S149: 0 | T149: =S149*H149 -> 0 | AR149: 16 | AT149: K | AU149: 2 | AY149: ROZPOCET | BE149: =IF(N149="základná",J149,0) -> 0 | BF149: =IF(N149="znížená",J149,0) -> 0 | BG149: =IF(N149="zákl. prenesená",J149,0) -> 0 | BH149: =IF(N149="zníž. prenesená",J149,0) -> 0 | BI149: =IF(N149="nulová",J149,0) -> 0 | BJ149: 2 | BK149: =ROUND(I149*H149,2) -> 0 | BL149: 16 | BM149: 26
D150: D | E150: 722 | F150: Zdravotechnika - vnútorný vodovod | J150: =BK150 -> 0 | P150: =SUM(P151:P162) -> 0 | R150: =SUM(R151:R162) -> 0 | T150: =SUM(T151:T162) -> 0 | AR150: 2 | AT150: D | AU150: 1 | AY150: ROZPOCET | BK150: =SUM(BK151:BK162) -> 0
C151: 14 | D151: K | E151: 722221010.S | F151: Montáž guľového kohúta závitového priameho pre vodu G 1/2 | G151: ks | H151: 1 | J151: =ROUND(I151*H151,2) -> 0 | N151: znížená | P151: =O151*H151 -> 0 | Q151: 0 | R151: =Q151*H151 -> 0 | S151: 0 | T151: =S151*H151 -> 0 | AR151: 16 | AT151: K | AU151: 2 | AY151: ROZPOCET | BE151: =IF(N151="základná",J151,0) -> 0 | BF151: =IF(N151="znížená",J151,0) -> 0 | BG151: =IF(N151="zákl. prenesená",J151,0) -> 0 | BH151: =IF(N151="zníž. prenesená",J151,0) -> 0 | BI151: =IF(N151="nulová",J151,0) -> 0 | BJ151: 2 | BK151: =ROUND(I151*H151,2) -> 0 | BL151: 16 | BM151: 28
C152: 15 | D152: M | E152: 551110004900.S | F152: Guľový uzáver pre vodu 1/2", niklovaná mosadz | G152: ks | H152: 1 | J152: =ROUND(I152*H152,2) -> 0 | N152: znížená | P152: =O152*H152 -> 0 | Q152: 0 | R152: =Q152*H152 -> 0 | S152: 0 | T152: =S152*H152 -> 0 | AR152: 32 | AT152: M | AU152: 2 | AY152: ROZPOCET | BE152: =IF(N152="základná",J152,0) -> 0 | BF152: =IF(N152="znížená",J152,0) -> 0 | BG152: =IF(N152="zákl. prenesená",J152,0) -> 0 | BH152: =IF(N152="zníž. prenesená",J152,0) -> 0 | BI152: =IF(N152="nulová",J152,0) -> 0 | BJ152: 2 | BK152: =ROUND(I152*H152,2) -> 0 | BL152: 16 | BM152: 30
C153: 16 | D153: K | E153: 722221015.S | F153: Montáž guľového kohúta závitového priameho pre vodu G 3/4 | G153: ks | H153: 1 | J153: =ROUND(I153*H153,2) -> 0 | N153: znížená | P153: =O153*H153 -> 0 | Q153: 0 | R153: =Q153*H153 -> 0 | S153: 0 | T153: =S153*H153 -> 0 | AR153: 16 | AT153: K | AU153: 2 | AY153: ROZPOCET | BE153: =IF(N153="základná",J153,0) -> 0 | BF153: =IF(N153="znížená",J153,0) -> 0 | BG153: =IF(N153="zákl. prenesená",J153,0) -> 0 | BH153: =IF(N153="zníž. prenesená",J153,0) -> 0 | BI153: =IF(N153="nulová",J153,0) -> 0 | BJ153: 2 | BK153: =ROUND(I153*H153,2) -> 0 | BL153: 16 | BM153: 32
C154: 17 | D154: M | E154: 551110005000.S | F154: Guľový uzáver pre vodu 3/4", niklovaná mosadz | G154: ks | H154: 1 | J154: =ROUND(I154*H154,2) -> 0 | N154: znížená | P154: =O154*H154 -> 0 | Q154: 0 | R154: =Q154*H154 -> 0 | S154: 0 | T154: =S154*H154 -> 0 | AR154: 32 | AT154: M | AU154: 2 | AY154: ROZPOCET | BE154: =IF(N154="základná",J154,0) -> 0 | BF154: =IF(N154="znížená",J154,0) -> 0 | BG154: =IF(N154="zákl. prenesená",J154,0) -> 0 | BH154: =IF(N154="zníž. prenesená",J154,0) -> 0 | BI154: =IF(N154="nulová",J154,0) -> 0 | BJ154: 2 | BK154: =ROUND(I154*H154,2) -> 0 | BL154: 16 | BM154: 34
C155: 18 | D155: K | E155: 722221025.S | F155: Montáž guľového kohúta závitového priameho pre vodu G 5/4 | G155: ks | H155: 3 | J155: =ROUND(I155*H155,2) -> 0 | N155: znížená | P155: =O155*H155 -> 0 | Q155: 0 | R155: =Q155*H155 -> 0 | S155: 0 | T155: =S155*H155 -> 0 | AR155: 16 | AT155: K | AU155: 2 | AY155: ROZPOCET | BE155: =IF(N155="základná",J155,0) -> 0 | BF155: =IF(N155="znížená",J155,0) -> 0 | BG155: =IF(N155="zákl. prenesená",J155,0) -> 0 | BH155: =IF(N155="zníž. prenesená",J155,0) -> 0 | BI155: =IF(N155="nulová",J155,0) -> 0 | BJ155: 2 | BK155: =ROUND(I155*H155,2) -> 0 | BL155: 16 | BM155: 36
C156: 19 | D156: M | E156: 551110005200.S | F156: Guľový uzáver pre vodu 5/4", niklovaná mosadz | G156: ks | H156: 3 | J156: =ROUND(I156*H156,2) -> 0 | N156: znížená | P156: =O156*H156 -> 0 | Q156: 0 | R156: =Q156*H156 -> 0 | S156: 0 | T156: =S156*H156 -> 0 | AR156: 32 | AT156: M | AU156: 2 | AY156: ROZPOCET | BE156: =IF(N156="základná",J156,0) -> 0 | BF156: =IF(N156="znížená",J156,0) -> 0 | BG156: =IF(N156="zákl. prenesená",J156,0) -> 0 | BH156: =IF(N156="zníž. prenesená",J156,0) -> 0 | BI156: =IF(N156="nulová",J156,0) -> 0 | BJ156: 2 | BK156: =ROUND(I156*H156,2) -> 0 | BL156: 16 | BM156: 38
C157: 20 | D157: K | E157: 722221170.S | F157: Montáž poistného ventilu závitového pre vodu G 1/2 | G157: ks | H157: 1 | J157: =ROUND(I157*H157,2) -> 0 | N157: znížená | P157: =O157*H157 -> 0 | Q157: 0 | R157: =Q157*H157 -> 0 | S157: 0 | T157: =S157*H157 -> 0 | AR157: 16 | AT157: K | AU157: 2 | AY157: ROZPOCET | BE157: =IF(N157="základná",J157,0) -> 0 | BF157: =IF(N157="znížená",J157,0) -> 0 | BG157: =IF(N157="zákl. prenesená",J157,0) -> 0 | BH157: =IF(N157="zníž. prenesená",J157,0) -> 0 | BI157: =IF(N157="nulová",J157,0) -> 0 | BJ157: 2 | BK157: =ROUND(I157*H157,2) -> 0 | BL157: 16 | BM157: 40
C158: 21 | D158: M | E158: 691520.90 | F158: Poistný ventil pre teplú vodu - 1/2"Fx3/4"F; Kv 0,540; 9bar; (ekvivalent - KB15 DUCO) | G158: ks | H158: 1 | J158: =ROUND(I158*H158,2) -> 0 | N158: znížená | P158: =O158*H158 -> 0 | Q158: 0 | R158: =Q158*H158 -> 0 | S158: 0 | T158: =S158*H158 -> 0 | AR158: 32 | AT158: M | AU158: 2 | AY158: ROZPOCET | BE158: =IF(N158="základná",J158,0) -> 0 | BF158: =IF(N158="znížená",J158,0) -> 0 | BG158: =IF(N158="zákl. prenesená",J158,0) -> 0 | BH158: =IF(N158="zníž. prenesená",J158,0) -> 0 | BI158: =IF(N158="nulová",J158,0) -> 0 | BJ158: 2 | BK158: =ROUND(I158*H158,2) -> 0 | BL158: 16 | BM158: 42
C159: 22 | D159: K | E159: 722270006.S | F159: Montáž úpravne vody pre doplňovanie vykurovacích systémov | G159: ks | H159: 1 | J159: =ROUND(I159*H159,2) -> 0 | N159: znížená | P159: =O159*H159 -> 0 | Q159: 0 | R159: =Q159*H159 -> 0 | S159: 0 | T159: =S159*H159 -> 0 | AR159: 16 | AT159: K | AU159: 2 | AY159: ROZPOCET | BE159: =IF(N159="základná",J159,0) -> 0 | BF159: =IF(N159="znížená",J159,0) -> 0 | BG159: =IF(N159="zákl. prenesená",J159,0) -> 0 | BH159: =IF(N159="zníž. prenesená",J159,0) -> 0 | BI159: =IF(N159="nulová",J159,0) -> 0 | BJ159: 2 | BK159: =ROUND(I159*H159,2) -> 0 | BL159: 16 | BM159: 44
C160: 23 | D160: M | E160: 7938283 | F160: Úpravňa vody pre teplovodný vykurovcí systém do 100 kW (ekvivalent - Aquaset 500-N) | G160: ks | H160: 1 | J160: =ROUND(I160*H160,2) -> 0 | N160: znížená | P160: =O160*H160 -> 0 | Q160: 0 | R160: =Q160*H160 -> 0 | S160: 0 | T160: =S160*H160 -> 0 | AR160: 32 | AT160: M | AU160: 2 | AY160: ROZPOCET | BE160: =IF(N160="základná",J160,0) -> 0 | BF160: =IF(N160="znížená",J160,0) -> 0 | BG160: =IF(N160="zákl. prenesená",J160,0) -> 0 | BH160: =IF(N160="zníž. prenesená",J160,0) -> 0 | BI160: =IF(N160="nulová",J160,0) -> 0 | BJ160: 2 | BK160: =ROUND(I160*H160,2) -> 0 | BL160: 16 | BM160: 46
C161: 24 | D161: M | E161: 7419725 | F161: Regenračná soľ pre obnovu (balenie25kg) | G161: ks | H161: 3 | J161: =ROUND(I161*H161,2) -> 0 | N161: znížená | P161: =O161*H161 -> 0 | Q161: 0 | R161: =Q161*H161 -> 0 | S161: 0 | T161: =S161*H161 -> 0 | AR161: 32 | AT161: M | AU161: 2 | AY161: ROZPOCET | BE161: =IF(N161="základná",J161,0) -> 0 | BF161: =IF(N161="znížená",J161,0) -> 0 | BG161: =IF(N161="zákl. prenesená",J161,0) -> 0 | BH161: =IF(N161="zníž. prenesená",J161,0) -> 0 | BI161: =IF(N161="nulová",J161,0) -> 0 | BJ161: 2 | BK161: =ROUND(I161*H161,2) -> 0 | BL161: 16 | BM161: 48
C162: 25 | D162: K | E162: 998722202.S | F162: Presun hmôt pre vnútorný vodovod v objektoch výšky nad 6 do 12 m | G162: % | J162: =ROUND(I162*H162,2) -> 0 | N162: znížená | P162: =O162*H162 -> 0 | Q162: 0 | R162: =Q162*H162 -> 0 | S162: 0 | T162: =S162*H162 -> 0 | AR162: 16 | AT162: K | AU162: 2 | AY162: ROZPOCET | BE162: =IF(N162="základná",J162,0) -> 0 | BF162: =IF(N162="znížená",J162,0) -> 0 | BG162: =IF(N162="zákl. prenesená",J162,0) -> 0 | BH162: =IF(N162="zníž. prenesená",J162,0) -> 0 | BI162: =IF(N162="nulová",J162,0) -> 0 | BJ162: 2 | BK162: =ROUND(I162*H162,2) -> 0 | BL162: 16 | BM162: 50
D163: D | E163: 724 | F163: Zdravotechnika - strojné vybavenie | J163: =BK163 -> 0 | P163: =SUM(P164:P167) -> 0 | R163: =SUM(R164:R167) -> 0 | T163: =SUM(T164:T167) -> 0 | AR163: 2 | AT163: D | AU163: 1 | AY163: ROZPOCET | BK163: =SUM(BK164:BK167) -> 0
C164: 26 | D164: K | E164: 724312030.S | F164: Montáž tlakovej nádoby pre úžitkovú vodu s vakom vertikálnej, objem 60 l | G164: ks | H164: 1 | J164: =ROUND(I164*H164,2) -> 0 | N164: znížená | P164: =O164*H164 -> 0 | Q164: 0 | R164: =Q164*H164 -> 0 | S164: 0 | T164: =S164*H164 -> 0 | AR164: 16 | AT164: K | AU164: 2 | AY164: ROZPOCET | BE164: =IF(N164="základná",J164,0) -> 0 | BF164: =IF(N164="znížená",J164,0) -> 0 | BG164: =IF(N164="zákl. prenesená",J164,0) -> 0 | BH164: =IF(N164="zníž. prenesená",J164,0) -> 0 | BI164: =IF(N164="nulová",J164,0) -> 0 | BJ164: 2 | BK164: =ROUND(I164*H164,2) -> 0 | BL164: 16 | BM164: 52
...

Sheet d1 - E1.6a  Vzduchotechni...
AT2: {c98d1b17-e3b4-41e5-a71b-d16a1350b2bd}
AT3: 0
D4: KRYCÍ LIST ROZPOČTU | M4: v --- nižšie sa nachádzajú doplnkové a pomocné údaje k zostavám --- v | AT4: False
D6: Stavba:
E7: ='Rekapitulácia stavby'!K6 -> Sociálno-zdravotné nízkokapacitné zariadenie s kapacitou 24 miest - CSS LÚČ
D8: Objekt:
E9: 01 - SO-01 Navrhovaný objekt stavby CSS Lúč - prístavba a prestavba
D10: Časť:
E11: d1 - E1.6a Vzduchotechnické zariadenia - prestavba
D13: JKSO: | I13: ČS:
D14: Miesto: | F14: Bytča | I14: Dátum: | J14: ='Rekapitulácia stavby'!AN8 -> 22. 6. 2026
D16: Objednávateľ: | I16: IČO:
E17: Centrum sociálnych služieb LÚČ | I17: IČ DPH:
D19: Zhotoviteľ: | I19: IČO: | J19: ='Rekapitulácia stavby'!AN13 -> Vyplň údaj
E20: ='Rekapitulácia stavby'!E14 -> Vyplň údaj | I20: IČ DPH: | J20: ='Rekapitulácia stavby'!AN14 -> Vyplň údaj
D22: Projektant: | I22: IČO:
E23: expo AIR s.r.o. | I23: IČ DPH:
D25: Spracovateľ: | I25: IČO:
E26: Ing. Štefan Glovaťák | I26: IČ DPH:
D28: Poznámka:
E29: V prípade výskytu obchodných názvov výrobkov a technológií, tieto majú informatívny charakter a slúžia ako minimálny štandard. Sú uvedené ako referenčná kvalita a môžu byť nahradené ekvivalentným výrobkom, ktorý má rovnaké, alebo lepšie vlastnosti a parametre. Neoddeliteľnou súčasťou Výkazu výmer je Projektová dokumentácia stavby.
D32: Cena bez DPH | J32: =ROUND(J130, 2) -> 0
F34: Základ dane | I34: Sadzba dane | J34: Výška dane
D35: DPH | E35: základná | F35: =ROUND((SUM(BE130:BE246)), 2) -> 0 | I35: 0.23 | J35: =ROUND(((SUM(BE130:BE246))*I35), 2) -> 0
E36: znížená | F36: =ROUND((SUM(BF130:BF246)), 2) -> 0 | I36: 0.23 | J36: =ROUND(((SUM(BF130:BF246))*I36), 2) -> 0
E37: zákl. prenesená | F37: =ROUND((SUM(BG130:BG246)), 2) -> 0 | I37: 0.23 | J37: =0 -> 0
E38: zníž. prenesená | F38: =ROUND((SUM(BH130:BH246)), 2) -> 0 | I38: 0.23 | J38: =0 -> 0
E39: nulová | F39: =ROUND((SUM(BI130:BI246)), 2) -> 0 | I39: 0 | J39: =0 -> 0
D41: Cena s DPH | G41: v | H41: EUR | J41: =SUM(J32:J39) -> 0
D50: Projektant | G50: Spracovateľ
D61: Dátum a podpis: | F61: Pečiatka | G61: Dátum a podpis: | J61: Pečiatka
D65: Objednávateľ | G65: Zhotoviteľ
D76: Dátum a podpis: | F76: Pečiatka | G76: Dátum a podpis: | J76: Pečiatka
C82: REKAPITULÁCIA ROZPOČTU
C84: Stavba:
E85: =E7 -> Sociálno-zdravotné nízkokapacitné zariadenie s kapacitou 24 miest - CSS LÚČ
C86: Objekt:
E87: 01 - SO-01 Navrhovaný objekt stavby CSS Lúč - prístavba a prestavba
C88: Časť:
E89: =E11 -> d1 - E1.6a Vzduchotechnické zariadenia - prestavba
C91: Miesto: | F91: =F14 -> Bytča | I91: Dátum: | J91: =IF(J14="","",J14) -> 22. 6. 2026
C93: Objednávateľ: | F93: =E17 -> Centrum sociálnych služieb LÚČ | I93: Projektant: | J93: =E23 -> expo AIR s.r.o.
C94: Zhotoviteľ: | F94: =IF(E20="","",E20) -> Vyplň údaj | I94: Spracovateľ: | J94: =E26 -> Ing. Štefan Glovaťák
C96: Kód dielu - Popis | J96: Cena celkom [EUR]
C98: Náklady z rozpočtu | J98: =J130 -> 0 | AU98: -1
D99: B - Vzduchotechnika | J99: =J131 -> 0
D100: 1. - Vetranie hygienických priestorov | J100: =J132 -> 0
D101: 2. - Vetranie recepcie | J101: =J145 -> 0
D102: 3. - Vetranie izieb | J102: =J160 -> 0
D103: 4. - Vetranie kuchyne | J103: =J180 -> 0
D104: 5. - Klimatizácia | J104: =J204 -> 0
D105: 6. - Procesné chladenie | J105: =J222 -> 0
D106: 7. - Vetranie EVA výťahu | J106: =J230 -> 0
D107: 8. - Vetranie kotolne | J107: =J237 -> 0
D108: 95-M - Sprevádzkovanie a revízie | J108: =J244 -> 0
C115: ROZPOČET
C117: Stavba:
E118: =E7 -> Sociálno-zdravotné nízkokapacitné zariadenie s kapacitou 24 miest - CSS LÚČ
C119: Objekt:
E120: 01 - SO-01 Navrhovaný objekt stavby CSS Lúč - prístavba a prestavba
C121: Časť:
E122: =E11 -> d1 - E1.6a Vzduchotechnické zariadenia - prestavba
C124: Miesto: | F124: =F14 -> Bytča | I124: Dátum: | J124: =IF(J14="","",J14) -> 22. 6. 2026
C126: Objednávateľ: | F126: =E17 -> Centrum sociálnych služieb LÚČ | I126: Projektant: | J126: =E23 -> expo AIR s.r.o.
C127: Zhotoviteľ: | F127: =IF(E20="","",E20) -> Vyplň údaj | I127: Spracovateľ: | J127: =E26 -> Ing. Štefan Glovaťák
C129: PČ | D129: Typ | E129: Kód | F129: Popis | G129: MJ | H129: Množstvo | I129: J.cena [EUR] | J129: Cena celkom [EUR] | K129: Cenová sústava | N129: DPH | O129: J. Nh [h] | P129: Nh celkom [h] | Q129: J. hmotnosť [t] | R129: Hmotnosť celkom [t] | S129: J. suť [t] | T129: Suť Celkom [t]
C130: Náklady z rozpočtu | J130: =BK130 -> 0 | P130: =P131 -> 0 | R130: =R131 -> 0 | T130: =T131 -> 0 | AT130: D | AU130: -1 | BK130: =BK131 -> 0
D131: D | E131: B | F131: Vzduchotechnika | J131: =BK131 -> 0 | P131: =P132+P145+P160+P180+P204+P222+P230+P237+P244 -> 0 | R131: =R132+R145+R160+R180+R204+R222+R230+R237+R244 -> 0 | T131: =T132+T145+T160+T180+T204+T222+T230+T237+T244 -> 0 | AR131: 3 | AT131: D | AU131: 0 | AY131: ROZPOCET | BK131: =BK132+BK145+BK160+BK180+BK204+BK222+BK230+BK237+BK244 -> 0
D132: D | E132: 1. | F132: Vetranie hygienických priestorov | J132: =BK132 -> 0 | P132: =SUM(P133:P144) -> 0 | R132: =SUM(R133:R144) -> 0 | T132: =SUM(T133:T144) -> 0 | AR132: 1 | AT132: D | AU132: 1 | AY132: ROZPOCET | BK132: =SUM(BK133:BK144) -> 0
C133: 1 | D133: K | E133: 1.01 | F133: Nástenný ventilátor 60m3/h @ 80Pa, vybavený spätnou klapkou a časovačom dobehu, podobný ako Multivac Elix 100T | G133: ks | H133: 13 | J133: =ROUND(I133*H133,2) -> 0 | N133: znížená | P133: =O133*H133 -> 0 | Q133: 0 | R133: =Q133*H133 -> 0 | S133: 0 | T133: =S133*H133 -> 0 | AR133: 64 | AT133: K | AU133: 2 | AY133: ROZPOCET | BE133: =IF(N133="základná",J133,0) -> 0 | BF133: =IF(N133="znížená",J133,0) -> 0 | BG133: =IF(N133="zákl. prenesená",J133,0) -> 0 | BH133: =IF(N133="zníž. prenesená",J133,0) -> 0 | BI133: =IF(N133="nulová",J133,0) -> 0 | BJ133: 2 | BK133: =ROUND(I133*H133,2) -> 0 | BL133: 64 | BM133: 2
C134: 2 | D134: K | E134: 1.02 | F134: Nástenný ventilátor 160m3/h @ 80Pa, vybavený spätnou klapkou a časovačom dobehu, podobný ako Multivac Elpress 100T | G134: ks | H134: 3 | J134: =ROUND(I134*H134,2) -> 0 | N134: znížená | P134: =O134*H134 -> 0 | Q134: 0 | R134: =Q134*H134 -> 0 | S134: 0 | T134: =S134*H134 -> 0 | AR134: 64 | AT134: K | AU134: 2 | AY134: ROZPOCET | BE134: =IF(N134="základná",J134,0) -> 0 | BF134: =IF(N134="znížená",J134,0) -> 0 | BG134: =IF(N134="zákl. prenesená",J134,0) -> 0 | BH134: =IF(N134="zníž. prenesená",J134,0) -> 0 | BI134: =IF(N134="nulová",J134,0) -> 0 | BJ134: 2 | BK134: =ROUND(I134*H134,2) -> 0 | BL134: 64 | BM134: 4
C135: 3 | D135: K | E135: 1.03 | F135: Montáž nástenného ventilátora | G135: hod | H135: 14 | J135: =ROUND(I135*H135,2) -> 0 | N135: znížená | P135: =O135*H135 -> 0 | Q135: 0 | R135: =Q135*H135 -> 0 | S135: 0 | T135: =S135*H135 -> 0 | AR135: 64 | AT135: K | AU135: 2 | AY135: ROZPOCET | BE135: =IF(N135="základná",J135,0) -> 0 | BF135: =IF(N135="znížená",J135,0) -> 0 | BG135: =IF(N135="zákl. prenesená",J135,0) -> 0 | BH135: =IF(N135="zníž. prenesená",J135,0) -> 0 | BI135: =IF(N135="nulová",J135,0) -> 0 | BJ135: 2 | BK135: =ROUND(I135*H135,2) -> 0 | BL135: 64 | BM135: 6
C136: 4 | D136: K | E136: 1.04 | F136: Výfuková mriežka 100x100 x napojením D100, podobná ako Multivac WSK100 | G136: ks | H136: 3 | J136: =ROUND(I136*H136,2) -> 0 | N136: znížená | P136: =O136*H136 -> 0 | Q136: 0 | R136: =Q136*H136 -> 0 | S136: 0 | T136: =S136*H136 -> 0 | AR136: 64 | AT136: K | AU136: 2 | AY136: ROZPOCET | BE136: =IF(N136="základná",J136,0) -> 0 | BF136: =IF(N136="znížená",J136,0) -> 0 | BG136: =IF(N136="zákl. prenesená",J136,0) -> 0 | BH136: =IF(N136="zníž. prenesená",J136,0) -> 0 | BI136: =IF(N136="nulová",J136,0) -> 0 | BJ136: 2 | BK136: =ROUND(I136*H136,2) -> 0 | BL136: 64 | BM136: 8
C137: 5 | D137: K | E137: 1.05 | F137: Výfuková mriežka 160x160 x napojením D160, podobná ako Multivac WSK160 | G137: ks | H137: 1 | J137: =ROUND(I137*H137,2) -> 0 | N137: znížená | P137: =O137*H137 -> 0 | Q137: 0 | R137: =Q137*H137 -> 0 | S137: 0 | T137: =S137*H137 -> 0 | AR137: 64 | AT137: K | AU137: 2 | AY137: ROZPOCET | BE137: =IF(N137="základná",J137,0) -> 0 | BF137: =IF(N137="znížená",J137,0) -> 0 | BG137: =IF(N137="zákl. prenesená",J137,0) -> 0 | BH137: =IF(N137="zníž. prenesená",J137,0) -> 0 | BI137: =IF(N137="nulová",J137,0) -> 0 | BJ137: 2 | BK137: =ROUND(I137*H137,2) -> 0 | BL137: 64 | BM137: 10
C138: 6 | D138: K | E138: 1.06 | F138: Montáž výfukovej mriežky | G138: hod | H138: 1.5 | J138: =ROUND(I138*H138,2) -> 0 | N138: znížená | P138: =O138*H138 -> 0 | Q138: 0 | R138: =Q138*H138 -> 0 | S138: 0 | T138: =S138*H138 -> 0 | AR138: 64 | AT138: K | AU138: 2 | AY138: ROZPOCET | BE138: =IF(N138="základná",J138,0) -> 0 | BF138: =IF(N138="znížená",J138,0) -> 0 | BG138: =IF(N138="zákl. prenesená",J138,0) -> 0 | BH138: =IF(N138="zníž. prenesená",J138,0) -> 0 | BI138: =IF(N138="nulová",J138,0) -> 0 | BJ138: 2 | BK138: =ROUND(I138*H138,2) -> 0 | BL138: 64 | BM138: 12
C139: 7 | D139: K | E139: 1.07 | F139: Potrubie kruhové, špirálne, pozinkované, DN100 | G139: bm | H139: 13.5 | J139: =ROUND(I139*H139,2) -> 0 | N139: znížená | P139: =O139*H139 -> 0 | Q139: 0 | R139: =Q139*H139 -> 0 | S139: 0 | T139: =S139*H139 -> 0 | AR139: 64 | AT139: K | AU139: 2 | AY139: ROZPOCET | BE139: =IF(N139="základná",J139,0) -> 0 | BF139: =IF(N139="znížená",J139,0) -> 0 | BG139: =IF(N139="zákl. prenesená",J139,0) -> 0 | BH139: =IF(N139="zníž. prenesená",J139,0) -> 0 | BI139: =IF(N139="nulová",J139,0) -> 0 | BJ139: 2 | BK139: =ROUND(I139*H139,2) -> 0 | BL139: 64 | BM139: 14
C140: 8 | D140: K | E140: 1.08 | F140: Potrubie kruhové, špirálne, pozinkované, DN160 | G140: bm | H140: 3 | J140: =ROUND(I140*H140,2) -> 0 | N140: znížená | P140: =O140*H140 -> 0 | Q140: 0 | R140: =Q140*H140 -> 0 | S140: 0 | T140: =S140*H140 -> 0 | AR140: 64 | AT140: K | AU140: 2 | AY140: ROZPOCET | BE140: =IF(N140="základná",J140,0) -> 0 | BF140: =IF(N140="znížená",J140,0) -> 0 | BG140: =IF(N140="zákl. prenesená",J140,0) -> 0 | BH140: =IF(N140="zníž. prenesená",J140,0) -> 0 | BI140: =IF(N140="nulová",J140,0) -> 0 | BJ140: 2 | BK140: =ROUND(I140*H140,2) -> 0 | BL140: 64 | BM140: 16
C141: 9 | D141: K | E141: 1.09 | F141: Montáž vzduchotechnického potrubia | G141: hod | H141: 9.5 | J141: =ROUND(I141*H141,2) -> 0 | N141: znížená | P141: =O141*H141 -> 0 | Q141: 0 | R141: =Q141*H141 -> 0 | S141: 0 | T141: =S141*H141 -> 0 | AR141: 64 | AT141: K | AU141: 2 | AY141: ROZPOCET | BE141: =IF(N141="základná",J141,0) -> 0 | BF141: =IF(N141="znížená",J141,0) -> 0 | BG141: =IF(N141="zákl. prenesená",J141,0) -> 0 | BH141: =IF(N141="zníž. prenesená",J141,0) -> 0 | BI141: =IF(N141="nulová",J141,0) -> 0 | BJ141: 2 | BK141: =ROUND(I141*H141,2) -> 0 | BL141: 64 | BM141: 18
C142: 10 | D142: K | E142: 1.10 | F142: Hliníkové flexibilné potrubie dn100, podobné ako AluVac100 | G142: bm | H142: 2 | J142: =ROUND(I142*H142,2) -> 0 | N142: znížená | P142: =O142*H142 -> 0 | Q142: 0 | R142: =Q142*H142 -> 0 | S142: 0 | T142: =S142*H142 -> 0 | AR142: 64 | AT142: K | AU142: 2 | AY142: ROZPOCET | BE142: =IF(N142="základná",J142,0) -> 0 | BF142: =IF(N142="znížená",J142,0) -> 0 | BG142: =IF(N142="zákl. prenesená",J142,0) -> 0 | BH142: =IF(N142="zníž. prenesená",J142,0) -> 0 | BI142: =IF(N142="nulová",J142,0) -> 0 | BJ142: 2 | BK142: =ROUND(I142*H142,2) -> 0 | BL142: 64 | BM142: 20
C143: 11 | D143: K | E143: 1.11 | F143: Montáž flexibilného potrubia | G143: hod | H143: 0.85 | J143: =ROUND(I143*H143,2) -> 0 | N143: znížená | P143: =O143*H143 -> 0 | Q143: 0 | R143: =Q143*H143 -> 0 | S143: 0 | T143: =S143*H143 -> 0 | AR143: 64 | AT143: K | AU143: 2 | AY143: ROZPOCET | BE143: =IF(N143="základná",J143,0) -> 0 | BF143: =IF(N143="znížená",J143,0) -> 0 | BG143: =IF(N143="zákl. prenesená",J143,0) -> 0 | BH143: =IF(N143="zníž. prenesená",J143,0) -> 0 | BI143: =IF(N143="nulová",J143,0) -> 0 | BJ143: 2 | BK143: =ROUND(I143*H143,2) -> 0 | BL143: 64 | BM143: 22
C144: 12 | D144: K | E144: 1.12 | F144: Pomocný, spojovací a montážny materiál | G144: kg | H144: 7.9 | J144: =ROUND(I144*H144,2) -> 0 | N144: znížená | P144: =O144*H144 -> 0 | Q144: 0 | R144: =Q144*H144 -> 0 | S144: 0 | T144: =S144*H144 -> 0 | AR144: 64 | AT144: K | AU144: 2 | AY144: ROZPOCET | BE144: =IF(N144="základná",J144,0) -> 0 | BF144: =IF(N144="znížená",J144,0) -> 0 | BG144: =IF(N144="zákl. prenesená",J144,0) -> 0 | BH144: =IF(N144="zníž. prenesená",J144,0) -> 0 | BI144: =IF(N144="nulová",J144,0) -> 0 | BJ144: 2 | BK144: =ROUND(I144*H144,2) -> 0 | BL144: 64 | BM144: 24
D145: D | E145: 2. | F145: Vetranie recepcie | J145: =BK145 -> 0 | P145: =SUM(P146:P159) -> 0 | R145: =SUM(R146:R159) -> 0 | T145: =SUM(T146:T159) -> 0 | AR145: 1 | AT145: D | AU145: 1 | AY145: ROZPOCET | BK145: =SUM(BK146:BK159) -> 0
C146: 13 | D146: K | E146: 2.01 | F146: Nástenná rekuperačná vzduchotechnická jednotka 550m3/h, 100Pa s vybavená filtráciou G4, elektrickým dohrevom, s autonómnym riadiacim systémom s možnosťou vzdialenej správy cez internet, ovládanie jednoduchým nástenným ovládačom, podobná ako Atrea duplex 5 | G146: ks | H146: 1 | J146: =ROUND(I146*H146,2) -> 0 | N146: znížená | P146: =O146*H146 -> 0 | Q146: 0 | R146: =Q146*H146 -> 0 | S146: 0 | T146: =S146*H146 -> 0 | AR146: 64 | AT146: K | AU146: 2 | AY146: ROZPOCET | BE146: =IF(N146="základná",J146,0) -> 0 | BF146: =IF(N146="znížená",J146,0) -> 0 | BG146: =IF(N146="zákl. prenesená",J146,0) -> 0 | BH146: =IF(N146="zníž. prenesená",J146,0) -> 0 | BI146: =IF(N146="nulová",J146,0) -> 0 | BJ146: 2 | BK146: =ROUND(I146*H146,2) -> 0 | BL146: 64 | BM146: 26
C147: 14 | D147: K | E147: 2.02 | F147: Fasádna protidažďová mriežka 250x250, podobná ako Multivac WFK25 | G147: ks | H147: 2 | J147: =ROUND(I147*H147,2) -> 0 | N147: znížená | P147: =O147*H147 -> 0 | Q147: 0 | R147: =Q147*H147 -> 0 | S147: 0 | T147: =S147*H147 -> 0 | AR147: 64 | AT147: K | AU147: 2 | AY147: ROZPOCET | BE147: =IF(N147="základná",J147,0) -> 0 | BF147: =IF(N147="znížená",J147,0) -> 0 | BG147: =IF(N147="zákl. prenesená",J147,0) -> 0 | BH147: =IF(N147="zníž. prenesená",J147,0) -> 0 | BI147: =IF(N147="nulová",J147,0) -> 0 | BJ147: 2 | BK147: =ROUND(I147*H147,2) -> 0 | BL147: 64 | BM147: 28
C148: 15 | D148: K | E148: 2.03 | F148: Odvodná štvorhranná výustka 200x100 s reguláciou | G148: ks | H148: 4 | J148: =ROUND(I148*H148,2) -> 0 | N148: znížená | P148: =O148*H148 -> 0 | Q148: 0 | R148: =Q148*H148 -> 0 | S148: 0 | T148: =S148*H148 -> 0 | AR148: 64 | AT148: K | AU148: 2 | AY148: ROZPOCET | BE148: =IF(N148="základná",J148,0) -> 0 | BF148: =IF(N148="znížená",J148,0) -> 0 | BG148: =IF(N148="zákl. prenesená",J148,0) -> 0 | BH148: =IF(N148="zníž. prenesená",J148,0) -> 0 | BI148: =IF(N148="nulová",J148,0) -> 0 | BJ148: 2 | BK148: =ROUND(I148*H148,2) -> 0 | BL148: 64 | BM148: 30
C149: 16 | D149: K | E149: 2.04 | F149: Odvodný tanierový ventil D200 | G149: ks | H149: 1 | J149: =ROUND(I149*H149,2) -> 0 | N149: znížená | P149: =O149*H149 -> 0 | Q149: 0 | R149: =Q149*H149 -> 0 | S149: 0 | T149: =S149*H149 -> 0 | AR149: 64 | AT149: K | AU149: 2 | AY149: ROZPOCET | BE149: =IF(N149="základná",J149,0) -> 0 | BF149: =IF(N149="znížená",J149,0) -> 0 | BG149: =IF(N149="zákl. prenesená",J149,0) -> 0 | BH149: =IF(N149="zníž. prenesená",J149,0) -> 0 | BI149: =IF(N149="nulová",J149,0) -> 0 | BJ149: 2 | BK149: =ROUND(I149*H149,2) -> 0 | BL149: 64 | BM149: 32
C150: 17 | D150: K | E150: 2.05 | F150: Prívodná štvorhranná výustka 200x100 s reguláciou | G150: ks | H150: 5 | J150: =ROUND(I150*H150,2) -> 0 | N150: znížená | P150: =O150*H150 -> 0 | Q150: 0 | R150: =Q150*H150 -> 0 | S150: 0 | T150: =S150*H150 -> 0 | AR150: 64 | AT150: K | AU150: 2 | AY150: ROZPOCET | BE150: =IF(N150="základná",J150,0) -> 0 | BF150: =IF(N150="znížená",J150,0) -> 0 | BG150: =IF(N150="zákl. prenesená",J150,0) -> 0 | BH150: =IF(N150="zníž. prenesená",J150,0) -> 0 | BI150: =IF(N150="nulová",J150,0) -> 0 | BJ150: 2 | BK150: =ROUND(I150*H150,2) -> 0 | BL150: 64 | BM150: 34
C151: 18 | D151: K | E151: 2.06 | F151: Hluktlmiace flexibilné potrubie dn200, podobné ako Sonovac200 | G151: bm | H151: 4 | J151: =ROUND(I151*H151,2) -> 0 | N151: znížená | P151: =O151*H151 -> 0 | Q151: 0 | R151: =Q151*H151 -> 0 | S151: 0 | T151: =S151*H151 -> 0 | AR151: 64 | AT151: K | AU151: 2 | AY151: ROZPOCET | BE151: =IF(N151="základná",J151,0) -> 0 | BF151: =IF(N151="znížená",J151,0) -> 0 | BG151: =IF(N151="zákl. prenesená",J151,0) -> 0 | BH151: =IF(N151="zníž. prenesená",J151,0) -> 0 | BI151: =IF(N151="nulová",J151,0) -> 0 | BJ151: 2 | BK151: =ROUND(I151*H151,2) -> 0 | BL151: 64 | BM151: 36
C152: 19 | D152: K | E152: 2.07 | F152: Potrubie kruhové, špirálne, pozinkované, DN125 do 30% tvarovky | G152: bm | H152: 10 | J152: =ROUND(I152*H152,2) -> 0 | N152: znížená | P152: =O152*H152 -> 0 | Q152: 0 | R152: =Q152*H152 -> 0 | S152: 0 | T152: =S152*H152 -> 0 | AR152: 64 | AT152: K | AU152: 2 | AY152: ROZPOCET | BE152: =IF(N152="základná",J152,0) -> 0 | BF152: =IF(N152="znížená",J152,0) -> 0 | BG152: =IF(N152="zákl. prenesená",J152,0) -> 0 | BH152: =IF(N152="zníž. prenesená",J152,0) -> 0 | BI152: =IF(N152="nulová",J152,0) -> 0 | BJ152: 2 | BK152: =ROUND(I152*H152,2) -> 0 | BL152: 64 | BM152: 38
C153: 20 | D153: K | E153: 2.08 | F153: Potrubie kruhové, špirálne, pozinkované, DN160 do 30% tvarovky | G153: bm | H153: 32 | J153: =ROUND(I153*H153,2) -> 0 | N153: znížená | P153: =O153*H153 -> 0 | Q153: 0 | R153: =Q153*H153 -> 0 | S153: 0 | T153: =S153*H153 -> 0 | AR153: 64 | AT153: K | AU153: 2 | AY153: ROZPOCET | BE153: =IF(N153="základná",J153,0) -> 0 | BF153: =IF(N153="znížená",J153,0) -> 0 | BG153: =IF(N153="zákl. prenesená",J153,0) -> 0 | BH153: =IF(N153="zníž. prenesená",J153,0) -> 0 | BI153: =IF(N153="nulová",J153,0) -> 0 | BJ153: 2 | BK153: =ROUND(I153*H153,2) -> 0 | BL153: 64 | BM153: 40
C154: 21 | D154: K | E154: 2.09 | F154: Potrubie kruhové, špirálne, pozinkované, DN200 do 30% tvarovky | G154: bm | H154: 16 | J154: =ROUND(I154*H154,2) -> 0 | N154: znížená | P154: =O154*H154 -> 0 | Q154: 0 | R154: =Q154*H154 -> 0 | S154: 0 | T154: =S154*H154 -> 0 | AR154: 64 | AT154: K | AU154: 2 | AY154: ROZPOCET | BE154: =IF(N154="základná",J154,0) -> 0 | BF154: =IF(N154="znížená",J154,0) -> 0 | BG154: =IF(N154="zákl. prenesená",J154,0) -> 0 | BH154: =IF(N154="zníž. prenesená",J154,0) -> 0 | BI154: =IF(N154="nulová",J154,0) -> 0 | BJ154: 2 | BK154: =ROUND(I154*H154,2) -> 0 | BL154: 64 | BM154: 42
C155: 22 | D155: K | E155: 2.10 | F155: Montáž rekuperačnej jednotky | G155: hod | H155: 4.74 | J155: =ROUND(I155*H155,2) -> 0 | N155: znížená | P155: =O155*H155 -> 0 | Q155: 0 | R155: =Q155*H155 -> 0 | S155: 0 | T155: =S155*H155 -> 0 | AR155: 64 | AT155: K | AU155: 2 | AY155: ROZPOCET | BE155: =IF(N155="základná",J155,0) -> 0 | BF155: =IF(N155="znížená",J155,0) -> 0 | BG155: =IF(N155="zákl. prenesená",J155,0) -> 0 | BH155: =IF(N155="zníž. prenesená",J155,0) -> 0 | BI155: =IF(N155="nulová",J155,0) -> 0 | BJ155: 2 | BK155: =ROUND(I155*H155,2) -> 0 | BL155: 64 | BM155: 44
C156: 23 | D156: K | E156: 2.11 | F156: Montáž výfukovej mriežky | G156: hod | H156: 1.5 | J156: =ROUND(I156*H156,2) -> 0 | N156: znížená | P156: =O156*H156 -> 0 | Q156: 0 | R156: =Q156*H156 -> 0 | S156: 0 | T156: =S156*H156 -> 0 | AR156: 64 | AT156: K | AU156: 2 | AY156: ROZPOCET | BE156: =IF(N156="základná",J156,0) -> 0 | BF156: =IF(N156="znížená",J156,0) -> 0 | BG156: =IF(N156="zákl. prenesená",J156,0) -> 0 | BH156: =IF(N156="zníž. prenesená",J156,0) -> 0 | BI156: =IF(N156="nulová",J156,0) -> 0 | BJ156: 2 | BK156: =ROUND(I156*H156,2) -> 0 | BL156: 64 | BM156: 46
C157: 24 | D157: K | E157: 2.12 | F157: Montáž tanierového ventila, výustky | G157: hod | H157: 5.5 | J157: =ROUND(I157*H157,2) -> 0 | N157: znížená | P157: =O157*H157 -> 0 | Q157: 0 | R157: =Q157*H157 -> 0 | S157: 0 | T157: =S157*H157 -> 0 | AR157: 64 | AT157: K | AU157: 2 | AY157: ROZPOCET | BE157: =IF(N157="základná",J157,0) -> 0 | BF157: =IF(N157="znížená",J157,0) -> 0 | BG157: =IF(N157="zákl. prenesená",J157,0) -> 0 | BH157: =IF(N157="zníž. prenesená",J157,0) -> 0 | BI157: =IF(N157="nulová",J157,0) -> 0 | BJ157: 2 | BK157: =ROUND(I157*H157,2) -> 0 | BL157: 64 | BM157: 48
... C159: 26 | D159: K | E159: 2.14 | F159: Pomocný a montážny materiál | G159: kg | H159: 18.15 | J159: =ROUND(I159*H159,2) -> 0 | N159: znížená | P159: =O159*H159 -> 0 | Q159: 0 | R159: =Q159*H159 -> 0 | S159: 0 | T159: =S159*H159 -> 0 | AR159: 64 | AT159: K | AU159: 2 | AY159: ROZPOCET | BE159: =IF(N159="základná",J159,0) -> 0 | BF159: =IF(N159="znížená",J159,0) -> 0 | BG159: =IF(N159="zákl. prenesená",J159,0) -> 0 | BH159: =IF(N159="zníž. prenesená",J159,0) -> 0 | BI159: =IF(N159="nulová",J159,0) -> 0 | BJ159: 2 | BK159: =ROUND(I159*H159,2) -> 0 | BL159: 64 | BM159: 52
D160: D | E160: 3. | F160: Vetranie izieb | J160: =BK160 -> 0 | P160: =SUM(P161:P179) -> 0 | R160: =SUM(R161:R179) -> 0 | T160: =SUM(T161:T179) -> 0 | AR160: 1 | AT160: D | AU160: 1 | AY160: ROZPOCET | BK160: =SUM(BK161:BK179) -> 0
C161: 27 | D161: K | E161: 3.01 | F161: Nástenná rekuperačná vzduchotechnická jednotka 560m3/h, 100Pa s vybavená filtráciou G4, elektrickým dohrevom, s autonómnym riadiacim systémom s možnosťou vzdialenej správy cez internet, ovládanie jednoduchým nástenným ovládačom, podobná ako Atrea duplex 5 | G161: ks | H161: 3 | J161: =ROUND(I161*H161,2) -> 0 | N161: znížená | P161: =O161*H161 -> 0 | Q161: 0 | R161: =Q161*H161 -> 0 | S161: 0 | T161: =S161*H161 -> 0 | AR161: 64 | AT161: K | AU161: 2 | AY161: ROZPOCET | BE161: =IF(N161="základná",J161,0) -> 0 | BF161: =IF(N161="znížená",J161,0) -> 0 | BG161: =IF(N161="zákl. prenesená",J161,0) -> 0 | BH161: =IF(N161="zníž. prenesená",J161,0) -> 0 | BI161: =IF(N161="nulová",J161,0) -> 0 | BJ161: 2 | BK161: =ROUND(I161*H161,2) -> 0 | BL161: 64 | BM161: 54
C162: 28 | D162: K | E162: 3.02 | F162: Fasádna protidažďová mriežka 250x250, podobná ako Multivac WFK25 | G162: ks | H162: 6 | J162: =ROUND(I162*H162,2) -> 0 | N162: znížená | P162: =O162*H162 -> 0 | Q162: 0 | R162: =Q162*H162 -> 0 | S162: 0 | T162: =S162*H162 -> 0 | AR162: 64 | AT162: K | AU162: 2 | AY162: ROZPOCET | BE162: =IF(N162="základná",J162,0) -> 0 | BF162: =IF(N162="znížená",J162,0) -> 0 | BG162: =IF(N162="zákl. prenesená",J162,0) -> 0 | BH162: =IF(N162="zníž. prenesená",J162,0) -> 0 | BI162: =IF(N162="nulová",J162,0) -> 0 | BJ162: 2 | BK162: =ROUND(I162*H162,2) -> 0 | BL162: 64 | BM162: 56
C163: 29 | D163: K | E163: 3.03 | F163: Odvodný tanierový ventil D100 | G163: ks | H163: 16 | J163: =ROUND(I163*H163,2) -> 0 | N163: znížená | P163: =O163*H163 -> 0 | Q163: 0 | R163: =Q163*H163 -> 0 | S163: 0 | T163: =S163*H163 -> 0 | AR163: 64 | AT163: K | AU163: 2 | AY163: ROZPOCET | BE163: =IF(N163="základná",J163,0) -> 0 | BF163: =IF(N163="znížená",J163,0) -> 0 | BG163: =IF(N163="zákl. prenesená",J163,0) -> 0 | BH163: =IF(N163="zníž. prenesená",J163,0) -> 0 | BI163: =IF(N163="nulová",J163,0) -> 0 | BJ163: 2 | BK163: =ROUND(I163*H163,2) -> 0 | BL163: 64 | BM163: 58
C164: 30 | D164: K | E164: 3.04 | F164: Odvodný tanierový ventil D125 | G164: ks | H164: 3 | J164: =ROUND(I164*H164,2) -> 0 | N164: znížená | P164: =O164*H164 -> 0 | Q164: 0 | R164: =Q164*H164 -> 0 | S164: 0 | T164: =S164*H164 -> 0 | AR164: 64 | AT164: K | AU164: 2 | AY164: ROZPOCET | BE164: =IF(N164="základná",J164,0) -> 0 | BF164: =IF(N164="znížená",J164,0) -> 0 | BG164: =IF(N164="zákl. prenesená",J164,0) -> 0 | BH164: =IF(N164="zníž. prenesená",J164,0) -> 0 | BI164: =IF(N164="nulová",J164,0) -> 0 | BJ164: 2 | BK164: =ROUND(I164*H164,2) -> 0 | BL164: 64 | BM164: 60
...

Sheet d2 - E1.6b  Vzduchotechni...
AT2: {e3b130e3-0a60-4dfb-9945-a94e46d1a37b}
AT3: 0
D4: KRYCÍ LIST ROZPOČTU | M4: v --- nižšie sa nachádzajú doplnkové a pomocné údaje k zostavám --- v | AT4: False
D6: Stavba:
E7: ='Rekapitulácia stavby'!K6 -> Sociálno-zdravotné nízkokapacitné zariadenie s kapacitou 24 miest - CSS LÚČ
D8: Objekt:
E9: 01 - SO-01 Navrhovaný objekt stavby CSS Lúč - prístavba a prestavba
D10: Časť:
E11: d2 - E1.6b Vzduchotechnické zariadenia - prístavba
D13: JKSO: | I13: ČS:
D14: Miesto: | F14: Bytča | I14: Dátum: | J14: ='Rekapitulácia stavby'!AN8 -> 22. 6. 2026
D16: Objednávateľ: | I16: IČO:
E17: Centrum sociálnych služieb LÚČ | I17: IČ DPH:
D19: Zhotoviteľ: | I19: IČO: | J19: ='Rekapitulácia stavby'!AN13 -> Vyplň údaj
E20: ='Rekapitulácia stavby'!E14 -> Vyplň údaj | I20: IČ DPH: | J20: ='Rekapitulácia stavby'!AN14 -> Vyplň údaj
D22: Projektant: | I22: IČO:
E23: expo AIR s.r.o. | I23: IČ DPH:
D25: Spracovateľ: | I25: IČO:
E26: Ing. Štefan Glovaťák | I26: IČ DPH:
D28: Poznámka:
E29: V prípade výskytu obchodných názvov výrobkov a technológií, tieto majú informatívny charakter a slúžia ako minimálny štandard. Sú uvedené ako referenčná kvalita a môžu byť nahradené ekvivalentným výrobkom, ktorý má rovnaké, alebo lepšie vlastnosti a parametre. Neoddeliteľnou súčasťou Výkazu výmer je Projektová dokumentácia stavby.
D32: Cena bez DPH | J32: =ROUND(J125, 2) -> 0
F34: Základ dane | I34: Sadzba dane | J34: Výška dane
D35: DPH | E35: základná | F35: =ROUND((SUM(BE125:BE177)), 2) -> 0 | I35: 0.23 | J35: =ROUND(((SUM(BE125:BE177))*I35), 2) -> 0
E36: znížená | F36: =ROUND((SUM(BF125:BF177)), 2) -> 0 | I36: 0.23 | J36: =ROUND(((SUM(BF125:BF177))*I36), 2) -> 0
E37: zákl. prenesená | F37: =ROUND((SUM(BG125:BG177)), 2) -> 0 | I37: 0.23 | J37: =0 -> 0
E38: zníž. prenesená | F38: =ROUND((SUM(BH125:BH177)), 2) -> 0 | I38: 0.23 | J38: =0 -> 0
E39: nulová | F39: =ROUND((SUM(BI125:BI177)), 2) -> 0 | I39: 0 | J39: =0 -> 0
D41: Cena s DPH | G41: v | H41: EUR | J41: =SUM(J32:J39) -> 0
D50: Projektant | G50: Spracovateľ
D61: Dátum a podpis: | F61: Pečiatka | G61: Dátum a podpis: | J61: Pečiatka
D65: Objednávateľ | G65: Zhotoviteľ
D76: Dátum a podpis: | F76: Pečiatka | G76: Dátum a podpis: | J76: Pečiatka
C82: REKAPITULÁCIA ROZPOČTU
C84: Stavba:
E85: =E7 -> Sociálno-zdravotné nízkokapacitné zariadenie s kapacitou 24 miest - CSS LÚČ
C86: Objekt:
E87: 01 - SO-01 Navrhovaný objekt stavby CSS Lúč - prístavba a prestavba
C88: Časť:
E89: =E11 -> d2 - E1.6b Vzduchotechnické zariadenia - prístavba
C91: Miesto: | F91: =F14 -> Bytča | I91: Dátum: | J91: =IF(J14="","",J14) -> 22. 6. 2026
C93: Objednávateľ: | F93: =E17 -> Centrum sociálnych služieb LÚČ | I93: Projektant: | J93: =E23 -> expo AIR s.r.o.
C94: Zhotoviteľ: | F94: =IF(E20="","",E20) -> Vyplň údaj | I94: Spracovateľ: | J94: =E26 -> Ing. Štefan Glovaťák
C96: Kód dielu - Popis | J96: Cena celkom [EUR]
C98: Náklady z rozpočtu | J98: =J125 -> 0 | AU98: -1
D99: B - Vzduchotechnika prístavba | J99: =J126 -> 0
D100: 9. - Vetranie izolačky | J100: =J127 -> 0
D101: 10. - Vetranie práčovne | J101: =J142 -> 0
D102: 11. - Vetranie priestorov šatne | J102: =J160 -> 0
D103: 95-M - Sprevádzkovanie a revízie | J103: =J175 -> 0
C110: ROZPOČET
C112: Stavba:
E113: =E7 -> Sociálno-zdravotné nízkokapacitné zariadenie s kapacitou 24 miest - CSS LÚČ
C114: Objekt:
E115: 01 - SO-01 Navrhovaný objekt stavby CSS Lúč - prístavba a prestavba
C116: Časť:
E117: =E11 -> d2 - E1.6b Vzduchotechnické zariadenia - prístavba
C119: Miesto: | F119: =F14 -> Bytča | I119: Dátum: | J119: =IF(J14="","",J14) -> 22. 6. 2026
C121: Objednávateľ: | F121: =E17 -> Centrum sociálnych služieb LÚČ | I121: Projektant: | J121: =E23 -> expo AIR s.r.o.
C122: Zhotoviteľ: | F122: =IF(E20="","",E20) -> Vyplň údaj | I122: Spracovateľ: | J122: =E26 -> Ing. Štefan Glovaťák
C124: PČ | D124: Typ | E124: Kód | F124: Popis | G124: MJ | H124: Množstvo | I124: J.cena [EUR] | J124: Cena celkom [EUR] | K124: Cenová sústava | N124: DPH | O124: J. Nh [h] | P124: Nh celkom [h] | Q124: J. hmotnosť [t] | R124: Hmotnosť celkom [t] | S124: J. suť [t] | T124: Suť Celkom [t]
C125: Náklady z rozpočtu | J125: =BK125 -> 0 | P125: =P126 -> 0 | R125: =R126 -> 0 | T125: =T126 -> 0 | AT125: D | AU125: -1 | BK125: =BK126 -> 0
D126: D | E126: B | F126: Vzduchotechnika prístavba | J126: =BK126 -> 0 | P126: =P127+P142+P160+P175 -> 0 | R126: =R127+R142+R160+R175 -> 0 | T126: =T127+T142+T160+T175 -> 0 | AR126: 3 | AT126: D | AU126: 0 | AY126: ROZPOCET | BK126: =BK127+BK142+BK160+BK175 -> 0
D127: D | E127: 9. | F127: Vetranie izolačky | J127: =BK127 -> 0 | P127: =SUM(P128:P141) -> 0 | R127: =SUM(R128:R141) -> 0 | T127: =SUM(T128:T141) -> 0 | AR127: 1 | AT127: D | AU127: 1 | AY127: ROZPOCET | BK127: =SUM(BK128:BK141) -> 0
C128: 1 | D128: K | E128: 9.01 | F128: Podstropná rekuperačná vzduchotechnická jednotka 150m3/h, 100Pa s vybavená filtráciou G4, elektrickým dohrevom, s autonómnym riadiacim systémom s možnosťou vzdialenej správy cez internet, ovládanie jednoduchým nástenným ovládačom, podobná ako Atrea duplex | G128: ks | H128: 1 | J128: =ROUND(I128*H128,2) -> 0 | N128: znížená | P128: =O128*H128 -> 0 | Q128: 0 | R128: =Q128*H128 -> 0 | S128: 0 | T128: =S128*H128 -> 0 | AR128: 64 | AT128: K | AU128: 2 | AY128: ROZPOCET | BE128: =IF(N128="základná",J128,0) -> 0 | BF128: =IF(N128="znížená",J128,0) -> 0 | BG128: =IF(N128="zákl. prenesená",J128,0) -> 0 | BH128: =IF(N128="zníž. prenesená",J128,0) -> 0 | BI128: =IF(N128="nulová",J128,0) -> 0 | BJ128: 2 | BK128: =ROUND(I128*H128,2) -> 0 | BL128: 64 | BM128: 210
C129: 2 | D129: K | E129: 9.02 | F129: Potrubný PWM ohrievač elektrický z tepelných článkov riadený signálom z rekuperačnej jednotky | G129: ks | H129: 1 | J129: =ROUND(I129*H129,2) -> 0 | N129: znížená | P129: =O129*H129 -> 0 | Q129: 0 | R129: =Q129*H129 -> 0 | S129: 0 | T129: =S129*H129 -> 0 | AR129: 64 | AT129: K | AU129: 2 | AY129: ROZPOCET | BE129: =IF(N129="základná",J129,0) -> 0 | BF129: =IF(N129="znížená",J129,0) -> 0 | BG129: =IF(N129="zákl. prenesená",J129,0) -> 0 | BH129: =IF(N129="zníž. prenesená",J129,0) -> 0 | BI129: =IF(N129="nulová",J129,0) -> 0 | BJ129: 2 | BK129: =ROUND(I129*H129,2) -> 0 | BL129: 64 | BM129: 212
C130: 3 | D130: K | E130: 9.03 | F130: Fasádna protidažďová mriežka 160x160, podobná ako Multivac WFK16 | G130: ks | H130: 2 | J130: =ROUND(I130*H130,2) -> 0 | N130: znížená | P130: =O130*H130 -> 0 | Q130: 0 | R130: =Q130*H130 -> 0 | S130: 0 | T130: =S130*H130 -> 0 | AR130: 64 | AT130: K | AU130: 2 | AY130: ROZPOCET | BE130: =IF(N130="základná",J130,0) -> 0 | BF130: =IF(N130="znížená",J130,0) -> 0 | BG130: =IF(N130="zákl. prenesená",J130,0) -> 0 | BH130: =IF(N130="zníž. prenesená",J130,0) -> 0 | BI130: =IF(N130="nulová",J130,0) -> 0 | BJ130: 2 | BK130: =ROUND(I130*H130,2) -> 0 | BL130: 64 | BM130: 214
C131: 4 | D131: K | E131: 9.04 | F131: Prívodný tanierový ventil D100 | G131: ks | H131: 2 | J131: =ROUND(I131*H131,2) -> 0 | N131: znížená | P131: =O131*H131 -> 0 | Q131: 0 | R131: =Q131*H131 -> 0 | S131: 0 | T131: =S131*H131 -> 0 | AR131: 64 | AT131: K | AU131: 2 | AY131: ROZPOCET | BE131: =IF(N131="základná",J131,0) -> 0 | BF131: =IF(N131="znížená",J131,0) -> 0 | BG131: =IF(N131="zákl. prenesená",J131,0) -> 0 | BH131: =IF(N131="zníž. prenesená",J131,0) -> 0 | BI131: =IF(N131="nulová",J131,0) -> 0 | BJ131: 2 | BK131: =ROUND(I131*H131,2) -> 0 | BL131: 64 | BM131: 216
C132: 5 | D132: K | E132: 9.05 | F132: Odvodný tanierový ventil D100 | G132: ks | H132: 2 | J132: =ROUND(I132*H132,2) -> 0 | N132: znížená | P132: =O132*H132 -> 0 | Q132: 0 | R132: =Q132*H132 -> 0 | S132: 0 | T132: =S132*H132 -> 0 | AR132: 64 | AT132: K | AU132: 2 | AY132: ROZPOCET | BE132: =IF(N132="základná",J132,0) -> 0 | BF132: =IF(N132="znížená",J132,0) -> 0 | BG132: =IF(N132="zákl. prenesená",J132,0) -> 0 | BH132: =IF(N132="zníž. prenesená",J132,0) -> 0 | BI132: =IF(N132="nulová",J132,0) -> 0 | BJ132: 2 | BK132: =ROUND(I132*H132,2) -> 0 | BL132: 64 | BM132: 218
C133: 6 | D133: K | E133: 9.06 | F133: Potrubie kruhové, špirálne, pozinkované, DN100 do 30% tvarovky | G133: bm | H133: 4 | J133: =ROUND(I133*H133,2) -> 0 | N133: znížená | P133: =O133*H133 -> 0 | Q133: 0 | R133: =Q133*H133 -> 0 | S133: 0 | T133: =S133*H133 -> 0 | AR133: 64 | AT133: K | AU133: 2 | AY133: ROZPOCET | BE133: =IF(N133="základná",J133,0) -> 0 | BF133: =IF(N133="znížená",J133,0) -> 0 | BG133: =IF(N133="zákl. prenesená",J133,0) -> 0 | BH133: =IF(N133="zníž. prenesená",J133,0) -> 0 | BI133: =IF(N133="nulová",J133,0) -> 0 | BJ133: 2 | BK133: =ROUND(I133*H133,2) -> 0 | BL133: 64 | BM133: 220
C134: 7 | D134: K | E134: 9.07 | F134: Potrubie kruhové, špirálne, pozinkované, DN125 do 30% tvarovky | G134: bm | H134: 2 | J134: =ROUND(I134*H134,2) -> 0 | N134: znížená | P134: =O134*H134 -> 0 | Q134: 0 | R134: =Q134*H134 -> 0 | S134: 0 | T134: =S134*H134 -> 0 | AR134: 64 | AT134: K | AU134: 2 | AY134: ROZPOCET | BE134: =IF(N134="základná",J134,0) -> 0 | BF134: =IF(N134="znížená",J134,0) -> 0 | BG134: =IF(N134="zákl. prenesená",J134,0) -> 0 | BH134: =IF(N134="zníž. prenesená",J134,0) -> 0 | BI134: =IF(N134="nulová",J134,0) -> 0 | BJ134: 2 | BK134: =ROUND(I134*H134,2) -> 0 | BL134: 64 | BM134: 222
C135: 8 | D135: K | E135: 9.08 | F135: Hluktlmiace flexibilné potrubie dn125, podobné ako Sonovac125 | G135: bm | H135: 4 | J135: =ROUND(I135*H135,2) -> 0 | N135: znížená | P135: =O135*H135 -> 0 | Q135: 0 | R135: =Q135*H135 -> 0 | S135: 0 | T135: =S135*H135 -> 0 | AR135: 64 | AT135: K | AU135: 2 | AY135: ROZPOCET | BE135: =IF(N135="základná",J135,0) -> 0 | BF135: =IF(N135="znížená",J135,0) -> 0 | BG135: =IF(N135="zákl. prenesená",J135,0) -> 0 | BH135: =IF(N135="zníž. prenesená",J135,0) -> 0 | BI135: =IF(N135="nulová",J135,0) -> 0 | BJ135: 2 | BK135: =ROUND(I135*H135,2) -> 0 | BL135: 64 | BM135: 224
C136: 9 | D136: K | E136: 9.09 | F136: Hliníkové flexibilné potrubie dn100, podobné ako Aluvac100 | G136: bm | H136: 2 | J136: =ROUND(I136*H136,2) -> 0 | N136: znížená | P136: =O136*H136 -> 0 | Q136: 0 | R136: =Q136*H136 -> 0 | S136: 0 | T136: =S136*H136 -> 0 | AR136: 64 | AT136: K | AU136: 2 | AY136: ROZPOCET | BE136: =IF(N136="základná",J136,0) -> 0 | BF136: =IF(N136="znížená",J136,0) -> 0 | BG136: =IF(N136="zákl. prenesená",J136,0) -> 0 | BH136: =IF(N136="zníž. prenesená",J136,0) -> 0 | BI136: =IF(N136="nulová",J136,0) -> 0 | BJ136: 2 | BK136: =ROUND(I136*H136,2) -> 0 | BL136: 64 | BM136: 226
C137: 10 | D137: K | E137: 9.10 | F137: Montáž rekuperačnej jednotky a ohrievača | G137: hod | H137: 4.32 | J137: =ROUND(I137*H137,2) -> 0 | N137: znížená | P137: =O137*H137 -> 0 | Q137: 0 | R137: =Q137*H137 -> 0 | S137: 0 | T137: =S137*H137 -> 0 | AR137: 64 | AT137: K | AU137: 2 | AY137: ROZPOCET | BE137: =IF(N137="základná",J137,0) -> 0 | BF137: =IF(N137="znížená",J137,0) -> 0 | BG137: =IF(N137="zákl. prenesená",J137,0) -> 0 | BH137: =IF(N137="zníž. prenesená",J137,0) -> 0 | BI137: =IF(N137="nulová",J137,0) -> 0 | BJ137: 2 | BK137: =ROUND(I137*H137,2) -> 0 | BL137: 64 | BM137: 228
C138: 11 | D138: K | E138: 9.11 | F138: Montáž protidažďovej a krycej mriežky | G138: hod | H138: 1.5 | J138: =ROUND(I138*H138,2) -> 0 | N138: znížená | P138: =O138*H138 -> 0 | Q138: 0 | R138: =Q138*H138 -> 0 | S138: 0 | T138: =S138*H138 -> 0 | AR138: 64 | AT138: K | AU138: 2 | AY138: ROZPOCET | BE138: =IF(N138="základná",J138,0) -> 0 | BF138: =IF(N138="znížená",J138,0) -> 0 | BG138: =IF(N138="zákl. prenesená",J138,0) -> 0 | BH138: =IF(N138="zníž. prenesená",J138,0) -> 0 | BI138: =IF(N138="nulová",J138,0) -> 0 | BJ138: 2 | BK138: =ROUND(I138*H138,2) -> 0 | BL138: 64 | BM138: 230
C139: 12 | D139: K | E139: 9.12 | F139: Montáž tanierového ventila | G139: hod | H139: 2.19 | J139: =ROUND(I139*H139,2) -> 0 | N139: znížená | P139: =O139*H139 -> 0 | Q139: 0 | R139: =Q139*H139 -> 0 | S139: 0 | T139: =S139*H139 -> 0 | AR139: 64 | AT139: K | AU139: 2 | AY139: ROZPOCET | BE139: =IF(N139="základná",J139,0) -> 0 | BF139: =IF(N139="znížená",J139,0) -> 0 | BG139: =IF(N139="zákl. prenesená",J139,0) -> 0 | BH139: =IF(N139="zníž. prenesená",J139,0) -> 0 | BI139: =IF(N139="nulová",J139,0) -> 0 | BJ139: 2 | BK139: =ROUND(I139*H139,2) -> 0 | BL139: 64 | BM139: 232
... C141: 14 | D141: K | E141: 9.14 | F141: Pomocný a montážny materiál | G141: kg | H141: 7.6 | J141: =ROUND(I141*H141,2) -> 0 | N141: znížená | P141: =O141*H141 -> 0 | Q141: 0 | R141: =Q141*H141 -> 0 | S141: 0 | T141: =S141*H141 -> 0 | AR141: 64 | AT141: K | AU141: 2 | AY141: ROZPOCET | BE141: =IF(N141="základná",J141,0) -> 0 | BF141: =IF(N141="znížená",J141,0) -> 0 | BG141: =IF(N141="zákl. prenesená",J141,0) -> 0 | BH141: =IF(N141="zníž. prenesená",J141,0) -> 0 | BI141: =IF(N141="nulová",J141,0) -> 0 | BJ141: 2 | BK141: =ROUND(I141*H141,2) -> 0 | BL141: 64 | BM141: 236
D142: D | E142: 10. | F142: Vetranie práčovne | J142: =BK142 -> 0 | P142: =SUM(P143:P159) -> 0 | R142: =SUM(R143:R159) -> 0 | T142: =SUM(T143:T159) -> 0 | AR142: 1 | AT142: D | AU142: 1 | AY142: ROZPOCET | BK142: =SUM(BK143:BK159) -> 0
C143: 15 | D143: K | E143: 10.01 | F143: Nástenná rekuperačná vzduchotechnická jednotka 550m3/h, 100Pa s vybavená filtráciou G4, elektrickým dohrevom, s autonómnym riadiacim systémom s možnosťou vzdialenej správy cez internet, ovládanie jednoduchým nástenným ovládačom, podobná ako Atrea duplex 5 | G143: ks | H143: 1 | J143: =ROUND(I143*H143,2) -> 0 | N143: znížená | P143: =O143*H143 -> 0 | Q143: 0 | R143: =Q143*H143 -> 0 | S143: 0 | T143: =S143*H143 -> 0 | AR143: 64 | AT143: K | AU143: 2 | AY143: ROZPOCET | BE143: =IF(N143="základná",J143,0) -> 0 | BF143: =IF(N143="znížená",J143,0) -> 0 | BG143: =IF(N143="zákl. prenesená",J143,0) -> 0 | BH143: =IF(N143="zníž. prenesená",J143,0) -> 0 | BI143: =IF(N143="nulová",J143,0) -> 0 | BJ143: 2 | BK143: =ROUND(I143*H143,2) -> 0 | BL143: 64 | BM143: 238
C144: 16 | D144: K | E144: 10.02 | F144: Fasádna protidažďová mriežka 250x250, podobná ako Multivac WFK25 | G144: ks | H144: 2 | J144: =ROUND(I144*H144,2) -> 0 | N144: znížená | P144: =O144*H144 -> 0 | Q144: 0 | R144: =Q144*H144 -> 0 | S144: 0 | T144: =S144*H144 -> 0 | AR144: 64 | AT144: K | AU144: 2 | AY144: ROZPOCET | BE144: =IF(N144="základná",J144,0) -> 0 | BF144: =IF(N144="znížená",J144,0) -> 0 | BG144: =IF(N144="zákl. prenesená",J144,0) -> 0 | BH144: =IF(N144="zníž. prenesená",J144,0) -> 0 | BI144: =IF(N144="nulová",J144,0) -> 0 | BJ144: 2 | BK144: =ROUND(I144*H144,2) -> 0 | BL144: 64 | BM144: 240
C145: 17 | D145: K | E145: 10.03 | F145: Odvodný tanierový ventil D160 | G145: ks | H145: 3 | J145: =ROUND(I145*H145,2) -> 0 | N145: znížená | P145: =O145*H145 -> 0 | Q145: 0 | R145: =Q145*H145 -> 0 | S145: 0 | T145: =S145*H145 -> 0 | AR145: 64 | AT145: K | AU145: 2 | AY145: ROZPOCET | BE145: =IF(N145="základná",J145,0) -> 0 | BF145: =IF(N145="znížená",J145,0) -> 0 | BG145: =IF(N145="zákl. prenesená",J145,0) -> 0 | BH145: =IF(N145="zníž. prenesená",J145,0) -> 0 | BI145: =IF(N145="nulová",J145,0) -> 0 | BJ145: 2 | BK145: =ROUND(I145*H145,2) -> 0 | BL145: 64 | BM145: 242
C146: 18 | D146: K | E146: 10.04 | F146: Odvodný tanierový ventil D100 | G146: ks | H146: 1 | J146: =ROUND(I146*H146,2) -> 0 | N146: znížená | P146: =O146*H146 -> 0 | Q146: 0 | R146: =Q146*H146 -> 0 | S146: 0 | T146: =S146*H146 -> 0 | AR146: 64 | AT146: K | AU146: 2 | AY146: ROZPOCET | BE146: =IF(N146="základná",J146,0) -> 0 | BF146: =IF(N146="znížená",J146,0) -> 0 | BG146: =IF(N146="zákl. prenesená",J146,0) -> 0 | BH146: =IF(N146="zníž. prenesená",J146,0) -> 0 | BI146: =IF(N146="nulová",J146,0) -> 0 | BJ146: 2 | BK146: =ROUND(I146*H146,2) -> 0 | BL146: 64 | BM146: 244
C147: 19 | D147: K | E147: 10.05 | F147: Prívodný tanierový ventil D160 | G147: ks | H147: 2 | J147: =ROUND(I147*H147,2) -> 0 | N147: znížená | P147: =O147*H147 -> 0 | Q147: 0 | R147: =Q147*H147 -> 0 | S147: 0 | T147: =S147*H147 -> 0 | AR147: 64 | AT147: K | AU147: 2 | AY147: ROZPOCET | BE147: =IF(N147="základná",J147,0) -> 0 | BF147: =IF(N147="znížená",J147,0) -> 0 | BG147: =IF(N147="zákl. prenesená",J147,0) -> 0 | BH147: =IF(N147="zníž. prenesená",J147,0) -> 0 | BI147: =IF(N147="nulová",J147,0) -> 0 | BJ147: 2 | BK147: =ROUND(I147*H147,2) -> 0 | BL147: 64 | BM147: 246
C148: 20 | D148: K | E148: 10.06 | F148: Prívodný tanierový ventil D100 | G148: ks | H148: 2 | J148: =ROUND(I148*H148,2) -> 0 | N148: znížená | P148: =O148*H148 -> 0 | Q148: 0 | R148: =Q148*H148 -> 0 | S148: 0 | T148: =S148*H148 -> 0 | AR148: 64 | AT148: K | AU148: 2 | AY148: ROZPOCET | BE148: =IF(N148="základná",J148,0) -> 0 | BF148: =IF(N148="znížená",J148,0) -> 0 | BG148: =IF(N148="zákl. prenesená",J148,0) -> 0 | BH148: =IF(N148="zníž. prenesená",J148,0) -> 0 | BI148: =IF(N148="nulová",J148,0) -> 0 | BJ148: 2 | BK148: =ROUND(I148*H148,2) -> 0 | BL148: 64 | BM148: 248
C149: 21 | D149: K | E149: 10.07 | F149: Hluktlmiace flexibilné potrubie dn200, podobné ako Sonovac200 | G149: bm | H149: 4 | J149: =ROUND(I149*H149,2) -> 0 | N149: znížená | P149: =O149*H149 -> 0 | Q149: 0 | R149: =Q149*H149 -> 0 | S149: 0 | T149: =S149*H149 -> 0 | AR149: 64 | AT149: K | AU149: 2 | AY149: ROZPOCET | BE149: =IF(N149="základná",J149,0) -> 0 | BF149: =IF(N149="znížená",J149,0) -> 0 | BG149: =IF(N149="zákl. prenesená",J149,0) -> 0 | BH149: =IF(N149="zníž. prenesená",J149,0) -> 0 | BI149: =IF(N149="nulová",J149,0) -> 0 | BJ149: 2 | BK149: =ROUND(I149*H149,2) -> 0 | BL149: 64 | BM149: 250
C150: 22 | D150: K | E150: 10.08 | F150: Potrubie kruhové, špirálne, pozinkované, DN100 do 30% tvarovky | G150: bm | H150: 2 | J150: =ROUND(I150*H150,2) -> 0 | N150: znížená | P150: =O150*H150 -> 0 | Q150: 0 | R150: =Q150*H150 -> 0 | S150: 0 | T150: =S150*H150 -> 0 | AR150: 64 | AT150: K | AU150: 2 | AY150: ROZPOCET | BE150: =IF(N150="základná",J150,0) -> 0 | BF150: =IF(N150="znížená",J150,0) -> 0 | BG150: =IF(N150="zákl. prenesená",J150,0) -> 0 | BH150: =IF(N150="zníž. prenesená",J150,0) -> 0 | BI150: =IF(N150="nulová",J150,0) -> 0 | BJ150: 2 | BK150: =ROUND(I150*H150,2) -> 0 | BL150: 64 | BM150: 252
C151: 23 | D151: K | E151: 10.09 | F151: Potrubie kruhové, špirálne, pozinkované, DN160 do 30% tvarovky | G151: bm | H151: 4 | J151: =ROUND(I151*H151,2) -> 0 | N151: znížená | P151: =O151*H151 -> 0 | Q151: 0 | R151: =Q151*H151 -> 0 | S151: 0 | T151: =S151*H151 -> 0 | AR151: 64 | AT151: K | AU151: 2 | AY151: ROZPOCET | BE151: =IF(N151="základná",J151,0) -> 0 | BF151: =IF(N151="znížená",J151,0) -> 0 | BG151: =IF(N151="zákl. prenesená",J151,0) -> 0 | BH151: =IF(N151="zníž. prenesená",J151,0) -> 0 | BI151: =IF(N151="nulová",J151,0) -> 0 | BJ151: 2 | BK151: =ROUND(I151*H151,2) -> 0 | BL151: 64 | BM151: 254
C152: 24 | D152: K | E152: 10.10 | F152: Potrubie kruhové, špirálne, pozinkované, DN200 do 30% tvarovky | G152: bm | H152: 10 | J152: =ROUND(I152*H152,2) -> 0 | N152: znížená | P152: =O152*H152 -> 0 | Q152: 0 | R152: =Q152*H152 -> 0 | S152: 0 | T152: =S152*H152 -> 0 | AR152: 64 | AT152: K | AU152: 2 | AY152: ROZPOCET | BE152: =IF(N152="základná",J152,0) -> 0 | BF152: =IF(N152="znížená",J152,0) -> 0 | BG152: =IF(N152="zákl. prenesená",J152,0) -> 0 | BH152: =IF(N152="zníž. prenesená",J152,0) -> 0 | BI152: =IF(N152="nulová",J152,0) -> 0 | BJ152: 2 | BK152: =ROUND(I152*H152,2) -> 0 | BL152: 64 | BM152: 256
C153: 25 | D153: K | E153: 10.11 | F153: Hliníkové flexibilné potrubie dn160, podobné ako Aluvac160 | G153: bm | H153: 3 | J153: =ROUND(I153*H153,2) -> 0 | N153: znížená | P153: =O153*H153 -> 0 | Q153: 0 | R153: =Q153*H153 -> 0 | S153: 0 | T153: =S153*H153 -> 0 | AR153: 64 | AT153: K | AU153: 2 | AY153: ROZPOCET | BE153: =IF(N153="základná",J153,0) -> 0 | BF153: =IF(N153="znížená",J153,0) -> 0 | BG153: =IF(N153="zákl. prenesená",J153,0) -> 0 | BH153: =IF(N153="zníž. prenesená",J153,0) -> 0 | BI153: =IF(N153="nulová",J153,0) -> 0 | BJ153: 2 | BK153: =ROUND(I153*H153,2) -> 0 | BL153: 64 | BM153: 258
C154: 26 | D154: K | E154: 10.12 | F154: Hliníkové flexibilné potrubie dn100, podobné ako Aluvac100 | G154: bm | H154: 2 | J154: =ROUND(I154*H154,2) -> 0 | N154: znížená | P154: =O154*H154 -> 0 | Q154: 0 | R154: =Q154*H154 -> 0 | S154: 0 | T154: =S154*H154 -> 0 | AR154: 64 | AT154: K | AU154: 2 | AY154: ROZPOCET | BE154: =IF(N154="základná",J154,0) -> 0 | BF154: =IF(N154="znížená",J154,0) -> 0 | BG154: =IF(N154="zákl. prenesená",J154,0) -> 0 | BH154: =IF(N154="zníž. prenesená",J154,0) -> 0 | BI154: =IF(N154="nulová",J154,0) -> 0 | BJ154: 2 | BK154: =ROUND(I154*H154,2) -> 0 | BL154: 64 | BM154: 260
... C159: 31 | D159: K | E159: 10.17 | F159: Pomocný a montážny materiál | G159: kg | H159: 8.7 | J159: =ROUND(I159*H159,2) -> 0 | N159: znížená | P159: =O159*H159 -> 0 | Q159: 0 | R159: =Q159*H159 -> 0 | S159: 0 | T159: =S159*H159 -> 0 | AR159: 64 | AT159: K | AU159: 2 | AY159: ROZPOCET | BE159: =IF(N159="základná",J159,0) -> 0 | BF159: =IF(N159="znížená",J159,0) -> 0 | BG159: =IF(N159="zákl. prenesená",J159,0) -> 0 | BH159: =IF(N159="zníž. prenesená",J159,0) -> 0 | BI159: =IF(N159="nulová",J159,0) -> 0 | BJ159: 2 | BK159: =ROUND(I159*H159,2) -> 0 | BL159: 64 | BM159: 270
D160: D | E160: 11. | F160: Vetranie priestorov šatne | J160: =BK160 -> 0 | P160: =SUM(P161:P174) -> 0 | R160: =SUM(R161:R174) -> 0 | T160: =SUM(T161:T174) -> 0 | AR160: 1 | AT160: D | AU160: 1 | AY160: ROZPOCET | BK160: =SUM(BK161:BK174) -> 0
C161: 32 | D161: K | E161: 11.01 | F161: Podstropná rekuperačná vzduchotechnická jednotka 300m3/h, 100Pa s vybavená filtráciou G4, elektrickým dohrevom, s autonómnym riadiacim systémom s možnosťou vzdialenej správy cez internet, ovládanie jednoduchým nástenným ovládačom, podobná ako Atrea duplex | G161: ks | H161: 1 | J161: =ROUND(I161*H161,2) -> 0 | N161: znížená | P161: =O161*H161 -> 0 | Q161: 0 | R161: =Q161*H161 -> 0 | S161: 0 | T161: =S161*H161 -> 0 | AR161: 64 | AT161: K | AU161: 2 | AY161: ROZPOCET | BE161: =IF(N161="základná",J161,0) -> 0 | BF161: =IF(N161="znížená",J161,0) -> 0 | BG161: =IF(N161="zákl. prenesená",J161,0) -> 0 | BH161: =IF(N161="zníž. prenesená",J161,0) -> 0 | BI161: =IF(N161="nulová",J161,0) -> 0 | BJ161: 2 | BK161: =ROUND(I161*H161,2) -> 0 | BL161: 64 | BM161: 272
C162: 33 | D162: K | E162: 11.02 | F162: Fasádna protidažďová mriežka 200x200, podobná ako Multivac WFK20 | G162: ks | H162: 2 | J162: =ROUND(I162*H162,2) -> 0 | N162: znížená | P162: =O162*H162 -> 0 | Q162: 0 | R162: =Q162*H162 -> 0 | S162: 0 | T162: =S162*H162 -> 0 | AR162: 64 | AT162: K | AU162: 2 | AY162: ROZPOCET | BE162: =IF(N162="základná",J162,0) -> 0 | BF162: =IF(N162="znížená",J162,0) -> 0 | BG162: =IF(N162="zákl. prenesená",J162,0) -> 0 | BH162: =IF(N162="zníž. prenesená",J162,0) -> 0 | BI162: =IF(N162="nulová",J162,0) -> 0 | BJ162: 2 | BK162: =ROUND(I162*H162,2) -> 0 | BL162: 64 | BM162: 274
C163: 34 | D163: K | E163: 11.03 | F163: Odvodný tanierový ventil D160 | G163: ks | H163: 2 | J163: =ROUND(I163*H163,2) -> 0 | N163: znížená | P163: =O163*H163 -> 0 | Q163: 0 | R163: =Q163*H163 -> 0 | S163: 0 | T163: =S163*H163 -> 0 | AR163: 64 | AT163: K | AU163: 2 | AY163: ROZPOCET | BE163: =IF(N163="základná",J163,0) -> 0 | BF163: =IF(N163="znížená",J163,0) -> 0 | BG163: =IF(N163="zákl. prenesená",J163,0) -> 0 | BH163: =IF(N163="zníž. prenesená",J163,0) -> 0 | BI163: =IF(N163="nulová",J163,0) -> 0 | BJ163: 2 | BK163: =ROUND(I163*H163,2) -> 0 | BL163: 64 | BM163: 276
C164: 35 | D164: K | E164: 11.04 | F164: Prívodný tanierový ventil D100 | G164: ks | H164: 3 | J164: =ROUND(I164*H164,2) -> 0 | N164: znížená | P164: =O164*H164 -> 0 | Q164: 0 | R164: =Q164*H164 -> 0 | S164: 0 | T164: =S164*H164 -> 0 | AR164: 64 | AT164: K | AU164: 2 | AY164: ROZPOCET | BE164: =IF(N164="základná",J164,0) -> 0 | BF164: =IF(N164="znížená",J164,0) -> 0 | BG164: =IF(N164="zákl. prenesená",J164,0) -> 0 | BH164: =IF(N164="zníž. prenesená",J164,0) -> 0 | BI164: =IF(N164="nulová",J164,0) -> 0 | BJ164: 2 | BK164: =ROUND(I164*H164,2) -> 0 | BL164: 64 | BM164: 278
C165: 36 | D165: K | E165: 11.05 | F165: Hluktlmiace flexibilné potrubie dn160, podobné ako Sonovac160 | G165: bm | H165: 4 | J165: =ROUND(I165*H165,2) -> 0 | N165: znížená | P165: =O165*H165 -> 0 | Q165: 0 | R165: =Q165*H165 -> 0 | S165: 0 | T165: =S165*H165 -> 0 | AR165: 64 | AT165: K | AU165: 2 | AY165: ROZPOCET | BE165: =IF(N165="základná",J165,0) -> 0 | BF165: =IF(N165="znížená",J165,0) -> 0 | BG165: =IF(N165="zákl. prenesená",J165,0) -> 0 | BH165: =IF(N165="zníž. prenesená",J165,0) -> 0 | BI165: =IF(N165="nulová",J165,0) -> 0 | BJ165: 2 | BK165: =ROUND(I165*H165,2) -> 0 | BL165: 64 | BM165: 280
C166: 37 | D166: K | E166: 11.06 | F166: Potrubie kruhové, špirálne, pozinkované, DN100 do 30% tvarovky | G166: bm | H166: 3 | J166: =ROUND(I166*H166,2) -> 0 | N166: znížená | P166: =O166*H166 -> 0 | Q166: 0 | R166: =Q166*H166 -> 0 | S166: 0 | T166: =S166*H166 -> 0 | AR166: 64 | AT166: K | AU166: 2 | AY166: ROZPOCET | BE166: =IF(N166="základná",J166,0) -> 0 | BF166: =IF(N166="znížená",J166,0) -> 0 | BG166: =IF(N166="zákl. prenesená",J166,0) -> 0 | BH166: =IF(N166="zníž. prenesená",J166,0) -> 0 | BI166: =IF(N166="nulová",J166,0) -> 0 | BJ166: 2 | BK166: =ROUND(I166*H166,2) -> 0 | BL166: 64 | BM166: 282
C167: 38 | D167: K | E167: 11.07 | F167: Potrubie kruhové, špirálne, pozinkované, DN160 do 30% tvarovky | G167: bm | H167: 8 | J167: =ROUND(I167*H167,2) -> 0 | N167: znížená | P167: =O167*H167 -> 0 | Q167: 0 | R167: =Q167*H167 -> 0 | S167: 0 | T167: =S167*H167 -> 0 | AR167: 64 | AT167: K | AU167: 2 | AY167: ROZPOCET | BE167: =IF(N167="základná",J167,0) -> 0 | BF167: =IF(N167="znížená",J167,0) -> 0 | BG167: =IF(N167="zákl. prenesená",J167,0) -> 0 | BH167: =IF(N167="zníž. prenesená",J167,0) -> 0 | BI167: =IF(N167="nulová",J167,0) -> 0 | BJ167: 2 | BK167: =ROUND(I167*H167,2) -> 0 | BL167: 64 | BM167: 284
C168: 39 | D168: K | E168: 11.08 | F168: Hliníkové flexibilné potrubie dn160, podobné ako Aluvac160 | G168: bm | H168: 1 | J168: =ROUND(I168*H168,2) -> 0 | N168: znížená | P168: =O168*H168 -> 0 | Q168: 0 | R168: =Q168*H168 -> 0 | S168: 0 | T168: =S168*H168 -> 0 | AR168: 64 | AT168: K | AU168: 2 | AY168: ROZPOCET | BE168: =IF(N168="základná",J168,0) -> 0 | BF168: =IF(N168="znížená",J168,0) -> 0 | BG168: =IF(N168="zákl. prenesená",J168,0) -> 0 | BH168: =IF(N168="zníž. prenesená",J168,0) -> 0 | BI168: =IF(N168="nulová",J168,0) -> 0 | BJ168: 2 | BK168: =ROUND(I168*H168,2) -> 0 | BL168: 64 | BM168: 286
...

Sheet e - E1.7  Umelé osvetleni...
AT2: {dfb1a1b4-526e-4463-9b1f-24343f2cc8c5}
AT3: 0
D4: KRYCÍ LIST ROZPOČTU | M4: v --- nižšie sa nachádzajú doplnkové a pomocné údaje k zostavám --- v | AT4: False
D6: Stavba:
E7: ='Rekapitulácia stavby'!K6 -> Sociálno-zdravotné nízkokapacitné zariadenie s kapacitou 24 miest - CSS LÚČ
D8: Objekt:
E9: 01 - SO-01 Navrhovaný objekt stavby CSS Lúč - prístavba a prestavba
D10: Časť:
E11: e - E1.7 Umelé osvetlenie a vnútorné elektroinštalačné rozvody
D13: JKSO: | I13: ČS:
D14: Miesto: | F14: Bytča | I14: Dátum: | J14: ='Rekapitulácia stavby'!AN8 -> 22. 6. 2026
D16: Objednávateľ: | I16: IČO:
E17: Centrum sociálnych služieb LÚČ | I17: IČ DPH:
D19: Zhotoviteľ: | I19: IČO: | J19: ='Rekapitulácia stavby'!AN13 -> Vyplň údaj
E20: ='Rekapitulácia stavby'!E14 -> Vyplň údaj | I20: IČ DPH: | J20: ='Rekapitulácia stavby'!AN14 -> Vyplň údaj
D22: Projektant: | I22: IČO:
E23: expo AIR s.r.o. | I23: IČ DPH:
D25: Spracovateľ: | I25: IČO:
E26: Ing. Richard Ďuriš | I26: IČ DPH:
D28: Poznámka:
E29: V prípade výskytu obchodných názvov výrobkov a technológií, tieto majú informatívny charakter a slúžia ako minimálny štandard. Sú uvedené ako referenčná kvalita a môžu byť nahradené ekvivalentným výrobkom, ktorý má rovnaké, alebo lepšie vlastnosti a parametre. Neoddeliteľnou súčasťou Výkazu výmer je Projektová dokumentácia stavby.
D32: Cena bez DPH | J32: =ROUND(J139, 2) -> 0
F34: Základ dane | I34: Sadzba dane | J34: Výška dane
D35: DPH | E35: základná | F35: =ROUND((SUM(BE139:BE455)), 2) -> 0 | I35: 0.23 | J35: =ROUND(((SUM(BE139:BE455))*I35), 2) -> 0
E36: znížená | F36: =ROUND((SUM(BF139:BF455)), 2) -> 0 | I36: 0.23 | J36: =ROUND(((SUM(BF139:BF455))*I36), 2) -> 0
E37: zákl. prenesená | F37: =ROUND((SUM(BG139:BG455)), 2) -> 0 | I37: 0.23 | J37: =0 -> 0
E38: zníž. prenesená | F38: =ROUND((SUM(BH139:BH455)), 2) -> 0 | I38: 0.23 | J38: =0 -> 0
E39: nulová | F39: =ROUND((SUM(BI139:BI455)), 2) -> 0 | I39: 0 | J39: =0 -> 0
D41: Cena s DPH | G41: v | H41: EUR | J41: =SUM(J32:J39) -> 0
D50: Projektant | G50: Spracovateľ
D61: Dátum a podpis: | F61: Pečiatka | G61: Dátum a podpis: | J61: Pečiatka
D65: Objednávateľ | G65: Zhotoviteľ
D76: Dátum a podpis: | F76: Pečiatka | G76: Dátum a podpis: | J76: Pečiatka
C82: REKAPITULÁCIA ROZPOČTU
C84: Stavba:
E85: =E7 -> Sociálno-zdravotné nízkokapacitné zariadenie s kapacitou 24 miest - CSS LÚČ
C86: Objekt:
E87: 01 - SO-01 Navrhovaný objekt stavby CSS Lúč - prístavba a prestavba
C88: Časť:
E89: =E11 -> e - E1.7 Umelé osvetlenie a vnútorné elektroinštalačné rozvody
C91: Miesto: | F91: =F14 -> Bytča | I91: Dátum: | J91: =IF(J14="","",J14) -> 22. 6. 2026
C93: Objednávateľ: | F93: =E17 -> Centrum sociálnych služieb LÚČ | I93: Projektant: | J93: =E23 -> expo AIR s.r.o.
C94: Zhotoviteľ: | F94: =IF(E20="","",E20) -> Vyplň údaj | I94: Spracovateľ: | J94: =E26 -> Ing. Richard Ďuriš
C96: Kód dielu - Popis | J96: Cena celkom [EUR]
C98: Náklady z rozpočtu | J98: =J139 -> 0 | AU98: -1
D99: HSV - Dodávky | J99: =J140 -> 0
D100: D1 - 1. Rozvádzač HR: | J100: =J141 -> 0
D101: D2 - 2. Rozvádzač RS1: | J101: =J181 -> 0
D102: D3 - 3. Rozvádzač RS2: | J102: =J200 -> 0
D103: D4 - 4. Rozvádzač RS3: | J103: =J221 -> 0
D104: PSV - Práce a dodávky PSV | J104: =J238 -> 0
D105: 713 - 5. Izolácie tepelné | J105: =J239 -> 0
D106: M - Práce a dodávky M | J106: =J244 -> 0
D107: D5 - 6. Montážný materiál: | J107: =J245 -> 0
D108: D6 - Žlaby MERKUR 2 - káblový nosný systém, spojky | J108: =J280 -> 0
D109: D7 - Slaboprúdové rozvody | J109: =J300 -> 0
D110: D8 - Ovládacie prvky, zásuvky | J110: =J319 -> 0
D111: D9 - Svietidlá | J111: =J359 -> 0
D112: D10 - Núdzové svietidlá | J112: =J373 -> 0
D113: D11 - Záložné napájanie výťahov | J113: =J384 -> 0
D114: D12 - Trasy a vŕtanie | J114: =J401 -> 0
D115: D13 - Ostatné | J115: =J411 -> 0
D116: D14 - 7.Ostatné konštrukcie a práce-búranie: | J116: =J446 -> 0
D117: HZS - Hodinové zúčtovacie sadzby | J117: =J451 -> 0
C124: ROZPOČET
C126: Stavba:
E127: =E7 -> Sociálno-zdravotné nízkokapacitné zariadenie s kapacitou 24 miest - CSS LÚČ
C128: Objekt:
E129: 01 - SO-01 Navrhovaný objekt stavby CSS Lúč - prístavba a prestavba
C130: Časť:
E131: =E11 -> e - E1.7 Umelé osvetlenie a vnútorné elektroinštalačné rozvody
C133: Miesto: | F133: =F14 -> Bytča | I133: Dátum: | J133: =IF(J14="","",J14) -> 22. 6. 2026
C135: Objednávateľ: | F135: =E17 -> Centrum sociálnych služieb LÚČ | I135: Projektant: | J135: =E23 -> expo AIR s.r.o.
C136: Zhotoviteľ: | F136: =IF(E20="","",E20) -> Vyplň údaj | I136: Spracovateľ: | J136: =E26 -> Ing. Richard Ďuriš
C138: PČ | D138: Typ | E138: Kód | F138: Popis | G138: MJ | H138: Množstvo | I138: J.cena [EUR] | J138: Cena celkom [EUR] | K138: Cenová sústava | N138: DPH | O138: J. Nh [h] | P138: Nh celkom [h] | Q138: J. hmotnosť [t] | R138: Hmotnosť celkom [t] | S138: J. suť [t] | T138: Suť Celkom [t]
C139: Náklady z rozpočtu | J139: =BK139 -> 0 | P139: =P140+P238+P244+P451 -> 0 | R139: =R140+R238+R244+R451 -> 0 | T139: =T140+T238+T244+T451 -> 0 | AT139: D | AU139: -1 | BK139: =BK140+BK238+BK244+BK451 -> 0
D140: D | E140: HSV | F140: Dodávky | J140: =BK140 -> 0 | P140: =P141+P181+P200+P221 -> 0 | R140: =R141+R181+R200+R221 -> 0 | T140: =T141+T181+T200+T221 -> 0 | AR140: 1 | AT140: D | AU140: 0 | AY140: ROZPOCET | BK140: =BK141+BK181+BK200+BK221 -> 0
D141: D | E141: D1 | F141: 1. Rozvádzač HR: | J141: =BK141 -> 0 | P141: =SUM(P142:P180) -> 0 | R141: =SUM(R142:R180) -> 0 | T141: =SUM(T142:T180) -> 0 | AR141: 1 | AT141: D | AU141: 1 | AY141: ROZPOCET | BK141: =SUM(BK142:BK180) -> 0
C142: 1 | D142: M | E142: Pol209 | F142: Oceloplechový rozvádzač zapustený, rozmery: 2000x1600x400mm, (v x š x h), IP40/20, referenčný výrobok: ATYP, 2000x1600x400mm, (v x š x h), IP44/20, Promel s.r.o. | G142: kpl | H142: 1 | J142: =ROUND(I142*H142,2) -> 0 | N142: znížená | P142: =O142*H142 -> 0 | Q142: 0 | R142: =Q142*H142 -> 0 | S142: 0 | T142: =S142*H142 -> 0 | AR142: 8 | AT142: M | AU142: 2 | AY142: ROZPOCET | BE142: =IF(N142="základná",J142,0) -> 0 | BF142: =IF(N142="znížená",J142,0) -> 0 | BG142: =IF(N142="zákl. prenesená",J142,0) -> 0 | BH142: =IF(N142="zníž. prenesená",J142,0) -> 0 | BI142: =IF(N142="nulová",J142,0) -> 0 | BJ142: 2 | BK142: =ROUND(I142*H142,2) -> 0 | BL142: 4 | BM142: 2
C143: 2 | D143: M | E143: Pol210 | F143: Zvodič prepätia 280V/25kA, TN-C, T1+T2+T3 (B+C+D) referenčný výrobok: POm I 3 LCF 75, TN-C, T1+T2+T3 (B+C+D), KIWA, obj.č. 81.130 | G143: ks | H143: 1 | J143: =ROUND(I143*H143,2) -> 0 | N143: znížená | P143: =O143*H143 -> 0 | Q143: 0 | R143: =Q143*H143 -> 0 | S143: 0 | T143: =S143*H143 -> 0 | AR143: 8 | AT143: M | AU143: 2 | AY143: ROZPOCET | BE143: =IF(N143="základná",J143,0) -> 0 | BF143: =IF(N143="znížená",J143,0) -> 0 | BG143: =IF(N143="zákl. prenesená",J143,0) -> 0 | BH143: =IF(N143="zníž. prenesená",J143,0) -> 0 | BI143: =IF(N143="nulová",J143,0) -> 0 | BJ143: 2 | BK143: =ROUND(I143*H143,2) -> 0 | BL143: 4 | BM143: 4
C144: 3 | D144: M | E144: Pol211 | F144: Hlavný vypínač, In=200A, 36kA, 3P, 400V/AC referenčný výrobok: LN2-200-I, EATON | G144: ks | H144: 1 | J144: =ROUND(I144*H144,2) -> 0 | N144: znížená | P144: =O144*H144 -> 0 | Q144: 0 | R144: =Q144*H144 -> 0 | S144: 0 | T144: =S144*H144 -> 0 | AR144: 8 | AT144: M | AU144: 2 | AY144: ROZPOCET | BE144: =IF(N144="základná",J144,0) -> 0 | BF144: =IF(N144="znížená",J144,0) -> 0 | BG144: =IF(N144="zákl. prenesená",J144,0) -> 0 | BH144: =IF(N144="zníž. prenesená",J144,0) -> 0 | BI144: =IF(N144="nulová",J144,0) -> 0 | BJ144: 2 | BK144: =ROUND(I144*H144,2) -> 0 | BL144: 4 | BM144: 6
C145: 4 | D145: M | E145: Pol212 | F145: Podpäťová spúšť pre vypínač, 24V referenčný výrobok: NZM2/3-XU24AC, Eaton | G145: ks | H145: 1 | J145: =ROUND(I145*H145,2) -> 0 | N145: znížená | P145: =O145*H145 -> 0 | Q145: 0 | R145: =Q145*H145 -> 0 | S145: 0 | T145: =S145*H145 -> 0 | AR145: 8 | AT145: M | AU145: 2 | AY145: ROZPOCET | BE145: =IF(N145="základná",J145,0) -> 0 | BF145: =IF(N145="znížená",J145,0) -> 0 | BG145: =IF(N145="zákl. prenesená",J145,0) -> 0 | BH145: =IF(N145="zníž. prenesená",J145,0) -> 0 | BI145: =IF(N145="nulová",J145,0) -> 0 | BJ145: 2 | BK145: =ROUND(I145*H145,2) -> 0 | BL145: 4 | BM145: 8
C146: 5 | D146: M | E146: Pol213 | F146: Poistkový odpínač do 160A, 3P, veľkosť 00, referenčný výrobok: XNH00-A160, Eaton | G146: ks | H146: 1 | J146: =ROUND(I146*H146,2) -> 0 | N146: znížená | P146: =O146*H146 -> 0 | Q146: 0 | R146: =Q146*H146 -> 0 | S146: 0 | T146: =S146*H146 -> 0 | AR146: 8 | AT146: M | AU146: 2 | AY146: ROZPOCET | BE146: =IF(N146="základná",J146,0) -> 0 | BF146: =IF(N146="znížená",J146,0) -> 0 | BG146: =IF(N146="zákl. prenesená",J146,0) -> 0 | BH146: =IF(N146="zníž. prenesená",J146,0) -> 0 | BI146: =IF(N146="nulová",J146,0) -> 0 | BJ146: 2 | BK146: =ROUND(I146*H146,2) -> 0 | BL146: 4 | BM146: 10
C147: 6 | D147: M | E147: Pol214 | F147: Nožové poistky, 160A, gG,referenčný výrook: 3x 125NHG00B, EATON | G147: ks | H147: 3 | J147: =ROUND(I147*H147,2) -> 0 | N147: znížená | P147: =O147*H147 -> 0 | Q147: 0 | R147: =Q147*H147 -> 0 | S147: 0 | T147: =S147*H147 -> 0 | AR147: 8 | AT147: M | AU147: 2 | AY147: ROZPOCET | BE147: =IF(N147="základná",J147,0) -> 0 | BF147: =IF(N147="znížená",J147,0) -> 0 | BG147: =IF(N147="zákl. prenesená",J147,0) -> 0 | BH147: =IF(N147="zníž. prenesená",J147,0) -> 0 | BI147: =IF(N147="nulová",J147,0) -> 0 | BJ147: 2 | BK147: =ROUND(I147*H147,2) -> 0 | BL147: 4 | BM147: 12
C148: 7 | D148: M | E148: Pol215 | F148: Istič B63/3, In=63A, 10kA, referenčný výrobok: PL7-B63/3, Eaton | G148: ks | H148: 1 | J148: =ROUND(I148*H148,2) -> 0 | N148: znížená | P148: =O148*H148 -> 0 | Q148: 0 | R148: =Q148*H148 -> 0 | S148: 0 | T148: =S148*H148 -> 0 | AR148: 8 | AT148: M | AU148: 2 | AY148: ROZPOCET | BE148: =IF(N148="základná",J148,0) -> 0 | BF148: =IF(N148="znížená",J148,0) -> 0 | BG148: =IF(N148="zákl. prenesená",J148,0) -> 0 | BH148: =IF(N148="zníž. prenesená",J148,0) -> 0 | BI148: =IF(N148="nulová",J148,0) -> 0 | BJ148: 2 | BK148: =ROUND(I148*H148,2) -> 0 | BL148: 4 | BM148: 14
C149: 8 | D149: M | E149: Pol216 | F149: Istič B50/3, In=50A, 10kA, referenčný výrobok: PL7-B50/3, Eaton | G149: ks | H149: 5 | J149: =ROUND(I149*H149,2) -> 0 | N149: znížená | P149: =O149*H149 -> 0 | Q149: 0 | R149: =Q149*H149 -> 0 | S149: 0 | T149: =S149*H149 -> 0 | AR149: 8 | AT149: M | AU149: 2 | AY149: ROZPOCET | BE149: =IF(N149="základná",J149,0) -> 0 | BF149: =IF(N149="znížená",J149,0) -> 0 | BG149: =IF(N149="zákl. prenesená",J149,0) -> 0 | BH149: =IF(N149="zníž. prenesená",J149,0) -> 0 | BI149: =IF(N149="nulová",J149,0) -> 0 | BJ149: 2 | BK149: =ROUND(I149*H149,2) -> 0 | BL149: 4 | BM149: 16
C150: 9 | D150: M | E150: Pol217 | F150: Istič B32/3, In=32A, 10kA, referenčný výrobok: PL7-B32/3, Eaton | G150: ks | H150: 7 | J150: =ROUND(I150*H150,2) -> 0 | N150: znížená | P150: =O150*H150 -> 0 | Q150: 0 | R150: =Q150*H150 -> 0 | S150: 0 | T150: =S150*H150 -> 0 | AR150: 8 | AT150: M | AU150: 2 | AY150: ROZPOCET | BE150: =IF(N150="základná",J150,0) -> 0 | BF150: =IF(N150="znížená",J150,0) -> 0 | BG150: =IF(N150="zákl. prenesená",J150,0) -> 0 | BH150: =IF(N150="zníž. prenesená",J150,0) -> 0 | BI150: =IF(N150="nulová",J150,0) -> 0 | BJ150: 2 | BK150: =ROUND(I150*H150,2) -> 0 | BL150: 4 | BM150: 18
C151: 10 | D151: M | E151: Pol218 | F151: Istič B25/3, In=25A, 10kA, referenčný výrobok: PL7-B25/3, Eaton | G151: ks | H151: 1 | J151: =ROUND(I151*H151,2) -> 0 | N151: znížená | P151: =O151*H151 -> 0 | Q151: 0 | R151: =Q151*H151 -> 0 | S151: 0 | T151: =S151*H151 -> 0 | AR151: 8 | AT151: M | AU151: 2 | AY151: ROZPOCET | BE151: =IF(N151="základná",J151,0) -> 0 | BF151: =IF(N151="znížená",J151,0) -> 0 | BG151: =IF(N151="zákl. prenesená",J151,0) -> 0 | BH151: =IF(N151="zníž. prenesená",J151,0) -> 0 | BI151: =IF(N151="nulová",J151,0) -> 0 | BJ151: 2 | BK151: =ROUND(I151*H151,2) -> 0 | BL151: 4 | BM151: 20
C152: 11 | D152: M | E152: Pol219 | F152: Istič B25/1, In=25A, 10kA, referenčný výrobok: PL7-B25/1, Eaton | G152: ks | H152: 1 | J152: =ROUND(I152*H152,2) -> 0 | N152: znížená | P152: =O152*H152 -> 0 | Q152: 0 | R152: =Q152*H152 -> 0 | S152: 0 | T152: =S152*H152 -> 0 | AR152: 8 | AT152: M | AU152: 2 | AY152: ROZPOCET | BE152: =IF(N152="základná",J152,0) -> 0 | BF152: =IF(N152="znížená",J152,0) -> 0 | BG152: =IF(N152="zákl. prenesená",J152,0) -> 0 | BH152: =IF(N152="zníž. prenesená",J152,0) -> 0 | BI152: =IF(N152="nulová",J152,0) -> 0 | BJ152: 2 | BK152: =ROUND(I152*H152,2) -> 0 | BL152: 4 | BM152: 22
C153: 12 | D153: M | E153: Pol220 | F153: Istič B16/3, In=16A, 10kA, referenčný výrobok: PL7-B16/3, Eaton | G153: ks | H153: 5 | J153: =ROUND(I153*H153,2) -> 0 | N153: znížená | P153: =O153*H153 -> 0 | Q153: 0 | R153: =Q153*H153 -> 0 | S153: 0 | T153: =S153*H153 -> 0 | AR153: 8 | AT153: M | AU153: 2 | AY153: ROZPOCET | BE153: =IF(N153="základná",J153,0) -> 0 | BF153: =IF(N153="znížená",J153,0) -> 0 | BG153: =IF(N153="zákl. prenesená",J153,0) -> 0 | BH153: =IF(N153="zníž. prenesená",J153,0) -> 0 | BI153: =IF(N153="nulová",J153,0) -> 0 | BJ153: 2 | BK153: =ROUND(I153*H153,2) -> 0 | BL153: 4 | BM153: 24
... C180: 39 | D180: K | E180: Pol247 | F180: Kompletizácia rozvádzača | G180: kpl | H180: 1 | J180: =ROUND(I180*H180,2) -> 0 | N180: znížená | P180: =O180*H180 -> 0 | Q180: 0 | R180: =Q180*H180 -> 0 | S180: 0 | T180: =S180*H180 -> 0 | AR180: 4 | AT180: K | AU180: 2 | AY180: ROZPOCET | BE180: =IF(N180="základná",J180,0) -> 0 | BF180: =IF(N180="znížená",J180,0) -> 0 | BG180: =IF(N180="zákl. prenesená",J180,0) -> 0 | BH180: =IF(N180="zníž. prenesená",J180,0) -> 0 | BI180: =IF(N180="nulová",J180,0) -> 0 | BJ180: 2 | BK180: =ROUND(I180*H180,2) -> 0 | BL180: 4 | BM180: 78
D181: D | E181: D2 | F181: 2. Rozvádzač RS1: | J181: =BK181 -> 0 | P181: =SUM(P182:P199) -> 0 | R181: =SUM(R182:R199) -> 0 | T181: =SUM(T182:T199) -> 0 | AR181: 1 | AT181: D | AU181: 1 | AY181: ROZPOCET | BK181: =SUM(BK182:BK199) -> 0
C182: 40 | D182: M | E182: Pol248 | F182: Oceloplechový rozvádzač zapustený, rozmery: 963x864x158mm, (v x š x h), počet modulov: 5x36, IP40/20, referenčný výrobok: typ: Legrand Box XL3 S-160, 963x864x158mm, (v x š x h), IP40/20, Legrand | G182: kpl | H182: 1 | J182: =ROUND(I182*H182,2) -> 0 | N182: znížená | P182: =O182*H182 -> 0 | Q182: 0 | R182: =Q182*H182 -> 0 | S182: 0 | T182: =S182*H182 -> 0 | AR182: 8 | AT182: M | AU182: 2 | AY182: ROZPOCET | BE182: =IF(N182="základná",J182,0) -> 0 | BF182: =IF(N182="znížená",J182,0) -> 0 | BG182: =IF(N182="zákl. prenesená",J182,0) -> 0 | BH182: =IF(N182="zníž. prenesená",J182,0) -> 0 | BI182: =IF(N182="nulová",J182,0) -> 0 | BJ182: 2 | BK182: =ROUND(I182*H182,2) -> 0 | BL182: 4 | BM182: 80
