Workbook

Sheet Rekapitulácia stavby
A1: Export Komplet | BA1: 2.0 | BT1: False | BU1: False | BV1: {5011b029-0b94-434c-b5e7-84c49cf42119}
AR2: >> skryté stĺpce << | BS2: 0,01 | BT2: 23
BS3: 0,01 | BT3: 23
D4: REKAPITULÁCIA STAVBY | AS4: v --- nižšie sa nachádzajú doplnkové a pomocné údaje k zostavám --- v | BE4: Návod na vyplnenie | BS4: 0,001
D5: Kód: | K5: 2025-OR-11f | BE5: Meniť je možné iba bunky so žltým podfarbením!_x000D_ _x000D_ 1) na prvom liste Rekapitulácie stavby vyplňte v zostave_x000D_ _x000D_ a) Rekapitulácia stavby_x000D_ - údaje o Zhotoviteľovi_x000D_ (prenesú sa do ostatných zostáv aj v iných listoch)_x000D_ _x000D_ b) Rekapitulácia objektov stavby_x000D_ - potrebné Ostatné náklady_x000D_ _x000D_ 2) na vybraných listoch vyplňte v zostave_x000D_ _x000D_ a) Krycí list_x000D_ - údaje o Zhotoviteľovi, pokiaľ sa líšia od údajov o Zhotoviteľovi na Rekapitulácii stavby_x000D_ (údaje se prenesú do ostatných zostav v danom liste)_x000D_ _x000D_ b) Rekapitulácia rozpočtu_x000D_ - potrebné Ostatné náklady_x000D_ _x000D_ c) Celkové náklady za stavbu_x000D_ - ceny na položkách_x000D_ - množstvo, pokiaľ má žlté podfarbenie_x000D_ - a v prípade potreby poznámku (tá je v skrytom stĺpci) | BS5: 0,01
D6: Stavba: | K6: Rekonštrukcia budovy školy a telocvične - SOŠ dopravy a služieb, NZ | BS6: 0,01
D7: JKSO: | AK7: ČS: | BS7: 0,01
D8: Miesto: | K8: Nitra | AK8: Dátum: | BS8: 0,01
BS9: 0,01
D10: Objednávateľ: | AK10: IČO: | BS10: 0,01
E11: Nitriansky samosprávny kraj | AK11: IČ DPH: | BS11: 0,01
BS12: 0,01
D13: Zhotoviteľ: | AK13: IČO: | AN13: Vyplň údaj | BS13: 0,01
E14: Vyplň údaj | AK14: IČ DPH: | AN14: Vyplň údaj | BS14: 0,01
BS15: False
D16: Projektant: | AK16: IČO: | BS16: False
E17: Ing.arch. Roland Hoferica | AK17: IČ DPH: | BS17: True
BS18: 0,01
D19: Spracovateľ: | AK19: IČO: | BS19: 0,01
AK20: IČ DPH: | BS20: True
D22: Poznámka:
D26: Cena bez DPH | AK26: =ROUND(AG94,2) -> 0
L28: Sadzba dane | W28: Základ dane | AK28: Výška dane
D29: DPH | F29: základná | L29: 0.23 | W29: =ROUND(AZ94, 2) -> 0 | AK29: =ROUND(AV94, 2) -> 0
F30: znížená | L30: 0.23 | W30: =ROUND(BA94, 2) -> 0 | AK30: =ROUND(AW94, 2) -> 0
F31: zákl. prenesená | L31: 0.23 | W31: =ROUND(BB94, 2) -> 0 | AK31: 0
F32: zníž. prenesená | L32: 0.23 | W32: =ROUND(BC94, 2) -> 0 | AK32: 0
F33: nulová | L33: 0 | W33: =ROUND(BD94, 2) -> 0 | AK33: 0
D35: Cena s DPH | T35: v | X35: EUR | AK35: =SUM(AK26:AK33) -> 0
D49: Projektant | AH49: Spracovateľ
D60: Dátum a podpis: | V60: Pečiatka | AH60: Dátum a podpis: | AM60: Pečiatka
D64: Objednávateľ | AH64: Zhotoviteľ
D75: Dátum a podpis: | V75: Pečiatka | AH75: Dátum a podpis: | AM75: Pečiatka
C82: REKAPITULÁCIA OBJEKTOV STAVBY
C84: Kód: | L84: =K5 -> 2025-OR-11f
C85: Stavba: | L85: =K6 -> Rekonštrukcia budovy školy a telocvične - SOŠ dopravy a služieb, NZ
C87: Miesto: | L87: =IF(K8="","",K8) -> Nitra | AI87: Dátum: | AM87: =IF(AN8= "","",AN8)
C89: Objednávateľ: | L89: =IF(E11= "","",E11) -> Nitriansky samosprávny kraj | AI89: Projektant: | AM89: =IF(E17="","",E17) -> Ing.arch. Roland Hoferica | AS89: Informatívne údaje z listov zákaziek
C90: Zhotoviteľ: | L90: =IF(E14= "Vyplň údaj","",E14) | AI90: Spracovateľ: | AM90: =IF(E20="","",E20)
C92: Kód | I92: Popis | AG92: Cena bez DPH [EUR] | AN92: Cena s DPH [EUR] | AQ92: Typ | AS92: z toho Ostat._x000D_ náklady [EUR] | AT92: DPH [EUR] | AU92: Normohodiny [h] | AV92: DPH základná [EUR] | AW92: DPH znížená [EUR] | AX92: DPH základná prenesená_x000D_ [EUR] | AY92: DPH znížená prenesená_x000D_ [EUR] | AZ92: Základňa_x000D_ DPH základná | BA92: Základňa_x000D_ DPH znížená | BB92: Základňa_x000D_ DPH zákl. prenesená | BC92: Základňa_x000D_ DPH zníž. prenesená | BD92: Základňa_x000D_ DPH nulová
C94: Náklady z rozpočtov | AG94: =ROUND(AG95+SUM(AG96:AG98),2) -> 0 | AN94: =SUM(AG94,AT94) -> 0 | AS94: =ROUND(AS95+SUM(AS96:AS98),2) -> 0 | AT94: =ROUND(SUM(AV94:AW94),2) -> 0 | AU94: =ROUND(AU95+SUM(AU96:AU98),5) -> 0 | AV94: =ROUND(AZ94*L29,2) -> 0 | AW94: =ROUND(BA94*L30,2) -> 0 | AX94: =ROUND(BB94*L29,2) -> 0 | AY94: =ROUND(BC94*L30,2) -> 0 | AZ94: =ROUND(AZ95+SUM(AZ96:AZ98),2) -> 0 | BA94: =ROUND(BA95+SUM(BA96:BA98),2) -> 0 | BB94: =ROUND(BB95+SUM(BB96:BB98),2) -> 0 | BC94: =ROUND(BC95+SUM(BC96:BC98),2) -> 0 | BD94: =ROUND(BD95+SUM(BD96:BD98),2) -> 0 | BS94: D | BT94: 0 | BU94: ###NOIMPORT### | BV94: IMPORT | BW94: {5011b029-0b94-434c-b5e7-84c49cf42119} | BX94: {00000000-0000-0000-0000-000000000000}
A95: / | D95: SO 01 | J95: SO 01 Rekonštrukcia fasády - Budova školy a Telocvične | AG95: ='SO 01 - SO 01 Rekonštruk...'!J30 -> 0 | AN95: =SUM(AG95,AT95) -> 0 | AQ95: STA | AS95: 0 | AT95: =ROUND(SUM(AV95:AW95),2) -> 0 | AU95: ='SO 01 - SO 01 Rekonštruk...'!P139 -> 0 | AV95: ='SO 01 - SO 01 Rekonštruk...'!J33 -> 0 | AW95: ='SO 01 - SO 01 Rekonštruk...'!J34 -> 0 | AX95: ='SO 01 - SO 01 Rekonštruk...'!J35 -> 0 | AY95: ='SO 01 - SO 01 Rekonštruk...'!J36 -> 0 | AZ95: ='SO 01 - SO 01 Rekonštruk...'!F33 -> 0 | BA95: ='SO 01 - SO 01 Rekonštruk...'!F34 -> 0 | BB95: ='SO 01 - SO 01 Rekonštruk...'!F35 -> 0 | BC95: ='SO 01 - SO 01 Rekonštruk...'!F36 -> 0 | BD95: ='SO 01 - SO 01 Rekonštruk...'!F37 -> 0 | BT95: 1 | BV95: IMPORT | BW95: {59ef5dc3-d8f2-4cb5-9af9-6cb11b28a911} | BX95: {5011b029-0b94-434c-b5e7-84c49cf42119} | CM95: 0
A96: / | D96: SO 02 | J96: SO 02 Telocvičňa - Rekonštrukcia interiér | AG96: ='SO 02 - SO 02 Telocvičň...'!J30 -> 0 | AN96: =SUM(AG96,AT96) -> 0 | AQ96: STA | AS96: 0 | AT96: =ROUND(SUM(AV96:AW96),2) -> 0 | AU96: ='SO 02 - SO 02 Telocvičň...'!P138 -> 0 | AV96: ='SO 02 - SO 02 Telocvičň...'!J33 -> 0 | AW96: ='SO 02 - SO 02 Telocvičň...'!J34 -> 0 | AX96: ='SO 02 - SO 02 Telocvičň...'!J35 -> 0 | AY96: ='SO 02 - SO 02 Telocvičň...'!J36 -> 0 | AZ96: ='SO 02 - SO 02 Telocvičň...'!F33 -> 0 | BA96: ='SO 02 - SO 02 Telocvičň...'!F34 -> 0 | BB96: ='SO 02 - SO 02 Telocvičň...'!F35 -> 0 | BC96: ='SO 02 - SO 02 Telocvičň...'!F36 -> 0 | BD96: ='SO 02 - SO 02 Telocvičň...'!F37 -> 0 | BT96: 1 | BV96: IMPORT | BW96: {dc2cd487-c631-422d-972d-29fe3de27511} | BX96: {5011b029-0b94-434c-b5e7-84c49cf42119} | CM96: 0
A97: / | D97: SO 03 | J97: SO 03 Sadové úpravy a vnútroareálové komunikácie pre peších | AG97: ='SO 03 - SO 03 Sadové úp...'!J30 -> 0 | AN97: =SUM(AG97,AT97) -> 0 | AQ97: STA | AS97: 0 | AT97: =ROUND(SUM(AV97:AW97),2) -> 0 | AU97: ='SO 03 - SO 03 Sadové úp...'!P123 -> 0 | AV97: ='SO 03 - SO 03 Sadové úp...'!J33 -> 0 | AW97: ='SO 03 - SO 03 Sadové úp...'!J34 -> 0 | AX97: ='SO 03 - SO 03 Sadové úp...'!J35 -> 0 | AY97: ='SO 03 - SO 03 Sadové úp...'!J36 -> 0 | AZ97: ='SO 03 - SO 03 Sadové úp...'!F33 -> 0 | BA97: ='SO 03 - SO 03 Sadové úp...'!F34 -> 0 | BB97: ='SO 03 - SO 03 Sadové úp...'!F35 -> 0 | BC97: ='SO 03 - SO 03 Sadové úp...'!F36 -> 0 | BD97: ='SO 03 - SO 03 Sadové úp...'!F37 -> 0 | BT97: 1 | BV97: IMPORT | BW97: {b2515f2e-eb8e-48ca-929e-4c0255c4da6d} | BX97: {5011b029-0b94-434c-b5e7-84c49cf42119} | CM97: 0
D98: SO 04 | J98: SO 04 Debarierizácia SOŠ dopravy a služieb | AG98: =ROUND(SUM(AG99:AG101),2) -> 0 | AN98: =SUM(AG98,AT98) -> 0 | AQ98: STA | AS98: =ROUND(SUM(AS99:AS101),2) -> 0 | AT98: =ROUND(SUM(AV98:AW98),2) -> 0 | AU98: =ROUND(SUM(AU99:AU101),5) -> 0 | AV98: =ROUND(AZ98*L29,2) -> 0 | AW98: =ROUND(BA98*L30,2) -> 0 | AX98: =ROUND(BB98*L29,2) -> 0 | AY98: =ROUND(BC98*L30,2) -> 0 | AZ98: =ROUND(SUM(AZ99:AZ101),2) -> 0 | BA98: =ROUND(SUM(BA99:BA101),2) -> 0 | BB98: =ROUND(SUM(BB99:BB101),2) -> 0 | BC98: =ROUND(SUM(BC99:BC101),2) -> 0 | BD98: =ROUND(SUM(BD99:BD101),2) -> 0 | BS98: D | BT98: 1 | BU98: ###NOIMPORT### | BV98: IMPORT | BW98: {bea20ba9-d258-4588-8540-9f063ecd446b} | BX98: {5011b029-0b94-434c-b5e7-84c49cf42119} | CM98: 0
A99: / | E99: SO 04.1 | K99: SO 04.1 Debarierizácia vstupu do SO 01 - interiér | AG99: ='SO 04.1 - SO 04.1 Debari...'!J32 -> 0 | AN99: =SUM(AG99,AT99) -> 0 | AQ99: Časť | AS99: 0 | AT99: =ROUND(SUM(AV99:AW99),2) -> 0 | AU99: ='SO 04.1 - SO 04.1 Debari...'!P129 -> 0 | AV99: ='SO 04.1 - SO 04.1 Debari...'!J35 -> 0 | AW99: ='SO 04.1 - SO 04.1 Debari...'!J36 -> 0 | AX99: ='SO 04.1 - SO 04.1 Debari...'!J37 -> 0 | AY99: ='SO 04.1 - SO 04.1 Debari...'!J38 -> 0 | AZ99: ='SO 04.1 - SO 04.1 Debari...'!F35 -> 0 | BA99: ='SO 04.1 - SO 04.1 Debari...'!F36 -> 0 | BB99: ='SO 04.1 - SO 04.1 Debari...'!F37 -> 0 | BC99: ='SO 04.1 - SO 04.1 Debari...'!F38 -> 0 | BD99: ='SO 04.1 - SO 04.1 Debari...'!F39 -> 0 | BT99: 2 | BV99: IMPORT | BW99: {077bfd79-a7fd-4a85-9071-24fbea84c745} | BX99: {bea20ba9-d258-4588-8540-9f063ecd446b}
A100: / | E100: SO 04.2 | K100: SO 04.2 Debarierizácia vstupu do SO 01 - exteriér | AG100: ='SO 04.2 - SO 04.2 Debar...'!J32 -> 0 | AN100: =SUM(AG100,AT100) -> 0 | AQ100: Časť | AS100: 0 | AT100: =ROUND(SUM(AV100:AW100),2) -> 0 | AU100: ='SO 04.2 - SO 04.2 Debar...'!P126 -> 0 | AV100: ='SO 04.2 - SO 04.2 Debar...'!J35 -> 0 | AW100: ='SO 04.2 - SO 04.2 Debar...'!J36 -> 0 | AX100: ='SO 04.2 - SO 04.2 Debar...'!J37 -> 0 | AY100: ='SO 04.2 - SO 04.2 Debar...'!J38 -> 0 | AZ100: ='SO 04.2 - SO 04.2 Debar...'!F35 -> 0 | BA100: ='SO 04.2 - SO 04.2 Debar...'!F36 -> 0 | BB100: ='SO 04.2 - SO 04.2 Debar...'!F37 -> 0 | BC100: ='SO 04.2 - SO 04.2 Debar...'!F38 -> 0 | BD100: ='SO 04.2 - SO 04.2 Debar...'!F39 -> 0 | BT100: 2 | BV100: IMPORT | BW100: {e4c45c73-71ae-49c2-97d6-9c76312b777a} | BX100: {bea20ba9-d258-4588-8540-9f063ecd446b}
A101: / | E101: SO 04.3 | K101: SO 04.3 Debarierizácia Telocvične SO 02 | AG101: ='SO 04.3 - SO 04.3 Debar...'!J32 -> 0 | AN101: =SUM(AG101,AT101) -> 0 | AQ101: Časť | AS101: 0 | AT101: =ROUND(SUM(AV101:AW101),2) -> 0 | AU101: ='SO 04.3 - SO 04.3 Debar...'!P127 -> 0 | AV101: ='SO 04.3 - SO 04.3 Debar...'!J35 -> 0 | AW101: ='SO 04.3 - SO 04.3 Debar...'!J36 -> 0 | AX101: ='SO 04.3 - SO 04.3 Debar...'!J37 -> 0 | AY101: ='SO 04.3 - SO 04.3 Debar...'!J38 -> 0 | AZ101: ='SO 04.3 - SO 04.3 Debar...'!F35 -> 0 | BA101: ='SO 04.3 - SO 04.3 Debar...'!F36 -> 0 | BB101: ='SO 04.3 - SO 04.3 Debar...'!F37 -> 0 | BC101: ='SO 04.3 - SO 04.3 Debar...'!F38 -> 0 | BD101: ='SO 04.3 - SO 04.3 Debar...'!F39 -> 0 | BT101: 2 | BV101: IMPORT | BW101: {b837c1ab-1d84-491a-a7cd-9988dc0fbf16} | BX101: {bea20ba9-d258-4588-8540-9f063ecd446b}

Sheet SO 01 - SO 01  Rekonštruk...
L2: >> skryté stĺpce << | AT2: {59ef5dc3-d8f2-4cb5-9af9-6cb11b28a911}
AT3: 0
D4: KRYCÍ LIST ROZPOČTU | M4: v --- nižšie sa nachádzajú doplnkové a pomocné údaje k zostavám --- v | AT4: False
D6: Stavba:
E7: ='Rekapitulácia stavby'!K6 -> Rekonštrukcia budovy školy a telocvične - SOŠ dopravy a služieb, NZ
D8: Objekt:
E9: SO 01 - SO 01 Rekonštrukcia fasády - Budova školy a Telocvične
D11: JKSO: | I11: ČS:
D12: Miesto: | F12: Nitra | I12: Dátum:
D14: Objednávateľ: | I14: IČO:
E15: Nitriansky samosprávny kraj | I15: IČ DPH:
D17: Zhotoviteľ: | I17: IČO: | J17: ='Rekapitulácia stavby'!AN13 -> Vyplň údaj
E18: ='Rekapitulácia stavby'!E14 -> Vyplň údaj | I18: IČ DPH: | J18: ='Rekapitulácia stavby'!AN14 -> Vyplň údaj
D20: Projektant: | I20: IČO:
E21: Ing.arch. Roland Hoferica | I21: IČ DPH:
D23: Spracovateľ: | I23: IČO:
I24: IČ DPH:
D26: Poznámka:
D30: Cena bez DPH | J30: =ROUND(J139, 2) -> 0
F32: Základ dane | I32: Sadzba dane | J32: Výška dane
D33: DPH | E33: základná | F33: =ROUND((SUM(BE139:BE360)), 2) -> 0 | I33: 0.23 | J33: =ROUND(((SUM(BE139:BE360))*I33), 2) -> 0
E34: znížená | F34: =ROUND((SUM(BF139:BF360)), 2) -> 0 | I34: 0.23 | J34: =ROUND(((SUM(BF139:BF360))*I34), 2) -> 0
E35: zákl. prenesená | F35: =ROUND((SUM(BG139:BG360)), 2) -> 0 | I35: 0.23 | J35: =0 -> 0
E36: zníž. prenesená | F36: =ROUND((SUM(BH139:BH360)), 2) -> 0 | I36: 0.23 | J36: =0 -> 0
E37: nulová | F37: =ROUND((SUM(BI139:BI360)), 2) -> 0 | I37: 0 | J37: =0 -> 0
D39: Cena s DPH | G39: v | H39: EUR | J39: =SUM(J30:J37) -> 0
D50: Projektant | G50: Spracovateľ
D61: Dátum a podpis: | F61: Pečiatka | G61: Dátum a podpis: | J61: Pečiatka
D65: Objednávateľ | G65: Zhotoviteľ
D76: Dátum a podpis: | F76: Pečiatka | G76: Dátum a podpis: | J76: Pečiatka
C82: REKAPITULÁCIA ROZPOČTU
C84: Stavba:
E85: =E7 -> Rekonštrukcia budovy školy a telocvične - SOŠ dopravy a služieb, NZ
C86: Objekt:
E87: =E9 -> SO 01 - SO 01 Rekonštrukcia fasády - Budova školy a Telocvične
C89: Miesto: | F89: =F12 -> Nitra | I89: Dátum: | J89: =IF(J12="","",J12)
C91: Objednávateľ: | F91: =E15 -> Nitriansky samosprávny kraj | I91: Projektant: | J91: =E21 -> Ing.arch. Roland Hoferica
C92: Zhotoviteľ: | F92: =IF(E18="","",E18) -> Vyplň údaj | I92: Spracovateľ:
C94: Kód dielu - Popis | J94: Cena celkom [EUR]
C96: Náklady z rozpočtu | J96: =J139 -> 0 | AU96: -1
D97: HSV - Práce a dodávky HSV | J97: =J140 -> 0
D98: 1 - Zemné práce | J98: =J141 -> 0
D99: 3 - Zvislé a kompletné konštrukcie | J99: =J154 -> 0
D100: 5 - Komunikácie | J100: =J156 -> 0
D101: 6 - Úpravy povrchov, podlahy, osadenie | J101: =J161 -> 0
D102: 9 - Ostatné konštrukcie a práce-búranie | J102: =J184 -> 0
D103: 99 - Presun hmôt HSV | J103: =J217 -> 0
D104: PSV - Práce a dodávky PSV | J104: =J219 -> 0
D105: 711 - Izolácie proti vode a vlhkosti | J105: =J220 -> 0
D106: 713 - Izolácie tepelné | J106: =J233 -> 0
D107: 762 - Konštrukcie tesárske | J107: =J237 -> 0
D108: 763 - Konštrukcie - drevostavby | J108: =J253 -> 0
D109: 764 - Konštrukcie klampiarske | J109: =J255 -> 0
D110: 765 - Konštrukcie - krytiny tvrdé | J110: =J270 -> 0
D111: 766 - Konštrukcie stolárske | J111: =J280 -> 0
D112: 767 - Konštrukcie doplnkové kovové | J112: =J286 -> 0
D113: 783 - Nátery | J113: =J289 -> 0
D114: 784 - Maľby | J114: =J299 -> 0
D115: M - Práce a dodávky M | J115: =J302 -> 0
D116: 21-M - Elektromontáže | J116: =J303 -> 0
D117: 46-M - Zemné práce vykonávané pri externých montážnych prácach | J117: =J344 -> 0
D118: 95-M - Revízie | J118: =J357 -> 0
D119: HZS - Hodinové zúčtovacie sadzby | J119: =J359 -> 0
C126: ROZPOČET
C128: Stavba:
E129: =E7 -> Rekonštrukcia budovy školy a telocvične - SOŠ dopravy a služieb, NZ
C130: Objekt:
E131: =E9 -> SO 01 - SO 01 Rekonštrukcia fasády - Budova školy a Telocvične
C133: Miesto: | F133: =F12 -> Nitra | I133: Dátum: | J133: =IF(J12="","",J12)
C135: Objednávateľ: | F135: =E15 -> Nitriansky samosprávny kraj | I135: Projektant: | J135: =E21 -> Ing.arch. Roland Hoferica
C136: Zhotoviteľ: | F136: =IF(E18="","",E18) -> Vyplň údaj | I136: Spracovateľ: | J136: =E24 -> 0
C138: PČ | D138: Typ | E138: Kód | F138: Popis | G138: MJ | H138: Množstvo | I138: J.cena [EUR] | J138: Cena celkom [EUR] | K138: Cenová sústava | N138: DPH | O138: J. Nh [h] | P138: Nh celkom [h] | Q138: J. hmotnosť [t] | R138: Hmotnosť celkom [t] | S138: J. suť [t] | T138: Suť Celkom [t]
C139: Náklady z rozpočtu | J139: =BK139 -> 0 | P139: =P140+P219+P302+P359 -> 0 | R139: =R140+R219+R302+R359 -> 0.10813147 | T139: =T140+T219+T302+T359 -> 0 | AT139: D | AU139: -1 | BK139: =BK140+BK219+BK302+BK359 -> 0
D140: D | E140: HSV | F140: Práce a dodávky HSV | J140: =BK140 -> 0 | P140: =P141+P154+P156+P161+P184+P217 -> 0 | R140: =R141+R154+R156+R161+R184+R217 -> 0 | T140: =T141+T154+T156+T161+T184+T217 -> 0 | AR140: 1 | AT140: D | AU140: 0 | AY140: ROZPOCET | BK140: =BK141+BK154+BK156+BK161+BK184+BK217 -> 0
D141: D | E141: 1 | F141: Zemné práce | J141: =BK141 -> 0 | P141: =SUM(P142:P153) -> 0 | R141: =SUM(R142:R153) -> 0 | T141: =SUM(T142:T153) -> 0 | AR141: 1 | AT141: D | AU141: 1 | AY141: ROZPOCET | BK141: =SUM(BK142:BK153) -> 0
C142: 1 | D142: K | E142: 111201101.S | F142: Odstránenie krovín a stromov s koreňom s priemerom kmeňa do 100 mm, do 1000 m2 | G142: m2 | H142: 20 | J142: =ROUND(I142*H142,2) -> 0 | N142: znížená | P142: =O142*H142 -> 0 | Q142: 0 | R142: =Q142*H142 -> 0 | S142: 0 | T142: =S142*H142 -> 0 | AR142: 4 | AT142: K | AU142: 2 | AY142: ROZPOCET | BE142: =IF(N142="základná",J142,0) -> 0 | BF142: =IF(N142="znížená",J142,0) -> 0 | BG142: =IF(N142="zákl. prenesená",J142,0) -> 0 | BH142: =IF(N142="zníž. prenesená",J142,0) -> 0 | BI142: =IF(N142="nulová",J142,0) -> 0 | BJ142: 2 | BK142: =ROUND(I142*H142,2) -> 0 | BL142: 4 | BM142: 2
C143: 2 | D143: K | E143: 113106612.S | F143: Rozoberanie zámkovej dlažby všetkých druhov v ploche nad 20 m2, -0,26000t | G143: m2 | H143: 34.48 | J143: =ROUND(I143*H143,2) -> 0 | N143: znížená | P143: =O143*H143 -> 0 | Q143: 0 | R143: =Q143*H143 -> 0 | S143: 0 | T143: =S143*H143 -> 0 | AR143: 4 | AT143: K | AU143: 2 | AY143: ROZPOCET | BE143: =IF(N143="základná",J143,0) -> 0 | BF143: =IF(N143="znížená",J143,0) -> 0 | BG143: =IF(N143="zákl. prenesená",J143,0) -> 0 | BH143: =IF(N143="zníž. prenesená",J143,0) -> 0 | BI143: =IF(N143="nulová",J143,0) -> 0 | BJ143: 2 | BK143: =ROUND(I143*H143,2) -> 0 | BL143: 4 | BM143: 4
C144: 3 | D144: K | E144: 113107112.S | F144: Odstránenie krytu v ploche do 200 m2 z kameniva ťaženého, hr.100 do 200 mm, -0,24000t | G144: m2 | H144: 34.48 | J144: =ROUND(I144*H144,2) -> 0 | N144: znížená | P144: =O144*H144 -> 0 | Q144: 0 | R144: =Q144*H144 -> 0 | S144: 0 | T144: =S144*H144 -> 0 | AR144: 4 | AT144: K | AU144: 2 | AY144: ROZPOCET | BE144: =IF(N144="základná",J144,0) -> 0 | BF144: =IF(N144="znížená",J144,0) -> 0 | BG144: =IF(N144="zákl. prenesená",J144,0) -> 0 | BH144: =IF(N144="zníž. prenesená",J144,0) -> 0 | BI144: =IF(N144="nulová",J144,0) -> 0 | BJ144: 2 | BK144: =ROUND(I144*H144,2) -> 0 | BL144: 4 | BM144: 6
C145: 4 | D145: K | E145: 113107131.S | F145: Odstránenie krytu v ploche do 200 m2 z betónu prostého, hr. vrstvy do 150 mm, -0,22500t | G145: m2 | H145: 34.48 | J145: =ROUND(I145*H145,2) -> 0 | N145: znížená | P145: =O145*H145 -> 0 | Q145: 0 | R145: =Q145*H145 -> 0 | S145: 0 | T145: =S145*H145 -> 0 | AR145: 4 | AT145: K | AU145: 2 | AY145: ROZPOCET | BE145: =IF(N145="základná",J145,0) -> 0 | BF145: =IF(N145="znížená",J145,0) -> 0 | BG145: =IF(N145="zákl. prenesená",J145,0) -> 0 | BH145: =IF(N145="zníž. prenesená",J145,0) -> 0 | BI145: =IF(N145="nulová",J145,0) -> 0 | BJ145: 2 | BK145: =ROUND(I145*H145,2) -> 0 | BL145: 4 | BM145: 8
C146: 5 | D146: K | E146: 130001101.S | F146: Príplatok k cenám za sťaženie výkopu v blízkosti podzemného vedenia alebo výbušbnín - pre všetky triedy | G146: m3 | H146: 20.688 | J146: =ROUND(I146*H146,2) -> 0 | N146: znížená | P146: =O146*H146 -> 0 | Q146: 0 | R146: =Q146*H146 -> 0 | S146: 0 | T146: =S146*H146 -> 0 | AR146: 4 | AT146: K | AU146: 2 | AY146: ROZPOCET | BE146: =IF(N146="základná",J146,0) -> 0 | BF146: =IF(N146="znížená",J146,0) -> 0 | BG146: =IF(N146="zákl. prenesená",J146,0) -> 0 | BH146: =IF(N146="zníž. prenesená",J146,0) -> 0 | BI146: =IF(N146="nulová",J146,0) -> 0 | BJ146: 2 | BK146: =ROUND(I146*H146,2) -> 0 | BL146: 4 | BM146: 10
C147: 6 | D147: K | E147: 132211101.S | F147: Hĺbenie rýh šírky do 600 mm v hornine tr.3 súdržných - ručným náradím | G147: m3 | H147: 20.688 | J147: =ROUND(I147*H147,2) -> 0 | N147: znížená | P147: =O147*H147 -> 0 | Q147: 0 | R147: =Q147*H147 -> 0 | S147: 0 | T147: =S147*H147 -> 0 | AR147: 4 | AT147: K | AU147: 2 | AY147: ROZPOCET | BE147: =IF(N147="základná",J147,0) -> 0 | BF147: =IF(N147="znížená",J147,0) -> 0 | BG147: =IF(N147="zákl. prenesená",J147,0) -> 0 | BH147: =IF(N147="zníž. prenesená",J147,0) -> 0 | BI147: =IF(N147="nulová",J147,0) -> 0 | BJ147: 2 | BK147: =ROUND(I147*H147,2) -> 0 | BL147: 4 | BM147: 12
C148: 7 | D148: K | E148: 132211119.S | F148: Príplatok za lepivosť pri hĺbení rýh š do 600 mm ručným náradím v hornine tr. 3 | G148: m3 | H148: 6.206 | J148: =ROUND(I148*H148,2) -> 0 | N148: znížená | P148: =O148*H148 -> 0 | Q148: 0 | R148: =Q148*H148 -> 0 | S148: 0 | T148: =S148*H148 -> 0 | AR148: 4 | AT148: K | AU148: 2 | AY148: ROZPOCET | BE148: =IF(N148="základná",J148,0) -> 0 | BF148: =IF(N148="znížená",J148,0) -> 0 | BG148: =IF(N148="zákl. prenesená",J148,0) -> 0 | BH148: =IF(N148="zníž. prenesená",J148,0) -> 0 | BI148: =IF(N148="nulová",J148,0) -> 0 | BJ148: 2 | BK148: =ROUND(I148*H148,2) -> 0 | BL148: 4 | BM148: 14
C149: 8 | D149: K | E149: 162501102.S | F149: Vodorovné premiestnenie výkopku po spevnenej ceste z horniny tr.1-4, do 100 m3 na vzdialenosť do 3000 m | G149: m3 | H149: 20.688 | J149: =ROUND(I149*H149,2) -> 0 | N149: znížená | P149: =O149*H149 -> 0 | Q149: 0 | R149: =Q149*H149 -> 0 | S149: 0 | T149: =S149*H149 -> 0 | AR149: 4 | AT149: K | AU149: 2 | AY149: ROZPOCET | BE149: =IF(N149="základná",J149,0) -> 0 | BF149: =IF(N149="znížená",J149,0) -> 0 | BG149: =IF(N149="zákl. prenesená",J149,0) -> 0 | BH149: =IF(N149="zníž. prenesená",J149,0) -> 0 | BI149: =IF(N149="nulová",J149,0) -> 0 | BJ149: 2 | BK149: =ROUND(I149*H149,2) -> 0 | BL149: 4 | BM149: 16
C150: 9 | D150: K | E150: 167101100.S | F150: Nakladanie výkopku tr.1-4 ručne | G150: m3 | H150: 20.688 | J150: =ROUND(I150*H150,2) -> 0 | N150: znížená | P150: =O150*H150 -> 0 | Q150: 0 | R150: =Q150*H150 -> 0 | S150: 0 | T150: =S150*H150 -> 0 | AR150: 4 | AT150: K | AU150: 2 | AY150: ROZPOCET | BE150: =IF(N150="základná",J150,0) -> 0 | BF150: =IF(N150="znížená",J150,0) -> 0 | BG150: =IF(N150="zákl. prenesená",J150,0) -> 0 | BH150: =IF(N150="zníž. prenesená",J150,0) -> 0 | BI150: =IF(N150="nulová",J150,0) -> 0 | BJ150: 2 | BK150: =ROUND(I150*H150,2) -> 0 | BL150: 4 | BM150: 18
C151: 10 | D151: K | E151: 171209002.S | F151: Poplatok za skladovanie - zemina a kamenivo (17 05) ostatné | G151: t | H151: 20.688 | J151: =ROUND(I151*H151,2) -> 0 | N151: znížená | P151: =O151*H151 -> 0 | Q151: 0 | R151: =Q151*H151 -> 0 | S151: 0 | T151: =S151*H151 -> 0 | AR151: 4 | AT151: K | AU151: 2 | AY151: ROZPOCET | BE151: =IF(N151="základná",J151,0) -> 0 | BF151: =IF(N151="znížená",J151,0) -> 0 | BG151: =IF(N151="zákl. prenesená",J151,0) -> 0 | BH151: =IF(N151="zníž. prenesená",J151,0) -> 0 | BI151: =IF(N151="nulová",J151,0) -> 0 | BJ151: 2 | BK151: =ROUND(I151*H151,2) -> 0 | BL151: 4 | BM151: 20
C152: 11 | D152: K | E152: 174101001.S | F152: Zásyp sypaninou so zhutnením jám, šachiet, rýh, zárezov alebo okolo objektov do 100 m3 | G152: m3 | H152: 20.688 | J152: =ROUND(I152*H152,2) -> 0 | N152: znížená | P152: =O152*H152 -> 0 | Q152: 0 | R152: =Q152*H152 -> 0 | S152: 0 | T152: =S152*H152 -> 0 | AR152: 4 | AT152: K | AU152: 2 | AY152: ROZPOCET | BE152: =IF(N152="základná",J152,0) -> 0 | BF152: =IF(N152="znížená",J152,0) -> 0 | BG152: =IF(N152="zákl. prenesená",J152,0) -> 0 | BH152: =IF(N152="zníž. prenesená",J152,0) -> 0 | BI152: =IF(N152="nulová",J152,0) -> 0 | BJ152: 2 | BK152: =ROUND(I152*H152,2) -> 0 | BL152: 4 | BM152: 22
C153: 12 | D153: M | E153: 583310004100.S | F153: Kamenivo ťažené hrubé drvené frakcia 0-32 mm | G153: t | H153: 39.1 | J153: =ROUND(I153*H153,2) -> 0 | N153: znížená | P153: =O153*H153 -> 0 | Q153: 0 | R153: =Q153*H153 -> 0 | S153: 0 | T153: =S153*H153 -> 0 | AR153: 8 | AT153: M | AU153: 2 | AY153: ROZPOCET | BE153: =IF(N153="základná",J153,0) -> 0 | BF153: =IF(N153="znížená",J153,0) -> 0 | BG153: =IF(N153="zákl. prenesená",J153,0) -> 0 | BH153: =IF(N153="zníž. prenesená",J153,0) -> 0 | BI153: =IF(N153="nulová",J153,0) -> 0 | BJ153: 2 | BK153: =ROUND(I153*H153,2) -> 0 | BL153: 4 | BM153: 24
D154: D | E154: 3 | F154: Zvislé a kompletné konštrukcie | J154: =BK154 -> 0 | P154: =P155 -> 0 | R154: =R155 -> 0 | T154: =T155 -> 0 | AR154: 1 | AT154: D | AU154: 1 | AY154: ROZPOCET | BK154: =BK155 -> 0
C155: 13 | D155: K | E155: 208R07.S | F155: Dodatočná izolácia vlhkého muriva tlakovou injektážou kremičitým roztokom pre hrúbku muriva do 600 mm, dvojradová | G155: m | H155: 281.69 | J155: =ROUND(I155*H155,2) -> 0 | N155: znížená | P155: =O155*H155 -> 0 | Q155: 0 | R155: =Q155*H155 -> 0 | S155: 0 | T155: =S155*H155 -> 0 | AR155: 4 | AT155: K | AU155: 2 | AY155: ROZPOCET | BE155: =IF(N155="základná",J155,0) -> 0 | BF155: =IF(N155="znížená",J155,0) -> 0 | BG155: =IF(N155="zákl. prenesená",J155,0) -> 0 | BH155: =IF(N155="zníž. prenesená",J155,0) -> 0 | BI155: =IF(N155="nulová",J155,0) -> 0 | BJ155: 2 | BK155: =ROUND(I155*H155,2) -> 0 | BL155: 4 | BM155: 26
D156: D | E156: 5 | F156: Komunikácie | J156: =BK156 -> 0 | P156: =SUM(P157:P160) -> 0 | R156: =SUM(R157:R160) -> 0 | T156: =SUM(T157:T160) -> 0 | AR156: 1 | AT156: D | AU156: 1 | AY156: ROZPOCET | BK156: =SUM(BK157:BK160) -> 0
C157: 14 | D157: K | E157: 564801112.S | F157: Podklad zo štrkodrviny s rozprestretím a zhutnením, po zhutnení hr. 40 mm | G157: m2 | H157: 25.86 | J157: =ROUND(I157*H157,2) -> 0 | N157: znížená | P157: =O157*H157 -> 0 | Q157: 0 | R157: =Q157*H157 -> 0 | S157: 0 | T157: =S157*H157 -> 0 | AR157: 4 | AT157: K | AU157: 2 | AY157: ROZPOCET | BE157: =IF(N157="základná",J157,0) -> 0 | BF157: =IF(N157="znížená",J157,0) -> 0 | BG157: =IF(N157="zákl. prenesená",J157,0) -> 0 | BH157: =IF(N157="zníž. prenesená",J157,0) -> 0 | BI157: =IF(N157="nulová",J157,0) -> 0 | BJ157: 2 | BK157: =ROUND(I157*H157,2) -> 0 | BL157: 4 | BM157: 28
C158: 15 | D158: K | E158: 566902232.S | F158: Vyspravenie podkladu po prekopoch inžinierskych sietí plochy nad 15 m2 kamenivom hrubým drveným, po zhutnení hr. 150 mm | G158: m2 | H158: 25.86 | J158: =ROUND(I158*H158,2) -> 0 | N158: znížená | P158: =O158*H158 -> 0 | Q158: 0 | R158: =Q158*H158 -> 0 | S158: 0 | T158: =S158*H158 -> 0 | AR158: 4 | AT158: K | AU158: 2 | AY158: ROZPOCET | BE158: =IF(N158="základná",J158,0) -> 0 | BF158: =IF(N158="znížená",J158,0) -> 0 | BG158: =IF(N158="zákl. prenesená",J158,0) -> 0 | BH158: =IF(N158="zníž. prenesená",J158,0) -> 0 | BI158: =IF(N158="nulová",J158,0) -> 0 | BJ158: 2 | BK158: =ROUND(I158*H158,2) -> 0 | BL158: 4 | BM158: 30
C159: 16 | D159: K | E159: 566902262.S | F159: Vyspravenie podkladu po prekopoch inžinierskych sietí plochy nad 15 m2 podkladovým betónom PB I tr. C 20/25 hr. 150 mm | G159: m2 | H159: 25.86 | J159: =ROUND(I159*H159,2) -> 0 | N159: znížená | P159: =O159*H159 -> 0 | Q159: 0 | R159: =Q159*H159 -> 0 | S159: 0 | T159: =S159*H159 -> 0 | AR159: 4 | AT159: K | AU159: 2 | AY159: ROZPOCET | BE159: =IF(N159="základná",J159,0) -> 0 | BF159: =IF(N159="znížená",J159,0) -> 0 | BG159: =IF(N159="zákl. prenesená",J159,0) -> 0 | BH159: =IF(N159="zníž. prenesená",J159,0) -> 0 | BI159: =IF(N159="nulová",J159,0) -> 0 | BJ159: 2 | BK159: =ROUND(I159*H159,2) -> 0 | BL159: 4 | BM159: 32
C160: 17 | D160: K | E160: 596911141.S | F160: Kladenie betónovej zámkovej dlažby komunikácií pre peších hr. 60 mm pre peších do 50 m2 so zriadením lôžka z kameniva hr. 30 mm | G160: m2 | H160: 34.48 | J160: =ROUND(I160*H160,2) -> 0 | N160: znížená | P160: =O160*H160 -> 0 | Q160: 0 | R160: =Q160*H160 -> 0 | S160: 0 | T160: =S160*H160 -> 0 | AR160: 4 | AT160: K | AU160: 2 | AY160: ROZPOCET | BE160: =IF(N160="základná",J160,0) -> 0 | BF160: =IF(N160="znížená",J160,0) -> 0 | BG160: =IF(N160="zákl. prenesená",J160,0) -> 0 | BH160: =IF(N160="zníž. prenesená",J160,0) -> 0 | BI160: =IF(N160="nulová",J160,0) -> 0 | BJ160: 2 | BK160: =ROUND(I160*H160,2) -> 0 | BL160: 4 | BM160: 34
D161: D | E161: 6 | F161: Úpravy povrchov, podlahy, osadenie | J161: =BK161 -> 0 | P161: =SUM(P162:P183) -> 0 | R161: =SUM(R162:R183) -> 0 | T161: =SUM(T162:T183) -> 0 | AR161: 1 | AT161: D | AU161: 1 | AY161: ROZPOCET | BK161: =SUM(BK162:BK183) -> 0
C162: 18 | D162: K | E162: 610991111.S | F162: Zakrývanie výplní vnútorných okenných otvorov, predmetov a konštrukcií | G162: m2 | H162: 187.975 | J162: =ROUND(I162*H162,2) -> 0 | N162: znížená | P162: =O162*H162 -> 0 | Q162: 0 | R162: =Q162*H162 -> 0 | S162: 0 | T162: =S162*H162 -> 0 | AR162: 4 | AT162: K | AU162: 2 | AY162: ROZPOCET | BE162: =IF(N162="základná",J162,0) -> 0 | BF162: =IF(N162="znížená",J162,0) -> 0 | BG162: =IF(N162="zákl. prenesená",J162,0) -> 0 | BH162: =IF(N162="zníž. prenesená",J162,0) -> 0 | BI162: =IF(N162="nulová",J162,0) -> 0 | BJ162: 2 | BK162: =ROUND(I162*H162,2) -> 0 | BL162: 4 | BM162: 36
C163: 19 | D163: K | E163: 42R031.S | F163: Omietka rýh v stenách maltou vápennou šírky ryhy do 150 mm | G163: m2 | H163: 74.156 | J163: =ROUND(I163*H163,2) -> 0 | N163: znížená | P163: =O163*H163 -> 0 | Q163: 0 | R163: =Q163*H163 -> 0 | S163: 0 | T163: =S163*H163 -> 0 | AR163: 4 | AT163: K | AU163: 2 | AY163: ROZPOCET | BE163: =IF(N163="základná",J163,0) -> 0 | BF163: =IF(N163="znížená",J163,0) -> 0 | BG163: =IF(N163="zákl. prenesená",J163,0) -> 0 | BH163: =IF(N163="zníž. prenesená",J163,0) -> 0 | BI163: =IF(N163="nulová",J163,0) -> 0 | BJ163: 2 | BK163: =ROUND(I163*H163,2) -> 0 | BL163: 4 | BM163: 38
C164: 20 | D164: K | E164: 44243R04 | F164: Umelecko - remeselná obnova vstupného portálu s pilastermi, orám. frontóm | G164: ks | H164: 1 | J164: =ROUND(I164*H164,2) -> 0 | N164: znížená | P164: =O164*H164 -> 0 | Q164: 0 | R164: =Q164*H164 -> 0 | S164: 0 | T164: =S164*H164 -> 0 | AR164: 4 | AT164: K | AU164: 2 | AY164: ROZPOCET | BE164: =IF(N164="základná",J164,0) -> 0 | BF164: =IF(N164="znížená",J164,0) -> 0 | BG164: =IF(N164="zákl. prenesená",J164,0) -> 0 | BH164: =IF(N164="zníž. prenesená",J164,0) -> 0 | BI164: =IF(N164="nulová",J164,0) -> 0 | BJ164: 2 | BK164: =ROUND(I164*H164,2) -> 0 | BL164: 4 | BM164: 40
C165: 21 | D165: K | E165: 612462402 | F165: Vnútorná sanačná omietka stien Sanova prednástrek, krytie 100% ( interiér ) | G165: m2 | H165: 108.4 | J165: =ROUND(I165*H165,2) -> 0 | N165: znížená | P165: =O165*H165 -> 0 | Q165: 0 | R165: =Q165*H165 -> 0 | S165: 0 | T165: =S165*H165 -> 0 | AR165: 4 | AT165: K | AU165: 2 | AY165: ROZPOCET | BE165: =IF(N165="základná",J165,0) -> 0 | BF165: =IF(N165="znížená",J165,0) -> 0 | BG165: =IF(N165="zákl. prenesená",J165,0) -> 0 | BH165: =IF(N165="zníž. prenesená",J165,0) -> 0 | BI165: =IF(N165="nulová",J165,0) -> 0 | BJ165: 2 | BK165: =ROUND(I165*H165,2) -> 0 | BL165: 4 | BM165: 42
C166: 22 | D166: K | E166: 612462423 | F166: Vnútorná sanačná omietka stien Sanova omietka ( interiér ) | G166: m2 | H166: 108.4 | J166: =ROUND(I166*H166,2) -> 0 | N166: znížená | P166: =O166*H166 -> 0 | Q166: 0 | R166: =Q166*H166 -> 0 | S166: 0 | T166: =S166*H166 -> 0 | AR166: 4 | AT166: K | AU166: 2 | AY166: ROZPOCET | BE166: =IF(N166="základná",J166,0) -> 0 | BF166: =IF(N166="znížená",J166,0) -> 0 | BG166: =IF(N166="zákl. prenesená",J166,0) -> 0 | BH166: =IF(N166="zníž. prenesená",J166,0) -> 0 | BI166: =IF(N166="nulová",J166,0) -> 0 | BJ166: 2 | BK166: =ROUND(I166*H166,2) -> 0 | BL166: 4 | BM166: 44
...

Sheet SO 02 - SO 02   Telocvičň...
L2: >> skryté stĺpce << | AT2: {dc2cd487-c631-422d-972d-29fe3de27511}
AT3: 0
D4: KRYCÍ LIST ROZPOČTU | M4: v --- nižšie sa nachádzajú doplnkové a pomocné údaje k zostavám --- v | AT4: False
D6: Stavba:
E7: ='Rekapitulácia stavby'!K6 -> Rekonštrukcia budovy školy a telocvične - SOŠ dopravy a služieb, NZ
D8: Objekt:
E9: SO 02 - SO 02 Telocvičňa - Rekonštrukcia interiér
D11: JKSO: | I11: ČS:
D12: Miesto: | F12: Nitra | I12: Dátum:
D14: Objednávateľ: | I14: IČO:
E15: Nitriansky samosprávny kraj | I15: IČ DPH:
D17: Zhotoviteľ: | I17: IČO: | J17: ='Rekapitulácia stavby'!AN13 -> Vyplň údaj
E18: ='Rekapitulácia stavby'!E14 -> Vyplň údaj | I18: IČ DPH: | J18: ='Rekapitulácia stavby'!AN14 -> Vyplň údaj
D20: Projektant: | I20: IČO:
E21: Ing.arch. Roland Hoferica | I21: IČ DPH:
D23: Spracovateľ: | I23: IČO:
I24: IČ DPH:
D26: Poznámka:
D30: Cena bez DPH | J30: =ROUND(J138, 2) -> 0
F32: Základ dane | I32: Sadzba dane | J32: Výška dane
D33: DPH | E33: základná | F33: =ROUND((SUM(BE138:BE370)), 2) -> 0 | I33: 0.23 | J33: =ROUND(((SUM(BE138:BE370))*I33), 2) -> 0
E34: znížená | F34: =ROUND((SUM(BF138:BF370)), 2) -> 0 | I34: 0.23 | J34: =ROUND(((SUM(BF138:BF370))*I34), 2) -> 0
E35: zákl. prenesená | F35: =ROUND((SUM(BG138:BG370)), 2) -> 0 | I35: 0.23 | J35: =0 -> 0
E36: zníž. prenesená | F36: =ROUND((SUM(BH138:BH370)), 2) -> 0 | I36: 0.23 | J36: =0 -> 0
E37: nulová | F37: =ROUND((SUM(BI138:BI370)), 2) -> 0 | I37: 0 | J37: =0 -> 0
D39: Cena s DPH | G39: v | H39: EUR | J39: =SUM(J30:J37) -> 0
D50: Projektant | G50: Spracovateľ
D61: Dátum a podpis: | F61: Pečiatka | G61: Dátum a podpis: | J61: Pečiatka
D65: Objednávateľ | G65: Zhotoviteľ
D76: Dátum a podpis: | F76: Pečiatka | G76: Dátum a podpis: | J76: Pečiatka
C82: REKAPITULÁCIA ROZPOČTU
C84: Stavba:
E85: =E7 -> Rekonštrukcia budovy školy a telocvične - SOŠ dopravy a služieb, NZ
C86: Objekt:
E87: =E9 -> SO 02 - SO 02 Telocvičňa - Rekonštrukcia interiér
C89: Miesto: | F89: =F12 -> Nitra | I89: Dátum: | J89: =IF(J12="","",J12)
C91: Objednávateľ: | F91: =E15 -> Nitriansky samosprávny kraj | I91: Projektant: | J91: =E21 -> Ing.arch. Roland Hoferica
C92: Zhotoviteľ: | F92: =IF(E18="","",E18) -> Vyplň údaj | I92: Spracovateľ:
C94: Kód dielu - Popis | J94: Cena celkom [EUR]
C96: Náklady z rozpočtu | J96: =J138 -> 0 | AU96: -1
D97: HSV - Práce a dodávky HSV | J97: =J139 -> 0
D98: 3 - Zvislé a kompletné konštrukcie | J98: =J140 -> 0
D99: 6 - Úpravy povrchov, podlahy, osadenie | J99: =J149 -> 0
D100: 9 - Ostatné konštrukcie a práce-búranie | J100: =J160 -> 0
D101: 99 - Presun hmôt HSV | J101: =J178 -> 0
D102: PSV - Práce a dodávky PSV | J102: =J180 -> 0
D103: 711 - Izolácie proti vode a vlhkosti | J103: =J181 -> 0
D104: 721 - Zdravotechnika - vnútorná kanalizácia | J104: =J187 -> 0
D105: 722 - Zdravotechnika - vnútorný vodovod | J105: =J189 -> 0
D106: 725 - Zdravotechnika - zariaďovacie predmety | J106: =J192 -> 0
D107: 763 - Konštrukcie - drevostavby | J107: =J200 -> 0
D108: 766 - Konštrukcie stolárske | J108: =J204 -> 0
D109: 767 - Konštrukcie doplnkové kovové | J109: =J228 -> 0
D110: 775 - Podlahy vlysové a parketové | J110: =J234 -> 0
D111: 776 - Podlahy povlakové | J111: =J237 -> 0
D112: 781 - Obklady | J112: =J252 -> 0
D113: 784 - Maľby | J113: =J258 -> 0
D114: M - Práce a dodávky M | J114: =J267 -> 0
D115: 21-M - Elektromontáže | J115: =J268 -> 0
D116: 46-M - Zemné práce vykonávané pri externých montážnych prácach | J116: =J354 -> 0
D117: 95-M - Revízie | J117: =J367 -> 0
D118: HZS - Hodinové zúčtovacie sadzby | J118: =J369 -> 0
C125: ROZPOČET
C127: Stavba:
E128: =E7 -> Rekonštrukcia budovy školy a telocvične - SOŠ dopravy a služieb, NZ
C129: Objekt:
E130: =E9 -> SO 02 - SO 02 Telocvičňa - Rekonštrukcia interiér
C132: Miesto: | F132: =F12 -> Nitra | I132: Dátum: | J132: =IF(J12="","",J12)
C134: Objednávateľ: | F134: =E15 -> Nitriansky samosprávny kraj | I134: Projektant: | J134: =E21 -> Ing.arch. Roland Hoferica
C135: Zhotoviteľ: | F135: =IF(E18="","",E18) -> Vyplň údaj | I135: Spracovateľ: | J135: =E24 -> 0
C137: PČ | D137: Typ | E137: Kód | F137: Popis | G137: MJ | H137: Množstvo | I137: J.cena [EUR] | J137: Cena celkom [EUR] | K137: Cenová sústava | N137: DPH | O137: J. Nh [h] | P137: Nh celkom [h] | Q137: J. hmotnosť [t] | R137: Hmotnosť celkom [t] | S137: J. suť [t] | T137: Suť Celkom [t]
C138: Náklady z rozpočtu | J138: =BK138 -> 0 | P138: =P139+P180+P267+P369 -> 0 | R138: =R139+R180+R267+R369 -> 0.065481 | T138: =T139+T180+T267+T369 -> 0 | AT138: D | AU138: -1 | BK138: =BK139+BK180+BK267+BK369 -> 0
D139: D | E139: HSV | F139: Práce a dodávky HSV | J139: =BK139 -> 0 | P139: =P140+P149+P160+P178 -> 0 | R139: =R140+R149+R160+R178 -> 0.065481 | T139: =T140+T149+T160+T178 -> 0 | AR139: 1 | AT139: D | AU139: 0 | AY139: ROZPOCET | BK139: =BK140+BK149+BK160+BK178 -> 0
D140: D | E140: 3 | F140: Zvislé a kompletné konštrukcie | J140: =BK140 -> 0 | P140: =SUM(P141:P148) -> 0 | R140: =SUM(R141:R148) -> 0 | T140: =SUM(T141:T148) -> 0 | AR140: 1 | AT140: D | AU140: 1 | AY140: ROZPOCET | BK140: =SUM(BK141:BK148) -> 0
C141: 1 | D141: K | E141: 311272563 | F141: Murivo nosné (m3) z tvárnic YTONG Statik hr. 300 mm P4-550 PD, na MVC a maltu YTONG (300x249x499) | G141: m3 | H141: 1.152 | J141: =ROUND(I141*H141,2) -> 0 | N141: znížená | P141: =O141*H141 -> 0 | Q141: 0 | R141: =Q141*H141 -> 0 | S141: 0 | T141: =S141*H141 -> 0 | AR141: 4 | AT141: K | AU141: 2 | AY141: ROZPOCET | BE141: =IF(N141="základná",J141,0) -> 0 | BF141: =IF(N141="znížená",J141,0) -> 0 | BG141: =IF(N141="zákl. prenesená",J141,0) -> 0 | BH141: =IF(N141="zníž. prenesená",J141,0) -> 0 | BI141: =IF(N141="nulová",J141,0) -> 0 | BJ141: 2 | BK141: =ROUND(I141*H141,2) -> 0 | BL141: 4 | BM141: 2
C142: 2 | D142: K | E142: 317165301 | F142: Nenosný preklad YTONG šírky 100 mm, výšky 249 mm, dĺžky 1250 mm | G142: ks | H142: 1 | J142: =ROUND(I142*H142,2) -> 0 | N142: znížená | P142: =O142*H142 -> 0 | Q142: 0 | R142: =Q142*H142 -> 0 | S142: 0 | T142: =S142*H142 -> 0 | AR142: 4 | AT142: K | AU142: 2 | AY142: ROZPOCET | BE142: =IF(N142="základná",J142,0) -> 0 | BF142: =IF(N142="znížená",J142,0) -> 0 | BG142: =IF(N142="zákl. prenesená",J142,0) -> 0 | BH142: =IF(N142="zníž. prenesená",J142,0) -> 0 | BI142: =IF(N142="nulová",J142,0) -> 0 | BJ142: 2 | BK142: =ROUND(I142*H142,2) -> 0 | BL142: 4 | BM142: 4
C143: 3 | D143: K | E143: 317165303 | F143: Nenosný preklad YTONG šírky 150 mm, výšky 249 mm, dĺžky 1250 mm | G143: ks | H143: 2 | J143: =ROUND(I143*H143,2) -> 0 | N143: znížená | P143: =O143*H143 -> 0 | Q143: 0 | R143: =Q143*H143 -> 0 | S143: 0 | T143: =S143*H143 -> 0 | AR143: 4 | AT143: K | AU143: 2 | AY143: ROZPOCET | BE143: =IF(N143="základná",J143,0) -> 0 | BF143: =IF(N143="znížená",J143,0) -> 0 | BG143: =IF(N143="zákl. prenesená",J143,0) -> 0 | BH143: =IF(N143="zníž. prenesená",J143,0) -> 0 | BI143: =IF(N143="nulová",J143,0) -> 0 | BJ143: 2 | BK143: =ROUND(I143*H143,2) -> 0 | BL143: 4 | BM143: 6
C144: 4 | D144: K | E144: 342272102 | F144: Priečky z tvárnic YTONG hr. 100 mm P2-500 hladkých, na MVC a maltu YTONG (100x249x599) | G144: m2 | H144: 2.17 | J144: =ROUND(I144*H144,2) -> 0 | N144: znížená | P144: =O144*H144 -> 0 | Q144: 0 | R144: =Q144*H144 -> 0 | S144: 0 | T144: =S144*H144 -> 0 | AR144: 4 | AT144: K | AU144: 2 | AY144: ROZPOCET | BE144: =IF(N144="základná",J144,0) -> 0 | BF144: =IF(N144="znížená",J144,0) -> 0 | BG144: =IF(N144="zákl. prenesená",J144,0) -> 0 | BH144: =IF(N144="zníž. prenesená",J144,0) -> 0 | BI144: =IF(N144="nulová",J144,0) -> 0 | BJ144: 2 | BK144: =ROUND(I144*H144,2) -> 0 | BL144: 4 | BM144: 8
C145: 5 | D145: K | E145: 342272104 | F145: Priečky z tvárnic YTONG hr. 150 mm P2-500 hladkých, na MVC a maltu YTONG (150x249x599) | G145: m2 | H145: 14.455 | J145: =ROUND(I145*H145,2) -> 0 | N145: znížená | P145: =O145*H145 -> 0 | Q145: 0 | R145: =Q145*H145 -> 0 | S145: 0 | T145: =S145*H145 -> 0 | AR145: 4 | AT145: K | AU145: 2 | AY145: ROZPOCET | BE145: =IF(N145="základná",J145,0) -> 0 | BF145: =IF(N145="znížená",J145,0) -> 0 | BG145: =IF(N145="zákl. prenesená",J145,0) -> 0 | BH145: =IF(N145="zníž. prenesená",J145,0) -> 0 | BI145: =IF(N145="nulová",J145,0) -> 0 | BJ145: 2 | BK145: =ROUND(I145*H145,2) -> 0 | BL145: 4 | BM145: 10
C146: 6 | D146: K | E146: 342948112.S | F146: Ukotvenie priečok k murovaným konštrukciám priskrutkovaním | G146: m | H146: 16.2 | J146: =ROUND(I146*H146,2) -> 0 | N146: znížená | P146: =O146*H146 -> 0 | Q146: 0 | R146: =Q146*H146 -> 0 | S146: 0 | T146: =S146*H146 -> 0 | AR146: 4 | AT146: K | AU146: 2 | AY146: ROZPOCET | BE146: =IF(N146="základná",J146,0) -> 0 | BF146: =IF(N146="znížená",J146,0) -> 0 | BG146: =IF(N146="zákl. prenesená",J146,0) -> 0 | BH146: =IF(N146="zníž. prenesená",J146,0) -> 0 | BI146: =IF(N146="nulová",J146,0) -> 0 | BJ146: 2 | BK146: =ROUND(I146*H146,2) -> 0 | BL146: 4 | BM146: 12
C147: 7 | D147: K | E147: 342948115.S | F147: Ukončenie priečok hr. do 100 mm ku konštrukciam polyuretánovou penou | G147: m | H147: 1.35 | J147: =ROUND(I147*H147,2) -> 0 | N147: znížená | P147: =O147*H147 -> 0 | Q147: 0 | R147: =Q147*H147 -> 0 | S147: 0 | T147: =S147*H147 -> 0 | AR147: 4 | AT147: K | AU147: 2 | AY147: ROZPOCET | BE147: =IF(N147="základná",J147,0) -> 0 | BF147: =IF(N147="znížená",J147,0) -> 0 | BG147: =IF(N147="zákl. prenesená",J147,0) -> 0 | BH147: =IF(N147="zníž. prenesená",J147,0) -> 0 | BI147: =IF(N147="nulová",J147,0) -> 0 | BJ147: 2 | BK147: =ROUND(I147*H147,2) -> 0 | BL147: 4 | BM147: 14
C148: 8 | D148: K | E148: 342948116.S | F148: Ukončenie priečok hr. nad 100 mm ku konštrukciam polyuretánovou penou | G148: m | H148: 5.95 | J148: =ROUND(I148*H148,2) -> 0 | N148: znížená | P148: =O148*H148 -> 0 | Q148: 0 | R148: =Q148*H148 -> 0 | S148: 0 | T148: =S148*H148 -> 0 | AR148: 4 | AT148: K | AU148: 2 | AY148: ROZPOCET | BE148: =IF(N148="základná",J148,0) -> 0 | BF148: =IF(N148="znížená",J148,0) -> 0 | BG148: =IF(N148="zákl. prenesená",J148,0) -> 0 | BH148: =IF(N148="zníž. prenesená",J148,0) -> 0 | BI148: =IF(N148="nulová",J148,0) -> 0 | BJ148: 2 | BK148: =ROUND(I148*H148,2) -> 0 | BL148: 4 | BM148: 16
D149: D | E149: 6 | F149: Úpravy povrchov, podlahy, osadenie | J149: =BK149 -> 0 | P149: =SUM(P150:P159) -> 0 | R149: =SUM(R150:R159) -> 0.065481 | T149: =SUM(T150:T159) -> 0 | AR149: 1 | AT149: D | AU149: 1 | AY149: ROZPOCET | BK149: =SUM(BK150:BK159) -> 0
C150: 9 | D150: K | E150: 612403399.S | F150: Hrubá výplň rýh na stenách akoukoľvek maltou, akejkoľvek šírky ryhy | G150: m2 | H150: 60 | J150: =ROUND(I150*H150,2) -> 0 | N150: znížená | P150: =O150*H150 -> 0 | Q150: 0 | R150: =Q150*H150 -> 0 | S150: 0 | T150: =S150*H150 -> 0 | AR150: 4 | AT150: K | AU150: 2 | AY150: ROZPOCET | BE150: =IF(N150="základná",J150,0) -> 0 | BF150: =IF(N150="znížená",J150,0) -> 0 | BG150: =IF(N150="zákl. prenesená",J150,0) -> 0 | BH150: =IF(N150="zníž. prenesená",J150,0) -> 0 | BI150: =IF(N150="nulová",J150,0) -> 0 | BJ150: 2 | BK150: =ROUND(I150*H150,2) -> 0 | BL150: 4 | BM150: 18
C151: 10 | D151: K | E151: 612421431.S | F151: Oprava vnútorných vápenných omietok stien, v množstve opravenej plochy nad 30 do 50 % štukových | G151: m2 | H151: 222.463 | J151: =ROUND(I151*H151,2) -> 0 | N151: znížená | P151: =O151*H151 -> 0 | Q151: 0 | R151: =Q151*H151 -> 0 | S151: 0 | T151: =S151*H151 -> 0 | AR151: 4 | AT151: K | AU151: 2 | AY151: ROZPOCET | BE151: =IF(N151="základná",J151,0) -> 0 | BF151: =IF(N151="znížená",J151,0) -> 0 | BG151: =IF(N151="zákl. prenesená",J151,0) -> 0 | BH151: =IF(N151="zníž. prenesená",J151,0) -> 0 | BI151: =IF(N151="nulová",J151,0) -> 0 | BJ151: 2 | BK151: =ROUND(I151*H151,2) -> 0 | BL151: 4 | BM151: 20
C152: 11 | D152: K | E152: 612462325 | F152: Vnútorná sanačná omietka stien , hr. 30 mm | G152: m2 | H152: 225.461 | J152: =ROUND(I152*H152,2) -> 0 | N152: znížená | P152: =O152*H152 -> 0 | Q152: 0 | R152: =Q152*H152 -> 0 | S152: 0 | T152: =S152*H152 -> 0 | AR152: 4 | AT152: K | AU152: 2 | AY152: ROZPOCET | BE152: =IF(N152="základná",J152,0) -> 0 | BF152: =IF(N152="znížená",J152,0) -> 0 | BG152: =IF(N152="zákl. prenesená",J152,0) -> 0 | BH152: =IF(N152="zníž. prenesená",J152,0) -> 0 | BI152: =IF(N152="nulová",J152,0) -> 0 | BJ152: 2 | BK152: =ROUND(I152*H152,2) -> 0 | BL152: 4 | BM152: 22
C153: 12 | D153: K | E153: 612462402 | F153: Vnútorná sanačná omietka stien BAUMIT Sanova prednástrek, krytie 100% | G153: m2 | H153: 225.461 | J153: =ROUND(I153*H153,2) -> 0 | N153: znížená | P153: =O153*H153 -> 0 | Q153: 0 | R153: =Q153*H153 -> 0 | S153: 0 | T153: =S153*H153 -> 0 | AR153: 4 | AT153: K | AU153: 2 | AY153: ROZPOCET | BE153: =IF(N153="základná",J153,0) -> 0 | BF153: =IF(N153="znížená",J153,0) -> 0 | BG153: =IF(N153="zákl. prenesená",J153,0) -> 0 | BH153: =IF(N153="zníž. prenesená",J153,0) -> 0 | BI153: =IF(N153="nulová",J153,0) -> 0 | BJ153: 2 | BK153: =ROUND(I153*H153,2) -> 0 | BL153: 4 | BM153: 24
C154: 13 | D154: K | E154: 612462412 | F154: Vnútorná sanačná omietka stien BAUMIT Sanova trasová omietka WTA, hr. 20 mm | G154: m2 | H154: 225.461 | J154: =ROUND(I154*H154,2) -> 0 | N154: znížená | P154: =O154*H154 -> 0 | Q154: 0 | R154: =Q154*H154 -> 0 | S154: 0 | T154: =S154*H154 -> 0 | AR154: 4 | AT154: K | AU154: 2 | AY154: ROZPOCET | BE154: =IF(N154="základná",J154,0) -> 0 | BF154: =IF(N154="znížená",J154,0) -> 0 | BG154: =IF(N154="zákl. prenesená",J154,0) -> 0 | BH154: =IF(N154="zníž. prenesená",J154,0) -> 0 | BI154: =IF(N154="nulová",J154,0) -> 0 | BJ154: 2 | BK154: =ROUND(I154*H154,2) -> 0 | BL154: 4 | BM154: 26
C155: 14 | D155: K | E155: 612465131 | F155: Vnútorná omietka stien BAUMIT, vápennocementová, strojné nanášanie, MPI 25, hr. 10 mm | G155: m2 | H155: 45.33 | J155: =ROUND(I155*H155,2) -> 0 | N155: znížená | P155: =O155*H155 -> 0 | Q155: 0 | R155: =Q155*H155 -> 0 | S155: 0 | T155: =S155*H155 -> 0 | AR155: 4 | AT155: K | AU155: 2 | AY155: ROZPOCET | BE155: =IF(N155="základná",J155,0) -> 0 | BF155: =IF(N155="znížená",J155,0) -> 0 | BG155: =IF(N155="zákl. prenesená",J155,0) -> 0 | BH155: =IF(N155="zníž. prenesená",J155,0) -> 0 | BI155: =IF(N155="nulová",J155,0) -> 0 | BJ155: 2 | BK155: =ROUND(I155*H155,2) -> 0 | BL155: 4 | BM155: 28
C156: 15 | D156: K | E156: 612481119.S | F156: Potiahnutie vnútorných stien sklotextilnou mriežkou s celoplošným prilepením | G156: m2 | H156: 45.33 | J156: =ROUND(I156*H156,2) -> 0 | N156: znížená | P156: =O156*H156 -> 0 | Q156: 0 | R156: =Q156*H156 -> 0 | S156: 0 | T156: =S156*H156 -> 0 | AR156: 4 | AT156: K | AU156: 2 | AY156: ROZPOCET | BE156: =IF(N156="základná",J156,0) -> 0 | BF156: =IF(N156="znížená",J156,0) -> 0 | BG156: =IF(N156="zákl. prenesená",J156,0) -> 0 | BH156: =IF(N156="zníž. prenesená",J156,0) -> 0 | BI156: =IF(N156="nulová",J156,0) -> 0 | BJ156: 2 | BK156: =ROUND(I156*H156,2) -> 0 | BL156: 4 | BM156: 30
C157: 16 | D157: K | E157: 632452644.S | F157: Cementová samonivelizačná stierka, pevnosti v tlaku 25 MPa, hr. 3 mm | G157: m2 | H157: 213.21 | J157: =ROUND(I157*H157,2) -> 0 | N157: znížená | P157: =O157*H157 -> 0 | Q157: 0 | R157: =Q157*H157 -> 0 | S157: 0 | T157: =S157*H157 -> 0 | AR157: 4 | AT157: K | AU157: 2 | AY157: ROZPOCET | BE157: =IF(N157="základná",J157,0) -> 0 | BF157: =IF(N157="znížená",J157,0) -> 0 | BG157: =IF(N157="zákl. prenesená",J157,0) -> 0 | BH157: =IF(N157="zníž. prenesená",J157,0) -> 0 | BI157: =IF(N157="nulová",J157,0) -> 0 | BJ157: 2 | BK157: =ROUND(I157*H157,2) -> 0 | BL157: 4 | BM157: 32
C158: 225 | D158: K | E158: 642944221.S | F158: Dodatočná montáž oceľovej dverovej zárubne, plochy otvoru 2,5 - 4,5 m2, ozn. B1a | G158: ks | H158: 1 | J158: =ROUND(I158*H158,2) -> 0 | N158: znížená | P158: =O158*H158 -> 0 | Q158: 0.045481 | R158: =Q158*H158 -> 0.045481 | S158: 0 | T158: =S158*H158 -> 0 | AR158: 4 | AT158: K | AU158: 2 | AY158: ROZPOCET | BE158: =IF(N158="základná",J158,0) -> 0 | BF158: =IF(N158="znížená",J158,0) -> 0 | BG158: =IF(N158="zákl. prenesená",J158,0) -> 0 | BH158: =IF(N158="zníž. prenesená",J158,0) -> 0 | BI158: =IF(N158="nulová",J158,0) -> 0 | BJ158: 2 | BK158: =ROUND(I158*H158,2) -> 0 | BL158: 4 | BM158: 2116754066
C159: 226 | D159: M | E159: 5533100023R01 | F159: Zárubňa zosilnená kovová šxv 1550x2020, atypická s gumovým tesnením, na dodatočnú montáž, ozn. B1a | G159: ks | H159: 1 | J159: =ROUND(I159*H159,2) -> 0 | N159: znížená | P159: =O159*H159 -> 0 | Q159: 0.02 | R159: =Q159*H159 -> 0.02 | S159: 0 | T159: =S159*H159 -> 0 | AR159: 8 | AT159: M | AU159: 2 | AY159: ROZPOCET | BE159: =IF(N159="základná",J159,0) -> 0 | BF159: =IF(N159="znížená",J159,0) -> 0 | BG159: =IF(N159="zákl. prenesená",J159,0) -> 0 | BH159: =IF(N159="zníž. prenesená",J159,0) -> 0 | BI159: =IF(N159="nulová",J159,0) -> 0 | BJ159: 2 | BK159: =ROUND(I159*H159,2) -> 0 | BL159: 4 | BM159: 503187396
D160: D | E160: 9 | F160: Ostatné konštrukcie a práce-búranie | J160: =BK160 -> 0 | P160: =SUM(P161:P177) -> 0 | R160: =SUM(R161:R177) -> 0 | T160: =SUM(T161:T177) -> 0 | AR160: 1 | AT160: D | AU160: 1 | AY160: ROZPOCET | BK160: =SUM(BK161:BK177) -> 0
C161: 17 | D161: K | E161: 941955002.S | F161: Lešenie ľahké pracovné pomocné s výškou lešeňovej podlahy nad 1,20 do 1,90 m | G161: m2 | H161: 232 | J161: =ROUND(I161*H161,2) -> 0 | N161: znížená | P161: =O161*H161 -> 0 | Q161: 0 | R161: =Q161*H161 -> 0 | S161: 0 | T161: =S161*H161 -> 0 | AR161: 4 | AT161: K | AU161: 2 | AY161: ROZPOCET | BE161: =IF(N161="základná",J161,0) -> 0 | BF161: =IF(N161="znížená",J161,0) -> 0 | BG161: =IF(N161="zákl. prenesená",J161,0) -> 0 | BH161: =IF(N161="zníž. prenesená",J161,0) -> 0 | BI161: =IF(N161="nulová",J161,0) -> 0 | BJ161: 2 | BK161: =ROUND(I161*H161,2) -> 0 | BL161: 4 | BM161: 34
C162: 18 | D162: K | E162: 962031132.S | F162: Búranie priečok alebo vybúranie otvorov plochy nad 4 m2 z tehál pálených, plných alebo dutých hr. do 150 mm, -0,19600t | G162: m2 | H162: 21.63 | J162: =ROUND(I162*H162,2) -> 0 | N162: znížená | P162: =O162*H162 -> 0 | Q162: 0 | R162: =Q162*H162 -> 0 | S162: 0 | T162: =S162*H162 -> 0 | AR162: 4 | AT162: K | AU162: 2 | AY162: ROZPOCET | BE162: =IF(N162="základná",J162,0) -> 0 | BF162: =IF(N162="znížená",J162,0) -> 0 | BG162: =IF(N162="zákl. prenesená",J162,0) -> 0 | BH162: =IF(N162="zníž. prenesená",J162,0) -> 0 | BI162: =IF(N162="nulová",J162,0) -> 0 | BJ162: 2 | BK162: =ROUND(I162*H162,2) -> 0 | BL162: 4 | BM162: 36
C163: 19 | D163: K | E163: 964011221.S | F163: Vybúranie prekladov železobetónových prefabrikovaných, dľ. do 3 m, do 75 kg/m, -2,40000t | G163: m3 | H163: 0.283 | J163: =ROUND(I163*H163,2) -> 0 | N163: znížená | P163: =O163*H163 -> 0 | Q163: 0 | R163: =Q163*H163 -> 0 | S163: 0 | T163: =S163*H163 -> 0 | AR163: 4 | AT163: K | AU163: 2 | AY163: ROZPOCET | BE163: =IF(N163="základná",J163,0) -> 0 | BF163: =IF(N163="znížená",J163,0) -> 0 | BG163: =IF(N163="zákl. prenesená",J163,0) -> 0 | BH163: =IF(N163="zníž. prenesená",J163,0) -> 0 | BI163: =IF(N163="nulová",J163,0) -> 0 | BJ163: 2 | BK163: =ROUND(I163*H163,2) -> 0 | BL163: 4 | BM163: 38
C164: 20 | D164: K | E164: 965081712.S | F164: Búranie dlažieb, bez podklad. lôžka z xylolit., alebo keramických dlaždíc hr. do 10 mm, -0,02000t | G164: m2 | H164: 16.685 | J164: =ROUND(I164*H164,2) -> 0 | N164: znížená | P164: =O164*H164 -> 0 | Q164: 0 | R164: =Q164*H164 -> 0 | S164: 0 | T164: =S164*H164 -> 0 | AR164: 4 | AT164: K | AU164: 2 | AY164: ROZPOCET | BE164: =IF(N164="základná",J164,0) -> 0 | BF164: =IF(N164="znížená",J164,0) -> 0 | BG164: =IF(N164="zákl. prenesená",J164,0) -> 0 | BH164: =IF(N164="zníž. prenesená",J164,0) -> 0 | BI164: =IF(N164="nulová",J164,0) -> 0 | BJ164: 2 | BK164: =ROUND(I164*H164,2) -> 0 | BL164: 4 | BM164: 40
C165: 21 | D165: K | E165: 968061125.S | F165: Vyvesenie dreveného dverného krídla do suti plochy do 2 m2, -0,02400t | G165: ks | H165: 12 | J165: =ROUND(I165*H165,2) -> 0 | N165: znížená | P165: =O165*H165 -> 0 | Q165: 0 | R165: =Q165*H165 -> 0 | S165: 0 | T165: =S165*H165 -> 0 | AR165: 4 | AT165: K | AU165: 2 | AY165: ROZPOCET | BE165: =IF(N165="základná",J165,0) -> 0 | BF165: =IF(N165="znížená",J165,0) -> 0 | BG165: =IF(N165="zákl. prenesená",J165,0) -> 0 | BH165: =IF(N165="zníž. prenesená",J165,0) -> 0 | BI165: =IF(N165="nulová",J165,0) -> 0 | BJ165: 2 | BK165: =ROUND(I165*H165,2) -> 0 | BL165: 4 | BM165: 42
C166: 22 | D166: K | E166: 968062455.S | F166: Vybúranie drevených dverových zárubní plochy do 2 m2, -0,08800t | G166: m2 | H166: 1.89 | J166: =ROUND(I166*H166,2) -> 0 | N166: znížená | P166: =O166*H166 -> 0 | Q166: 0 | R166: =Q166*H166 -> 0 | S166: 0 | T166: =S166*H166 -> 0 | AR166: 4 | AT166: K | AU166: 2 | AY166: ROZPOCET | BE166: =IF(N166="základná",J166,0) -> 0 | BF166: =IF(N166="znížená",J166,0) -> 0 | BG166: =IF(N166="zákl. prenesená",J166,0) -> 0 | BH166: =IF(N166="zníž. prenesená",J166,0) -> 0 | BI166: =IF(N166="nulová",J166,0) -> 0 | BJ166: 2 | BK166: =ROUND(I166*H166,2) -> 0 | BL166: 4 | BM166: 44
...

Sheet SO 03 - SO 03   Sadové úp...
L2: >> skryté stĺpce << | AT2: {b2515f2e-eb8e-48ca-929e-4c0255c4da6d}
AT3: 0
D4: KRYCÍ LIST ROZPOČTU | M4: v --- nižšie sa nachádzajú doplnkové a pomocné údaje k zostavám --- v | AT4: False
D6: Stavba:
E7: ='Rekapitulácia stavby'!K6 -> Rekonštrukcia budovy školy a telocvične - SOŠ dopravy a služieb, NZ
D8: Objekt:
E9: SO 03 - SO 03 Sadové úpravy a vnútroareálové komunikácie pre peších
D11: JKSO: | I11: ČS:
D12: Miesto: | F12: Nitra | I12: Dátum:
D14: Objednávateľ: | I14: IČO:
E15: Nitriansky samosprávny kraj | I15: IČ DPH:
D17: Zhotoviteľ: | I17: IČO: | J17: ='Rekapitulácia stavby'!AN13 -> Vyplň údaj
E18: ='Rekapitulácia stavby'!E14 -> Vyplň údaj | I18: IČ DPH: | J18: ='Rekapitulácia stavby'!AN14 -> Vyplň údaj
D20: Projektant: | I20: IČO:
E21: Ing.arch. Roland Hoferica | I21: IČ DPH:
D23: Spracovateľ: | I23: IČO:
I24: IČ DPH:
D26: Poznámka:
D30: Cena bez DPH | J30: =ROUND(J123, 2) -> 0
F32: Základ dane | I32: Sadzba dane | J32: Výška dane
D33: DPH | E33: základná | F33: =ROUND((SUM(BE123:BE163)), 2) -> 0 | I33: 0.23 | J33: =ROUND(((SUM(BE123:BE163))*I33), 2) -> 0
E34: znížená | F34: =ROUND((SUM(BF123:BF163)), 2) -> 0 | I34: 0.23 | J34: =ROUND(((SUM(BF123:BF163))*I34), 2) -> 0
E35: zákl. prenesená | F35: =ROUND((SUM(BG123:BG163)), 2) -> 0 | I35: 0.23 | J35: =0 -> 0
E36: zníž. prenesená | F36: =ROUND((SUM(BH123:BH163)), 2) -> 0 | I36: 0.23 | J36: =0 -> 0
E37: nulová | F37: =ROUND((SUM(BI123:BI163)), 2) -> 0 | I37: 0 | J37: =0 -> 0
D39: Cena s DPH | G39: v | H39: EUR | J39: =SUM(J30:J37) -> 0
D50: Projektant | G50: Spracovateľ
D61: Dátum a podpis: | F61: Pečiatka | G61: Dátum a podpis: | J61: Pečiatka
D65: Objednávateľ | G65: Zhotoviteľ
D76: Dátum a podpis: | F76: Pečiatka | G76: Dátum a podpis: | J76: Pečiatka
C82: REKAPITULÁCIA ROZPOČTU
C84: Stavba:
E85: =E7 -> Rekonštrukcia budovy školy a telocvične - SOŠ dopravy a služieb, NZ
C86: Objekt:
E87: =E9 -> SO 03 - SO 03 Sadové úpravy a vnútroareálové komunikácie pre peších
C89: Miesto: | F89: =F12 -> Nitra | I89: Dátum: | J89: =IF(J12="","",J12)
C91: Objednávateľ: | F91: =E15 -> Nitriansky samosprávny kraj | I91: Projektant: | J91: =E21 -> Ing.arch. Roland Hoferica
C92: Zhotoviteľ: | F92: =IF(E18="","",E18) -> Vyplň údaj | I92: Spracovateľ:
C94: Kód dielu - Popis | J94: Cena celkom [EUR]
C96: Náklady z rozpočtu | J96: =J123 -> 0 | AU96: -1
D97: HSV - Práce a dodávky HSV | J97: =J124 -> 0
D98: 1 - Zemné práce | J98: =J125 -> 0
D99: 2 - Zakladanie | J99: =J142 -> 0
D100: 5 - Komunikácie | J100: =J144 -> 0
D101: 9 - Ostatné konštrukcie a práce-búranie | J101: =J150 -> 0
D102: 99 - Presun hmôt HSV | J102: =J161 -> 0
D103: PSV - Práce a dodávky PSV | J103: =J163 -> 0
C110: ROZPOČET
C112: Stavba:
E113: =E7 -> Rekonštrukcia budovy školy a telocvične - SOŠ dopravy a služieb, NZ
C114: Objekt:
E115: =E9 -> SO 03 - SO 03 Sadové úpravy a vnútroareálové komunikácie pre peších
C117: Miesto: | F117: =F12 -> Nitra | I117: Dátum: | J117: =IF(J12="","",J12)
C119: Objednávateľ: | F119: =E15 -> Nitriansky samosprávny kraj | I119: Projektant: | J119: =E21 -> Ing.arch. Roland Hoferica
C120: Zhotoviteľ: | F120: =IF(E18="","",E18) -> Vyplň údaj | I120: Spracovateľ: | J120: =E24 -> 0
C122: PČ | D122: Typ | E122: Kód | F122: Popis | G122: MJ | H122: Množstvo | I122: J.cena [EUR] | J122: Cena celkom [EUR] | K122: Cenová sústava | N122: DPH | O122: J. Nh [h] | P122: Nh celkom [h] | Q122: J. hmotnosť [t] | R122: Hmotnosť celkom [t] | S122: J. suť [t] | T122: Suť Celkom [t]
C123: Náklady z rozpočtu | J123: =BK123 -> 0 | P123: =P124+P163 -> 0 | R123: =R124+R163 -> 0 | T123: =T124+T163 -> 0 | AT123: D | AU123: -1 | BK123: =BK124+BK163 -> 0
D124: D | E124: HSV | F124: Práce a dodávky HSV | J124: =BK124 -> 0 | P124: =P125+P142+P144+P150+P161 -> 0 | R124: =R125+R142+R144+R150+R161 -> 0 | T124: =T125+T142+T144+T150+T161 -> 0 | AR124: 1 | AT124: D | AU124: 0 | AY124: ROZPOCET | BK124: =BK125+BK142+BK144+BK150+BK161 -> 0
D125: D | E125: 1 | F125: Zemné práce | J125: =BK125 -> 0 | P125: =SUM(P126:P141) -> 0 | R125: =SUM(R126:R141) -> 0 | T125: =SUM(T126:T141) -> 0 | AR125: 1 | AT125: D | AU125: 1 | AY125: ROZPOCET | BK125: =SUM(BK126:BK141) -> 0
C126: 1 | D126: K | E126: 113106121.S | F126: Rozoberanie dlažby, z betónových alebo kamenin. dlaždíc, dosiek alebo tvaroviek, -0,13800t | G126: m2 | H126: 39.2 | J126: =ROUND(I126*H126,2) -> 0 | N126: znížená | P126: =O126*H126 -> 0 | Q126: 0 | R126: =Q126*H126 -> 0 | S126: 0 | T126: =S126*H126 -> 0 | AR126: 4 | AT126: K | AU126: 2 | AY126: ROZPOCET | BE126: =IF(N126="základná",J126,0) -> 0 | BF126: =IF(N126="znížená",J126,0) -> 0 | BG126: =IF(N126="zákl. prenesená",J126,0) -> 0 | BH126: =IF(N126="zníž. prenesená",J126,0) -> 0 | BI126: =IF(N126="nulová",J126,0) -> 0 | BJ126: 2 | BK126: =ROUND(I126*H126,2) -> 0 | BL126: 4 | BM126: 2
C127: 2 | D127: K | E127: 113107122.S | F127: Odstránenie krytu v ploche do 200 m2 z kameniva hrubého drveného, hr.100 do 200 mm, -0,23500t | G127: m2 | H127: 109.54 | J127: =ROUND(I127*H127,2) -> 0 | N127: znížená | P127: =O127*H127 -> 0 | Q127: 0 | R127: =Q127*H127 -> 0 | S127: 0 | T127: =S127*H127 -> 0 | AR127: 4 | AT127: K | AU127: 2 | AY127: ROZPOCET | BE127: =IF(N127="základná",J127,0) -> 0 | BF127: =IF(N127="znížená",J127,0) -> 0 | BG127: =IF(N127="zákl. prenesená",J127,0) -> 0 | BH127: =IF(N127="zníž. prenesená",J127,0) -> 0 | BI127: =IF(N127="nulová",J127,0) -> 0 | BJ127: 2 | BK127: =ROUND(I127*H127,2) -> 0 | BL127: 4 | BM127: 4
C128: 3 | D128: K | E128: 113107131.S | F128: Odstránenie krytu v ploche do 200 m2 z betónu prostého, hr. vrstvy do 150 mm, -0,22500t | G128: m2 | H128: 109.54 | J128: =ROUND(I128*H128,2) -> 0 | N128: znížená | P128: =O128*H128 -> 0 | Q128: 0 | R128: =Q128*H128 -> 0 | S128: 0 | T128: =S128*H128 -> 0 | AR128: 4 | AT128: K | AU128: 2 | AY128: ROZPOCET | BE128: =IF(N128="základná",J128,0) -> 0 | BF128: =IF(N128="znížená",J128,0) -> 0 | BG128: =IF(N128="zákl. prenesená",J128,0) -> 0 | BH128: =IF(N128="zníž. prenesená",J128,0) -> 0 | BI128: =IF(N128="nulová",J128,0) -> 0 | BJ128: 2 | BK128: =ROUND(I128*H128,2) -> 0 | BL128: 4 | BM128: 6
C129: 4 | D129: K | E129: 122201101 | F129: Odkopávka a prekopávka nezapažená v hornine 3, do 100 m3 | G129: m3 | H129: 42.23 | J129: =ROUND(I129*H129,2) -> 0 | N129: znížená | P129: =O129*H129 -> 0 | Q129: 0 | R129: =Q129*H129 -> 0 | S129: 0 | T129: =S129*H129 -> 0 | AR129: 4 | AT129: K | AU129: 2 | AY129: ROZPOCET | BE129: =IF(N129="základná",J129,0) -> 0 | BF129: =IF(N129="znížená",J129,0) -> 0 | BG129: =IF(N129="zákl. prenesená",J129,0) -> 0 | BH129: =IF(N129="zníž. prenesená",J129,0) -> 0 | BI129: =IF(N129="nulová",J129,0) -> 0 | BJ129: 2 | BK129: =ROUND(I129*H129,2) -> 0 | BL129: 4 | BM129: 8
C130: 5 | D130: K | E130: 122201109 | F130: Odkopávky a prekopávky nezapažené. Príplatok k cenám za lepivosť horniny 3 | G130: m3 | H130: 12.669 | J130: =ROUND(I130*H130,2) -> 0 | N130: znížená | P130: =O130*H130 -> 0 | Q130: 0 | R130: =Q130*H130 -> 0 | S130: 0 | T130: =S130*H130 -> 0 | AR130: 4 | AT130: K | AU130: 2 | AY130: ROZPOCET | BE130: =IF(N130="základná",J130,0) -> 0 | BF130: =IF(N130="znížená",J130,0) -> 0 | BG130: =IF(N130="zákl. prenesená",J130,0) -> 0 | BH130: =IF(N130="zníž. prenesená",J130,0) -> 0 | BI130: =IF(N130="nulová",J130,0) -> 0 | BJ130: 2 | BK130: =ROUND(I130*H130,2) -> 0 | BL130: 4 | BM130: 10
C131: 6 | D131: K | E131: 162501102.S | F131: Vodorovné premiestnenie výkopku po spevnenej ceste z horniny tr.1-4, do 100 m3 na vzdialenosť do 3000 m | G131: m3 | H131: 39.2 | J131: =ROUND(I131*H131,2) -> 0 | N131: znížená | P131: =O131*H131 -> 0 | Q131: 0 | R131: =Q131*H131 -> 0 | S131: 0 | T131: =S131*H131 -> 0 | AR131: 4 | AT131: K | AU131: 2 | AY131: ROZPOCET | BE131: =IF(N131="základná",J131,0) -> 0 | BF131: =IF(N131="znížená",J131,0) -> 0 | BG131: =IF(N131="zákl. prenesená",J131,0) -> 0 | BH131: =IF(N131="zníž. prenesená",J131,0) -> 0 | BI131: =IF(N131="nulová",J131,0) -> 0 | BJ131: 2 | BK131: =ROUND(I131*H131,2) -> 0 | BL131: 4 | BM131: 12
C132: 7 | D132: K | E132: 171209002.S | F132: Poplatok za skládku - zemina a kamenivo (17 05) ostatné | G132: t | H132: 39.2 | J132: =ROUND(I132*H132,2) -> 0 | N132: znížená | P132: =O132*H132 -> 0 | Q132: 0 | R132: =Q132*H132 -> 0 | S132: 0 | T132: =S132*H132 -> 0 | AR132: 4 | AT132: K | AU132: 2 | AY132: ROZPOCET | BE132: =IF(N132="základná",J132,0) -> 0 | BF132: =IF(N132="znížená",J132,0) -> 0 | BG132: =IF(N132="zákl. prenesená",J132,0) -> 0 | BH132: =IF(N132="zníž. prenesená",J132,0) -> 0 | BI132: =IF(N132="nulová",J132,0) -> 0 | BJ132: 2 | BK132: =ROUND(I132*H132,2) -> 0 | BL132: 4 | BM132: 14
C133: 8 | D133: K | E133: 183101114 | F133: Hĺbenie jamky v rovine alebo na svahu do 1:5, objem nad 0,05 do 0,125 m3 | G133: ks | H133: 30 | J133: =ROUND(I133*H133,2) -> 0 | N133: znížená | P133: =O133*H133 -> 0 | Q133: 0 | R133: =Q133*H133 -> 0 | S133: 0 | T133: =S133*H133 -> 0 | AR133: 4 | AT133: K | AU133: 2 | AY133: ROZPOCET | BE133: =IF(N133="základná",J133,0) -> 0 | BF133: =IF(N133="znížená",J133,0) -> 0 | BG133: =IF(N133="zákl. prenesená",J133,0) -> 0 | BH133: =IF(N133="zníž. prenesená",J133,0) -> 0 | BI133: =IF(N133="nulová",J133,0) -> 0 | BJ133: 2 | BK133: =ROUND(I133*H133,2) -> 0 | BL133: 4 | BM133: 16
C134: 9 | D134: K | E134: 183101115 | F134: Hĺbenie jamky v rovine alebo na svahu do 1:5, objem nad 0,125 do 0,40 m3 | G134: ks | H134: 3 | J134: =ROUND(I134*H134,2) -> 0 | N134: znížená | P134: =O134*H134 -> 0 | Q134: 0 | R134: =Q134*H134 -> 0 | S134: 0 | T134: =S134*H134 -> 0 | AR134: 4 | AT134: K | AU134: 2 | AY134: ROZPOCET | BE134: =IF(N134="základná",J134,0) -> 0 | BF134: =IF(N134="znížená",J134,0) -> 0 | BG134: =IF(N134="zákl. prenesená",J134,0) -> 0 | BH134: =IF(N134="zníž. prenesená",J134,0) -> 0 | BI134: =IF(N134="nulová",J134,0) -> 0 | BJ134: 2 | BK134: =ROUND(I134*H134,2) -> 0 | BL134: 4 | BM134: 18
C135: 10 | D135: K | E135: 184102111 | F135: Výsadba dreviny s balom v rovine alebo na svahu do 1:5, priemer balu nad 100 do 200 mm | G135: ks | H135: 30 | J135: =ROUND(I135*H135,2) -> 0 | N135: znížená | P135: =O135*H135 -> 0 | Q135: 0 | R135: =Q135*H135 -> 0 | S135: 0 | T135: =S135*H135 -> 0 | AR135: 4 | AT135: K | AU135: 2 | AY135: ROZPOCET | BE135: =IF(N135="základná",J135,0) -> 0 | BF135: =IF(N135="znížená",J135,0) -> 0 | BG135: =IF(N135="zákl. prenesená",J135,0) -> 0 | BH135: =IF(N135="zníž. prenesená",J135,0) -> 0 | BI135: =IF(N135="nulová",J135,0) -> 0 | BJ135: 2 | BK135: =ROUND(I135*H135,2) -> 0 | BL135: 4 | BM135: 20
C136: 11 | D136: M | E136: 0266202390 | F136: Tavoľník japonský - zen spirit - Caramel; listnatý krík | G136: ks | H136: 10 | J136: =ROUND(I136*H136,2) -> 0 | N136: znížená | P136: =O136*H136 -> 0 | Q136: 0 | R136: =Q136*H136 -> 0 | S136: 0 | T136: =S136*H136 -> 0 | AR136: 8 | AT136: M | AU136: 2 | AY136: ROZPOCET | BE136: =IF(N136="základná",J136,0) -> 0 | BF136: =IF(N136="znížená",J136,0) -> 0 | BG136: =IF(N136="zákl. prenesená",J136,0) -> 0 | BH136: =IF(N136="zníž. prenesená",J136,0) -> 0 | BI136: =IF(N136="nulová",J136,0) -> 0 | BJ136: 2 | BK136: =ROUND(I136*H136,2) -> 0 | BL136: 4 | BM136: 22
C137: 12 | D137: M | E137: 0266202450 | F137: Wejgélia kvetnatá - Weigela florida ( Minor Black ); listnatý krík | G137: ks | H137: 20 | J137: =ROUND(I137*H137,2) -> 0 | N137: znížená | P137: =O137*H137 -> 0 | Q137: 0 | R137: =Q137*H137 -> 0 | S137: 0 | T137: =S137*H137 -> 0 | AR137: 8 | AT137: M | AU137: 2 | AY137: ROZPOCET | BE137: =IF(N137="základná",J137,0) -> 0 | BF137: =IF(N137="znížená",J137,0) -> 0 | BG137: =IF(N137="zákl. prenesená",J137,0) -> 0 | BH137: =IF(N137="zníž. prenesená",J137,0) -> 0 | BI137: =IF(N137="nulová",J137,0) -> 0 | BJ137: 2 | BK137: =ROUND(I137*H137,2) -> 0 | BL137: 4 | BM137: 24
... C141: 16 | D141: M | E141: 0521721000R01 | F141: Tyče ihličňanové tr. 1, hrúbka 6-7 cm, dĺžky 6 m a viac bez kôry | G141: ks | H141: 9 | J141: =ROUND(I141*H141,2) -> 0 | N141: znížená | P141: =O141*H141 -> 0 | Q141: 0 | R141: =Q141*H141 -> 0 | S141: 0 | T141: =S141*H141 -> 0 | AR141: 8 | AT141: M | AU141: 2 | AY141: ROZPOCET | BE141: =IF(N141="základná",J141,0) -> 0 | BF141: =IF(N141="znížená",J141,0) -> 0 | BG141: =IF(N141="zákl. prenesená",J141,0) -> 0 | BH141: =IF(N141="zníž. prenesená",J141,0) -> 0 | BI141: =IF(N141="nulová",J141,0) -> 0 | BJ141: 2 | BK141: =ROUND(I141*H141,2) -> 0 | BL141: 4 | BM141: 32
D142: D | E142: 2 | F142: Zakladanie | J142: =BK142 -> 0 | P142: =P143 -> 0 | R142: =R143 -> 0 | T142: =T143 -> 0 | AR142: 1 | AT142: D | AU142: 1 | AY142: ROZPOCET | BK142: =BK143 -> 0
C143: 17 | D143: K | E143: 215901101 | F143: Zhutnenie podložia z rastlej horniny 1 až 4 pod násypy, z hornina súdržných do 92 % PS a nesúdržných | G143: m2 | H143: 182.06 | J143: =ROUND(I143*H143,2) -> 0 | N143: znížená | P143: =O143*H143 -> 0 | Q143: 0 | R143: =Q143*H143 -> 0 | S143: 0 | T143: =S143*H143 -> 0 | AR143: 4 | AT143: K | AU143: 2 | AY143: ROZPOCET | BE143: =IF(N143="základná",J143,0) -> 0 | BF143: =IF(N143="znížená",J143,0) -> 0 | BG143: =IF(N143="zákl. prenesená",J143,0) -> 0 | BH143: =IF(N143="zníž. prenesená",J143,0) -> 0 | BI143: =IF(N143="nulová",J143,0) -> 0 | BJ143: 2 | BK143: =ROUND(I143*H143,2) -> 0 | BL143: 4 | BM143: 34
D144: D | E144: 5 | F144: Komunikácie | J144: =BK144 -> 0 | P144: =SUM(P145:P149) -> 0 | R144: =SUM(R145:R149) -> 0 | T144: =SUM(T145:T149) -> 0 | AR144: 1 | AT144: D | AU144: 1 | AY144: ROZPOCET | BK144: =SUM(BK145:BK149) -> 0
C145: 18 | D145: K | E145: 564861111.S | F145: Podklad zo štrkodrviny s rozprestretím a zhutnením, po zhutnení hr. 200 mm | G145: m2 | H145: 192.66 | J145: =ROUND(I145*H145,2) -> 0 | N145: znížená | P145: =O145*H145 -> 0 | Q145: 0 | R145: =Q145*H145 -> 0 | S145: 0 | T145: =S145*H145 -> 0 | AR145: 4 | AT145: K | AU145: 2 | AY145: ROZPOCET | BE145: =IF(N145="základná",J145,0) -> 0 | BF145: =IF(N145="znížená",J145,0) -> 0 | BG145: =IF(N145="zákl. prenesená",J145,0) -> 0 | BH145: =IF(N145="zníž. prenesená",J145,0) -> 0 | BI145: =IF(N145="nulová",J145,0) -> 0 | BJ145: 2 | BK145: =ROUND(I145*H145,2) -> 0 | BL145: 4 | BM145: 44
C146: 19 | D146: K | E146: 596911112 | F146: Kladenie zámkovej dlažby hr. 6 cm pre peších nad 20 m2 | G146: m2 | H146: 147.216 | J146: =ROUND(I146*H146,2) -> 0 | N146: znížená | P146: =O146*H146 -> 0 | Q146: 0 | R146: =Q146*H146 -> 0 | S146: 0 | T146: =S146*H146 -> 0 | AR146: 4 | AT146: K | AU146: 2 | AY146: ROZPOCET | BE146: =IF(N146="základná",J146,0) -> 0 | BF146: =IF(N146="znížená",J146,0) -> 0 | BG146: =IF(N146="zákl. prenesená",J146,0) -> 0 | BH146: =IF(N146="zníž. prenesená",J146,0) -> 0 | BI146: =IF(N146="nulová",J146,0) -> 0 | BJ146: 2 | BK146: =ROUND(I146*H146,2) -> 0 | BL146: 4 | BM146: 46
C147: 20 | D147: M | E147: 592460010600 | F147: Dlažba betónová PREMAC KLASIKO, rozmer 200x100x60 mm, sivá | G147: m2 | H147: 151.632 | J147: =ROUND(I147*H147,2) -> 0 | N147: znížená | P147: =O147*H147 -> 0 | Q147: 0 | R147: =Q147*H147 -> 0 | S147: 0 | T147: =S147*H147 -> 0 | AR147: 8 | AT147: M | AU147: 2 | AY147: ROZPOCET | BE147: =IF(N147="základná",J147,0) -> 0 | BF147: =IF(N147="znížená",J147,0) -> 0 | BG147: =IF(N147="zákl. prenesená",J147,0) -> 0 | BH147: =IF(N147="zníž. prenesená",J147,0) -> 0 | BI147: =IF(N147="nulová",J147,0) -> 0 | BJ147: 2 | BK147: =ROUND(I147*H147,2) -> 0 | BL147: 4 | BM147: 48
C148: 21 | D148: K | E148: 596911391.S | F148: Dopiľovanie betónovej zámkovej dlažby hr. do 60 mm | G148: m | H148: 74.22 | J148: =ROUND(I148*H148,2) -> 0 | N148: znížená | P148: =O148*H148 -> 0 | Q148: 0 | R148: =Q148*H148 -> 0 | S148: 0 | T148: =S148*H148 -> 0 | AR148: 4 | AT148: K | AU148: 2 | AY148: ROZPOCET | BE148: =IF(N148="základná",J148,0) -> 0 | BF148: =IF(N148="znížená",J148,0) -> 0 | BG148: =IF(N148="zákl. prenesená",J148,0) -> 0 | BH148: =IF(N148="zníž. prenesená",J148,0) -> 0 | BI148: =IF(N148="nulová",J148,0) -> 0 | BJ148: 2 | BK148: =ROUND(I148*H148,2) -> 0 | BL148: 4 | BM148: 58
C149: 22 | D149: K | E149: 597961111.S | F149: Rigol dláždený do lôžka z betónu prostého tr. C 8/10 z prefabrikátov | G149: m | H149: 10 | J149: =ROUND(I149*H149,2) -> 0 | N149: znížená | P149: =O149*H149 -> 0 | Q149: 0 | R149: =Q149*H149 -> 0 | S149: 0 | T149: =S149*H149 -> 0 | AR149: 4 | AT149: K | AU149: 2 | AY149: ROZPOCET | BE149: =IF(N149="základná",J149,0) -> 0 | BF149: =IF(N149="znížená",J149,0) -> 0 | BG149: =IF(N149="zákl. prenesená",J149,0) -> 0 | BH149: =IF(N149="zníž. prenesená",J149,0) -> 0 | BI149: =IF(N149="nulová",J149,0) -> 0 | BJ149: 2 | BK149: =ROUND(I149*H149,2) -> 0 | BL149: 4 | BM149: 60
D150: D | E150: 9 | F150: Ostatné konštrukcie a práce-búranie | J150: =BK150 -> 0 | P150: =SUM(P151:P160) -> 0 | R150: =SUM(R151:R160) -> 0 | T150: =SUM(T151:T160) -> 0 | AR150: 1 | AT150: D | AU150: 1 | AY150: ROZPOCET | BK150: =SUM(BK151:BK160) -> 0
C151: 23 | D151: K | E151: 916561211.S | F151: Osadenie záhonového alebo parkového obrubníka betónového, do lôžka zo suchého betónu tr. C 12/15 s bočnou oporou | G151: m | H151: 185.74 | J151: =ROUND(I151*H151,2) -> 0 | N151: znížená | P151: =O151*H151 -> 0 | Q151: 0 | R151: =Q151*H151 -> 0 | S151: 0 | T151: =S151*H151 -> 0 | AR151: 4 | AT151: K | AU151: 2 | AY151: ROZPOCET | BE151: =IF(N151="základná",J151,0) -> 0 | BF151: =IF(N151="znížená",J151,0) -> 0 | BG151: =IF(N151="zákl. prenesená",J151,0) -> 0 | BH151: =IF(N151="zníž. prenesená",J151,0) -> 0 | BI151: =IF(N151="nulová",J151,0) -> 0 | BJ151: 2 | BK151: =ROUND(I151*H151,2) -> 0 | BL151: 4 | BM151: 62
C152: 24 | D152: M | E152: 592170002900 | F152: Obrubník parkový, lxšxv 1000x50x200 mm, sivá | G152: ks | H152: 187.597 | J152: =ROUND(I152*H152,2) -> 0 | N152: znížená | P152: =O152*H152 -> 0 | Q152: 0 | R152: =Q152*H152 -> 0 | S152: 0 | T152: =S152*H152 -> 0 | AR152: 8 | AT152: M | AU152: 2 | AY152: ROZPOCET | BE152: =IF(N152="základná",J152,0) -> 0 | BF152: =IF(N152="znížená",J152,0) -> 0 | BG152: =IF(N152="zákl. prenesená",J152,0) -> 0 | BH152: =IF(N152="zníž. prenesená",J152,0) -> 0 | BI152: =IF(N152="nulová",J152,0) -> 0 | BJ152: 2 | BK152: =ROUND(I152*H152,2) -> 0 | BL152: 4 | BM152: 64
C153: 25 | D153: K | E153: 917762112 | F153: Osadenie chodník. obrubníka betónového ležatého do lôžka z betónu prosteho tr. C 16/20 s bočnou oporou | G153: m | H153: 4 | J153: =ROUND(I153*H153,2) -> 0 | N153: znížená | P153: =O153*H153 -> 0 | Q153: 0 | R153: =Q153*H153 -> 0 | S153: 0 | T153: =S153*H153 -> 0 | AR153: 4 | AT153: K | AU153: 2 | AY153: ROZPOCET | BE153: =IF(N153="základná",J153,0) -> 0 | BF153: =IF(N153="znížená",J153,0) -> 0 | BG153: =IF(N153="zákl. prenesená",J153,0) -> 0 | BH153: =IF(N153="zníž. prenesená",J153,0) -> 0 | BI153: =IF(N153="nulová",J153,0) -> 0 | BJ153: 2 | BK153: =ROUND(I153*H153,2) -> 0 | BL153: 4 | BM153: 66
C154: 26 | D154: M | E154: 5921745000 | F154: Obrubník betónový 100x15x26 | G154: ks | H154: 4 | J154: =ROUND(I154*H154,2) -> 0 | N154: znížená | P154: =O154*H154 -> 0 | Q154: 0 | R154: =Q154*H154 -> 0 | S154: 0 | T154: =S154*H154 -> 0 | AR154: 8 | AT154: M | AU154: 2 | AY154: ROZPOCET | BE154: =IF(N154="základná",J154,0) -> 0 | BF154: =IF(N154="znížená",J154,0) -> 0 | BG154: =IF(N154="zákl. prenesená",J154,0) -> 0 | BH154: =IF(N154="zníž. prenesená",J154,0) -> 0 | BI154: =IF(N154="nulová",J154,0) -> 0 | BJ154: 2 | BK154: =ROUND(I154*H154,2) -> 0 | BL154: 4 | BM154: 68
C155: 27 | D155: K | E155: 918101121.S | F155: Lôžko pod obrubníky, krajníky alebo obruby z dlažobných kociek zo suchého betónu tr. C 12/15 | G155: m3 | H155: 13.18 | J155: =ROUND(I155*H155,2) -> 0 | N155: znížená | P155: =O155*H155 -> 0 | Q155: 0 | R155: =Q155*H155 -> 0 | S155: 0 | T155: =S155*H155 -> 0 | AR155: 4 | AT155: K | AU155: 2 | AY155: ROZPOCET | BE155: =IF(N155="základná",J155,0) -> 0 | BF155: =IF(N155="znížená",J155,0) -> 0 | BG155: =IF(N155="zákl. prenesená",J155,0) -> 0 | BH155: =IF(N155="zníž. prenesená",J155,0) -> 0 | BI155: =IF(N155="nulová",J155,0) -> 0 | BJ155: 2 | BK155: =ROUND(I155*H155,2) -> 0 | BL155: 4 | BM155: 78
C156: 28 | D156: K | E156: 936124123 | F156: Osadenie parkovej lavičky | G156: ks | H156: 3 | J156: =ROUND(I156*H156,2) -> 0 | N156: znížená | P156: =O156*H156 -> 0 | Q156: 0 | R156: =Q156*H156 -> 0 | S156: 0 | T156: =S156*H156 -> 0 | AR156: 4 | AT156: K | AU156: 2 | AY156: ROZPOCET | BE156: =IF(N156="základná",J156,0) -> 0 | BF156: =IF(N156="znížená",J156,0) -> 0 | BG156: =IF(N156="zákl. prenesená",J156,0) -> 0 | BH156: =IF(N156="zníž. prenesená",J156,0) -> 0 | BI156: =IF(N156="nulová",J156,0) -> 0 | BJ156: 2 | BK156: =ROUND(I156*H156,2) -> 0 | BL156: 4 | BM156: 80
C157: 29 | D157: M | E157: 5538168028 | F157: Parková lavička | G157: ks | H157: 3 | J157: =ROUND(I157*H157,2) -> 0 | N157: znížená | P157: =O157*H157 -> 0 | Q157: 0 | R157: =Q157*H157 -> 0 | S157: 0 | T157: =S157*H157 -> 0 | AR157: 8 | AT157: M | AU157: 2 | AY157: ROZPOCET | BE157: =IF(N157="základná",J157,0) -> 0 | BF157: =IF(N157="znížená",J157,0) -> 0 | BG157: =IF(N157="zákl. prenesená",J157,0) -> 0 | BH157: =IF(N157="zníž. prenesená",J157,0) -> 0 | BI157: =IF(N157="nulová",J157,0) -> 0 | BJ157: 2 | BK157: =ROUND(I157*H157,2) -> 0 | BL157: 4 | BM157: 82
C158: 30 | D158: K | E158: 979081111.S | F158: Odvoz sutiny a vybúraných hmôt na skládku do 1 km | G158: t | H158: 55.798 | J158: =ROUND(I158*H158,2) -> 0 | N158: znížená | P158: =O158*H158 -> 0 | Q158: 0 | R158: =Q158*H158 -> 0 | S158: 0 | T158: =S158*H158 -> 0 | AR158: 4 | AT158: K | AU158: 2 | AY158: ROZPOCET | BE158: =IF(N158="základná",J158,0) -> 0 | BF158: =IF(N158="znížená",J158,0) -> 0 | BG158: =IF(N158="zákl. prenesená",J158,0) -> 0 | BH158: =IF(N158="zníž. prenesená",J158,0) -> 0 | BI158: =IF(N158="nulová",J158,0) -> 0 | BJ158: 2 | BK158: =ROUND(I158*H158,2) -> 0 | BL158: 4 | BM158: 84
C159: 31 | D159: K | E159: 979081121.S | F159: Odvoz sutiny a vybúraných hmôt na skládku za každý ďalší 1 km | G159: t | H159: 457.182 | J159: =ROUND(I159*H159,2) -> 0 | N159: znížená | P159: =O159*H159 -> 0 | Q159: 0 | R159: =Q159*H159 -> 0 | S159: 0 | T159: =S159*H159 -> 0 | AR159: 4 | AT159: K | AU159: 2 | AY159: ROZPOCET | BE159: =IF(N159="základná",J159,0) -> 0 | BF159: =IF(N159="znížená",J159,0) -> 0 | BG159: =IF(N159="zákl. prenesená",J159,0) -> 0 | BH159: =IF(N159="zníž. prenesená",J159,0) -> 0 | BI159: =IF(N159="nulová",J159,0) -> 0 | BJ159: 2 | BK159: =ROUND(I159*H159,2) -> 0 | BL159: 4 | BM159: 86
C160: 32 | D160: K | E160: 979089012.S | F160: Poplatok za skládku - betón, tehly, dlaždice (17 01) ostatné | G160: t | H160: 55.798 | J160: =ROUND(I160*H160,2) -> 0 | N160: znížená | P160: =O160*H160 -> 0 | Q160: 0 | R160: =Q160*H160 -> 0 | S160: 0 | T160: =S160*H160 -> 0 | AR160: 4 | AT160: K | AU160: 2 | AY160: ROZPOCET | BE160: =IF(N160="základná",J160,0) -> 0 | BF160: =IF(N160="znížená",J160,0) -> 0 | BG160: =IF(N160="zákl. prenesená",J160,0) -> 0 | BH160: =IF(N160="zníž. prenesená",J160,0) -> 0 | BI160: =IF(N160="nulová",J160,0) -> 0 | BJ160: 2 | BK160: =ROUND(I160*H160,2) -> 0 | BL160: 4 | BM160: 88
D161: D | E161: 99 | F161: Presun hmôt HSV | J161: =BK161 -> 0 | P161: =P162 -> 0 | R161: =R162 -> 0 | T161: =T162 -> 0 | AR161: 1 | AT161: D | AU161: 1 | AY161: ROZPOCET | BK161: =BK162 -> 0
C162: 33 | D162: K | E162: 998223011.S | F162: Presun hmôt pre pozemné komunikácie s krytom dláždeným (822 2.3, 822 5.3) akejkoľvek dĺžky objektu | G162: t | H162: 161.072 | J162: =ROUND(I162*H162,2) -> 0 | N162: znížená | P162: =O162*H162 -> 0 | Q162: 0 | R162: =Q162*H162 -> 0 | S162: 0 | T162: =S162*H162 -> 0 | AR162: 4 | AT162: K | AU162: 2 | AY162: ROZPOCET | BE162: =IF(N162="základná",J162,0) -> 0 | BF162: =IF(N162="znížená",J162,0) -> 0 | BG162: =IF(N162="zákl. prenesená",J162,0) -> 0 | BH162: =IF(N162="zníž. prenesená",J162,0) -> 0 | BI162: =IF(N162="nulová",J162,0) -> 0 | BJ162: 2 | BK162: =ROUND(I162*H162,2) -> 0 | BL162: 4 | BM162: 90
D163: D | E163: PSV | F163: Práce a dodávky PSV | J163: =BK163 -> 0 | P163: 0 | R163: 0 | T163: 0 | AR163: 2 | AT163: D | AU163: 0 | AY163: ROZPOCET | BK163: 0

Sheet SO 04.1 - SO 04.1  Debari...
L2: >> skryté stĺpce << | AT2: {077bfd79-a7fd-4a85-9071-24fbea84c745}
AT3: 0
D4: KRYCÍ LIST ROZPOČTU | M4: v --- nižšie sa nachádzajú doplnkové a pomocné údaje k zostavám --- v | AT4: False
D6: Stavba:
E7: ='Rekapitulácia stavby'!K6 -> Rekonštrukcia budovy školy a telocvične - SOŠ dopravy a služieb, NZ
D8: Objekt:
E9: SO 04 - SO 04 Debarierizácia SOŠ dopravy a služieb
D10: Časť:
E11: SO 04.1 - SO 04.1 Debarierizácia vstupu do SO 01 - interiér
D13: JKSO: | I13: ČS:
D14: Miesto: | F14: Nitra | I14: Dátum:
D16: Objednávateľ: | I16: IČO:
E17: Nitriansky samosprávny kraj | I17: IČ DPH:
D19: Zhotoviteľ: | I19: IČO: | J19: ='Rekapitulácia stavby'!AN13 -> Vyplň údaj
E20: ='Rekapitulácia stavby'!E14 -> Vyplň údaj | I20: IČ DPH: | J20: ='Rekapitulácia stavby'!AN14 -> Vyplň údaj
D22: Projektant: | I22: IČO:
E23: Ing.arch. Roland Hoferica | I23: IČ DPH:
D25: Spracovateľ: | I25: IČO:
I26: IČ DPH:
D28: Poznámka:
D32: Cena bez DPH | J32: =ROUND(J129, 2) -> 0
F34: Základ dane | I34: Sadzba dane | J34: Výška dane
D35: DPH | E35: základná | F35: =ROUND((SUM(BE129:BE176)), 2) -> 0 | I35: 0.23 | J35: =ROUND(((SUM(BE129:BE176))*I35), 2) -> 0
E36: znížená | F36: =ROUND((SUM(BF129:BF176)), 2) -> 0 | I36: 0.23 | J36: =ROUND(((SUM(BF129:BF176))*I36), 2) -> 0
E37: zákl. prenesená | F37: =ROUND((SUM(BG129:BG176)), 2) -> 0 | I37: 0.23 | J37: =0 -> 0
E38: zníž. prenesená | F38: =ROUND((SUM(BH129:BH176)), 2) -> 0 | I38: 0.23 | J38: =0 -> 0
E39: nulová | F39: =ROUND((SUM(BI129:BI176)), 2) -> 0 | I39: 0 | J39: =0 -> 0
D41: Cena s DPH | G41: v | H41: EUR | J41: =SUM(J32:J39) -> 0
D50: Projektant | G50: Spracovateľ
D61: Dátum a podpis: | F61: Pečiatka | G61: Dátum a podpis: | J61: Pečiatka
D65: Objednávateľ | G65: Zhotoviteľ
D76: Dátum a podpis: | F76: Pečiatka | G76: Dátum a podpis: | J76: Pečiatka
C82: REKAPITULÁCIA ROZPOČTU
C84: Stavba:
E85: =E7 -> Rekonštrukcia budovy školy a telocvične - SOŠ dopravy a služieb, NZ
C86: Objekt:
E87: SO 04 - SO 04 Debarierizácia SOŠ dopravy a služieb
C88: Časť:
E89: =E11 -> SO 04.1 - SO 04.1 Debarierizácia vstupu do SO 01 - interiér
C91: Miesto: | F91: =F14 -> Nitra | I91: Dátum: | J91: =IF(J14="","",J14)
C93: Objednávateľ: | F93: =E17 -> Nitriansky samosprávny kraj | I93: Projektant: | J93: =E23 -> Ing.arch. Roland Hoferica
C94: Zhotoviteľ: | F94: =IF(E20="","",E20) -> Vyplň údaj | I94: Spracovateľ:
C96: Kód dielu - Popis | J96: Cena celkom [EUR]
C98: Náklady z rozpočtu | J98: =J129 -> 0 | AU98: -1
D99: HSV - Práce a dodávky HSV | J99: =J130 -> 0
D100: 6 - Úpravy povrchov, podlahy, osadenie | J100: =J131 -> 0
D101: 9 - Ostatné konštrukcie a práce-búranie | J101: =J140 -> 0
D102: 99 - Presun hmôt HSV | J102: =J153 -> 0
D103: PSV - Práce a dodávky PSV | J103: =J155 -> 0
D104: 766 - Konštrukcie stolárske | J104: =J156 -> 0
D105: 767 - Konštrukcie doplnkové kovové | J105: =J162 -> 0
D106: 771 - Podlahy z dlaždíc | J106: =J166 -> 0
D107: 784 - Maľby | J107: =J174 -> 0
C114: ROZPOČET
C116: Stavba:
E117: =E7 -> Rekonštrukcia budovy školy a telocvične - SOŠ dopravy a služieb, NZ
C118: Objekt:
E119: SO 04 - SO 04 Debarierizácia SOŠ dopravy a služieb
C120: Časť:
E121: =E11 -> SO 04.1 - SO 04.1 Debarierizácia vstupu do SO 01 - interiér
C123: Miesto: | F123: =F14 -> Nitra | I123: Dátum: | J123: =IF(J14="","",J14)
C125: Objednávateľ: | F125: =E17 -> Nitriansky samosprávny kraj | I125: Projektant: | J125: =E23 -> Ing.arch. Roland Hoferica
C126: Zhotoviteľ: | F126: =IF(E20="","",E20) -> Vyplň údaj | I126: Spracovateľ: | J126: =E26 -> 0
C128: PČ | D128: Typ | E128: Kód | F128: Popis | G128: MJ | H128: Množstvo | I128: J.cena [EUR] | J128: Cena celkom [EUR] | K128: Cenová sústava | N128: DPH | O128: J. Nh [h] | P128: Nh celkom [h] | Q128: J. hmotnosť [t] | R128: Hmotnosť celkom [t] | S128: J. suť [t] | T128: Suť Celkom [t]
C129: Náklady z rozpočtu | J129: =BK129 -> 0 | P129: =P130+P155 -> 0 | R129: =R130+R155 -> 0 | T129: =T130+T155 -> 0 | AT129: D | AU129: -1 | BK129: =BK130+BK155 -> 0
D130: D | E130: HSV | F130: Práce a dodávky HSV | J130: =BK130 -> 0 | P130: =P131+P140+P153 -> 0 | R130: =R131+R140+R153 -> 0 | T130: =T131+T140+T153 -> 0 | AR130: 1 | AT130: D | AU130: 0 | AY130: ROZPOCET | BK130: =BK131+BK140+BK153 -> 0
D131: D | E131: 6 | F131: Úpravy povrchov, podlahy, osadenie | J131: =BK131 -> 0 | P131: =SUM(P132:P139) -> 0 | R131: =SUM(R132:R139) -> 0 | T131: =SUM(T132:T139) -> 0 | AR131: 1 | AT131: D | AU131: 1 | AY131: ROZPOCET | BK131: =SUM(BK132:BK139) -> 0
C132: 1 | D132: K | E132: 612401391.S | F132: Omietka jednotlivých malých plôch vnútorných stien akoukoľvek maltou nad 0, 25 do 1 m2 | G132: ks | H132: 4 | J132: =ROUND(I132*H132,2) -> 0 | N132: znížená | P132: =O132*H132 -> 0 | Q132: 0 | R132: =Q132*H132 -> 0 | S132: 0 | T132: =S132*H132 -> 0 | AR132: 4 | AT132: K | AU132: 2 | AY132: ROZPOCET | BE132: =IF(N132="základná",J132,0) -> 0 | BF132: =IF(N132="znížená",J132,0) -> 0 | BG132: =IF(N132="zákl. prenesená",J132,0) -> 0 | BH132: =IF(N132="zníž. prenesená",J132,0) -> 0 | BI132: =IF(N132="nulová",J132,0) -> 0 | BJ132: 2 | BK132: =ROUND(I132*H132,2) -> 0 | BL132: 4 | BM132: 2
C133: 2 | D133: K | E133: 631312131.S | F133: Doplnenie existujúcich mazanín prostým betónom bez poteru o ploche 1-4 m2 a hr.do 240 mm | G133: m3 | H133: 0.677 | J133: =ROUND(I133*H133,2) -> 0 | N133: znížená | P133: =O133*H133 -> 0 | Q133: 0 | R133: =Q133*H133 -> 0 | S133: 0 | T133: =S133*H133 -> 0 | AR133: 4 | AT133: K | AU133: 2 | AY133: ROZPOCET | BE133: =IF(N133="základná",J133,0) -> 0 | BF133: =IF(N133="znížená",J133,0) -> 0 | BG133: =IF(N133="zákl. prenesená",J133,0) -> 0 | BH133: =IF(N133="zníž. prenesená",J133,0) -> 0 | BI133: =IF(N133="nulová",J133,0) -> 0 | BJ133: 2 | BK133: =ROUND(I133*H133,2) -> 0 | BL133: 4 | BM133: 4
C134: 3 | D134: K | E134: 631315611.S | F134: Mazanina z betónu prostého (m3) tr. C 16/20 hr.nad 120 do 240 mm | G134: m3 | H134: 0.955 | J134: =ROUND(I134*H134,2) -> 0 | N134: znížená | P134: =O134*H134 -> 0 | Q134: 0 | R134: =Q134*H134 -> 0 | S134: 0 | T134: =S134*H134 -> 0 | AR134: 4 | AT134: K | AU134: 2 | AY134: ROZPOCET | BE134: =IF(N134="základná",J134,0) -> 0 | BF134: =IF(N134="znížená",J134,0) -> 0 | BG134: =IF(N134="zákl. prenesená",J134,0) -> 0 | BH134: =IF(N134="zníž. prenesená",J134,0) -> 0 | BI134: =IF(N134="nulová",J134,0) -> 0 | BJ134: 2 | BK134: =ROUND(I134*H134,2) -> 0 | BL134: 4 | BM134: 6
C135: 4 | D135: K | E135: 631319155.S | F135: Príplatok za prehlad. povrchu betónovej mazaniny min. tr.C 8/10 oceľ. hlad. hr. 120-240 mm | G135: m3 | H135: 0.955 | J135: =ROUND(I135*H135,2) -> 0 | N135: znížená | P135: =O135*H135 -> 0 | Q135: 0 | R135: =Q135*H135 -> 0 | S135: 0 | T135: =S135*H135 -> 0 | AR135: 4 | AT135: K | AU135: 2 | AY135: ROZPOCET | BE135: =IF(N135="základná",J135,0) -> 0 | BF135: =IF(N135="znížená",J135,0) -> 0 | BG135: =IF(N135="zákl. prenesená",J135,0) -> 0 | BH135: =IF(N135="zníž. prenesená",J135,0) -> 0 | BI135: =IF(N135="nulová",J135,0) -> 0 | BJ135: 2 | BK135: =ROUND(I135*H135,2) -> 0 | BL135: 4 | BM135: 8
C136: 5 | D136: K | E136: 631362422.S | F136: Výstuž mazanín z betónov (z kameniva) a z ľahkých betónov zo sietí KARI, priemer drôtu 6/6 mm, veľkosť oka 150x150 mm | G136: m2 | H136: 7 | J136: =ROUND(I136*H136,2) -> 0 | N136: znížená | P136: =O136*H136 -> 0 | Q136: 0 | R136: =Q136*H136 -> 0 | S136: 0 | T136: =S136*H136 -> 0 | AR136: 4 | AT136: K | AU136: 2 | AY136: ROZPOCET | BE136: =IF(N136="základná",J136,0) -> 0 | BF136: =IF(N136="znížená",J136,0) -> 0 | BG136: =IF(N136="zákl. prenesená",J136,0) -> 0 | BH136: =IF(N136="zníž. prenesená",J136,0) -> 0 | BI136: =IF(N136="nulová",J136,0) -> 0 | BJ136: 2 | BK136: =ROUND(I136*H136,2) -> 0 | BL136: 4 | BM136: 10
C137: 6 | D137: K | E137: 632001051.S | F137: Zhotovenie jednonásobného penetračného náteru pre potery a stierky | G137: m2 | H137: 6.475 | J137: =ROUND(I137*H137,2) -> 0 | N137: znížená | P137: =O137*H137 -> 0 | Q137: 0 | R137: =Q137*H137 -> 0 | S137: 0 | T137: =S137*H137 -> 0 | AR137: 4 | AT137: K | AU137: 2 | AY137: ROZPOCET | BE137: =IF(N137="základná",J137,0) -> 0 | BF137: =IF(N137="znížená",J137,0) -> 0 | BG137: =IF(N137="zákl. prenesená",J137,0) -> 0 | BH137: =IF(N137="zníž. prenesená",J137,0) -> 0 | BI137: =IF(N137="nulová",J137,0) -> 0 | BJ137: 2 | BK137: =ROUND(I137*H137,2) -> 0 | BL137: 4 | BM137: 12
C138: 7 | D138: M | E138: 082110000200.S | F138: Voda pitná pre priemysel a služby | G138: m3 | H138: 0.01 | J138: =ROUND(I138*H138,2) -> 0 | N138: znížená | P138: =O138*H138 -> 0 | Q138: 0 | R138: =Q138*H138 -> 0 | S138: 0 | T138: =S138*H138 -> 0 | AR138: 8 | AT138: M | AU138: 2 | AY138: ROZPOCET | BE138: =IF(N138="základná",J138,0) -> 0 | BF138: =IF(N138="znížená",J138,0) -> 0 | BG138: =IF(N138="zákl. prenesená",J138,0) -> 0 | BH138: =IF(N138="zníž. prenesená",J138,0) -> 0 | BI138: =IF(N138="nulová",J138,0) -> 0 | BJ138: 2 | BK138: =ROUND(I138*H138,2) -> 0 | BL138: 4 | BM138: 14
C139: 8 | D139: M | E139: 585520008700.S | F139: Penetračný náter na nasiakavé podklady pod potery, samonivelizačné hmoty a stavebné lepidlá | G139: kg | H139: 1.334 | J139: =ROUND(I139*H139,2) -> 0 | N139: znížená | P139: =O139*H139 -> 0 | Q139: 0 | R139: =Q139*H139 -> 0 | S139: 0 | T139: =S139*H139 -> 0 | AR139: 8 | AT139: M | AU139: 2 | AY139: ROZPOCET | BE139: =IF(N139="základná",J139,0) -> 0 | BF139: =IF(N139="znížená",J139,0) -> 0 | BG139: =IF(N139="zákl. prenesená",J139,0) -> 0 | BH139: =IF(N139="zníž. prenesená",J139,0) -> 0 | BI139: =IF(N139="nulová",J139,0) -> 0 | BJ139: 2 | BK139: =ROUND(I139*H139,2) -> 0 | BL139: 4 | BM139: 16
D140: D | E140: 9 | F140: Ostatné konštrukcie a práce-búranie | J140: =BK140 -> 0 | P140: =SUM(P141:P152) -> 0 | R140: =SUM(R141:R152) -> 0 | T140: =SUM(T141:T152) -> 0 | AR140: 1 | AT140: D | AU140: 1 | AY140: ROZPOCET | BK140: =SUM(BK141:BK152) -> 0
C141: 9 | D141: K | E141: 965043441.S | F141: Búranie podkladov pod dlažby, liatych dlažieb a mazanín,betón s poterom,teracom hr.do 150 mm, plochy nad 4 m2 -2,20000t | G141: m3 | H141: 6.475 | J141: =ROUND(I141*H141,2) -> 0 | N141: znížená | P141: =O141*H141 -> 0 | Q141: 0 | R141: =Q141*H141 -> 0 | S141: 0 | T141: =S141*H141 -> 0 | AR141: 4 | AT141: K | AU141: 2 | AY141: ROZPOCET | BE141: =IF(N141="základná",J141,0) -> 0 | BF141: =IF(N141="znížená",J141,0) -> 0 | BG141: =IF(N141="zákl. prenesená",J141,0) -> 0 | BH141: =IF(N141="zníž. prenesená",J141,0) -> 0 | BI141: =IF(N141="nulová",J141,0) -> 0 | BJ141: 2 | BK141: =ROUND(I141*H141,2) -> 0 | BL141: 4 | BM141: 18
C142: 10 | D142: K | E142: 965081712.S | F142: Búranie dlažieb, bez podklad. lôžka z xylolit., alebo keramických dlaždíc hr. do 10 mm, -0,02000t | G142: m2 | H142: 6.475 | J142: =ROUND(I142*H142,2) -> 0 | N142: znížená | P142: =O142*H142 -> 0 | Q142: 0 | R142: =Q142*H142 -> 0 | S142: 0 | T142: =S142*H142 -> 0 | AR142: 4 | AT142: K | AU142: 2 | AY142: ROZPOCET | BE142: =IF(N142="základná",J142,0) -> 0 | BF142: =IF(N142="znížená",J142,0) -> 0 | BG142: =IF(N142="zákl. prenesená",J142,0) -> 0 | BH142: =IF(N142="zníž. prenesená",J142,0) -> 0 | BI142: =IF(N142="nulová",J142,0) -> 0 | BJ142: 2 | BK142: =ROUND(I142*H142,2) -> 0 | BL142: 4 | BM142: 20
C143: 11 | D143: K | E143: 968081116.S | F143: Demontáž dverí plastových vchodových, 1 bm obvodu - 0,012t | G143: m | H143: 6.9 | J143: =ROUND(I143*H143,2) -> 0 | N143: znížená | P143: =O143*H143 -> 0 | Q143: 0 | R143: =Q143*H143 -> 0 | S143: 0 | T143: =S143*H143 -> 0 | AR143: 4 | AT143: K | AU143: 2 | AY143: ROZPOCET | BE143: =IF(N143="základná",J143,0) -> 0 | BF143: =IF(N143="znížená",J143,0) -> 0 | BG143: =IF(N143="zákl. prenesená",J143,0) -> 0 | BH143: =IF(N143="zníž. prenesená",J143,0) -> 0 | BI143: =IF(N143="nulová",J143,0) -> 0 | BJ143: 2 | BK143: =ROUND(I143*H143,2) -> 0 | BL143: 4 | BM143: 22
C144: 12 | D144: K | E144: 968081126.S | F144: Vyvesenie plastového dverného krídla do suti plochy nad 2 m2, -0,03000t | G144: ks | H144: 1 | J144: =ROUND(I144*H144,2) -> 0 | N144: znížená | P144: =O144*H144 -> 0 | Q144: 0 | R144: =Q144*H144 -> 0 | S144: 0 | T144: =S144*H144 -> 0 | AR144: 4 | AT144: K | AU144: 2 | AY144: ROZPOCET | BE144: =IF(N144="základná",J144,0) -> 0 | BF144: =IF(N144="znížená",J144,0) -> 0 | BG144: =IF(N144="zákl. prenesená",J144,0) -> 0 | BH144: =IF(N144="zníž. prenesená",J144,0) -> 0 | BI144: =IF(N144="nulová",J144,0) -> 0 | BJ144: 2 | BK144: =ROUND(I144*H144,2) -> 0 | BL144: 4 | BM144: 24
C145: 13 | D145: K | E145: 974083113.S | F145: Rezanie betónových mazanín existujúcich vystužených hĺbky nad 100 do 150 mm | G145: m | H145: 3.7 | J145: =ROUND(I145*H145,2) -> 0 | N145: znížená | P145: =O145*H145 -> 0 | Q145: 0 | R145: =Q145*H145 -> 0 | S145: 0 | T145: =S145*H145 -> 0 | AR145: 4 | AT145: K | AU145: 2 | AY145: ROZPOCET | BE145: =IF(N145="základná",J145,0) -> 0 | BF145: =IF(N145="znížená",J145,0) -> 0 | BG145: =IF(N145="zákl. prenesená",J145,0) -> 0 | BH145: =IF(N145="zníž. prenesená",J145,0) -> 0 | BI145: =IF(N145="nulová",J145,0) -> 0 | BJ145: 2 | BK145: =ROUND(I145*H145,2) -> 0 | BL145: 4 | BM145: 26
C146: 14 | D146: K | E146: 978059511.S | F146: Odsekanie a odobratie obkladov stien z obkladačiek vnútorných vrátane podkladovej omietky do 2 m2, -0,06800t | G146: m2 | H146: 0.7 | J146: =ROUND(I146*H146,2) -> 0 | N146: znížená | P146: =O146*H146 -> 0 | Q146: 0 | R146: =Q146*H146 -> 0 | S146: 0 | T146: =S146*H146 -> 0 | AR146: 4 | AT146: K | AU146: 2 | AY146: ROZPOCET | BE146: =IF(N146="základná",J146,0) -> 0 | BF146: =IF(N146="znížená",J146,0) -> 0 | BG146: =IF(N146="zákl. prenesená",J146,0) -> 0 | BH146: =IF(N146="zníž. prenesená",J146,0) -> 0 | BI146: =IF(N146="nulová",J146,0) -> 0 | BJ146: 2 | BK146: =ROUND(I146*H146,2) -> 0 | BL146: 4 | BM146: 28
C147: 15 | D147: K | E147: 979081111.S | F147: Odvoz sutiny a vybúraných hmôt na skládku do 1 km | G147: t | H147: 14.535 | J147: =ROUND(I147*H147,2) -> 0 | N147: znížená | P147: =O147*H147 -> 0 | Q147: 0 | R147: =Q147*H147 -> 0 | S147: 0 | T147: =S147*H147 -> 0 | AR147: 4 | AT147: K | AU147: 2 | AY147: ROZPOCET | BE147: =IF(N147="základná",J147,0) -> 0 | BF147: =IF(N147="znížená",J147,0) -> 0 | BG147: =IF(N147="zákl. prenesená",J147,0) -> 0 | BH147: =IF(N147="zníž. prenesená",J147,0) -> 0 | BI147: =IF(N147="nulová",J147,0) -> 0 | BJ147: 2 | BK147: =ROUND(I147*H147,2) -> 0 | BL147: 4 | BM147: 30
C148: 16 | D148: K | E148: 979081121.S | F148: Odvoz sutiny a vybúraných hmôt na skládku za každý ďalší 1 km | G148: t | H148: 129.798 | J148: =ROUND(I148*H148,2) -> 0 | N148: znížená | P148: =O148*H148 -> 0 | Q148: 0 | R148: =Q148*H148 -> 0 | S148: 0 | T148: =S148*H148 -> 0 | AR148: 4 | AT148: K | AU148: 2 | AY148: ROZPOCET | BE148: =IF(N148="základná",J148,0) -> 0 | BF148: =IF(N148="znížená",J148,0) -> 0 | BG148: =IF(N148="zákl. prenesená",J148,0) -> 0 | BH148: =IF(N148="zníž. prenesená",J148,0) -> 0 | BI148: =IF(N148="nulová",J148,0) -> 0 | BJ148: 2 | BK148: =ROUND(I148*H148,2) -> 0 | BL148: 4 | BM148: 32
C149: 17 | D149: K | E149: 979082111.S | F149: Vnútrostavenisková doprava sutiny a vybúraných hmôt do 10 m | G149: t | H149: 14.535 | J149: =ROUND(I149*H149,2) -> 0 | N149: znížená | P149: =O149*H149 -> 0 | Q149: 0 | R149: =Q149*H149 -> 0 | S149: 0 | T149: =S149*H149 -> 0 | AR149: 4 | AT149: K | AU149: 2 | AY149: ROZPOCET | BE149: =IF(N149="základná",J149,0) -> 0 | BF149: =IF(N149="znížená",J149,0) -> 0 | BG149: =IF(N149="zákl. prenesená",J149,0) -> 0 | BH149: =IF(N149="zníž. prenesená",J149,0) -> 0 | BI149: =IF(N149="nulová",J149,0) -> 0 | BJ149: 2 | BK149: =ROUND(I149*H149,2) -> 0 | BL149: 4 | BM149: 34
C150: 18 | D150: K | E150: 979082121.S | F150: Vnútrostavenisková doprava sutiny a vybúraných hmôt za každých ďalších 5 m | G150: t | H150: 14.535 | J150: =ROUND(I150*H150,2) -> 0 | N150: znížená | P150: =O150*H150 -> 0 | Q150: 0 | R150: =Q150*H150 -> 0 | S150: 0 | T150: =S150*H150 -> 0 | AR150: 4 | AT150: K | AU150: 2 | AY150: ROZPOCET | BE150: =IF(N150="základná",J150,0) -> 0 | BF150: =IF(N150="znížená",J150,0) -> 0 | BG150: =IF(N150="zákl. prenesená",J150,0) -> 0 | BH150: =IF(N150="zníž. prenesená",J150,0) -> 0 | BI150: =IF(N150="nulová",J150,0) -> 0 | BJ150: 2 | BK150: =ROUND(I150*H150,2) -> 0 | BL150: 4 | BM150: 36
C151: 19 | D151: K | E151: 979089012.S | F151: Poplatok za skládku - betón, tehly, dlaždice (17 01) ostatné | G151: t | H151: 14.535 | J151: =ROUND(I151*H151,2) -> 0 | N151: znížená | P151: =O151*H151 -> 0 | Q151: 0 | R151: =Q151*H151 -> 0 | S151: 0 | T151: =S151*H151 -> 0 | AR151: 4 | AT151: K | AU151: 2 | AY151: ROZPOCET | BE151: =IF(N151="základná",J151,0) -> 0 | BF151: =IF(N151="znížená",J151,0) -> 0 | BG151: =IF(N151="zákl. prenesená",J151,0) -> 0 | BH151: =IF(N151="zníž. prenesená",J151,0) -> 0 | BI151: =IF(N151="nulová",J151,0) -> 0 | BJ151: 2 | BK151: =ROUND(I151*H151,2) -> 0 | BL151: 4 | BM151: 38
C152: 20 | D152: K | E152: 979089712.S | F152: Prenájom kontajneru 5 m3 | G152: ks | H152: 1 | J152: =ROUND(I152*H152,2) -> 0 | N152: znížená | P152: =O152*H152 -> 0 | Q152: 0 | R152: =Q152*H152 -> 0 | S152: 0 | T152: =S152*H152 -> 0 | AR152: 4 | AT152: K | AU152: 2 | AY152: ROZPOCET | BE152: =IF(N152="základná",J152,0) -> 0 | BF152: =IF(N152="znížená",J152,0) -> 0 | BG152: =IF(N152="zákl. prenesená",J152,0) -> 0 | BH152: =IF(N152="zníž. prenesená",J152,0) -> 0 | BI152: =IF(N152="nulová",J152,0) -> 0 | BJ152: 2 | BK152: =ROUND(I152*H152,2) -> 0 | BL152: 4 | BM152: 40
D153: D | E153: 99 | F153: Presun hmôt HSV | J153: =BK153 -> 0 | P153: =P154 -> 0 | R153: =R154 -> 0 | T153: =T154 -> 0 | AR153: 1 | AT153: D | AU153: 1 | AY153: ROZPOCET | BK153: =BK154 -> 0
C154: 21 | D154: K | E154: 999281111.S | F154: Presun hmôt pre opravy a údržbu objektov vrátane vonkajších plášťov výšky do 25 m | G154: t | H154: 3.661 | J154: =ROUND(I154*H154,2) -> 0 | N154: znížená | P154: =O154*H154 -> 0 | Q154: 0 | R154: =Q154*H154 -> 0 | S154: 0 | T154: =S154*H154 -> 0 | AR154: 4 | AT154: K | AU154: 2 | AY154: ROZPOCET | BE154: =IF(N154="základná",J154,0) -> 0 | BF154: =IF(N154="znížená",J154,0) -> 0 | BG154: =IF(N154="zákl. prenesená",J154,0) -> 0 | BH154: =IF(N154="zníž. prenesená",J154,0) -> 0 | BI154: =IF(N154="nulová",J154,0) -> 0 | BJ154: 2 | BK154: =ROUND(I154*H154,2) -> 0 | BL154: 4 | BM154: 42
D155: D | E155: PSV | F155: Práce a dodávky PSV | J155: =BK155 -> 0 | P155: =P156+P162+P166+P174 -> 0 | R155: =R156+R162+R166+R174 -> 0 | T155: =T156+T162+T166+T174 -> 0 | AR155: 2 | AT155: D | AU155: 0 | AY155: ROZPOCET | BK155: =BK156+BK162+BK166+BK174 -> 0
D156: D | E156: 766 | F156: Konštrukcie stolárske | J156: =BK156 -> 0 | P156: =SUM(P157:P161) -> 0 | R156: =SUM(R157:R161) -> 0 | T156: =SUM(T157:T161) -> 0 | AR156: 2 | AT156: D | AU156: 1 | AY156: ROZPOCET | BK156: =SUM(BK157:BK161) -> 0
C157: 22 | D157: K | E157: 766621405.S | F157: Montáž zdvižno posuvných a sklopno posuvných plastových dverí s hydroizolačnými ISO páskami (exteriérová a interiérová) | G157: m | H157: 6.9 | J157: =ROUND(I157*H157,2) -> 0 | N157: znížená | P157: =O157*H157 -> 0 | Q157: 0 | R157: =Q157*H157 -> 0 | S157: 0 | T157: =S157*H157 -> 0 | AR157: 16 | AT157: K | AU157: 2 | AY157: ROZPOCET | BE157: =IF(N157="základná",J157,0) -> 0 | BF157: =IF(N157="znížená",J157,0) -> 0 | BG157: =IF(N157="zákl. prenesená",J157,0) -> 0 | BH157: =IF(N157="zníž. prenesená",J157,0) -> 0 | BI157: =IF(N157="nulová",J157,0) -> 0 | BJ157: 2 | BK157: =ROUND(I157*H157,2) -> 0 | BL157: 16 | BM157: 44
C158: 23 | D158: M | E158: 283290006100.S | F158: Tesniaca paropriepustná fólia polymér-flísová, š. 290 mm, dĺ. 30 m, pre tesnenie pripájacej škáry okenného rámu a muriva z exteriéru | G158: m | H158: 7.245 | J158: =ROUND(I158*H158,2) -> 0 | N158: znížená | P158: =O158*H158 -> 0 | Q158: 0 | R158: =Q158*H158 -> 0 | S158: 0 | T158: =S158*H158 -> 0 | AR158: 32 | AT158: M | AU158: 2 | AY158: ROZPOCET | BE158: =IF(N158="základná",J158,0) -> 0 | BF158: =IF(N158="znížená",J158,0) -> 0 | BG158: =IF(N158="zákl. prenesená",J158,0) -> 0 | BH158: =IF(N158="zníž. prenesená",J158,0) -> 0 | BI158: =IF(N158="nulová",J158,0) -> 0 | BJ158: 2 | BK158: =ROUND(I158*H158,2) -> 0 | BL158: 16 | BM158: 46
C159: 24 | D159: M | E159: 283290006200.S | F159: Tesniaca paronepriepustná fólia polymér-flísová, š. 70 mm, dĺ. 30 m, pre tesnenie pripájacej škáry okenného rámu a muriva z interiéru | G159: m | H159: 7.245 | J159: =ROUND(I159*H159,2) -> 0 | N159: znížená | P159: =O159*H159 -> 0 | Q159: 0 | R159: =Q159*H159 -> 0 | S159: 0 | T159: =S159*H159 -> 0 | AR159: 32 | AT159: M | AU159: 2 | AY159: ROZPOCET | BE159: =IF(N159="základná",J159,0) -> 0 | BF159: =IF(N159="znížená",J159,0) -> 0 | BG159: =IF(N159="zákl. prenesená",J159,0) -> 0 | BH159: =IF(N159="zníž. prenesená",J159,0) -> 0 | BI159: =IF(N159="nulová",J159,0) -> 0 | BJ159: 2 | BK159: =ROUND(I159*H159,2) -> 0 | BL159: 16 | BM159: 48
C160: 25 | D160: M | E160: 611730000100.S | F160: Plastové dvere s bočným svetlíkom 1450 x 2000 mm | G160: ks | H160: 1 | J160: =ROUND(I160*H160,2) -> 0 | N160: znížená | P160: =O160*H160 -> 0 | Q160: 0 | R160: =Q160*H160 -> 0 | S160: 0 | T160: =S160*H160 -> 0 | AR160: 32 | AT160: M | AU160: 2 | AY160: ROZPOCET | BE160: =IF(N160="základná",J160,0) -> 0 | BF160: =IF(N160="znížená",J160,0) -> 0 | BG160: =IF(N160="zákl. prenesená",J160,0) -> 0 | BH160: =IF(N160="zníž. prenesená",J160,0) -> 0 | BI160: =IF(N160="nulová",J160,0) -> 0 | BJ160: 2 | BK160: =ROUND(I160*H160,2) -> 0 | BL160: 16 | BM160: 50
C161: 26 | D161: K | E161: 998766101.S | F161: Presun hmot pre konštrukcie stolárske v objektoch výšky do 6 m | G161: t | H161: 0.333 | J161: =ROUND(I161*H161,2) -> 0 | N161: znížená | P161: =O161*H161 -> 0 | Q161: 0 | R161: =Q161*H161 -> 0 | S161: 0 | T161: =S161*H161 -> 0 | AR161: 16 | AT161: K | AU161: 2 | AY161: ROZPOCET | BE161: =IF(N161="základná",J161,0) -> 0 | BF161: =IF(N161="znížená",J161,0) -> 0 | BG161: =IF(N161="zákl. prenesená",J161,0) -> 0 | BH161: =IF(N161="zníž. prenesená",J161,0) -> 0 | BI161: =IF(N161="nulová",J161,0) -> 0 | BJ161: 2 | BK161: =ROUND(I161*H161,2) -> 0 | BL161: 16 | BM161: 52
D162: D | E162: 767 | F162: Konštrukcie doplnkové kovové | J162: =BK162 -> 0 | P162: =SUM(P163:P165) -> 0 | R162: =SUM(R163:R165) -> 0 | T162: =SUM(T163:T165) -> 0 | AR162: 2 | AT162: D | AU162: 1 | AY162: ROZPOCET | BK162: =SUM(BK163:BK165) -> 0
C163: 27 | D163: K | E163: 767230070.S | F163: Montáž schodiskového madla na stenu | G163: m | H163: 7.5 | J163: =ROUND(I163*H163,2) -> 0 | N163: znížená | P163: =O163*H163 -> 0 | Q163: 0 | R163: =Q163*H163 -> 0 | S163: 0 | T163: =S163*H163 -> 0 | AR163: 16 | AT163: K | AU163: 2 | AY163: ROZPOCET | BE163: =IF(N163="základná",J163,0) -> 0 | BF163: =IF(N163="znížená",J163,0) -> 0 | BG163: =IF(N163="zákl. prenesená",J163,0) -> 0 | BH163: =IF(N163="zníž. prenesená",J163,0) -> 0 | BI163: =IF(N163="nulová",J163,0) -> 0 | BJ163: 2 | BK163: =ROUND(I163*H163,2) -> 0 | BL163: 16 | BM163: 54
C164: 28 | D164: M | E164: 553520003500.S | F164: Madlo schodiskové pre kotvenie na stenu, nerezové | G164: m | H164: 7.5 | J164: =ROUND(I164*H164,2) -> 0 | N164: znížená | P164: =O164*H164 -> 0 | Q164: 0 | R164: =Q164*H164 -> 0 | S164: 0 | T164: =S164*H164 -> 0 | AR164: 32 | AT164: M | AU164: 2 | AY164: ROZPOCET | BE164: =IF(N164="základná",J164,0) -> 0 | BF164: =IF(N164="znížená",J164,0) -> 0 | BG164: =IF(N164="zákl. prenesená",J164,0) -> 0 | BH164: =IF(N164="zníž. prenesená",J164,0) -> 0 | BI164: =IF(N164="nulová",J164,0) -> 0 | BJ164: 2 | BK164: =ROUND(I164*H164,2) -> 0 | BL164: 16 | BM164: 56
...

Sheet SO 04.2 - SO 04.2   Debar...
L2: >> skryté stĺpce << | AT2: {e4c45c73-71ae-49c2-97d6-9c76312b777a}
AT3: 0
D4: KRYCÍ LIST ROZPOČTU | M4: v --- nižšie sa nachádzajú doplnkové a pomocné údaje k zostavám --- v | AT4: False
D6: Stavba:
E7: ='Rekapitulácia stavby'!K6 -> Rekonštrukcia budovy školy a telocvične - SOŠ dopravy a služieb, NZ
D8: Objekt:
E9: SO 04 - SO 04 Debarierizácia SOŠ dopravy a služieb
D10: Časť:
E11: SO 04.2 - SO 04.2 Debarierizácia vstupu do SO 01 - exteriér
D13: JKSO: | I13: ČS:
D14: Miesto: | F14: Nitra | I14: Dátum:
D16: Objednávateľ: | I16: IČO:
E17: Nitriansky samosprávny kraj | I17: IČ DPH:
D19: Zhotoviteľ: | I19: IČO: | J19: ='Rekapitulácia stavby'!AN13 -> Vyplň údaj
E20: ='Rekapitulácia stavby'!E14 -> Vyplň údaj | I20: IČ DPH: | J20: ='Rekapitulácia stavby'!AN14 -> Vyplň údaj
D22: Projektant: | I22: IČO:
E23: Ing.arch. Roland Hoferica | I23: IČ DPH:
D25: Spracovateľ: | I25: IČO:
I26: IČ DPH:
D28: Poznámka:
D32: Cena bez DPH | J32: =ROUND(J126, 2) -> 0
F34: Základ dane | I34: Sadzba dane | J34: Výška dane
D35: DPH | E35: základná | F35: =ROUND((SUM(BE126:BE147)), 2) -> 0 | I35: 0.23 | J35: =ROUND(((SUM(BE126:BE147))*I35), 2) -> 0
E36: znížená | F36: =ROUND((SUM(BF126:BF147)), 2) -> 0 | I36: 0.23 | J36: =ROUND(((SUM(BF126:BF147))*I36), 2) -> 0
E37: zákl. prenesená | F37: =ROUND((SUM(BG126:BG147)), 2) -> 0 | I37: 0.23 | J37: =0 -> 0
E38: zníž. prenesená | F38: =ROUND((SUM(BH126:BH147)), 2) -> 0 | I38: 0.23 | J38: =0 -> 0
E39: nulová | F39: =ROUND((SUM(BI126:BI147)), 2) -> 0 | I39: 0 | J39: =0 -> 0
D41: Cena s DPH | G41: v | H41: EUR | J41: =SUM(J32:J39) -> 0
D50: Projektant | G50: Spracovateľ
D61: Dátum a podpis: | F61: Pečiatka | G61: Dátum a podpis: | J61: Pečiatka
D65: Objednávateľ | G65: Zhotoviteľ
D76: Dátum a podpis: | F76: Pečiatka | G76: Dátum a podpis: | J76: Pečiatka
C82: REKAPITULÁCIA ROZPOČTU
C84: Stavba:
E85: =E7 -> Rekonštrukcia budovy školy a telocvične - SOŠ dopravy a služieb, NZ
C86: Objekt:
E87: SO 04 - SO 04 Debarierizácia SOŠ dopravy a služieb
C88: Časť:
E89: =E11 -> SO 04.2 - SO 04.2 Debarierizácia vstupu do SO 01 - exteriér
C91: Miesto: | F91: =F14 -> Nitra | I91: Dátum: | J91: =IF(J14="","",J14)
C93: Objednávateľ: | F93: =E17 -> Nitriansky samosprávny kraj | I93: Projektant: | J93: =E23 -> Ing.arch. Roland Hoferica
C94: Zhotoviteľ: | F94: =IF(E20="","",E20) -> Vyplň údaj | I94: Spracovateľ:
C96: Kód dielu - Popis | J96: Cena celkom [EUR]
C98: Náklady z rozpočtu | J98: =J126 -> 0 | AU98: -1
D99: HSV - Práce a dodávky HSV | J99: =J127 -> 0
D100: 4 - Vodorovné konštrukcie | J100: =J128 -> 0
D101: 5 - Komunikácie | J101: =J133 -> 0
D102: 9 - Ostatné konštrukcie a práce-búranie | J102: =J138 -> 0
D103: PSV - Práce a dodávky PSV | J103: =J143 -> 0
D104: 767 - Konštrukcie doplnkové kovové | J104: =J144 -> 0
C111: ROZPOČET
C113: Stavba:
E114: =E7 -> Rekonštrukcia budovy školy a telocvične - SOŠ dopravy a služieb, NZ
C115: Objekt:
E116: SO 04 - SO 04 Debarierizácia SOŠ dopravy a služieb
C117: Časť:
E118: =E11 -> SO 04.2 - SO 04.2 Debarierizácia vstupu do SO 01 - exteriér
C120: Miesto: | F120: =F14 -> Nitra | I120: Dátum: | J120: =IF(J14="","",J14)
C122: Objednávateľ: | F122: =E17 -> Nitriansky samosprávny kraj | I122: Projektant: | J122: =E23 -> Ing.arch. Roland Hoferica
C123: Zhotoviteľ: | F123: =IF(E20="","",E20) -> Vyplň údaj | I123: Spracovateľ: | J123: =E26 -> 0
C125: PČ | D125: Typ | E125: Kód | F125: Popis | G125: MJ | H125: Množstvo | I125: J.cena [EUR] | J125: Cena celkom [EUR] | K125: Cenová sústava | N125: DPH | O125: J. Nh [h] | P125: Nh celkom [h] | Q125: J. hmotnosť [t] | R125: Hmotnosť celkom [t] | S125: J. suť [t] | T125: Suť Celkom [t]
C126: Náklady z rozpočtu | J126: =BK126 -> 0 | P126: =P127+P143 -> 0 | R126: =R127+R143 -> 0 | T126: =T127+T143 -> 0 | AT126: D | AU126: -1 | BK126: =BK127+BK143 -> 0
D127: D | E127: HSV | F127: Práce a dodávky HSV | J127: =BK127 -> 0 | P127: =P128+P133+P138 -> 0 | R127: =R128+R133+R138 -> 0 | T127: =T128+T133+T138 -> 0 | AR127: 1 | AT127: D | AU127: 0 | AY127: ROZPOCET | BK127: =BK128+BK133+BK138 -> 0
D128: D | E128: 4 | F128: Vodorovné konštrukcie | J128: =BK128 -> 0 | P128: =SUM(P129:P132) -> 0 | R128: =SUM(R129:R132) -> 0 | T128: =SUM(T129:T132) -> 0 | AR128: 1 | AT128: D | AU128: 1 | AY128: ROZPOCET | BK128: =SUM(BK129:BK132) -> 0
C129: 1 | D129: K | E129: 433121121.S | F129: Osadenie železobetónovej schodnice | G129: ks | H129: 1 | J129: =ROUND(I129*H129,2) -> 0 | N129: znížená | P129: =O129*H129 -> 0 | Q129: 0 | R129: =Q129*H129 -> 0 | S129: 0 | T129: =S129*H129 -> 0 | AR129: 4 | AT129: K | AU129: 2 | AY129: ROZPOCET | BE129: =IF(N129="základná",J129,0) -> 0 | BF129: =IF(N129="znížená",J129,0) -> 0 | BG129: =IF(N129="zákl. prenesená",J129,0) -> 0 | BH129: =IF(N129="zníž. prenesená",J129,0) -> 0 | BI129: =IF(N129="nulová",J129,0) -> 0 | BJ129: 2 | BK129: =ROUND(I129*H129,2) -> 0 | BL129: 4 | BM129: 36
C130: 2 | D130: K | E130: 434121415.R | F130: Osadzovanie schodiskových blokov betónových | G130: m | H130: 13.5 | J130: =ROUND(I130*H130,2) -> 0 | N130: znížená | P130: =O130*H130 -> 0 | Q130: 0 | R130: =Q130*H130 -> 0 | S130: 0 | T130: =S130*H130 -> 0 | AR130: 4 | AT130: K | AU130: 2 | AY130: ROZPOCET | BE130: =IF(N130="základná",J130,0) -> 0 | BF130: =IF(N130="znížená",J130,0) -> 0 | BG130: =IF(N130="zákl. prenesená",J130,0) -> 0 | BH130: =IF(N130="zníž. prenesená",J130,0) -> 0 | BI130: =IF(N130="nulová",J130,0) -> 0 | BJ130: 2 | BK130: =ROUND(I130*H130,2) -> 0 | BL130: 4 | BM130: 38
C131: 3 | D131: M | E131: 5924100004R | F131: Chdodový blok sivý rozmer 1000x350x150 mm | G131: ks | H131: 12 | J131: =ROUND(I131*H131,2) -> 0 | N131: znížená | P131: =O131*H131 -> 0 | Q131: 0 | R131: =Q131*H131 -> 0 | S131: 0 | T131: =S131*H131 -> 0 | AR131: 8 | AT131: M | AU131: 2 | AY131: ROZPOCET | BE131: =IF(N131="základná",J131,0) -> 0 | BF131: =IF(N131="znížená",J131,0) -> 0 | BG131: =IF(N131="zákl. prenesená",J131,0) -> 0 | BH131: =IF(N131="zníž. prenesená",J131,0) -> 0 | BI131: =IF(N131="nulová",J131,0) -> 0 | BJ131: 2 | BK131: =ROUND(I131*H131,2) -> 0 | BL131: 4 | BM131: 40
C132: 4 | D132: M | E132: 5924100004R1 | F132: Chdodový blok sivý rozmer 750x350x150 mm | G132: ks | H132: 2 | J132: =ROUND(I132*H132,2) -> 0 | N132: znížená | P132: =O132*H132 -> 0 | Q132: 0 | R132: =Q132*H132 -> 0 | S132: 0 | T132: =S132*H132 -> 0 | AR132: 8 | AT132: M | AU132: 2 | AY132: ROZPOCET | BE132: =IF(N132="základná",J132,0) -> 0 | BF132: =IF(N132="znížená",J132,0) -> 0 | BG132: =IF(N132="zákl. prenesená",J132,0) -> 0 | BH132: =IF(N132="zníž. prenesená",J132,0) -> 0 | BI132: =IF(N132="nulová",J132,0) -> 0 | BJ132: 2 | BK132: =ROUND(I132*H132,2) -> 0 | BL132: 4 | BM132: 42
D133: D | E133: 5 | F133: Komunikácie | J133: =BK133 -> 0 | P133: =SUM(P134:P137) -> 0 | R133: =SUM(R134:R137) -> 0 | T133: =SUM(T134:T137) -> 0 | AR133: 1 | AT133: D | AU133: 1 | AY133: ROZPOCET | BK133: =SUM(BK134:BK137) -> 0
C134: 5 | D134: K | E134: 596811411.S | F134: Kladenie veľkoformátovej betónovej dlažby hr. do 40 mm s vyplnením škár do lôžka z kameniva, veľkosti do 0,5 m2, plochy do 300 m2 | G134: m2 | H134: 31.983 | J134: =ROUND(I134*H134,2) -> 0 | N134: znížená | P134: =O134*H134 -> 0 | Q134: 0 | R134: =Q134*H134 -> 0 | S134: 0 | T134: =S134*H134 -> 0 | AR134: 4 | AT134: K | AU134: 2 | AY134: ROZPOCET | BE134: =IF(N134="základná",J134,0) -> 0 | BF134: =IF(N134="znížená",J134,0) -> 0 | BG134: =IF(N134="zákl. prenesená",J134,0) -> 0 | BH134: =IF(N134="zníž. prenesená",J134,0) -> 0 | BI134: =IF(N134="nulová",J134,0) -> 0 | BJ134: 2 | BK134: =ROUND(I134*H134,2) -> 0 | BL134: 4 | BM134: 50
C135: 6 | D135: M | E135: 592460014300 | F135: Platňa betónová PREMAC 400*400*40 mm, grafit | G135: ks | H135: 210 | J135: =ROUND(I135*H135,2) -> 0 | N135: znížená | P135: =O135*H135 -> 0 | Q135: 0 | R135: =Q135*H135 -> 0 | S135: 0 | T135: =S135*H135 -> 0 | AR135: 8 | AT135: M | AU135: 2 | AY135: ROZPOCET | BE135: =IF(N135="základná",J135,0) -> 0 | BF135: =IF(N135="znížená",J135,0) -> 0 | BG135: =IF(N135="zákl. prenesená",J135,0) -> 0 | BH135: =IF(N135="zníž. prenesená",J135,0) -> 0 | BI135: =IF(N135="nulová",J135,0) -> 0 | BJ135: 2 | BK135: =ROUND(I135*H135,2) -> 0 | BL135: 4 | BM135: 52
C136: 7 | D136: K | E136: 596911331.S | F136: Kladenie dlažby pre nevidiacich hr. 60 mm do lôžka z kameniva ťaženého s vyplnením škár | G136: m2 | H136: 1.58 | J136: =ROUND(I136*H136,2) -> 0 | N136: znížená | P136: =O136*H136 -> 0 | Q136: 0 | R136: =Q136*H136 -> 0 | S136: 0 | T136: =S136*H136 -> 0 | AR136: 4 | AT136: K | AU136: 2 | AY136: ROZPOCET | BE136: =IF(N136="základná",J136,0) -> 0 | BF136: =IF(N136="znížená",J136,0) -> 0 | BG136: =IF(N136="zákl. prenesená",J136,0) -> 0 | BH136: =IF(N136="zníž. prenesená",J136,0) -> 0 | BI136: =IF(N136="nulová",J136,0) -> 0 | BJ136: 2 | BK136: =ROUND(I136*H136,2) -> 0 | BL136: 4 | BM136: 54
C137: 8 | D137: M | E137: 592460006900 | F137: Dlažba betónová PREMAC Dlažba betónová pre nevidiacich drážková, rozmer 200x200x60 mm, červená | G137: m2 | H137: 1.612 | J137: =ROUND(I137*H137,2) -> 0 | N137: znížená | P137: =O137*H137 -> 0 | Q137: 0 | R137: =Q137*H137 -> 0 | S137: 0 | T137: =S137*H137 -> 0 | AR137: 8 | AT137: M | AU137: 2 | AY137: ROZPOCET | BE137: =IF(N137="základná",J137,0) -> 0 | BF137: =IF(N137="znížená",J137,0) -> 0 | BG137: =IF(N137="zákl. prenesená",J137,0) -> 0 | BH137: =IF(N137="zníž. prenesená",J137,0) -> 0 | BI137: =IF(N137="nulová",J137,0) -> 0 | BJ137: 2 | BK137: =ROUND(I137*H137,2) -> 0 | BL137: 4 | BM137: 56
D138: D | E138: 9 | F138: Ostatné konštrukcie a práce-búranie | J138: =BK138 -> 0 | P138: =SUM(P139:P142) -> 0 | R138: =SUM(R139:R142) -> 0 | T138: =SUM(T139:T142) -> 0 | AR138: 1 | AT138: D | AU138: 1 | AY138: ROZPOCET | BK138: =SUM(BK139:BK142) -> 0
C139: 9 | D139: K | E139: 917831501.S | F139: Osadenie palisád hranatých betónových do betónu dĺžky 40 cm - jednotlivo | G139: ks | H139: 22 | J139: =ROUND(I139*H139,2) -> 0 | N139: znížená | P139: =O139*H139 -> 0 | Q139: 0 | R139: =Q139*H139 -> 0 | S139: 0 | T139: =S139*H139 -> 0 | AR139: 4 | AT139: K | AU139: 2 | AY139: ROZPOCET | BE139: =IF(N139="základná",J139,0) -> 0 | BF139: =IF(N139="znížená",J139,0) -> 0 | BG139: =IF(N139="zákl. prenesená",J139,0) -> 0 | BH139: =IF(N139="zníž. prenesená",J139,0) -> 0 | BI139: =IF(N139="nulová",J139,0) -> 0 | BJ139: 2 | BK139: =ROUND(I139*H139,2) -> 0 | BL139: 4 | BM139: 70
C140: 10 | D140: M | E140: 592170005100.S | F140: Palisáda betónová, rozmer 120x165x400 mm, farebná | G140: ks | H140: 22.22 | J140: =ROUND(I140*H140,2) -> 0 | N140: znížená | P140: =O140*H140 -> 0 | Q140: 0 | R140: =Q140*H140 -> 0 | S140: 0 | T140: =S140*H140 -> 0 | AR140: 8 | AT140: M | AU140: 2 | AY140: ROZPOCET | BE140: =IF(N140="základná",J140,0) -> 0 | BF140: =IF(N140="znížená",J140,0) -> 0 | BG140: =IF(N140="zákl. prenesená",J140,0) -> 0 | BH140: =IF(N140="zníž. prenesená",J140,0) -> 0 | BI140: =IF(N140="nulová",J140,0) -> 0 | BJ140: 2 | BK140: =ROUND(I140*H140,2) -> 0 | BL140: 4 | BM140: 72
C141: 11 | D141: K | E141: 917831502.S | F141: Osadenie palisád hranatých betónových do betónu dĺžky 60 cm - jednotlivo | G141: ks | H141: 22 | J141: =ROUND(I141*H141,2) -> 0 | N141: znížená | P141: =O141*H141 -> 0 | Q141: 0 | R141: =Q141*H141 -> 0 | S141: 0 | T141: =S141*H141 -> 0 | AR141: 4 | AT141: K | AU141: 2 | AY141: ROZPOCET | BE141: =IF(N141="základná",J141,0) -> 0 | BF141: =IF(N141="znížená",J141,0) -> 0 | BG141: =IF(N141="zákl. prenesená",J141,0) -> 0 | BH141: =IF(N141="zníž. prenesená",J141,0) -> 0 | BI141: =IF(N141="nulová",J141,0) -> 0 | BJ141: 2 | BK141: =ROUND(I141*H141,2) -> 0 | BL141: 4 | BM141: 74
C142: 12 | D142: M | E142: 592170005200.S | F142: Palisáda betónová, rozmer 120x165x600 mm, farebná | G142: ks | H142: 22.22 | J142: =ROUND(I142*H142,2) -> 0 | N142: znížená | P142: =O142*H142 -> 0 | Q142: 0 | R142: =Q142*H142 -> 0 | S142: 0 | T142: =S142*H142 -> 0 | AR142: 8 | AT142: M | AU142: 2 | AY142: ROZPOCET | BE142: =IF(N142="základná",J142,0) -> 0 | BF142: =IF(N142="znížená",J142,0) -> 0 | BG142: =IF(N142="zákl. prenesená",J142,0) -> 0 | BH142: =IF(N142="zníž. prenesená",J142,0) -> 0 | BI142: =IF(N142="nulová",J142,0) -> 0 | BJ142: 2 | BK142: =ROUND(I142*H142,2) -> 0 | BL142: 4 | BM142: 76
D143: D | E143: PSV | F143: Práce a dodávky PSV | J143: =BK143 -> 0 | P143: =P144 -> 0 | R143: =R144 -> 0 | T143: =T144 -> 0 | AR143: 2 | AT143: D | AU143: 0 | AY143: ROZPOCET | BK143: =BK144 -> 0
D144: D | E144: 767 | F144: Konštrukcie doplnkové kovové | J144: =BK144 -> 0 | P144: =SUM(P145:P147) -> 0 | R144: =SUM(R145:R147) -> 0 | T144: =SUM(T145:T147) -> 0 | AR144: 2 | AT144: D | AU144: 1 | AY144: ROZPOCET | BK144: =SUM(BK145:BK147) -> 0
C145: 13 | D145: K | E145: 767230030.S | F145: Montáž zábradlia nerezové na schody, výplň rebrovanie, kotvenie do podlahy | G145: m | H145: 6 | J145: =ROUND(I145*H145,2) -> 0 | N145: znížená | P145: =O145*H145 -> 0 | Q145: 0 | R145: =Q145*H145 -> 0 | S145: 0 | T145: =S145*H145 -> 0 | AR145: 16 | AT145: K | AU145: 2 | AY145: ROZPOCET | BE145: =IF(N145="základná",J145,0) -> 0 | BF145: =IF(N145="znížená",J145,0) -> 0 | BG145: =IF(N145="zákl. prenesená",J145,0) -> 0 | BH145: =IF(N145="zníž. prenesená",J145,0) -> 0 | BI145: =IF(N145="nulová",J145,0) -> 0 | BJ145: 2 | BK145: =ROUND(I145*H145,2) -> 0 | BL145: 16 | BM145: 92
C146: 14 | D146: M | E146: 553520001300.S | F146: Zábradlie nerezové, vertikálna výplň nerez, madlo kruhové, výška 1000 mm, dĺžka 2000 mm, kotvenie do podlahy | G146: m | H146: 6 | J146: =ROUND(I146*H146,2) -> 0 | N146: znížená | P146: =O146*H146 -> 0 | Q146: 0 | R146: =Q146*H146 -> 0 | S146: 0 | T146: =S146*H146 -> 0 | AR146: 32 | AT146: M | AU146: 2 | AY146: ROZPOCET | BE146: =IF(N146="základná",J146,0) -> 0 | BF146: =IF(N146="znížená",J146,0) -> 0 | BG146: =IF(N146="zákl. prenesená",J146,0) -> 0 | BH146: =IF(N146="zníž. prenesená",J146,0) -> 0 | BI146: =IF(N146="nulová",J146,0) -> 0 | BJ146: 2 | BK146: =ROUND(I146*H146,2) -> 0 | BL146: 16 | BM146: 94
C147: 15 | D147: K | E147: 998767101.S | F147: Presun hmôt pre kovové stavebné doplnkové konštrukcie v objektoch výšky do 6 m | G147: t | H147: 0.082 | J147: =ROUND(I147*H147,2) -> 0 | N147: znížená | P147: =O147*H147 -> 0 | Q147: 0 | R147: =Q147*H147 -> 0 | S147: 0 | T147: =S147*H147 -> 0 | AR147: 16 | AT147: K | AU147: 2 | AY147: ROZPOCET | BE147: =IF(N147="základná",J147,0) -> 0 | BF147: =IF(N147="znížená",J147,0) -> 0 | BG147: =IF(N147="zákl. prenesená",J147,0) -> 0 | BH147: =IF(N147="zníž. prenesená",J147,0) -> 0 | BI147: =IF(N147="nulová",J147,0) -> 0 | BJ147: 2 | BK147: =ROUND(I147*H147,2) -> 0 | BL147: 16 | BM147: 96

Sheet SO 04.3 - SO 04.3   Debar...
L2: >> skryté stĺpce << | AT2: {b837c1ab-1d84-491a-a7cd-9988dc0fbf16}
AT3: 0
D4: KRYCÍ LIST ROZPOČTU | M4: v --- nižšie sa nachádzajú doplnkové a pomocné údaje k zostavám --- v | AT4: False
D6: Stavba:
E7: ='Rekapitulácia stavby'!K6 -> Rekonštrukcia budovy školy a telocvične - SOŠ dopravy a služieb, NZ
D8: Objekt:
E9: SO 04 - SO 04 Debarierizácia SOŠ dopravy a služieb
D10: Časť:
E11: SO 04.3 - SO 04.3 Debarierizácia Telocvične SO 02
D13: JKSO: | I13: ČS:
D14: Miesto: | F14: Nitra | I14: Dátum:
D16: Objednávateľ: | I16: IČO:
E17: Nitriansky samosprávny kraj | I17: IČ DPH:
D19: Zhotoviteľ: | I19: IČO: | J19: ='Rekapitulácia stavby'!AN13 -> Vyplň údaj
E20: ='Rekapitulácia stavby'!E14 -> Vyplň údaj | I20: IČ DPH: | J20: ='Rekapitulácia stavby'!AN14 -> Vyplň údaj
D22: Projektant: | I22: IČO:
E23: Ing.arch. Roland Hoferica | I23: IČ DPH:
D25: Spracovateľ: | I25: IČO:
I26: IČ DPH:
D28: Poznámka:
D32: Cena bez DPH | J32: =ROUND(J127, 2) -> 0
F34: Základ dane | I34: Sadzba dane | J34: Výška dane
D35: DPH | E35: základná | F35: =ROUND((SUM(BE127:BE173)), 2) -> 0 | I35: 0.23 | J35: =ROUND(((SUM(BE127:BE173))*I35), 2) -> 0
E36: znížená | F36: =ROUND((SUM(BF127:BF173)), 2) -> 0 | I36: 0.23 | J36: =ROUND(((SUM(BF127:BF173))*I36), 2) -> 0
E37: zákl. prenesená | F37: =ROUND((SUM(BG127:BG173)), 2) -> 0 | I37: 0.23 | J37: =0 -> 0
E38: zníž. prenesená | F38: =ROUND((SUM(BH127:BH173)), 2) -> 0 | I38: 0.23 | J38: =0 -> 0
E39: nulová | F39: =ROUND((SUM(BI127:BI173)), 2) -> 0 | I39: 0 | J39: =0 -> 0
D41: Cena s DPH | G41: v | H41: EUR | J41: =SUM(J32:J39) -> 0
D50: Projektant | G50: Spracovateľ
D61: Dátum a podpis: | F61: Pečiatka | G61: Dátum a podpis: | J61: Pečiatka
D65: Objednávateľ | G65: Zhotoviteľ
D76: Dátum a podpis: | F76: Pečiatka | G76: Dátum a podpis: | J76: Pečiatka
C82: REKAPITULÁCIA ROZPOČTU
C84: Stavba:
E85: =E7 -> Rekonštrukcia budovy školy a telocvične - SOŠ dopravy a služieb, NZ
C86: Objekt:
E87: SO 04 - SO 04 Debarierizácia SOŠ dopravy a služieb
C88: Časť:
E89: =E11 -> SO 04.3 - SO 04.3 Debarierizácia Telocvične SO 02
C91: Miesto: | F91: =F14 -> Nitra | I91: Dátum: | J91: =IF(J14="","",J14)
C93: Objednávateľ: | F93: =E17 -> Nitriansky samosprávny kraj | I93: Projektant: | J93: =E23 -> Ing.arch. Roland Hoferica
C94: Zhotoviteľ: | F94: =IF(E20="","",E20) -> Vyplň údaj | I94: Spracovateľ:
C96: Kód dielu - Popis | J96: Cena celkom [EUR]
C98: Náklady z rozpočtu | J98: =J127 -> 0 | AU98: -1
D99: HSV - Práce a dodávky HSV | J99: =J128 -> 0
D100: 6 - Úpravy povrchov, podlahy, osadenie | J100: =J129 -> 0
D101: PSV - Práce a dodávky PSV | J101: =J131 -> 0
D102: 721 - Zdravotechnika - vnútorná kanalizácia | J102: =J132 -> 0
D103: 725 - Zdravotechnika - zariaďovacie predmety | J103: =J136 -> 0
D104: 763 - Konštrukcie - drevostavby | J104: =J163 -> 0
D105: 766 - Konštrukcie stolárske | J105: =J168 -> 0
C112: ROZPOČET
C114: Stavba:
E115: =E7 -> Rekonštrukcia budovy školy a telocvične - SOŠ dopravy a služieb, NZ
C116: Objekt:
E117: SO 04 - SO 04 Debarierizácia SOŠ dopravy a služieb
C118: Časť:
E119: =E11 -> SO 04.3 - SO 04.3 Debarierizácia Telocvične SO 02
C121: Miesto: | F121: =F14 -> Nitra | I121: Dátum: | J121: =IF(J14="","",J14)
C123: Objednávateľ: | F123: =E17 -> Nitriansky samosprávny kraj | I123: Projektant: | J123: =E23 -> Ing.arch. Roland Hoferica
C124: Zhotoviteľ: | F124: =IF(E20="","",E20) -> Vyplň údaj | I124: Spracovateľ: | J124: =E26 -> 0
C126: PČ | D126: Typ | E126: Kód | F126: Popis | G126: MJ | H126: Množstvo | I126: J.cena [EUR] | J126: Cena celkom [EUR] | K126: Cenová sústava | N126: DPH | O126: J. Nh [h] | P126: Nh celkom [h] | Q126: J. hmotnosť [t] | R126: Hmotnosť celkom [t] | S126: J. suť [t] | T126: Suť Celkom [t]
C127: Náklady z rozpočtu | J127: =BK127 -> 0 | P127: =P128+P131 -> 0 | R127: =R128+R131 -> 25.479938 | T127: =T128+T131 -> 0 | AT127: D | AU127: -1 | BK127: =BK128+BK131 -> 0
D128: D | E128: HSV | F128: Práce a dodávky HSV | J128: =BK128 -> 0 | P128: =P129 -> 0 | R128: =R129 -> 25.143 | T128: =T129 -> 0 | AR128: 1 | AT128: D | AU128: 0 | AY128: ROZPOCET | BK128: =BK129 -> 0
D129: D | E129: 6 | F129: Úpravy povrchov, podlahy, osadenie | J129: =BK129 -> 0 | P129: =P130 -> 0 | R129: =R130 -> 25.143 | T129: =T130 -> 0 | AR129: 1 | AT129: D | AU129: 1 | AY129: ROZPOCET | BK129: =BK130 -> 0
C130: 1 | D130: K | E130: 631311R11 | F130: Búracie práce a stavebné úpravy nutné pre imobilné WC a sprchu | G130: hod. | H130: 12 | J130: =ROUND(I130*H130,2) -> 0 | N130: znížená | P130: =O130*H130 -> 0 | Q130: 2.09525 | R130: =Q130*H130 -> 25.143 | S130: 0 | T130: =S130*H130 -> 0 | AR130: 4 | AT130: K | AU130: 2 | AY130: ROZPOCET | BE130: =IF(N130="základná",J130,0) -> 0 | BF130: =IF(N130="znížená",J130,0) -> 0 | BG130: =IF(N130="zákl. prenesená",J130,0) -> 0 | BH130: =IF(N130="zníž. prenesená",J130,0) -> 0 | BI130: =IF(N130="nulová",J130,0) -> 0 | BJ130: 2 | BK130: =ROUND(I130*H130,2) -> 0 | BL130: 4 | BM130: -401483542
D131: D | E131: PSV | F131: Práce a dodávky PSV | J131: =BK131 -> 0 | P131: =P132+P136+P163+P168 -> 0 | R131: =R132+R136+R163+R168 -> 0.33693818 | T131: =T132+T136+T163+T168 -> 0 | AR131: 2 | AT131: D | AU131: 0 | AY131: ROZPOCET | BK131: =BK132+BK136+BK163+BK168 -> 0
D132: D | E132: 721 | F132: Zdravotechnika - vnútorná kanalizácia | J132: =BK132 -> 0 | P132: =SUM(P133:P135) -> 0 | R132: =SUM(R133:R135) -> 0.004625 | T132: =SUM(T133:T135) -> 0 | AR132: 2 | AT132: D | AU132: 1 | AY132: ROZPOCET | BK132: =SUM(BK133:BK135) -> 0
C133: 2 | D133: K | E133: 721229023.S | F133: Montáž podlahového odtokového žlabu dĺžky 1000 mm pre montáž k stene | G133: ks | H133: 1 | J133: =ROUND(I133*H133,2) -> 0 | N133: znížená | P133: =O133*H133 -> 0 | Q133: 0.001165 | R133: =Q133*H133 -> 0.001165 | S133: 0 | T133: =S133*H133 -> 0 | AR133: 16 | AT133: K | AU133: 2 | AY133: ROZPOCET | BE133: =IF(N133="základná",J133,0) -> 0 | BF133: =IF(N133="znížená",J133,0) -> 0 | BG133: =IF(N133="zákl. prenesená",J133,0) -> 0 | BH133: =IF(N133="zníž. prenesená",J133,0) -> 0 | BI133: =IF(N133="nulová",J133,0) -> 0 | BJ133: 2 | BK133: =ROUND(I133*H133,2) -> 0 | BL133: 16 | BM133: -955358103
C134: 3 | D134: M | E134: 552240011600.S | F134: Žľab sprchový bez krytu nerezový DN 50, zvislý odtok, dĺ. 1000 mm, montáž k stene | G134: ks | H134: 1 | J134: =ROUND(I134*H134,2) -> 0 | N134: znížená | P134: =O134*H134 -> 0 | Q134: 0.00346 | R134: =Q134*H134 -> 0.00346 | S134: 0 | T134: =S134*H134 -> 0 | AR134: 32 | AT134: M | AU134: 2 | AY134: ROZPOCET | BE134: =IF(N134="základná",J134,0) -> 0 | BF134: =IF(N134="znížená",J134,0) -> 0 | BG134: =IF(N134="zákl. prenesená",J134,0) -> 0 | BH134: =IF(N134="zníž. prenesená",J134,0) -> 0 | BI134: =IF(N134="nulová",J134,0) -> 0 | BJ134: 2 | BK134: =ROUND(I134*H134,2) -> 0 | BL134: 16 | BM134: -55337343
C135: 31 | D135: K | E135: 998721101.S | F135: Presun hmôt pre vnútornú kanalizáciu v objektoch výšky do 6 m | G135: t | H135: 0.005 | J135: =ROUND(I135*H135,2) -> 0 | N135: znížená | P135: =O135*H135 -> 0 | Q135: 0 | R135: =Q135*H135 -> 0 | S135: 0 | T135: =S135*H135 -> 0 | AR135: 16 | AT135: K | AU135: 2 | AY135: ROZPOCET | BE135: =IF(N135="základná",J135,0) -> 0 | BF135: =IF(N135="znížená",J135,0) -> 0 | BG135: =IF(N135="zákl. prenesená",J135,0) -> 0 | BH135: =IF(N135="zníž. prenesená",J135,0) -> 0 | BI135: =IF(N135="nulová",J135,0) -> 0 | BJ135: 2 | BK135: =ROUND(I135*H135,2) -> 0 | BL135: 16 | BM135: -1594383624
D136: D | E136: 725 | F136: Zdravotechnika - zariaďovacie predmety | J136: =BK136 -> 0 | P136: =SUM(P137:P162) -> 0 | R136: =SUM(R137:R162) -> 0.0674084 | T136: =SUM(T137:T162) -> 0 | AR136: 2 | AT136: D | AU136: 1 | AY136: ROZPOCET | BK136: =SUM(BK137:BK162) -> 0
C137: 35 | D137: K | E137: 725119109.S | F137: Montáž tlakového tlačidlového splachovača | G137: ks | H137: 1 | J137: =ROUND(I137*H137,2) -> 0 | N137: znížená | P137: =O137*H137 -> 0 | Q137: 4.2e-06 | R137: =Q137*H137 -> 4.2e-06 | S137: 0 | T137: =S137*H137 -> 0 | AR137: 16 | AT137: K | AU137: 2 | AY137: ROZPOCET | BE137: =IF(N137="základná",J137,0) -> 0 | BF137: =IF(N137="znížená",J137,0) -> 0 | BG137: =IF(N137="zákl. prenesená",J137,0) -> 0 | BH137: =IF(N137="zníž. prenesená",J137,0) -> 0 | BI137: =IF(N137="nulová",J137,0) -> 0 | BJ137: 2 | BK137: =ROUND(I137*H137,2) -> 0 | BL137: 16 | BM137: -2018233585
C138: 36 | D138: M | E138: 642370001000.S | F138: Splachovač tlakový prívod 1/2 " | G138: ks | H138: 1 | J138: =ROUND(I138*H138,2) -> 0 | N138: znížená | P138: =O138*H138 -> 0 | Q138: 0.015 | R138: =Q138*H138 -> 0.015 | S138: 0 | T138: =S138*H138 -> 0 | AR138: 32 | AT138: M | AU138: 2 | AY138: ROZPOCET | BE138: =IF(N138="základná",J138,0) -> 0 | BF138: =IF(N138="znížená",J138,0) -> 0 | BG138: =IF(N138="zákl. prenesená",J138,0) -> 0 | BH138: =IF(N138="zníž. prenesená",J138,0) -> 0 | BI138: =IF(N138="nulová",J138,0) -> 0 | BJ138: 2 | BK138: =ROUND(I138*H138,2) -> 0 | BL138: 16 | BM138: -640753982
C139: 4 | D139: K | E139: 725119415.S | F139: Montáž záchodovej misy keramickej bezbariérovej | G139: ks | H139: 1 | J139: =ROUND(I139*H139,2) -> 0 | N139: znížená | P139: =O139*H139 -> 0 | Q139: 0.00017 | R139: =Q139*H139 -> 0.00017 | S139: 0 | T139: =S139*H139 -> 0 | AR139: 16 | AT139: K | AU139: 2 | AY139: ROZPOCET | BE139: =IF(N139="základná",J139,0) -> 0 | BF139: =IF(N139="znížená",J139,0) -> 0 | BG139: =IF(N139="zákl. prenesená",J139,0) -> 0 | BH139: =IF(N139="zníž. prenesená",J139,0) -> 0 | BI139: =IF(N139="nulová",J139,0) -> 0 | BJ139: 2 | BK139: =ROUND(I139*H139,2) -> 0 | BL139: 16 | BM139: 1227377834
C140: 5 | D140: M | E140: 642360004900.S | F140: Misa záchodová keramická závesná bezbariérová, bez splachovacieho okruhu | G140: ks | H140: 1 | J140: =ROUND(I140*H140,2) -> 0 | N140: znížená | P140: =O140*H140 -> 0 | Q140: 0.023 | R140: =Q140*H140 -> 0.023 | S140: 0 | T140: =S140*H140 -> 0 | AR140: 32 | AT140: M | AU140: 2 | AY140: ROZPOCET | BE140: =IF(N140="základná",J140,0) -> 0 | BF140: =IF(N140="znížená",J140,0) -> 0 | BG140: =IF(N140="zákl. prenesená",J140,0) -> 0 | BH140: =IF(N140="zníž. prenesená",J140,0) -> 0 | BI140: =IF(N140="nulová",J140,0) -> 0 | BJ140: 2 | BK140: =ROUND(I140*H140,2) -> 0 | BL140: 16 | BM140: -1202896390
C141: 6 | D141: K | E141: 725149701.S | F141: Montáž predstenového systému záchodov | G141: ks | H141: 1 | J141: =ROUND(I141*H141,2) -> 0 | N141: znížená | P141: =O141*H141 -> 0 | Q141: 0 | R141: =Q141*H141 -> 0 | S141: 0 | T141: =S141*H141 -> 0 | AR141: 16 | AT141: K | AU141: 2 | AY141: ROZPOCET | BE141: =IF(N141="základná",J141,0) -> 0 | BF141: =IF(N141="znížená",J141,0) -> 0 | BG141: =IF(N141="zákl. prenesená",J141,0) -> 0 | BH141: =IF(N141="zníž. prenesená",J141,0) -> 0 | BI141: =IF(N141="nulová",J141,0) -> 0 | BJ141: 2 | BK141: =ROUND(I141*H141,2) -> 0 | BL141: 16 | BM141: 176057992
C142: 7 | D142: M | E142: 552370001600.S | F142: Predstenový systém pre závesné WC s podomietkovou nádržou do murovaných alebo betónových konštrukcií | G142: ks | H142: 1 | J142: =ROUND(I142*H142,2) -> 0 | N142: znížená | P142: =O142*H142 -> 0 | Q142: 0.0058 | R142: =Q142*H142 -> 0.0058 | S142: 0 | T142: =S142*H142 -> 0 | AR142: 32 | AT142: M | AU142: 2 | AY142: ROZPOCET | BE142: =IF(N142="základná",J142,0) -> 0 | BF142: =IF(N142="znížená",J142,0) -> 0 | BG142: =IF(N142="zákl. prenesená",J142,0) -> 0 | BH142: =IF(N142="zníž. prenesená",J142,0) -> 0 | BI142: =IF(N142="nulová",J142,0) -> 0 | BJ142: 2 | BK142: =ROUND(I142*H142,2) -> 0 | BL142: 16 | BM142: -1657270109
C143: 8 | D143: K | E143: 725219401.S | F143: Montáž umývadla keramického na skrutky do muriva, bez výtokovej armatúry | G143: ks | H143: 1 | J143: =ROUND(I143*H143,2) -> 0 | N143: znížená | P143: =O143*H143 -> 0 | Q143: 0.00028 | R143: =Q143*H143 -> 0.00028 | S143: 0 | T143: =S143*H143 -> 0 | AR143: 16 | AT143: K | AU143: 2 | AY143: ROZPOCET | BE143: =IF(N143="základná",J143,0) -> 0 | BF143: =IF(N143="znížená",J143,0) -> 0 | BG143: =IF(N143="zákl. prenesená",J143,0) -> 0 | BH143: =IF(N143="zníž. prenesená",J143,0) -> 0 | BI143: =IF(N143="nulová",J143,0) -> 0 | BJ143: 2 | BK143: =ROUND(I143*H143,2) -> 0 | BL143: 16 | BM143: -535796740
C144: 9 | D144: M | E144: 552310004200 | F144: Umývadlo nerezové závesné pre telesne postihnutých, SANELA | G144: ks | H144: 1 | J144: =ROUND(I144*H144,2) -> 0 | N144: znížená | P144: =O144*H144 -> 0 | Q144: 0.00367 | R144: =Q144*H144 -> 0.00367 | S144: 0 | T144: =S144*H144 -> 0 | AR144: 32 | AT144: M | AU144: 2 | AY144: ROZPOCET | BE144: =IF(N144="základná",J144,0) -> 0 | BF144: =IF(N144="znížená",J144,0) -> 0 | BG144: =IF(N144="zákl. prenesená",J144,0) -> 0 | BH144: =IF(N144="zníž. prenesená",J144,0) -> 0 | BI144: =IF(N144="nulová",J144,0) -> 0 | BJ144: 2 | BK144: =ROUND(I144*H144,2) -> 0 | BL144: 16 | BM144: -1758901818
C145: 10 | D145: K | E145: 725291112.S | F145: Montáž záchodového sedadla s poklopom | G145: ks | H145: 1 | J145: =ROUND(I145*H145,2) -> 0 | N145: znížená | P145: =O145*H145 -> 0 | Q145: 0 | R145: =Q145*H145 -> 0 | S145: 0 | T145: =S145*H145 -> 0 | AR145: 16 | AT145: K | AU145: 2 | AY145: ROZPOCET | BE145: =IF(N145="základná",J145,0) -> 0 | BF145: =IF(N145="znížená",J145,0) -> 0 | BG145: =IF(N145="zákl. prenesená",J145,0) -> 0 | BH145: =IF(N145="zníž. prenesená",J145,0) -> 0 | BI145: =IF(N145="nulová",J145,0) -> 0 | BJ145: 2 | BK145: =ROUND(I145*H145,2) -> 0 | BL145: 16 | BM145: 571750345
C146: 11 | D146: M | E146: 554330000300.S | F146: Záchodové sedadlo plastové s poklopom | G146: ks | H146: 1 | J146: =ROUND(I146*H146,2) -> 0 | N146: znížená | P146: =O146*H146 -> 0 | Q146: 0.002 | R146: =Q146*H146 -> 0.002 | S146: 0 | T146: =S146*H146 -> 0 | AR146: 32 | AT146: M | AU146: 2 | AY146: ROZPOCET | BE146: =IF(N146="základná",J146,0) -> 0 | BF146: =IF(N146="znížená",J146,0) -> 0 | BG146: =IF(N146="zákl. prenesená",J146,0) -> 0 | BH146: =IF(N146="zníž. prenesená",J146,0) -> 0 | BI146: =IF(N146="nulová",J146,0) -> 0 | BJ146: 2 | BK146: =ROUND(I146*H146,2) -> 0 | BL146: 16 | BM146: 783018483
C147: 12 | D147: K | E147: 725291113.S | F147: Montaž doplnkov zariadení kúpeľní a záchodov, drobné predmety (držiak na uterák, mydelnička) | G147: ks | H147: 4 | J147: =ROUND(I147*H147,2) -> 0 | N147: znížená | P147: =O147*H147 -> 0 | Q147: 0 | R147: =Q147*H147 -> 0 | S147: 0 | T147: =S147*H147 -> 0 | AR147: 16 | AT147: K | AU147: 2 | AY147: ROZPOCET | BE147: =IF(N147="základná",J147,0) -> 0 | BF147: =IF(N147="znížená",J147,0) -> 0 | BG147: =IF(N147="zákl. prenesená",J147,0) -> 0 | BH147: =IF(N147="zníž. prenesená",J147,0) -> 0 | BI147: =IF(N147="nulová",J147,0) -> 0 | BJ147: 2 | BK147: =ROUND(I147*H147,2) -> 0 | BL147: 16 | BM147: 841539511
C148: 13 | D148: M | E148: 552280013400.S | F148: Držiak toaletného papiera | G148: ks | H148: 1 | J148: =ROUND(I148*H148,2) -> 0 | N148: znížená | P148: =O148*H148 -> 0 | Q148: 0.0005 | R148: =Q148*H148 -> 0.0005 | S148: 0 | T148: =S148*H148 -> 0 | AR148: 32 | AT148: M | AU148: 2 | AY148: ROZPOCET | BE148: =IF(N148="základná",J148,0) -> 0 | BF148: =IF(N148="znížená",J148,0) -> 0 | BG148: =IF(N148="zákl. prenesená",J148,0) -> 0 | BH148: =IF(N148="zníž. prenesená",J148,0) -> 0 | BI148: =IF(N148="nulová",J148,0) -> 0 | BJ148: 2 | BK148: =ROUND(I148*H148,2) -> 0 | BL148: 16 | BM148: 794141942
... C162: 40 | D162: M | E162: 551620006400.S | F162: Zápachová uzávierka - sifón pre umývadlá DN 40 | G162: ks | H162: 1 | J162: =ROUND(I162*H162,2) -> 0 | N162: znížená | P162: =O162*H162 -> 0 | Q162: 0.00033 | R162: =Q162*H162 -> 0.00033 | S162: 0 | T162: =S162*H162 -> 0 | AR162: 32 | AT162: M | AU162: 2 | AY162: ROZPOCET | BE162: =IF(N162="základná",J162,0) -> 0 | BF162: =IF(N162="znížená",J162,0) -> 0 | BG162: =IF(N162="zákl. prenesená",J162,0) -> 0 | BH162: =IF(N162="zníž. prenesená",J162,0) -> 0 | BI162: =IF(N162="nulová",J162,0) -> 0 | BJ162: 2 | BK162: =ROUND(I162*H162,2) -> 0 | BL162: 16 | BM162: 751863842
D163: D | E163: 763 | F163: Konštrukcie - drevostavby | J163: =BK163 -> 0 | P163: =SUM(P164:P167) -> 0 | R163: =SUM(R164:R167) -> 0.05026318 | T163: =SUM(T164:T167) -> 0 | AR163: 2 | AT163: D | AU163: 1 | AY163: ROZPOCET | BK163: =SUM(BK164:BK167) -> 0
C164: 22 | D164: K | E164: 763120011.S | F164: Sadrokartónová inštalačná predstena pre sanitárne zariadenia, kca CD+UD, dvojito opláštená doskou impregnovanou H2 2x12,5 mm | G164: m2 | H164: 2.24 | J164: =ROUND(I164*H164,2) -> 0 | N164: znížená | P164: =O164*H164 -> 0 | Q164: 0.02176 | R164: =Q164*H164 -> 0.0487424 | S164: 0 | T164: =S164*H164 -> 0 | AR164: 16 | AT164: K | AU164: 2 | AY164: ROZPOCET | BE164: =IF(N164="základná",J164,0) -> 0 | BF164: =IF(N164="znížená",J164,0) -> 0 | BG164: =IF(N164="zákl. prenesená",J164,0) -> 0 | BH164: =IF(N164="zníž. prenesená",J164,0) -> 0 | BI164: =IF(N164="nulová",J164,0) -> 0 | BJ164: 2 | BK164: =ROUND(I164*H164,2) -> 0 | BL164: 16 | BM164: 1381848695
C165: 23 | D165: K | E165: 763170010.S | F165: Montáž revíznych dvierok pre SDK steny veľkosti do 0,10 m2 | G165: ks | H165: 1 | J165: =ROUND(I165*H165,2) -> 0 | N165: znížená | P165: =O165*H165 -> 0 | Q165: 0.00012078 | R165: =Q165*H165 -> 0.00012078 | S165: 0 | T165: =S165*H165 -> 0 | AR165: 16 | AT165: K | AU165: 2 | AY165: ROZPOCET | BE165: =IF(N165="základná",J165,0) -> 0 | BF165: =IF(N165="znížená",J165,0) -> 0 | BG165: =IF(N165="zákl. prenesená",J165,0) -> 0 | BH165: =IF(N165="zníž. prenesená",J165,0) -> 0 | BI165: =IF(N165="nulová",J165,0) -> 0 | BJ165: 2 | BK165: =ROUND(I165*H165,2) -> 0 | BL165: 16 | BM165: -960409368
C166: 24 | D166: M | E166: 590160001700.S | F166: Dvierka revízne s pevnými pántami šxl 300x300 mm, do sadrokartónových systémov | G166: ks | H166: 1 | J166: =ROUND(I166*H166,2) -> 0 | N166: znížená | P166: =O166*H166 -> 0 | Q166: 0.0014 | R166: =Q166*H166 -> 0.0014 | S166: 0 | T166: =S166*H166 -> 0 | AR166: 32 | AT166: M | AU166: 2 | AY166: ROZPOCET | BE166: =IF(N166="základná",J166,0) -> 0 | BF166: =IF(N166="znížená",J166,0) -> 0 | BG166: =IF(N166="zákl. prenesená",J166,0) -> 0 | BH166: =IF(N166="zníž. prenesená",J166,0) -> 0 | BI166: =IF(N166="nulová",J166,0) -> 0 | BJ166: 2 | BK166: =ROUND(I166*H166,2) -> 0 | BL166: 16 | BM166: 1561868498
C167: 25 | D167: K | E167: 998763301.S | F167: Presun hmôt pre sadrokartónové konštrukcie v objektoch výšky do 7 m | G167: t | H167: 0.05 | J167: =ROUND(I167*H167,2) -> 0 | N167: znížená | P167: =O167*H167 -> 0 | Q167: 0 | R167: =Q167*H167 -> 0 | S167: 0 | T167: =S167*H167 -> 0 | AR167: 16 | AT167: K | AU167: 2 | AY167: ROZPOCET | BE167: =IF(N167="základná",J167,0) -> 0 | BF167: =IF(N167="znížená",J167,0) -> 0 | BG167: =IF(N167="zákl. prenesená",J167,0) -> 0 | BH167: =IF(N167="zníž. prenesená",J167,0) -> 0 | BI167: =IF(N167="nulová",J167,0) -> 0 | BJ167: 2 | BK167: =ROUND(I167*H167,2) -> 0 | BL167: 16 | BM167: -1324920939
D168: D | E168: 766 | F168: Konštrukcie stolárske | J168: =BK168 -> 0 | P168: =SUM(P169:P173) -> 0 | R168: =SUM(R169:R173) -> 0.2146416 | T168: =SUM(T169:T173) -> 0 | AR168: 2 | AT168: D | AU168: 1 | AY168: ROZPOCET | BK168: =SUM(BK169:BK173) -> 0
C169: 26 | D169: K | E169: 766662305.S | F169: Montáž dverí vchodových plastových s hydroizolačnými páskami (exteriérová a interiérová) | G169: m | H169: 15.52 | J169: =ROUND(I169*H169,2) -> 0 | N169: znížená | P169: =O169*H169 -> 0 | Q169: 0.00022 | R169: =Q169*H169 -> 0.0034144 | S169: 0 | T169: =S169*H169 -> 0 | AR169: 16 | AT169: K | AU169: 2 | AY169: ROZPOCET | BE169: =IF(N169="základná",J169,0) -> 0 | BF169: =IF(N169="znížená",J169,0) -> 0 | BG169: =IF(N169="zákl. prenesená",J169,0) -> 0 | BH169: =IF(N169="zníž. prenesená",J169,0) -> 0 | BI169: =IF(N169="nulová",J169,0) -> 0 | BJ169: 2 | BK169: =ROUND(I169*H169,2) -> 0 | BL169: 16 | BM169: 323422841
C170: 27 | D170: M | E170: 283290008100.S | F170: Fólia paropriepustná tesniaca polymér-flísová, š. 70 mm, dĺ. 30 m, pre tesnenie pripájacej škáry okenného rámu a muriva z exteriéru | G170: m | H170: 16.296 | J170: =ROUND(I170*H170,2) -> 0 | N170: znížená | P170: =O170*H170 -> 0 | Q170: 0.0001 | R170: =Q170*H170 -> 0.0016296 | S170: 0 | T170: =S170*H170 -> 0 | AR170: 32 | AT170: M | AU170: 2 | AY170: ROZPOCET | BE170: =IF(N170="základná",J170,0) -> 0 | BF170: =IF(N170="znížená",J170,0) -> 0 | BG170: =IF(N170="zákl. prenesená",J170,0) -> 0 | BH170: =IF(N170="zníž. prenesená",J170,0) -> 0 | BI170: =IF(N170="nulová",J170,0) -> 0 | BJ170: 2 | BK170: =ROUND(I170*H170,2) -> 0 | BL170: 16 | BM170: -855641900
C171: 28 | D171: M | E171: 283290008700.S | F171: Fólia paronepriepustná tesniaca polymér-flísová, š. 70 mm, dĺ. 30 m, pre tesnenie pripájacej škáry okenného rámu a muriva z interiéru | G171: m | H171: 16.296 | J171: =ROUND(I171*H171,2) -> 0 | N171: znížená | P171: =O171*H171 -> 0 | Q171: 0.0001 | R171: =Q171*H171 -> 0.0016296 | S171: 0 | T171: =S171*H171 -> 0 | AR171: 32 | AT171: M | AU171: 2 | AY171: ROZPOCET | BE171: =IF(N171="základná",J171,0) -> 0 | BF171: =IF(N171="znížená",J171,0) -> 0 | BG171: =IF(N171="zákl. prenesená",J171,0) -> 0 | BH171: =IF(N171="zníž. prenesená",J171,0) -> 0 | BI171: =IF(N171="nulová",J171,0) -> 0 | BJ171: 2 | BK171: =ROUND(I171*H171,2) -> 0 | BL171: 16 | BM171: 1498573862
C172: 29 | D172: M | E172: 611730000010.R | F172: Dvere vchodové plastové jednokrídlové s bočným svetlíkom š. 450 mm, izolačné trojsklo šxv - 1550 x 2,33 mm | G172: m | H172: 15.52 | J172: =ROUND(I172*H172,2) -> 0 | N172: znížená | P172: =O172*H172 -> 0 | Q172: 0.0134 | R172: =Q172*H172 -> 0.207968 | S172: 0 | T172: =S172*H172 -> 0 | AR172: 32 | AT172: M | AU172: 2 | AY172: ROZPOCET | BE172: =IF(N172="základná",J172,0) -> 0 | BF172: =IF(N172="znížená",J172,0) -> 0 | BG172: =IF(N172="zákl. prenesená",J172,0) -> 0 | BH172: =IF(N172="zníž. prenesená",J172,0) -> 0 | BI172: =IF(N172="nulová",J172,0) -> 0 | BJ172: 2 | BK172: =ROUND(I172*H172,2) -> 0 | BL172: 16 | BM172: 674876351
C173: 30 | D173: K | E173: 998766101.S | F173: Presun hmot pre konštrukcie stolárske v objektoch výšky do 6 m | G173: t | H173: 0.215 | J173: =ROUND(I173*H173,2) -> 0 | N173: znížená | P173: =O173*H173 -> 0 | Q173: 0 | R173: =Q173*H173 -> 0 | S173: 0 | T173: =S173*H173 -> 0 | AR173: 16 | AT173: K | AU173: 2 | AY173: ROZPOCET | BE173: =IF(N173="základná",J173,0) -> 0 | BF173: =IF(N173="znížená",J173,0) -> 0 | BG173: =IF(N173="zákl. prenesená",J173,0) -> 0 | BH173: =IF(N173="zníž. prenesená",J173,0) -> 0 | BI173: =IF(N173="nulová",J173,0) -> 0 | BJ173: 2 | BK173: =ROUND(I173*H173,2) -> 0 | BL173: 16 | BM173: -1695219874
