Workbook

Sheet Rekapitulácia stavby
A1: Export Komplet | BA1: 2.0 | BT1: False | BU1: False | BV1: {5011b029-0b94-434c-b5e7-84c49cf42119}
AR2: >> skryté stĺpce << | BS2: 0,01 | BT2: 23
BS3: 0,01 | BT3: 23
D4: REKAPITULÁCIA STAVBY | AS4: v --- nižšie sa nachádzajú doplnkové a pomocné údaje k zostavám --- v | BE4: Návod na vyplnenie | BS4: 0,001
D5: Kód: | K5: 2025-OR-11f | BE5: Meniť je možné iba bunky so žltým podfarbením!_x000D_ _x000D_ 1) na prvom liste Rekapitulácie stavby vyplňte v zostave_x000D_ _x000D_ a) Rekapitulácia stavby_x000D_ - údaje o Zhotoviteľovi_x000D_ (prenesú sa do ostatných zostáv aj v iných listoch)_x000D_ _x000D_ b) Rekapitulácia objektov stavby_x000D_ - potrebné Ostatné náklady_x000D_ _x000D_ 2) na vybraných listoch vyplňte v zostave_x000D_ _x000D_ a) Krycí list_x000D_ - údaje o Zhotoviteľovi, pokiaľ sa líšia od údajov o Zhotoviteľovi na Rekapitulácii stavby_x000D_ (údaje se prenesú do ostatných zostav v danom liste)_x000D_ _x000D_ b) Rekapitulácia rozpočtu_x000D_ - potrebné Ostatné náklady_x000D_ _x000D_ c) Celkové náklady za stavbu_x000D_ - ceny na položkách_x000D_ - množstvo, pokiaľ má žlté podfarbenie_x000D_ - a v prípade potreby poznámku (tá je v skrytom stĺpci) | BS5: 0,01
D6: Stavba: | K6: Rekonštrukcia budovy školy a telocvične - SOŠ dopravy a služieb, NZ | BS6: 0,01
D7: JKSO: | AK7: ČS: | BS7: 0,01
D8: Miesto: | K8: Nitra | AK8: Dátum: | BS8: 0,01
BS9: 0,01
D10: Objednávateľ: | AK10: IČO: | BS10: 0,01
E11: Nitriansky samosprávny kraj | AK11: IČ DPH: | BS11: 0,01
BS12: 0,01
D13: Zhotoviteľ: | AK13: IČO: | AN13: Vyplň údaj | BS13: 0,01
E14: Vyplň údaj | AK14: IČ DPH: | AN14: Vyplň údaj | BS14: 0,01
BS15: False
D16: Projektant: | AK16: IČO: | BS16: False
E17: Ing.arch. Roland Hoferica | AK17: IČ DPH: | BS17: True
BS18: 0,01
D19: Spracovateľ: | AK19: IČO: | BS19: 0,01
AK20: IČ DPH: | BS20: True
D22: Poznámka:
D26: Cena bez DPH | AK26: =ROUND(AG94,2) -> 0
L28: Sadzba dane | W28: Základ dane | AK28: Výška dane
D29: DPH | F29: základná | L29: 0.23 | W29: =ROUND(AZ94, 2) -> 0 | AK29: =ROUND(AV94, 2) -> 0
F30: znížená | L30: 0.23 | W30: =ROUND(BA94, 2) -> 0 | AK30: =ROUND(AW94, 2) -> 0
F31: zákl. prenesená | L31: 0.23 | W31: =ROUND(BB94, 2) -> 0 | AK31: 0
F32: zníž. prenesená | L32: 0.23 | W32: =ROUND(BC94, 2) -> 0 | AK32: 0
F33: nulová | L33: 0 | W33: =ROUND(BD94, 2) -> 0 | AK33: 0
D35: Cena s DPH | T35: v | X35: EUR | AK35: =SUM(AK26:AK33) -> 0
D49: Projektant | AH49: Spracovateľ
D60: Dátum a podpis: | V60: Pečiatka | AH60: Dátum a podpis: | AM60: Pečiatka
D64: Objednávateľ | AH64: Zhotoviteľ
D75: Dátum a podpis: | V75: Pečiatka | AH75: Dátum a podpis: | AM75: Pečiatka
C82: REKAPITULÁCIA OBJEKTOV STAVBY
C84: Kód: | L84: =K5 -> 2025-OR-11f
C85: Stavba: | L85: =K6 -> Rekonštrukcia budovy školy a telocvične - SOŠ dopravy a služieb, NZ
C87: Miesto: | L87: =IF(K8="","",K8) -> Nitra | AI87: Dátum: | AM87: =IF(AN8= "","",AN8)
C89: Objednávateľ: | L89: =IF(E11= "","",E11) -> Nitriansky samosprávny kraj | AI89: Projektant: | AM89: =IF(E17="","",E17) -> Ing.arch. Roland Hoferica | AS89: Informatívne údaje z listov zákaziek
C90: Zhotoviteľ: | L90: =IF(E14= "Vyplň údaj","",E14) | AI90: Spracovateľ: | AM90: =IF(E20="","",E20)
C92: Kód | I92: Popis | AG92: Cena bez DPH [EUR] | AN92: Cena s DPH [EUR] | AQ92: Typ | AS92: z toho Ostat._x000D_ náklady [EUR] | AT92: DPH [EUR] | AU92: Normohodiny [h] | AV92: DPH základná [EUR] | AW92: DPH znížená [EUR] | AX92: DPH základná prenesená_x000D_ [EUR] | AY92: DPH znížená prenesená_x000D_ [EUR] | AZ92: Základňa_x000D_ DPH základná | BA92: Základňa_x000D_ DPH znížená | BB92: Základňa_x000D_ DPH zákl. prenesená | BC92: Základňa_x000D_ DPH zníž. prenesená | BD92: Základňa_x000D_ DPH nulová
...

Sheet SO 01 - SO 01  Rekonštruk...
L2: >> skryté stĺpce << | AT2: {59ef5dc3-d8f2-4cb5-9af9-6cb11b28a911}
AT3: 0
D4: KRYCÍ LIST ROZPOČTU | M4: v --- nižšie sa nachádzajú doplnkové a pomocné údaje k zostavám --- v | AT4: False
D6: Stavba:
E7: ='Rekapitulácia stavby'!K6 -> Rekonštrukcia budovy školy a telocvične - SOŠ dopravy a služieb, NZ
D8: Objekt:
E9: SO 01 - SO 01 Rekonštrukcia fasády - Budova školy a Telocvične
D11: JKSO: | I11: ČS:
D12: Miesto: | F12: Nitra | I12: Dátum:
D14: Objednávateľ: | I14: IČO:
E15: Nitriansky samosprávny kraj | I15: IČ DPH:
D17: Zhotoviteľ: | I17: IČO: | J17: ='Rekapitulácia stavby'!AN13 -> Vyplň údaj
E18: ='Rekapitulácia stavby'!E14 -> Vyplň údaj | I18: IČ DPH: | J18: ='Rekapitulácia stavby'!AN14 -> Vyplň údaj
D20: Projektant: | I20: IČO:
E21: Ing.arch. Roland Hoferica | I21: IČ DPH:
D23: Spracovateľ: | I23: IČO:
I24: IČ DPH:
D26: Poznámka:
D30: Cena bez DPH | J30: =ROUND(J139, 2) -> 0
F32: Základ dane | I32: Sadzba dane | J32: Výška dane
D33: DPH | E33: základná | F33: =ROUND((SUM(BE139:BE360)), 2) -> 0 | I33: 0.23 | J33: =ROUND(((SUM(BE139:BE360))*I33), 2) -> 0
E34: znížená | F34: =ROUND((SUM(BF139:BF360)), 2) -> 0 | I34: 0.23 | J34: =ROUND(((SUM(BF139:BF360))*I34), 2) -> 0
E35: zákl. prenesená | F35: =ROUND((SUM(BG139:BG360)), 2) -> 0 | I35: 0.23 | J35: =0 -> 0
E36: zníž. prenesená | F36: =ROUND((SUM(BH139:BH360)), 2) -> 0 | I36: 0.23 | J36: =0 -> 0
E37: nulová | F37: =ROUND((SUM(BI139:BI360)), 2) -> 0 | I37: 0 | J37: =0 -> 0
D39: Cena s DPH | G39: v | H39: EUR | J39: =SUM(J30:J37) -> 0
D50: Projektant | G50: Spracovateľ
D61: Dátum a podpis: | F61: Pečiatka | G61: Dátum a podpis: | J61: Pečiatka
D65: Objednávateľ | G65: Zhotoviteľ
D76: Dátum a podpis: | F76: Pečiatka | G76: Dátum a podpis: | J76: Pečiatka
C82: REKAPITULÁCIA ROZPOČTU
C84: Stavba:
E85: =E7 -> Rekonštrukcia budovy školy a telocvične - SOŠ dopravy a služieb, NZ
C86: Objekt:
E87: =E9 -> SO 01 - SO 01 Rekonštrukcia fasády - Budova školy a Telocvične
C89: Miesto: | F89: =F12 -> Nitra | I89: Dátum: | J89: =IF(J12="","",J12)
C91: Objednávateľ: | F91: =E15 -> Nitriansky samosprávny kraj | I91: Projektant: | J91: =E21 -> Ing.arch. Roland Hoferica
C92: Zhotoviteľ: | F92: =IF(E18="","",E18) -> Vyplň údaj | I92: Spracovateľ:
C94: Kód dielu - Popis | J94: Cena celkom [EUR]
C96: Náklady z rozpočtu | J96: =J139 -> 0 | AU96: -1
...

Sheet SO 02 - SO 02   Telocvičň...
L2: >> skryté stĺpce << | AT2: {dc2cd487-c631-422d-972d-29fe3de27511}
AT3: 0
D4: KRYCÍ LIST ROZPOČTU | M4: v --- nižšie sa nachádzajú doplnkové a pomocné údaje k zostavám --- v | AT4: False
D6: Stavba:
E7: ='Rekapitulácia stavby'!K6 -> Rekonštrukcia budovy školy a telocvične - SOŠ dopravy a služieb, NZ
D8: Objekt:
E9: SO 02 - SO 02 Telocvičňa - Rekonštrukcia interiér
D11: JKSO: | I11: ČS:
D12: Miesto: | F12: Nitra | I12: Dátum:
D14: Objednávateľ: | I14: IČO:
E15: Nitriansky samosprávny kraj | I15: IČ DPH:
D17: Zhotoviteľ: | I17: IČO: | J17: ='Rekapitulácia stavby'!AN13 -> Vyplň údaj
E18: ='Rekapitulácia stavby'!E14 -> Vyplň údaj | I18: IČ DPH: | J18: ='Rekapitulácia stavby'!AN14 -> Vyplň údaj
D20: Projektant: | I20: IČO:
E21: Ing.arch. Roland Hoferica | I21: IČ DPH:
D23: Spracovateľ: | I23: IČO:
I24: IČ DPH:
D26: Poznámka:
D30: Cena bez DPH | J30: =ROUND(J138, 2) -> 0
F32: Základ dane | I32: Sadzba dane | J32: Výška dane
D33: DPH | E33: základná | F33: =ROUND((SUM(BE138:BE370)), 2) -> 0 | I33: 0.23 | J33: =ROUND(((SUM(BE138:BE370))*I33), 2) -> 0
E34: znížená | F34: =ROUND((SUM(BF138:BF370)), 2) -> 0 | I34: 0.23 | J34: =ROUND(((SUM(BF138:BF370))*I34), 2) -> 0
E35: zákl. prenesená | F35: =ROUND((SUM(BG138:BG370)), 2) -> 0 | I35: 0.23 | J35: =0 -> 0
E36: zníž. prenesená | F36: =ROUND((SUM(BH138:BH370)), 2) -> 0 | I36: 0.23 | J36: =0 -> 0
E37: nulová | F37: =ROUND((SUM(BI138:BI370)), 2) -> 0 | I37: 0 | J37: =0 -> 0
D39: Cena s DPH | G39: v | H39: EUR | J39: =SUM(J30:J37) -> 0
D50: Projektant | G50: Spracovateľ
D61: Dátum a podpis: | F61: Pečiatka | G61: Dátum a podpis: | J61: Pečiatka
D65: Objednávateľ | G65: Zhotoviteľ
D76: Dátum a podpis: | F76: Pečiatka | G76: Dátum a podpis: | J76: Pečiatka
C82: REKAPITULÁCIA ROZPOČTU
C84: Stavba:
E85: =E7 -> Rekonštrukcia budovy školy a telocvične - SOŠ dopravy a služieb, NZ
C86: Objekt:
E87: =E9 -> SO 02 - SO 02 Telocvičňa - Rekonštrukcia interiér
C89: Miesto: | F89: =F12 -> Nitra | I89: Dátum: | J89: =IF(J12="","",J12)
C91: Objednávateľ: | F91: =E15 -> Nitriansky samosprávny kraj | I91: Projektant: | J91: =E21 -> Ing.arch. Roland Hoferica
C92: Zhotoviteľ: | F92: =IF(E18="","",E18) -> Vyplň údaj | I92: Spracovateľ:
C94: Kód dielu - Popis | J94: Cena celkom [EUR]
C96: Náklady z rozpočtu | J96: =J138 -> 0 | AU96: -1
...

Sheet SO 03 - SO 03   Sadové úp...
L2: >> skryté stĺpce << | AT2: {b2515f2e-eb8e-48ca-929e-4c0255c4da6d}
AT3: 0
D4: KRYCÍ LIST ROZPOČTU | M4: v --- nižšie sa nachádzajú doplnkové a pomocné údaje k zostavám --- v | AT4: False
D6: Stavba:
E7: ='Rekapitulácia stavby'!K6 -> Rekonštrukcia budovy školy a telocvične - SOŠ dopravy a služieb, NZ
D8: Objekt:
E9: SO 03 - SO 03 Sadové úpravy a vnútroareálové komunikácie pre peších
D11: JKSO: | I11: ČS:
D12: Miesto: | F12: Nitra | I12: Dátum:
D14: Objednávateľ: | I14: IČO:
E15: Nitriansky samosprávny kraj | I15: IČ DPH:
D17: Zhotoviteľ: | I17: IČO: | J17: ='Rekapitulácia stavby'!AN13 -> Vyplň údaj
E18: ='Rekapitulácia stavby'!E14 -> Vyplň údaj | I18: IČ DPH: | J18: ='Rekapitulácia stavby'!AN14 -> Vyplň údaj
D20: Projektant: | I20: IČO:
E21: Ing.arch. Roland Hoferica | I21: IČ DPH:
D23: Spracovateľ: | I23: IČO:
I24: IČ DPH:
D26: Poznámka:
D30: Cena bez DPH | J30: =ROUND(J123, 2) -> 0
F32: Základ dane | I32: Sadzba dane | J32: Výška dane
D33: DPH | E33: základná | F33: =ROUND((SUM(BE123:BE163)), 2) -> 0 | I33: 0.23 | J33: =ROUND(((SUM(BE123:BE163))*I33), 2) -> 0
E34: znížená | F34: =ROUND((SUM(BF123:BF163)), 2) -> 0 | I34: 0.23 | J34: =ROUND(((SUM(BF123:BF163))*I34), 2) -> 0
E35: zákl. prenesená | F35: =ROUND((SUM(BG123:BG163)), 2) -> 0 | I35: 0.23 | J35: =0 -> 0
E36: zníž. prenesená | F36: =ROUND((SUM(BH123:BH163)), 2) -> 0 | I36: 0.23 | J36: =0 -> 0
E37: nulová | F37: =ROUND((SUM(BI123:BI163)), 2) -> 0 | I37: 0 | J37: =0 -> 0
D39: Cena s DPH | G39: v | H39: EUR | J39: =SUM(J30:J37) -> 0
D50: Projektant | G50: Spracovateľ
D61: Dátum a podpis: | F61: Pečiatka | G61: Dátum a podpis: | J61: Pečiatka
D65: Objednávateľ | G65: Zhotoviteľ
D76: Dátum a podpis: | F76: Pečiatka | G76: Dátum a podpis: | J76: Pečiatka
C82: REKAPITULÁCIA ROZPOČTU
C84: Stavba:
E85: =E7 -> Rekonštrukcia budovy školy a telocvične - SOŠ dopravy a služieb, NZ
C86: Objekt:
E87: =E9 -> SO 03 - SO 03 Sadové úpravy a vnútroareálové komunikácie pre peších
C89: Miesto: | F89: =F12 -> Nitra | I89: Dátum: | J89: =IF(J12="","",J12)
C91: Objednávateľ: | F91: =E15 -> Nitriansky samosprávny kraj | I91: Projektant: | J91: =E21 -> Ing.arch. Roland Hoferica
C92: Zhotoviteľ: | F92: =IF(E18="","",E18) -> Vyplň údaj | I92: Spracovateľ:
C94: Kód dielu - Popis | J94: Cena celkom [EUR]
C96: Náklady z rozpočtu | J96: =J123 -> 0 | AU96: -1
...

Sheet SO 04.1 - SO 04.1  Debari...
L2: >> skryté stĺpce << | AT2: {077bfd79-a7fd-4a85-9071-24fbea84c745}
AT3: 0
D4: KRYCÍ LIST ROZPOČTU | M4: v --- nižšie sa nachádzajú doplnkové a pomocné údaje k zostavám --- v | AT4: False
D6: Stavba:
E7: ='Rekapitulácia stavby'!K6 -> Rekonštrukcia budovy školy a telocvične - SOŠ dopravy a služieb, NZ
D8: Objekt:
E9: SO 04 - SO 04 Debarierizácia SOŠ dopravy a služieb
D10: Časť:
E11: SO 04.1 - SO 04.1 Debarierizácia vstupu do SO 01 - interiér
D13: JKSO: | I13: ČS:
D14: Miesto: | F14: Nitra | I14: Dátum:
D16: Objednávateľ: | I16: IČO:
E17: Nitriansky samosprávny kraj | I17: IČ DPH:
D19: Zhotoviteľ: | I19: IČO: | J19: ='Rekapitulácia stavby'!AN13 -> Vyplň údaj
E20: ='Rekapitulácia stavby'!E14 -> Vyplň údaj | I20: IČ DPH: | J20: ='Rekapitulácia stavby'!AN14 -> Vyplň údaj
D22: Projektant: | I22: IČO:
E23: Ing.arch. Roland Hoferica | I23: IČ DPH:
D25: Spracovateľ: | I25: IČO:
I26: IČ DPH:
D28: Poznámka:
D32: Cena bez DPH | J32: =ROUND(J129, 2) -> 0
F34: Základ dane | I34: Sadzba dane | J34: Výška dane
D35: DPH | E35: základná | F35: =ROUND((SUM(BE129:BE176)), 2) -> 0 | I35: 0.23 | J35: =ROUND(((SUM(BE129:BE176))*I35), 2) -> 0
E36: znížená | F36: =ROUND((SUM(BF129:BF176)), 2) -> 0 | I36: 0.23 | J36: =ROUND(((SUM(BF129:BF176))*I36), 2) -> 0
E37: zákl. prenesená | F37: =ROUND((SUM(BG129:BG176)), 2) -> 0 | I37: 0.23 | J37: =0 -> 0
E38: zníž. prenesená | F38: =ROUND((SUM(BH129:BH176)), 2) -> 0 | I38: 0.23 | J38: =0 -> 0
E39: nulová | F39: =ROUND((SUM(BI129:BI176)), 2) -> 0 | I39: 0 | J39: =0 -> 0
D41: Cena s DPH | G41: v | H41: EUR | J41: =SUM(J32:J39) -> 0
D50: Projektant | G50: Spracovateľ
D61: Dátum a podpis: | F61: Pečiatka | G61: Dátum a podpis: | J61: Pečiatka
D65: Objednávateľ | G65: Zhotoviteľ
D76: Dátum a podpis: | F76: Pečiatka | G76: Dátum a podpis: | J76: Pečiatka
C82: REKAPITULÁCIA ROZPOČTU
C84: Stavba:
E85: =E7 -> Rekonštrukcia budovy školy a telocvične - SOŠ dopravy a služieb, NZ
C86: Objekt:
E87: SO 04 - SO 04 Debarierizácia SOŠ dopravy a služieb
C88: Časť:
E89: =E11 -> SO 04.1 - SO 04.1 Debarierizácia vstupu do SO 01 - interiér
C91: Miesto: | F91: =F14 -> Nitra | I91: Dátum: | J91: =IF(J14="","",J14)
...

Sheet SO 04.2 - SO 04.2   Debar...
L2: >> skryté stĺpce << | AT2: {e4c45c73-71ae-49c2-97d6-9c76312b777a}
AT3: 0
D4: KRYCÍ LIST ROZPOČTU | M4: v --- nižšie sa nachádzajú doplnkové a pomocné údaje k zostavám --- v | AT4: False
D6: Stavba:
E7: ='Rekapitulácia stavby'!K6 -> Rekonštrukcia budovy školy a telocvične - SOŠ dopravy a služieb, NZ
D8: Objekt:
E9: SO 04 - SO 04 Debarierizácia SOŠ dopravy a služieb
D10: Časť:
E11: SO 04.2 - SO 04.2 Debarierizácia vstupu do SO 01 - exteriér
D13: JKSO: | I13: ČS:
D14: Miesto: | F14: Nitra | I14: Dátum:
D16: Objednávateľ: | I16: IČO:
E17: Nitriansky samosprávny kraj | I17: IČ DPH:
D19: Zhotoviteľ: | I19: IČO: | J19: ='Rekapitulácia stavby'!AN13 -> Vyplň údaj
E20: ='Rekapitulácia stavby'!E14 -> Vyplň údaj | I20: IČ DPH: | J20: ='Rekapitulácia stavby'!AN14 -> Vyplň údaj
D22: Projektant: | I22: IČO:
E23: Ing.arch. Roland Hoferica | I23: IČ DPH:
D25: Spracovateľ: | I25: IČO:
I26: IČ DPH:
D28: Poznámka:
D32: Cena bez DPH | J32: =ROUND(J126, 2) -> 0
F34: Základ dane | I34: Sadzba dane | J34: Výška dane
D35: DPH | E35: základná | F35: =ROUND((SUM(BE126:BE147)), 2) -> 0 | I35: 0.23 | J35: =ROUND(((SUM(BE126:BE147))*I35), 2) -> 0
E36: znížená | F36: =ROUND((SUM(BF126:BF147)), 2) -> 0 | I36: 0.23 | J36: =ROUND(((SUM(BF126:BF147))*I36), 2) -> 0
E37: zákl. prenesená | F37: =ROUND((SUM(BG126:BG147)), 2) -> 0 | I37: 0.23 | J37: =0 -> 0
E38: zníž. prenesená | F38: =ROUND((SUM(BH126:BH147)), 2) -> 0 | I38: 0.23 | J38: =0 -> 0
E39: nulová | F39: =ROUND((SUM(BI126:BI147)), 2) -> 0 | I39: 0 | J39: =0 -> 0
D41: Cena s DPH | G41: v | H41: EUR | J41: =SUM(J32:J39) -> 0
D50: Projektant | G50: Spracovateľ
D61: Dátum a podpis: | F61: Pečiatka | G61: Dátum a podpis: | J61: Pečiatka
D65: Objednávateľ | G65: Zhotoviteľ
D76: Dátum a podpis: | F76: Pečiatka | G76: Dátum a podpis: | J76: Pečiatka
C82: REKAPITULÁCIA ROZPOČTU
C84: Stavba:
E85: =E7 -> Rekonštrukcia budovy školy a telocvične - SOŠ dopravy a služieb, NZ
C86: Objekt:
E87: SO 04 - SO 04 Debarierizácia SOŠ dopravy a služieb
C88: Časť:
E89: =E11 -> SO 04.2 - SO 04.2 Debarierizácia vstupu do SO 01 - exteriér
C91: Miesto: | F91: =F14 -> Nitra | I91: Dátum: | J91: =IF(J14="","",J14)
...

Sheet SO 04.3 - SO 04.3   Debar...
L2: >> skryté stĺpce << | AT2: {b837c1ab-1d84-491a-a7cd-9988dc0fbf16}
AT3: 0
D4: KRYCÍ LIST ROZPOČTU | M4: v --- nižšie sa nachádzajú doplnkové a pomocné údaje k zostavám --- v | AT4: False
D6: Stavba:
E7: ='Rekapitulácia stavby'!K6 -> Rekonštrukcia budovy školy a telocvične - SOŠ dopravy a služieb, NZ
D8: Objekt:
E9: SO 04 - SO 04 Debarierizácia SOŠ dopravy a služieb
D10: Časť:
E11: SO 04.3 - SO 04.3 Debarierizácia Telocvične SO 02
D13: JKSO: | I13: ČS:
D14: Miesto: | F14: Nitra | I14: Dátum:
D16: Objednávateľ: | I16: IČO:
E17: Nitriansky samosprávny kraj | I17: IČ DPH:
D19: Zhotoviteľ: | I19: IČO: | J19: ='Rekapitulácia stavby'!AN13 -> Vyplň údaj
E20: ='Rekapitulácia stavby'!E14 -> Vyplň údaj | I20: IČ DPH: | J20: ='Rekapitulácia stavby'!AN14 -> Vyplň údaj
D22: Projektant: | I22: IČO:
E23: Ing.arch. Roland Hoferica | I23: IČ DPH:
D25: Spracovateľ: | I25: IČO:
I26: IČ DPH:
D28: Poznámka:
D32: Cena bez DPH | J32: =ROUND(J127, 2) -> 0
F34: Základ dane | I34: Sadzba dane | J34: Výška dane
D35: DPH | E35: základná | F35: =ROUND((SUM(BE127:BE173)), 2) -> 0 | I35: 0.23 | J35: =ROUND(((SUM(BE127:BE173))*I35), 2) -> 0
E36: znížená | F36: =ROUND((SUM(BF127:BF173)), 2) -> 0 | I36: 0.23 | J36: =ROUND(((SUM(BF127:BF173))*I36), 2) -> 0
E37: zákl. prenesená | F37: =ROUND((SUM(BG127:BG173)), 2) -> 0 | I37: 0.23 | J37: =0 -> 0
E38: zníž. prenesená | F38: =ROUND((SUM(BH127:BH173)), 2) -> 0 | I38: 0.23 | J38: =0 -> 0
E39: nulová | F39: =ROUND((SUM(BI127:BI173)), 2) -> 0 | I39: 0 | J39: =0 -> 0
D41: Cena s DPH | G41: v | H41: EUR | J41: =SUM(J32:J39) -> 0
D50: Projektant | G50: Spracovateľ
D61: Dátum a podpis: | F61: Pečiatka | G61: Dátum a podpis: | J61: Pečiatka
D65: Objednávateľ | G65: Zhotoviteľ
D76: Dátum a podpis: | F76: Pečiatka | G76: Dátum a podpis: | J76: Pečiatka
C82: REKAPITULÁCIA ROZPOČTU
C84: Stavba:
E85: =E7 -> Rekonštrukcia budovy školy a telocvične - SOŠ dopravy a služieb, NZ
C86: Objekt:
E87: SO 04 - SO 04 Debarierizácia SOŠ dopravy a služieb
C88: Časť:
E89: =E11 -> SO 04.3 - SO 04.3 Debarierizácia Telocvične SO 02
C91: Miesto: | F91: =F14 -> Nitra | I91: Dátum: | J91: =IF(J14="","",J14)
...
