Workbook

Sheet Rekapitulácia stavby
A1: Export Komplet | BA1: 2.0 | BT1: False | BU1: False | BV1: {538720a2-0504-4b27-ae32-02a5586d285f}
AR2: >> skryté stĺpce << | BS2: 0,01 | BT2: 23
BS3: 0,01 | BT3: 23
D4: REKAPITULÁCIA STAVBY | AS4: v --- nižšie sa nachádzajú doplnkové a pomocné údaje k zostavám --- v | BE4: Návod na vyplnenie | BS4: 0,001
D5: Kód: | BE5: Meniť je možné iba bunky so žltým podfarbením!_x000D_ _x000D_ 1) na prvom liste Rekapitulácie stavby vyplňte v zostave_x000D_ _x000D_ a) Rekapitulácia stavby_x000D_ - údaje o Zhotoviteľovi_x000D_ (prenesú sa do ostatných zostáv aj v iných listoch)_x000D_ _x000D_ b) Rekapitulácia objektov stavby_x000D_ - potrebné Ostatné náklady_x000D_ _x000D_ 2) na vybraných listoch vyplňte v zostave_x000D_ _x000D_ a) Krycí list_x000D_ - údaje o Zhotoviteľovi, pokiaľ sa líšia od údajov o Zhotoviteľovi na Rekapitulácii stavby_x000D_ (údaje se prenesú do ostatných zostav v danom liste)_x000D_ _x000D_ b) Rekapitulácia rozpočtu_x000D_ - potrebné Ostatné náklady_x000D_ _x000D_ c) Celkové náklady za stavbu_x000D_ - ceny na položkách_x000D_ - množstvo, pokiaľ má žlté podfarbenie_x000D_ - a v prípade potreby poznámku (tá je v skrytom stĺpci) | BS5: 0,01
D6: Stavba: | K6: Nové záchytné centrum, Bojnice | BS6: 0,01
D7: JKSO: | AK7: ČS: | BS7: 0,01
D8: Miesto: | K8: Bojnice | AK8: Dátum: | AN8: 46146 | BS8: 0,01
BS9: 0,01
D10: Objednávateľ: | AK10: IČO: | BS10: 0,01
E11: Národná zoologická záhrada | AK11: IČ DPH: | BS11: 0,01
BS12: 0,01
D13: Zhotoviteľ: | AK13: IČO: | BS13: 0,01
AK14: IČ DPH: | BS14: 0,01
BS15: False
D16: Projektant: | AK16: IČO: | BS16: False
E17: ERGAprojekt s.r.o. | AK17: IČ DPH: | BS17: True
BS18: 0,01
D19: Spracovateľ: | AK19: IČO: | BS19: 0,01
AK20: IČ DPH: | BS20: True
D22: Poznámka:
D26: Cena bez DPH | AK26: =ROUND(AG94,2) -> 0
L28: Sadzba dane | W28: Základ dane | AK28: Výška dane
D29: DPH | F29: základná | L29: 0.23 | W29: =ROUND(AZ94, 2) -> 0 | AK29: =ROUND(AV94, 2) -> 0
F30: znížená | L30: 0.23 | W30: =ROUND(BA94, 2) -> 0 | AK30: =ROUND(AW94, 2) -> 0
F31: zákl. prenesená | L31: 0.23 | W31: =ROUND(BB94, 2) -> 0 | AK31: 0
F32: zníž. prenesená | L32: 0.23 | W32: =ROUND(BC94, 2) -> 0 | AK32: 0
F33: nulová | L33: 0 | W33: =ROUND(BD94, 2) -> 0 | AK33: 0
D35: Cena s DPH | T35: v | X35: EUR | AK35: =SUM(AK26:AK33) -> 0
D49: Projektant | AH49: Spracovateľ
D60: Dátum a podpis: | V60: Pečiatka | AH60: Dátum a podpis: | AM60: Pečiatka
D64: Objednávateľ | AH64: Zhotoviteľ
D75: Dátum a podpis: | V75: Pečiatka | AH75: Dátum a podpis: | AM75: Pečiatka
C82: REKAPITULÁCIA OBJEKTOV STAVBY
C84: Kód:
C85: Stavba: | L85: =K6 -> Nové záchytné centrum, Bojnice
C87: Miesto: | L87: =IF(K8="","",K8) -> Bojnice | AI87: Dátum: | AM87: =IF(AN8= "","",AN8) -> 46146
C89: Objednávateľ: | L89: =IF(E11= "","",E11) -> Národná zoologická záhrada | AI89: Projektant: | AM89: =IF(E17="","",E17) -> ERGAprojekt s.r.o. | AS89: Informatívne údaje z listov zákaziek
C90: Zhotoviteľ: | L90: =IF(E14= "Vyplň údaj","",E14) -> 0 | AI90: Spracovateľ: | AM90: =IF(E20="","",E20)
C92: Kód | I92: Popis | AG92: Cena bez DPH [EUR] | AN92: Cena s DPH [EUR] | AQ92: Typ | AS92: z toho Ostat._x000D_ náklady [EUR] | AT92: DPH [EUR] | AU92: Normohodiny [h] | AV92: DPH základná [EUR] | AW92: DPH znížená [EUR] | AX92: DPH základná prenesená_x000D_ [EUR] | AY92: DPH znížená prenesená_x000D_ [EUR] | AZ92: Základňa_x000D_ DPH základná | BA92: Základňa_x000D_ DPH znížená | BB92: Základňa_x000D_ DPH zákl. prenesená | BC92: Základňa_x000D_ DPH zníž. prenesená | BD92: Základňa_x000D_ DPH nulová
...

Sheet ASR - Architektonicko-sta...
L2: >> skryté stĺpce << | AT2: {5afaced8-c2b9-4999-a435-76357f29ce92}
AT3: 0
D4: KRYCÍ LIST ROZPOČTU | M4: v --- nižšie sa nachádzajú doplnkové a pomocné údaje k zostavám --- v | AT4: False
D6: Stavba:
E7: ='Rekapitulácia stavby'!K6 -> Nové záchytné centrum, Bojnice
D8: Objekt:
E9: SO 01 - Chovný priestor
D10: Časť:
E11: ASR - Architektonicko-stavebné riešenie
D13: JKSO: | I13: ČS:
D14: Miesto: | F14: Bojnice | I14: Dátum: | J14: ='Rekapitulácia stavby'!AN8 -> 46146
D16: Objednávateľ: | I16: IČO:
E17: Národná zoologická záhrada | I17: IČ DPH:
D19: Zhotoviteľ: | I19: IČO:
E20: ='Rekapitulácia stavby'!E14 -> 0 | I20: IČ DPH:
D22: Projektant: | I22: IČO:
E23: ERGAprojekt s.r.o. | I23: IČ DPH:
D25: Spracovateľ: | I25: IČO: | J25: =IF('Rekapitulácia stavby'!AN19="","",'Rekapitulácia stavby'!AN19)
E26: =IF('Rekapitulácia stavby'!E20="","",'Rekapitulácia stavby'!E20) | I26: IČ DPH: | J26: =IF('Rekapitulácia stavby'!AN20="","",'Rekapitulácia stavby'!AN20)
D28: Poznámka:
D32: Cena bez DPH | J32: =ROUND(J141, 2) -> 0
F34: Základ dane | I34: Sadzba dane | J34: Výška dane
D35: DPH | E35: základná | F35: =ROUND((SUM(BE141:BE308)), 2) -> 0 | I35: 0.23 | J35: =ROUND(((SUM(BE141:BE308))*I35), 2) -> 0
E36: znížená | F36: =ROUND((SUM(BF141:BF308)), 2) -> 0 | I36: 0.23 | J36: =ROUND(((SUM(BF141:BF308))*I36), 2) -> 0
E37: zákl. prenesená | F37: =ROUND((SUM(BG141:BG308)), 2) -> 0 | I37: 0.23 | J37: =0 -> 0
E38: zníž. prenesená | F38: =ROUND((SUM(BH141:BH308)), 2) -> 0 | I38: 0.23 | J38: =0 -> 0
E39: nulová | F39: =ROUND((SUM(BI141:BI308)), 2) -> 0 | I39: 0 | J39: =0 -> 0
D41: Cena s DPH | G41: v | H41: EUR | J41: =SUM(J32:J39) -> 0
D50: Projektant | G50: Spracovateľ
D61: Dátum a podpis: | F61: Pečiatka | G61: Dátum a podpis: | J61: Pečiatka
D65: Objednávateľ | G65: Zhotoviteľ
D76: Dátum a podpis: | F76: Pečiatka | G76: Dátum a podpis: | J76: Pečiatka
C82: REKAPITULÁCIA ROZPOČTU
C84: Stavba:
E85: =E7 -> Nové záchytné centrum, Bojnice
C86: Objekt:
E87: SO 01 - Chovný priestor
C88: Časť:
E89: =E11 -> ASR - Architektonicko-stavebné riešenie
C91: Miesto: | F91: =F14 -> Bojnice | I91: Dátum: | J91: =IF(J14="","",J14) -> 46146
...

Sheet STA - Statika
L2: >> skryté stĺpce << | AT2: {d357b84f-bf81-4236-b8d6-f3611a0259c8}
AT3: 0
D4: KRYCÍ LIST ROZPOČTU | M4: v --- nižšie sa nachádzajú doplnkové a pomocné údaje k zostavám --- v | AT4: False
D6: Stavba:
E7: ='Rekapitulácia stavby'!K6 -> Nové záchytné centrum, Bojnice
D8: Objekt:
E9: SO 01 - Chovný priestor
D10: Časť:
E11: STA - Statika
D13: JKSO: | I13: ČS:
D14: Miesto: | F14: Bojnice | I14: Dátum: | J14: ='Rekapitulácia stavby'!AN8 -> 46146
D16: Objednávateľ: | I16: IČO:
E17: Národná zoologická záhrada | I17: IČ DPH:
D19: Zhotoviteľ: | I19: IČO:
I20: IČ DPH: | J20: ='Rekapitulácia stavby'!AN14 -> 0
D22: Projektant: | I22: IČO:
E23: ERGAprojekt s.r.o. | I23: IČ DPH:
D25: Spracovateľ: | I25: IČO: | J25: =IF('Rekapitulácia stavby'!AN19="","",'Rekapitulácia stavby'!AN19)
E26: =IF('Rekapitulácia stavby'!E20="","",'Rekapitulácia stavby'!E20) | I26: IČ DPH: | J26: =IF('Rekapitulácia stavby'!AN20="","",'Rekapitulácia stavby'!AN20)
D28: Poznámka:
D32: Cena bez DPH | J32: =ROUND(J126, 2) -> 0
F34: Základ dane | I34: Sadzba dane | J34: Výška dane
D35: DPH | E35: základná | F35: =ROUND((SUM(BE126:BE171)), 2) -> 0 | I35: 0.23 | J35: =ROUND(((SUM(BE126:BE171))*I35), 2) -> 0
E36: znížená | F36: =ROUND((SUM(BF126:BF171)), 2) -> 0 | I36: 0.23 | J36: =ROUND(((SUM(BF126:BF171))*I36), 2) -> 0
E37: zákl. prenesená | F37: =ROUND((SUM(BG126:BG171)), 2) -> 0 | I37: 0.23 | J37: =0 -> 0
E38: zníž. prenesená | F38: =ROUND((SUM(BH126:BH171)), 2) -> 0 | I38: 0.23 | J38: =0 -> 0
E39: nulová | F39: =ROUND((SUM(BI126:BI171)), 2) -> 0 | I39: 0 | J39: =0 -> 0
D41: Cena s DPH | G41: v | H41: EUR | J41: =SUM(J32:J39) -> 0
D50: Projektant | G50: Spracovateľ
D61: Dátum a podpis: | F61: Pečiatka | G61: Dátum a podpis: | J61: Pečiatka
D65: Objednávateľ | G65: Zhotoviteľ
D76: Dátum a podpis: | F76: Pečiatka | G76: Dátum a podpis: | J76: Pečiatka
C82: REKAPITULÁCIA ROZPOČTU
C84: Stavba:
E85: =E7 -> Nové záchytné centrum, Bojnice
C86: Objekt:
E87: SO 01 - Chovný priestor
C88: Časť:
E89: =E11 -> STA - Statika
C91: Miesto: | F91: =F14 -> Bojnice | I91: Dátum: | J91: =IF(J14="","",J14) -> 46146
...

Sheet ZTI - Zdravotechnika
L2: >> skryté stĺpce << | AT2: {b84dc38d-72a4-40ca-a38d-2e3acf9c92e0}
AT3: 0
D4: KRYCÍ LIST ROZPOČTU | M4: v --- nižšie sa nachádzajú doplnkové a pomocné údaje k zostavám --- v | AT4: False
D6: Stavba:
E7: ='Rekapitulácia stavby'!K6 -> Nové záchytné centrum, Bojnice
D8: Objekt:
E9: SO 01 - Chovný priestor
D10: Časť:
E11: ZTI - Zdravotechnika
D13: JKSO: | I13: ČS:
D14: Miesto: | F14: Bojnice | I14: Dátum: | J14: ='Rekapitulácia stavby'!AN8 -> 46146
D16: Objednávateľ: | I16: IČO:
E17: Národná zoologická záhrada | I17: IČ DPH:
D19: Zhotoviteľ: | I19: IČO:
I20: IČ DPH:
D22: Projektant: | I22: IČO:
E23: ERGAprojekt s.r.o. | I23: IČ DPH:
D25: Spracovateľ: | I25: IČO: | J25: =IF('Rekapitulácia stavby'!AN19="","",'Rekapitulácia stavby'!AN19)
E26: =IF('Rekapitulácia stavby'!E20="","",'Rekapitulácia stavby'!E20) | I26: IČ DPH: | J26: =IF('Rekapitulácia stavby'!AN20="","",'Rekapitulácia stavby'!AN20)
D28: Poznámka:
D32: Cena bez DPH | J32: =ROUND(J131, 2) -> 0
F34: Základ dane | I34: Sadzba dane | J34: Výška dane
D35: DPH | E35: základná | F35: =ROUND((SUM(BE131:BE269)), 2) -> 0 | I35: 0.23 | J35: =ROUND(((SUM(BE131:BE269))*I35), 2) -> 0
E36: znížená | F36: =ROUND((SUM(BF131:BF269)), 2) -> 0 | I36: 0.23 | J36: =ROUND(((SUM(BF131:BF269))*I36), 2) -> 0
E37: zákl. prenesená | F37: =ROUND((SUM(BG131:BG269)), 2) -> 0 | I37: 0.23 | J37: =0 -> 0
E38: zníž. prenesená | F38: =ROUND((SUM(BH131:BH269)), 2) -> 0 | I38: 0.23 | J38: =0 -> 0
E39: nulová | F39: =ROUND((SUM(BI131:BI269)), 2) -> 0 | I39: 0 | J39: =0 -> 0
D41: Cena s DPH | G41: v | H41: EUR | J41: =SUM(J32:J39) -> 0
D50: Projektant | G50: Spracovateľ
D61: Dátum a podpis: | F61: Pečiatka | G61: Dátum a podpis: | J61: Pečiatka
D65: Objednávateľ | G65: Zhotoviteľ
D76: Dátum a podpis: | F76: Pečiatka | G76: Dátum a podpis: | J76: Pečiatka
C82: REKAPITULÁCIA ROZPOČTU
C84: Stavba:
E85: =E7 -> Nové záchytné centrum, Bojnice
C86: Objekt:
E87: SO 01 - Chovný priestor
C88: Časť:
E89: =E11 -> ZTI - Zdravotechnika
C91: Miesto: | F91: =F14 -> Bojnice | I91: Dátum: | J91: =IF(J14="","",J14) -> 46146
...

Sheet VYK - Vykurovanie
L2: >> skryté stĺpce << | AT2: {48394ebc-7924-4a0d-9ba1-f650dd1bacbe}
AT3: 0
D4: KRYCÍ LIST ROZPOČTU | M4: v --- nižšie sa nachádzajú doplnkové a pomocné údaje k zostavám --- v | AT4: False
D6: Stavba:
E7: ='Rekapitulácia stavby'!K6 -> Nové záchytné centrum, Bojnice
D8: Objekt:
E9: SO 01 - Chovný priestor
D10: Časť:
E11: VYK - Vykurovanie
D13: JKSO: | I13: ČS:
D14: Miesto: | F14: Bojnice | I14: Dátum: | J14: ='Rekapitulácia stavby'!AN8 -> 46146
D16: Objednávateľ: | I16: IČO:
E17: Národná zoologická záhrada | I17: IČ DPH:
D19: Zhotoviteľ: | I19: IČO:
I20: IČ DPH:
D22: Projektant: | I22: IČO:
E23: ERGAprojekt s.r.o. | I23: IČ DPH:
D25: Spracovateľ: | I25: IČO: | J25: =IF('Rekapitulácia stavby'!AN19="","",'Rekapitulácia stavby'!AN19)
E26: =IF('Rekapitulácia stavby'!E20="","",'Rekapitulácia stavby'!E20) | I26: IČ DPH: | J26: =IF('Rekapitulácia stavby'!AN20="","",'Rekapitulácia stavby'!AN20)
D28: Poznámka:
D32: Cena bez DPH | J32: =ROUND(J131, 2) -> 0
F34: Základ dane | I34: Sadzba dane | J34: Výška dane
D35: DPH | E35: základná | F35: =ROUND((SUM(BE131:BE246)), 2) -> 0 | I35: 0.23 | J35: =ROUND(((SUM(BE131:BE246))*I35), 2) -> 0
E36: znížená | F36: =ROUND((SUM(BF131:BF246)), 2) -> 0 | I36: 0.23 | J36: =ROUND(((SUM(BF131:BF246))*I36), 2) -> 0
E37: zákl. prenesená | F37: =ROUND((SUM(BG131:BG246)), 2) -> 0 | I37: 0.23 | J37: =0 -> 0
E38: zníž. prenesená | F38: =ROUND((SUM(BH131:BH246)), 2) -> 0 | I38: 0.23 | J38: =0 -> 0
E39: nulová | F39: =ROUND((SUM(BI131:BI246)), 2) -> 0 | I39: 0 | J39: =0 -> 0
D41: Cena s DPH | G41: v | H41: EUR | J41: =SUM(J32:J39) -> 0
D50: Projektant | G50: Spracovateľ
D61: Dátum a podpis: | F61: Pečiatka | G61: Dátum a podpis: | J61: Pečiatka
D65: Objednávateľ | G65: Zhotoviteľ
D76: Dátum a podpis: | F76: Pečiatka | G76: Dátum a podpis: | J76: Pečiatka
C82: REKAPITULÁCIA ROZPOČTU
C84: Stavba:
E85: =E7 -> Nové záchytné centrum, Bojnice
C86: Objekt:
E87: SO 01 - Chovný priestor
C88: Časť:
E89: =E11 -> VYK - Vykurovanie
C91: Miesto: | F91: =F14 -> Bojnice | I91: Dátum: | J91: =IF(J14="","",J14) -> 46146
...

Sheet VZT - Vzduchotechnika a c...
L2: >> skryté stĺpce << | AT2: {12b50c6d-6ab6-43ed-88ca-443778d0c037}
AT3: 0
D4: KRYCÍ LIST ROZPOČTU | M4: v --- nižšie sa nachádzajú doplnkové a pomocné údaje k zostavám --- v | AT4: False
D6: Stavba:
E7: ='Rekapitulácia stavby'!K6 -> Nové záchytné centrum, Bojnice
D8: Objekt:
E9: SO 01 - Chovný priestor
D10: Časť:
E11: VZT - Vzduchotechnika a chladenie
D13: JKSO: | I13: ČS:
D14: Miesto: | F14: Bojnice | I14: Dátum: | J14: ='Rekapitulácia stavby'!AN8 -> 46146
D16: Objednávateľ: | I16: IČO:
E17: Národná zoologická záhrada | I17: IČ DPH:
D19: Zhotoviteľ: | I19: IČO:
I20: IČ DPH:
D22: Projektant: | I22: IČO:
E23: ERGAprojekt s.r.o. | I23: IČ DPH:
D25: Spracovateľ: | I25: IČO: | J25: =IF('Rekapitulácia stavby'!AN19="","",'Rekapitulácia stavby'!AN19)
E26: =IF('Rekapitulácia stavby'!E20="","",'Rekapitulácia stavby'!E20) | I26: IČ DPH: | J26: =IF('Rekapitulácia stavby'!AN20="","",'Rekapitulácia stavby'!AN20)
D28: Poznámka:
D32: Cena bez DPH | J32: =ROUND(J126, 2) -> 0
F34: Základ dane | I34: Sadzba dane | J34: Výška dane
D35: DPH | E35: základná | F35: =ROUND((SUM(BE126:BE169)), 2) -> 0 | I35: 0.23 | J35: =ROUND(((SUM(BE126:BE169))*I35), 2) -> 0
E36: znížená | F36: =ROUND((SUM(BF126:BF169)), 2) -> 0 | I36: 0.23 | J36: =ROUND(((SUM(BF126:BF169))*I36), 2) -> 0
E37: zákl. prenesená | F37: =ROUND((SUM(BG126:BG169)), 2) -> 0 | I37: 0.23 | J37: =0 -> 0
E38: zníž. prenesená | F38: =ROUND((SUM(BH126:BH169)), 2) -> 0 | I38: 0.23 | J38: =0 -> 0
E39: nulová | F39: =ROUND((SUM(BI126:BI169)), 2) -> 0 | I39: 0 | J39: =0 -> 0
D41: Cena s DPH | G41: v | H41: EUR | J41: =SUM(J32:J39) -> 0
D50: Projektant | G50: Spracovateľ
D61: Dátum a podpis: | F61: Pečiatka | G61: Dátum a podpis: | J61: Pečiatka
D65: Objednávateľ | G65: Zhotoviteľ
D76: Dátum a podpis: | F76: Pečiatka | G76: Dátum a podpis: | J76: Pečiatka
C82: REKAPITULÁCIA ROZPOČTU
C84: Stavba:
E85: =E7 -> Nové záchytné centrum, Bojnice
C86: Objekt:
E87: SO 01 - Chovný priestor
C88: Časť:
E89: =E11 -> VZT - Vzduchotechnika a chladenie
C91: Miesto: | F91: =F14 -> Bojnice | I91: Dátum: | J91: =IF(J14="","",J14) -> 46146
...

Sheet ELI - Elektroinštalácia
L2: >> skryté stĺpce << | AT2: {7d8ed1e8-546c-4923-ab90-734250cc260e}
AT3: 0
D4: KRYCÍ LIST ROZPOČTU | M4: v --- nižšie sa nachádzajú doplnkové a pomocné údaje k zostavám --- v | AT4: False
D6: Stavba:
E7: ='Rekapitulácia stavby'!K6 -> Nové záchytné centrum, Bojnice
D8: Objekt:
E9: SO 01 - Chovný priestor
D10: Časť:
E11: ELI - Elektroinštalácia
D13: JKSO: | I13: ČS:
D14: Miesto: | F14: Bojnice | I14: Dátum: | J14: ='Rekapitulácia stavby'!AN8 -> 46146
D16: Objednávateľ: | I16: IČO:
E17: Národná zoologická záhrada | I17: IČ DPH:
D19: Zhotoviteľ: | I19: IČO:
I20: IČ DPH:
D22: Projektant: | I22: IČO:
E23: ERGAprojekt s.r.o. | I23: IČ DPH:
D25: Spracovateľ: | I25: IČO: | J25: =IF('Rekapitulácia stavby'!AN19="","",'Rekapitulácia stavby'!AN19)
E26: =IF('Rekapitulácia stavby'!E20="","",'Rekapitulácia stavby'!E20) | I26: IČ DPH: | J26: =IF('Rekapitulácia stavby'!AN20="","",'Rekapitulácia stavby'!AN20)
D28: Poznámka:
D32: Cena bez DPH | J32: =ROUND(J123, 2) -> 0
F34: Základ dane | I34: Sadzba dane | J34: Výška dane
D35: DPH | E35: základná | F35: =ROUND((SUM(BE123:BE180)), 2) -> 0 | I35: 0.23 | J35: =ROUND(((SUM(BE123:BE180))*I35), 2) -> 0
E36: znížená | F36: =ROUND((SUM(BF123:BF180)), 2) -> 0 | I36: 0.23 | J36: =ROUND(((SUM(BF123:BF180))*I36), 2) -> 0
E37: zákl. prenesená | F37: =ROUND((SUM(BG123:BG180)), 2) -> 0 | I37: 0.23 | J37: =0 -> 0
E38: zníž. prenesená | F38: =ROUND((SUM(BH123:BH180)), 2) -> 0 | I38: 0.23 | J38: =0 -> 0
E39: nulová | F39: =ROUND((SUM(BI123:BI180)), 2) -> 0 | I39: 0 | J39: =0 -> 0
D41: Cena s DPH | G41: v | H41: EUR | J41: =SUM(J32:J39) -> 0
D50: Projektant | G50: Spracovateľ
D61: Dátum a podpis: | F61: Pečiatka | G61: Dátum a podpis: | J61: Pečiatka
D65: Objednávateľ | G65: Zhotoviteľ
D76: Dátum a podpis: | F76: Pečiatka | G76: Dátum a podpis: | J76: Pečiatka
C82: REKAPITULÁCIA ROZPOČTU
C84: Stavba:
E85: =E7 -> Nové záchytné centrum, Bojnice
C86: Objekt:
E87: SO 01 - Chovný priestor
C88: Časť:
E89: =E11 -> ELI - Elektroinštalácia
C91: Miesto: | F91: =F14 -> Bojnice | I91: Dátum: | J91: =IF(J14="","",J14) -> 46146
...

Sheet BLZ - Bleskozvod a uzemnenie
L2: >> skryté stĺpce << | AT2: {e5ac7bf4-00aa-42cf-bad5-aa1d70271462}
AT3: 0
D4: KRYCÍ LIST ROZPOČTU | M4: v --- nižšie sa nachádzajú doplnkové a pomocné údaje k zostavám --- v | AT4: False
D6: Stavba:
E7: ='Rekapitulácia stavby'!K6 -> Nové záchytné centrum, Bojnice
D8: Objekt:
E9: SO 01 - Chovný priestor
D10: Časť:
E11: BLZ - Bleskozvod a uzemnenie
D13: JKSO: | I13: ČS:
D14: Miesto: | F14: Bojnice | I14: Dátum: | J14: ='Rekapitulácia stavby'!AN8 -> 46146
D16: Objednávateľ: | I16: IČO:
E17: Národná zoologická záhrada | I17: IČ DPH:
D19: Zhotoviteľ: | I19: IČO:
I20: IČ DPH:
D22: Projektant: | I22: IČO:
E23: ERGAprojekt s.r.o. | I23: IČ DPH:
D25: Spracovateľ: | I25: IČO: | J25: =IF('Rekapitulácia stavby'!AN19="","",'Rekapitulácia stavby'!AN19)
E26: =IF('Rekapitulácia stavby'!E20="","",'Rekapitulácia stavby'!E20) | I26: IČ DPH: | J26: =IF('Rekapitulácia stavby'!AN20="","",'Rekapitulácia stavby'!AN20)
D28: Poznámka:
D32: Cena bez DPH | J32: =ROUND(J121, 2) -> 0
F34: Základ dane | I34: Sadzba dane | J34: Výška dane
D35: DPH | E35: základná | F35: =ROUND((SUM(BE121:BE147)), 2) -> 0 | I35: 0.23 | J35: =ROUND(((SUM(BE121:BE147))*I35), 2) -> 0
E36: znížená | F36: =ROUND((SUM(BF121:BF147)), 2) -> 0 | I36: 0.23 | J36: =ROUND(((SUM(BF121:BF147))*I36), 2) -> 0
E37: zákl. prenesená | F37: =ROUND((SUM(BG121:BG147)), 2) -> 0 | I37: 0.23 | J37: =0 -> 0
E38: zníž. prenesená | F38: =ROUND((SUM(BH121:BH147)), 2) -> 0 | I38: 0.23 | J38: =0 -> 0
E39: nulová | F39: =ROUND((SUM(BI121:BI147)), 2) -> 0 | I39: 0 | J39: =0 -> 0
D41: Cena s DPH | G41: v | H41: EUR | J41: =SUM(J32:J39) -> 0
D50: Projektant | G50: Spracovateľ
D61: Dátum a podpis: | F61: Pečiatka | G61: Dátum a podpis: | J61: Pečiatka
D65: Objednávateľ | G65: Zhotoviteľ
D76: Dátum a podpis: | F76: Pečiatka | G76: Dátum a podpis: | J76: Pečiatka
C82: REKAPITULÁCIA ROZPOČTU
C84: Stavba:
E85: =E7 -> Nové záchytné centrum, Bojnice
C86: Objekt:
E87: SO 01 - Chovný priestor
C88: Časť:
E89: =E11 -> BLZ - Bleskozvod a uzemnenie
C91: Miesto: | F91: =F14 -> Bojnice | I91: Dátum: | J91: =IF(J14="","",J14) -> 46146
...

Sheet FVE - Fotovoltická elektr...
L2: >> skryté stĺpce << | AT2: {3f9b9d99-36d9-42e9-9665-176d10e5a632}
AT3: 0
D4: KRYCÍ LIST ROZPOČTU | M4: v --- nižšie sa nachádzajú doplnkové a pomocné údaje k zostavám --- v | AT4: False
D6: Stavba:
E7: ='Rekapitulácia stavby'!K6 -> Nové záchytné centrum, Bojnice
D8: Objekt:
E9: SO 01 - Chovný priestor
D10: Časť:
E11: FVE - Fotovoltická elektráreň
D13: JKSO: | I13: ČS:
D14: Miesto: | F14: Bojnice | I14: Dátum: | J14: ='Rekapitulácia stavby'!AN8 -> 46146
D16: Objednávateľ: | I16: IČO:
E17: Národná zoologická záhrada | I17: IČ DPH:
D19: Zhotoviteľ: | I19: IČO:
I20: IČ DPH:
D22: Projektant: | I22: IČO:
E23: ERGAprojekt s.r.o. | I23: IČ DPH:
D25: Spracovateľ: | I25: IČO: | J25: =IF('Rekapitulácia stavby'!AN19="","",'Rekapitulácia stavby'!AN19)
E26: =IF('Rekapitulácia stavby'!E20="","",'Rekapitulácia stavby'!E20) | I26: IČ DPH: | J26: =IF('Rekapitulácia stavby'!AN20="","",'Rekapitulácia stavby'!AN20)
D28: Poznámka:
D32: Cena bez DPH | J32: =ROUND(J121, 2) -> 0
F34: Základ dane | I34: Sadzba dane | J34: Výška dane
D35: DPH | E35: základná | F35: =ROUND((SUM(BE121:BE151)), 2) -> 0 | I35: 0.23 | J35: =ROUND(((SUM(BE121:BE151))*I35), 2) -> 0
E36: znížená | F36: =ROUND((SUM(BF121:BF151)), 2) -> 0 | I36: 0.23 | J36: =ROUND(((SUM(BF121:BF151))*I36), 2) -> 0
E37: zákl. prenesená | F37: =ROUND((SUM(BG121:BG151)), 2) -> 0 | I37: 0.23 | J37: =0 -> 0
E38: zníž. prenesená | F38: =ROUND((SUM(BH121:BH151)), 2) -> 0 | I38: 0.23 | J38: =0 -> 0
E39: nulová | F39: =ROUND((SUM(BI121:BI151)), 2) -> 0 | I39: 0 | J39: =0 -> 0
D41: Cena s DPH | G41: v | H41: EUR | J41: =SUM(J32:J39) -> 0
D50: Projektant | G50: Spracovateľ
D61: Dátum a podpis: | F61: Pečiatka | G61: Dátum a podpis: | J61: Pečiatka
D65: Objednávateľ | G65: Zhotoviteľ
D76: Dátum a podpis: | F76: Pečiatka | G76: Dátum a podpis: | J76: Pečiatka
C82: REKAPITULÁCIA ROZPOČTU
C84: Stavba:
E85: =E7 -> Nové záchytné centrum, Bojnice
C86: Objekt:
E87: SO 01 - Chovný priestor
C88: Časť:
E89: =E11 -> FVE - Fotovoltická elektráreň
C91: Miesto: | F91: =F14 -> Bojnice | I91: Dátum: | J91: =IF(J14="","",J14) -> 46146
...

Sheet MaR - Meranie a regulácia
L2: >> skryté stĺpce << | AT2: {3e29b2a7-284a-4d19-9137-512468151d4f}
AT3: 0
D4: KRYCÍ LIST ROZPOČTU | M4: v --- nižšie sa nachádzajú doplnkové a pomocné údaje k zostavám --- v | AT4: False
D6: Stavba:
E7: ='Rekapitulácia stavby'!K6 -> Nové záchytné centrum, Bojnice
D8: Objekt:
E9: SO 01 - Chovný priestor
D10: Časť:
E11: MaR - Meranie a regulácia
D13: JKSO: | I13: ČS:
D14: Miesto: | F14: Bojnice | I14: Dátum: | J14: ='Rekapitulácia stavby'!AN8 -> 46146
D16: Objednávateľ: | I16: IČO:
E17: Národná zoologická záhrada | I17: IČ DPH:
D19: Zhotoviteľ: | I19: IČO:
I20: IČ DPH:
D22: Projektant: | I22: IČO:
E23: ERGAprojekt s.r.o. | I23: IČ DPH:
D25: Spracovateľ: | I25: IČO: | J25: =IF('Rekapitulácia stavby'!AN19="","",'Rekapitulácia stavby'!AN19)
E26: =IF('Rekapitulácia stavby'!E20="","",'Rekapitulácia stavby'!E20) | I26: IČ DPH: | J26: =IF('Rekapitulácia stavby'!AN20="","",'Rekapitulácia stavby'!AN20)
D28: Poznámka:
D32: Cena bez DPH | J32: =ROUND(J124, 2) -> 0
F34: Základ dane | I34: Sadzba dane | J34: Výška dane
D35: DPH | E35: základná | F35: =ROUND((SUM(BE124:BE205)), 2) -> 0 | I35: 0.23 | J35: =ROUND(((SUM(BE124:BE205))*I35), 2) -> 0
E36: znížená | F36: =ROUND((SUM(BF124:BF205)), 2) -> 0 | I36: 0.23 | J36: =ROUND(((SUM(BF124:BF205))*I36), 2) -> 0
E37: zákl. prenesená | F37: =ROUND((SUM(BG124:BG205)), 2) -> 0 | I37: 0.23 | J37: =0 -> 0
E38: zníž. prenesená | F38: =ROUND((SUM(BH124:BH205)), 2) -> 0 | I38: 0.23 | J38: =0 -> 0
E39: nulová | F39: =ROUND((SUM(BI124:BI205)), 2) -> 0 | I39: 0 | J39: =0 -> 0
D41: Cena s DPH | G41: v | H41: EUR | J41: =SUM(J32:J39) -> 0
D50: Projektant | G50: Spracovateľ
D61: Dátum a podpis: | F61: Pečiatka | G61: Dátum a podpis: | J61: Pečiatka
D65: Objednávateľ | G65: Zhotoviteľ
D76: Dátum a podpis: | F76: Pečiatka | G76: Dátum a podpis: | J76: Pečiatka
C82: REKAPITULÁCIA ROZPOČTU
C84: Stavba:
E85: =E7 -> Nové záchytné centrum, Bojnice
C86: Objekt:
E87: SO 01 - Chovný priestor
C88: Časť:
E89: =E11 -> MaR - Meranie a regulácia
C91: Miesto: | F91: =F14 -> Bojnice | I91: Dátum: | J91: =IF(J14="","",J14) -> 46146
...

Sheet SLP - Slaboprúdová inštal...
L2: >> skryté stĺpce << | AT2: {f9f63793-654a-4850-83ce-45c8b01d728b}
AT3: 0
D4: KRYCÍ LIST ROZPOČTU | M4: v --- nižšie sa nachádzajú doplnkové a pomocné údaje k zostavám --- v | AT4: False
D6: Stavba:
E7: ='Rekapitulácia stavby'!K6 -> Nové záchytné centrum, Bojnice
D8: Objekt:
E9: SO 01 - Chovný priestor
D10: Časť:
E11: SLP - Slaboprúdová inštalácia
D13: JKSO: | I13: ČS:
D14: Miesto: | F14: Bojnice | I14: Dátum: | J14: ='Rekapitulácia stavby'!AN8 -> 46146
D16: Objednávateľ: | I16: IČO:
E17: Národná zoologická záhrada | I17: IČ DPH:
D19: Zhotoviteľ: | I19: IČO:
I20: IČ DPH:
D22: Projektant: | I22: IČO:
E23: ERGAprojekt s.r.o. | I23: IČ DPH:
D25: Spracovateľ: | I25: IČO: | J25: =IF('Rekapitulácia stavby'!AN19="","",'Rekapitulácia stavby'!AN19)
E26: =IF('Rekapitulácia stavby'!E20="","",'Rekapitulácia stavby'!E20) | I26: IČ DPH: | J26: =IF('Rekapitulácia stavby'!AN20="","",'Rekapitulácia stavby'!AN20)
D28: Poznámka:
D32: Cena bez DPH | J32: =ROUND(J121, 2) -> 0
F34: Základ dane | I34: Sadzba dane | J34: Výška dane
D35: DPH | E35: základná | F35: =ROUND((SUM(BE121:BE140)), 2) -> 0 | I35: 0.23 | J35: =ROUND(((SUM(BE121:BE140))*I35), 2) -> 0
E36: znížená | F36: =ROUND((SUM(BF121:BF140)), 2) -> 0 | I36: 0.23 | J36: =ROUND(((SUM(BF121:BF140))*I36), 2) -> 0
E37: zákl. prenesená | F37: =ROUND((SUM(BG121:BG140)), 2) -> 0 | I37: 0.23 | J37: =0 -> 0
E38: zníž. prenesená | F38: =ROUND((SUM(BH121:BH140)), 2) -> 0 | I38: 0.23 | J38: =0 -> 0
E39: nulová | F39: =ROUND((SUM(BI121:BI140)), 2) -> 0 | I39: 0 | J39: =0 -> 0
D41: Cena s DPH | G41: v | H41: EUR | J41: =SUM(J32:J39) -> 0
D50: Projektant | G50: Spracovateľ
D61: Dátum a podpis: | F61: Pečiatka | G61: Dátum a podpis: | J61: Pečiatka
D65: Objednávateľ | G65: Zhotoviteľ
D76: Dátum a podpis: | F76: Pečiatka | G76: Dátum a podpis: | J76: Pečiatka
C82: REKAPITULÁCIA ROZPOČTU
C84: Stavba:
E85: =E7 -> Nové záchytné centrum, Bojnice
C86: Objekt:
E87: SO 01 - Chovný priestor
C88: Časť:
E89: =E11 -> SLP - Slaboprúdová inštalácia
C91: Miesto: | F91: =F14 -> Bojnice | I91: Dátum: | J91: =IF(J14="","",J14) -> 46146
...

Sheet SO 02 - Komunikácia, spev...
L2: >> skryté stĺpce << | AT2: {b1074a7a-8521-477d-be2b-845abb6eb2db}
AT3: 0
D4: KRYCÍ LIST ROZPOČTU | M4: v --- nižšie sa nachádzajú doplnkové a pomocné údaje k zostavám --- v | AT4: False
D6: Stavba:
E7: ='Rekapitulácia stavby'!K6 -> Nové záchytné centrum, Bojnice
D8: Objekt:
E9: SO 02 - Komunikácia, spevnené plochy
D11: JKSO: | I11: ČS:
D12: Miesto: | F12: Bojnice | I12: Dátum: | J12: ='Rekapitulácia stavby'!AN8 -> 46146
D14: Objednávateľ: | I14: IČO:
E15: Národná zoologická záhrada | I15: IČ DPH:
D17: Zhotoviteľ: | I17: IČO:
I18: IČ DPH:
D20: Projektant: | I20: IČO:
E21: ERGAprojekt s.r.o. | I21: IČ DPH:
D23: Spracovateľ: | I23: IČO: | J23: =IF('Rekapitulácia stavby'!AN19="","",'Rekapitulácia stavby'!AN19)
E24: =IF('Rekapitulácia stavby'!E20="","",'Rekapitulácia stavby'!E20) | I24: IČ DPH: | J24: =IF('Rekapitulácia stavby'!AN20="","",'Rekapitulácia stavby'!AN20)
D26: Poznámka:
D30: Cena bez DPH | J30: =ROUND(J124, 2) -> 0
F32: Základ dane | I32: Sadzba dane | J32: Výška dane
D33: DPH | E33: základná | F33: =ROUND((SUM(BE124:BE168)), 2) -> 0 | I33: 0.23 | J33: =ROUND(((SUM(BE124:BE168))*I33), 2) -> 0
E34: znížená | F34: =ROUND((SUM(BF124:BF168)), 2) -> 0 | I34: 0.23 | J34: =ROUND(((SUM(BF124:BF168))*I34), 2) -> 0
E35: zákl. prenesená | F35: =ROUND((SUM(BG124:BG168)), 2) -> 0 | I35: 0.23 | J35: =0 -> 0
E36: zníž. prenesená | F36: =ROUND((SUM(BH124:BH168)), 2) -> 0 | I36: 0.23 | J36: =0 -> 0
E37: nulová | F37: =ROUND((SUM(BI124:BI168)), 2) -> 0 | I37: 0 | J37: =0 -> 0
D39: Cena s DPH | G39: v | H39: EUR | J39: =SUM(J30:J37) -> 0
D50: Projektant | G50: Spracovateľ
D61: Dátum a podpis: | F61: Pečiatka | G61: Dátum a podpis: | J61: Pečiatka
D65: Objednávateľ | G65: Zhotoviteľ
D76: Dátum a podpis: | F76: Pečiatka | G76: Dátum a podpis: | J76: Pečiatka
C82: REKAPITULÁCIA ROZPOČTU
C84: Stavba:
E85: =E7 -> Nové záchytné centrum, Bojnice
C86: Objekt:
E87: =E9 -> SO 02 - Komunikácia, spevnené plochy
C89: Miesto: | F89: =F12 -> Bojnice | I89: Dátum: | J89: =IF(J12="","",J12) -> 46146
C91: Objednávateľ: | F91: =E15 -> Národná zoologická záhrada | I91: Projektant: | J91: =E21 -> ERGAprojekt s.r.o.
C92: Zhotoviteľ: | F92: =IF(E18="","",E18) | I92: Spracovateľ: | J92: =E24
C94: Kód dielu - Popis | J94: Cena celkom [EUR]
C96: Náklady z rozpočtu | J96: =J124 -> 0 | AU96: -1
...

Sheet SO 03 - Areálový vodovod
L2: >> skryté stĺpce << | AT2: {37853722-a32b-4449-a93d-91f970c5c70c}
AT3: 0
D4: KRYCÍ LIST ROZPOČTU | M4: v --- nižšie sa nachádzajú doplnkové a pomocné údaje k zostavám --- v | AT4: False
D6: Stavba:
E7: ='Rekapitulácia stavby'!K6 -> Nové záchytné centrum, Bojnice
D8: Objekt:
E9: SO 03 - Areálový vodovod
D11: JKSO: | I11: ČS:
D12: Miesto: | F12: Bojnice | I12: Dátum: | J12: ='Rekapitulácia stavby'!AN8 -> 46146
D14: Objednávateľ: | I14: IČO:
E15: Národná zoologická záhrada | I15: IČ DPH:
D17: Zhotoviteľ: | I17: IČO:
I18: IČ DPH:
D20: Projektant: | I20: IČO:
E21: ERGAprojekt s.r.o. | I21: IČ DPH:
D23: Spracovateľ: | I23: IČO: | J23: =IF('Rekapitulácia stavby'!AN19="","",'Rekapitulácia stavby'!AN19)
E24: =IF('Rekapitulácia stavby'!E20="","",'Rekapitulácia stavby'!E20) | I24: IČ DPH: | J24: =IF('Rekapitulácia stavby'!AN20="","",'Rekapitulácia stavby'!AN20)
D26: Poznámka:
D30: Cena bez DPH | J30: =ROUND(J127, 2) -> 0
F32: Základ dane | I32: Sadzba dane | J32: Výška dane
D33: DPH | E33: základná | F33: =ROUND((SUM(BE127:BE194)), 2) -> 0 | I33: 0.23 | J33: =ROUND(((SUM(BE127:BE194))*I33), 2) -> 0
E34: znížená | F34: =ROUND((SUM(BF127:BF194)), 2) -> 0 | I34: 0.23 | J34: =ROUND(((SUM(BF127:BF194))*I34), 2) -> 0
E35: zákl. prenesená | F35: =ROUND((SUM(BG127:BG194)), 2) -> 0 | I35: 0.23 | J35: =0 -> 0
E36: zníž. prenesená | F36: =ROUND((SUM(BH127:BH194)), 2) -> 0 | I36: 0.23 | J36: =0 -> 0
E37: nulová | F37: =ROUND((SUM(BI127:BI194)), 2) -> 0 | I37: 0 | J37: =0 -> 0
D39: Cena s DPH | G39: v | H39: EUR | J39: =SUM(J30:J37) -> 0
D50: Projektant | G50: Spracovateľ
D61: Dátum a podpis: | F61: Pečiatka | G61: Dátum a podpis: | J61: Pečiatka
D65: Objednávateľ | G65: Zhotoviteľ
D76: Dátum a podpis: | F76: Pečiatka | G76: Dátum a podpis: | J76: Pečiatka
C82: REKAPITULÁCIA ROZPOČTU
C84: Stavba:
E85: =E7 -> Nové záchytné centrum, Bojnice
C86: Objekt:
E87: =E9 -> SO 03 - Areálový vodovod
C89: Miesto: | F89: =F12 -> Bojnice | I89: Dátum: | J89: =IF(J12="","",J12) -> 46146
C91: Objednávateľ: | F91: =E15 -> Národná zoologická záhrada | I91: Projektant: | J91: =E21 -> ERGAprojekt s.r.o.
C92: Zhotoviteľ: | F92: =IF(E18="","",E18) | I92: Spracovateľ: | J92: =E24
C94: Kód dielu - Popis | J94: Cena celkom [EUR]
C96: Náklady z rozpočtu | J96: =J127 -> 0 | AU96: -1
...

Sheet SO 04 - Splašková kanaliz...
L2: >> skryté stĺpce << | AT2: {9d3a9b46-4556-4893-98e8-bfb0487b1a09}
AT3: 0
D4: KRYCÍ LIST ROZPOČTU | M4: v --- nižšie sa nachádzajú doplnkové a pomocné údaje k zostavám --- v | AT4: False
D6: Stavba:
E7: ='Rekapitulácia stavby'!K6 -> Nové záchytné centrum, Bojnice
D8: Objekt:
E9: SO 04 - Splašková kanalizácia
D11: JKSO: | I11: ČS:
D12: Miesto: | F12: Bojnice | I12: Dátum: | J12: ='Rekapitulácia stavby'!AN8 -> 46146
D14: Objednávateľ: | I14: IČO:
E15: Národná zoologická záhrada | I15: IČ DPH:
D17: Zhotoviteľ: | I17: IČO:
I18: IČ DPH:
D20: Projektant: | I20: IČO:
E21: ERGAprojekt s.r.o. | I21: IČ DPH:
D23: Spracovateľ: | I23: IČO: | J23: =IF('Rekapitulácia stavby'!AN19="","",'Rekapitulácia stavby'!AN19)
E24: =IF('Rekapitulácia stavby'!E20="","",'Rekapitulácia stavby'!E20) | I24: IČ DPH: | J24: =IF('Rekapitulácia stavby'!AN20="","",'Rekapitulácia stavby'!AN20)
D26: Poznámka:
D30: Cena bez DPH | J30: =ROUND(J123, 2) -> 0
F32: Základ dane | I32: Sadzba dane | J32: Výška dane
D33: DPH | E33: základná | F33: =ROUND((SUM(BE123:BE165)), 2) -> 0 | I33: 0.23 | J33: =ROUND(((SUM(BE123:BE165))*I33), 2) -> 0
E34: znížená | F34: =ROUND((SUM(BF123:BF165)), 2) -> 0 | I34: 0.23 | J34: =ROUND(((SUM(BF123:BF165))*I34), 2) -> 0
E35: zákl. prenesená | F35: =ROUND((SUM(BG123:BG165)), 2) -> 0 | I35: 0.23 | J35: =0 -> 0
E36: zníž. prenesená | F36: =ROUND((SUM(BH123:BH165)), 2) -> 0 | I36: 0.23 | J36: =0 -> 0
E37: nulová | F37: =ROUND((SUM(BI123:BI165)), 2) -> 0 | I37: 0 | J37: =0 -> 0
D39: Cena s DPH | G39: v | H39: EUR | J39: =SUM(J30:J37) -> 0
D50: Projektant | G50: Spracovateľ
D61: Dátum a podpis: | F61: Pečiatka | G61: Dátum a podpis: | J61: Pečiatka
D65: Objednávateľ | G65: Zhotoviteľ
D76: Dátum a podpis: | F76: Pečiatka | G76: Dátum a podpis: | J76: Pečiatka
C82: REKAPITULÁCIA ROZPOČTU
C84: Stavba:
E85: =E7 -> Nové záchytné centrum, Bojnice
C86: Objekt:
E87: =E9 -> SO 04 - Splašková kanalizácia
C89: Miesto: | F89: =F12 -> Bojnice | I89: Dátum: | J89: =IF(J12="","",J12) -> 46146
C91: Objednávateľ: | F91: =E15 -> Národná zoologická záhrada | I91: Projektant: | J91: =E21 -> ERGAprojekt s.r.o.
C92: Zhotoviteľ: | F92: =IF(E18="","",E18) | I92: Spracovateľ: | J92: =E24
C94: Kód dielu - Popis | J94: Cena celkom [EUR]
C96: Náklady z rozpočtu | J96: =J123 -> 0 | AU96: -1
...

Sheet SO 05 - Dažďová kanalizác...
L2: >> skryté stĺpce << | AT2: {cd19225f-db4d-43b4-8873-937d01dc2fe0}
AT3: 0
D4: KRYCÍ LIST ROZPOČTU | M4: v --- nižšie sa nachádzajú doplnkové a pomocné údaje k zostavám --- v | AT4: False
D6: Stavba:
E7: ='Rekapitulácia stavby'!K6 -> Nové záchytné centrum, Bojnice
D8: Objekt:
E9: SO 05 - Dažďová kanalizácia, vsakovacie objekty
D11: JKSO: | I11: ČS:
D12: Miesto: | F12: Bojnice | I12: Dátum: | J12: ='Rekapitulácia stavby'!AN8 -> 46146
D14: Objednávateľ: | I14: IČO:
E15: Národná zoologická záhrada | I15: IČ DPH:
D17: Zhotoviteľ: | I17: IČO:
I18: IČ DPH:
D20: Projektant: | I20: IČO:
E21: ERGAprojekt s.r.o. | I21: IČ DPH:
D23: Spracovateľ: | I23: IČO: | J23: =IF('Rekapitulácia stavby'!AN19="","",'Rekapitulácia stavby'!AN19)
E24: =IF('Rekapitulácia stavby'!E20="","",'Rekapitulácia stavby'!E20) | I24: IČ DPH: | J24: =IF('Rekapitulácia stavby'!AN20="","",'Rekapitulácia stavby'!AN20)
D26: Poznámka:
D30: Cena bez DPH | J30: =ROUND(J125, 2) -> 0
F32: Základ dane | I32: Sadzba dane | J32: Výška dane
D33: DPH | E33: základná | F33: =ROUND((SUM(BE125:BE174)), 2) -> 0 | I33: 0.23 | J33: =ROUND(((SUM(BE125:BE174))*I33), 2) -> 0
E34: znížená | F34: =ROUND((SUM(BF125:BF174)), 2) -> 0 | I34: 0.23 | J34: =ROUND(((SUM(BF125:BF174))*I34), 2) -> 0
E35: zákl. prenesená | F35: =ROUND((SUM(BG125:BG174)), 2) -> 0 | I35: 0.23 | J35: =0 -> 0
E36: zníž. prenesená | F36: =ROUND((SUM(BH125:BH174)), 2) -> 0 | I36: 0.23 | J36: =0 -> 0
E37: nulová | F37: =ROUND((SUM(BI125:BI174)), 2) -> 0 | I37: 0 | J37: =0 -> 0
D39: Cena s DPH | G39: v | H39: EUR | J39: =SUM(J30:J37) -> 0
D50: Projektant | G50: Spracovateľ
D61: Dátum a podpis: | F61: Pečiatka | G61: Dátum a podpis: | J61: Pečiatka
D65: Objednávateľ | G65: Zhotoviteľ
D76: Dátum a podpis: | F76: Pečiatka | G76: Dátum a podpis: | J76: Pečiatka
C82: REKAPITULÁCIA ROZPOČTU
C84: Stavba:
E85: =E7 -> Nové záchytné centrum, Bojnice
C86: Objekt:
E87: =E9 -> SO 05 - Dažďová kanalizácia, vsakovacie objekty
C89: Miesto: | F89: =F12 -> Bojnice | I89: Dátum: | J89: =IF(J12="","",J12) -> 46146
C91: Objednávateľ: | F91: =E15 -> Národná zoologická záhrada | I91: Projektant: | J91: =E21 -> ERGAprojekt s.r.o.
C92: Zhotoviteľ: | F92: =IF(E18="","",E18) | I92: Spracovateľ: | J92: =E24
C94: Kód dielu - Popis | J94: Cena celkom [EUR]
C96: Náklady z rozpočtu | J96: =J125 -> 0 | AU96: -1
...

Sheet SO 06 - Areálový rozvod NN
L2: >> skryté stĺpce << | AT2: {3a586313-b1ab-4124-9ad8-2e948157b975}
AT3: 0
D4: KRYCÍ LIST ROZPOČTU | M4: v --- nižšie sa nachádzajú doplnkové a pomocné údaje k zostavám --- v | AT4: False
D6: Stavba:
E7: ='Rekapitulácia stavby'!K6 -> Nové záchytné centrum, Bojnice
D8: Objekt:
E9: SO 06 - Areálový rozvod NN
D11: JKSO: | I11: ČS:
D12: Miesto: | F12: Bojnice | I12: Dátum: | J12: ='Rekapitulácia stavby'!AN8 -> 46146
D14: Objednávateľ: | I14: IČO:
E15: Národná zoologická záhrada | I15: IČ DPH:
D17: Zhotoviteľ: | I17: IČO:
I18: IČ DPH:
D20: Projektant: | I20: IČO:
E21: ERGAprojekt s.r.o. | I21: IČ DPH:
D23: Spracovateľ: | I23: IČO: | J23: =IF('Rekapitulácia stavby'!AN19="","",'Rekapitulácia stavby'!AN19)
E24: =IF('Rekapitulácia stavby'!E20="","",'Rekapitulácia stavby'!E20) | I24: IČ DPH: | J24: =IF('Rekapitulácia stavby'!AN20="","",'Rekapitulácia stavby'!AN20)
D26: Poznámka:
D30: Cena bez DPH | J30: =ROUND(J117, 2) -> 0
F32: Základ dane | I32: Sadzba dane | J32: Výška dane
D33: DPH | E33: základná | F33: =ROUND((SUM(BE117:BE130)), 2) -> 0 | I33: 0.23 | J33: =ROUND(((SUM(BE117:BE130))*I33), 2) -> 0
E34: znížená | F34: =ROUND((SUM(BF117:BF130)), 2) -> 0 | I34: 0.23 | J34: =ROUND(((SUM(BF117:BF130))*I34), 2) -> 0
E35: zákl. prenesená | F35: =ROUND((SUM(BG117:BG130)), 2) -> 0 | I35: 0.23 | J35: =0 -> 0
E36: zníž. prenesená | F36: =ROUND((SUM(BH117:BH130)), 2) -> 0 | I36: 0.23 | J36: =0 -> 0
E37: nulová | F37: =ROUND((SUM(BI117:BI130)), 2) -> 0 | I37: 0 | J37: =0 -> 0
D39: Cena s DPH | G39: v | H39: EUR | J39: =SUM(J30:J37) -> 0
D50: Projektant | G50: Spracovateľ
D61: Dátum a podpis: | F61: Pečiatka | G61: Dátum a podpis: | J61: Pečiatka
D65: Objednávateľ | G65: Zhotoviteľ
D76: Dátum a podpis: | F76: Pečiatka | G76: Dátum a podpis: | J76: Pečiatka
C82: REKAPITULÁCIA ROZPOČTU
C84: Stavba:
E85: =E7 -> Nové záchytné centrum, Bojnice
C86: Objekt:
E87: =E9 -> SO 06 - Areálový rozvod NN
C89: Miesto: | F89: =F12 -> Bojnice | I89: Dátum: | J89: =IF(J12="","",J12) -> 46146
C91: Objednávateľ: | F91: =E15 -> Národná zoologická záhrada | I91: Projektant: | J91: =E21 -> ERGAprojekt s.r.o.
C92: Zhotoviteľ: | F92: =IF(E18="","",E18) | I92: Spracovateľ: | J92: =E24
C94: Kód dielu - Popis | J94: Cena celkom [EUR]
C96: Náklady z rozpočtu | J96: =J117 -> 0 | AU96: -1
...

Sheet SO 07 - Elektrický ohradník
L2: >> skryté stĺpce << | AT2: {09f76dcc-33ed-4f43-be63-e7de5950128b}
AT3: 0
D4: KRYCÍ LIST ROZPOČTU | M4: v --- nižšie sa nachádzajú doplnkové a pomocné údaje k zostavám --- v | AT4: False
D6: Stavba:
E7: ='Rekapitulácia stavby'!K6 -> Nové záchytné centrum, Bojnice
D8: Objekt:
E9: SO 07 - Elektrický ohradník
D11: JKSO: | I11: ČS:
D12: Miesto: | F12: Bojnice | I12: Dátum: | J12: ='Rekapitulácia stavby'!AN8 -> 46146
D14: Objednávateľ: | I14: IČO:
E15: Národná zoologická záhrada | I15: IČ DPH:
D17: Zhotoviteľ: | I17: IČO:
I18: IČ DPH:
D20: Projektant: | I20: IČO:
E21: ERGAprojekt s.r.o. | I21: IČ DPH:
D23: Spracovateľ: | I23: IČO: | J23: =IF('Rekapitulácia stavby'!AN19="","",'Rekapitulácia stavby'!AN19)
E24: =IF('Rekapitulácia stavby'!E20="","",'Rekapitulácia stavby'!E20) | I24: IČ DPH: | J24: =IF('Rekapitulácia stavby'!AN20="","",'Rekapitulácia stavby'!AN20)
D26: Poznámka:
D30: Cena bez DPH | J30: =ROUND(J117, 2) -> 0
F32: Základ dane | I32: Sadzba dane | J32: Výška dane
D33: DPH | E33: základná | F33: =ROUND((SUM(BE117:BE140)), 2) -> 0 | I33: 0.23 | J33: =ROUND(((SUM(BE117:BE140))*I33), 2) -> 0
E34: znížená | F34: =ROUND((SUM(BF117:BF140)), 2) -> 0 | I34: 0.23 | J34: =ROUND(((SUM(BF117:BF140))*I34), 2) -> 0
E35: zákl. prenesená | F35: =ROUND((SUM(BG117:BG140)), 2) -> 0 | I35: 0.23 | J35: =0 -> 0
E36: zníž. prenesená | F36: =ROUND((SUM(BH117:BH140)), 2) -> 0 | I36: 0.23 | J36: =0 -> 0
E37: nulová | F37: =ROUND((SUM(BI117:BI140)), 2) -> 0 | I37: 0 | J37: =0 -> 0
D39: Cena s DPH | G39: v | H39: EUR | J39: =SUM(J30:J37) -> 0
D50: Projektant | G50: Spracovateľ
D61: Dátum a podpis: | F61: Pečiatka | G61: Dátum a podpis: | J61: Pečiatka
D65: Objednávateľ | G65: Zhotoviteľ
D76: Dátum a podpis: | F76: Pečiatka | G76: Dátum a podpis: | J76: Pečiatka
C82: REKAPITULÁCIA ROZPOČTU
C84: Stavba:
E85: =E7 -> Nové záchytné centrum, Bojnice
C86: Objekt:
E87: =E9 -> SO 07 - Elektrický ohradník
C89: Miesto: | F89: =F12 -> Bojnice | I89: Dátum: | J89: =IF(J12="","",J12) -> 46146
C91: Objednávateľ: | F91: =E15 -> Národná zoologická záhrada | I91: Projektant: | J91: =E21 -> ERGAprojekt s.r.o.
C92: Zhotoviteľ: | F92: =IF(E18="","",E18) | I92: Spracovateľ: | J92: =E24
C94: Kód dielu - Popis | J94: Cena celkom [EUR]
C96: Náklady z rozpočtu | J96: =J117 -> 0 | AU96: -1
...

Sheet SO 08 - Vonkajšie osvetlenie
L2: >> skryté stĺpce << | AT2: {bbf9d775-bcc4-4680-82df-28dfd1c0eb71}
AT3: 0
D4: KRYCÍ LIST ROZPOČTU | M4: v --- nižšie sa nachádzajú doplnkové a pomocné údaje k zostavám --- v | AT4: False
D6: Stavba:
E7: ='Rekapitulácia stavby'!K6 -> Nové záchytné centrum, Bojnice
D8: Objekt:
E9: SO 08 - Vonkajšie osvetlenie
D11: JKSO: | I11: ČS:
D12: Miesto: | F12: Bojnice | I12: Dátum: | J12: ='Rekapitulácia stavby'!AN8 -> 46146
D14: Objednávateľ: | I14: IČO:
E15: Národná zoologická záhrada | I15: IČ DPH:
D17: Zhotoviteľ: | I17: IČO:
I18: IČ DPH:
D20: Projektant: | I20: IČO:
E21: ERGAprojekt s.r.o. | I21: IČ DPH:
D23: Spracovateľ: | I23: IČO: | J23: =IF('Rekapitulácia stavby'!AN19="","",'Rekapitulácia stavby'!AN19)
E24: =IF('Rekapitulácia stavby'!E20="","",'Rekapitulácia stavby'!E20) | I24: IČ DPH: | J24: =IF('Rekapitulácia stavby'!AN20="","",'Rekapitulácia stavby'!AN20)
D26: Poznámka:
D30: Cena bez DPH | J30: =ROUND(J117, 2) -> 0
F32: Základ dane | I32: Sadzba dane | J32: Výška dane
D33: DPH | E33: základná | F33: =ROUND((SUM(BE117:BE138)), 2) -> 0 | I33: 0.23 | J33: =ROUND(((SUM(BE117:BE138))*I33), 2) -> 0
E34: znížená | F34: =ROUND((SUM(BF117:BF138)), 2) -> 0 | I34: 0.23 | J34: =ROUND(((SUM(BF117:BF138))*I34), 2) -> 0
E35: zákl. prenesená | F35: =ROUND((SUM(BG117:BG138)), 2) -> 0 | I35: 0.23 | J35: =0 -> 0
E36: zníž. prenesená | F36: =ROUND((SUM(BH117:BH138)), 2) -> 0 | I36: 0.23 | J36: =0 -> 0
E37: nulová | F37: =ROUND((SUM(BI117:BI138)), 2) -> 0 | I37: 0 | J37: =0 -> 0
D39: Cena s DPH | G39: v | H39: EUR | J39: =SUM(J30:J37) -> 0
D50: Projektant | G50: Spracovateľ
D61: Dátum a podpis: | F61: Pečiatka | G61: Dátum a podpis: | J61: Pečiatka
D65: Objednávateľ | G65: Zhotoviteľ
D76: Dátum a podpis: | F76: Pečiatka | G76: Dátum a podpis: | J76: Pečiatka
C82: REKAPITULÁCIA ROZPOČTU
C84: Stavba:
E85: =E7 -> Nové záchytné centrum, Bojnice
C86: Objekt:
E87: =E9 -> SO 08 - Vonkajšie osvetlenie
C89: Miesto: | F89: =F12 -> Bojnice | I89: Dátum: | J89: =IF(J12="","",J12) -> 46146
C91: Objednávateľ: | F91: =E15 -> Národná zoologická záhrada | I91: Projektant: | J91: =E21 -> ERGAprojekt s.r.o.
C92: Zhotoviteľ: | F92: =IF(E18="","",E18) | I92: Spracovateľ: | J92: =E24
C94: Kód dielu - Popis | J94: Cena celkom [EUR]
C96: Náklady z rozpočtu | J96: =J117 -> 0 | AU96: -1
...

Sheet SO 09 - Oplotenie
L2: >> skryté stĺpce << | AT2: {6505a0a5-e539-479c-b819-a0f674f32687}
AT3: 0
D4: KRYCÍ LIST ROZPOČTU | M4: v --- nižšie sa nachádzajú doplnkové a pomocné údaje k zostavám --- v | AT4: False
D6: Stavba:
E7: ='Rekapitulácia stavby'!K6 -> Nové záchytné centrum, Bojnice
D8: Objekt:
E9: SO 09 - Oplotenie
D11: JKSO: | I11: ČS:
D12: Miesto: | F12: Bojnice | I12: Dátum: | J12: ='Rekapitulácia stavby'!AN8 -> 46146
D14: Objednávateľ: | I14: IČO:
E15: Národná zoologická záhrada | I15: IČ DPH:
D17: Zhotoviteľ: | I17: IČO:
I18: IČ DPH:
D20: Projektant: | I20: IČO:
E21: ERGAprojekt s.r.o. | I21: IČ DPH:
D23: Spracovateľ: | I23: IČO: | J23: =IF('Rekapitulácia stavby'!AN19="","",'Rekapitulácia stavby'!AN19)
E24: =IF('Rekapitulácia stavby'!E20="","",'Rekapitulácia stavby'!E20) | I24: IČ DPH: | J24: =IF('Rekapitulácia stavby'!AN20="","",'Rekapitulácia stavby'!AN20)
D26: Poznámka:
D30: Cena bez DPH | J30: =ROUND(J125, 2) -> 0
F32: Základ dane | I32: Sadzba dane | J32: Výška dane
D33: DPH | E33: základná | F33: =ROUND((SUM(BE125:BE184)), 2) -> 0 | I33: 0.23 | J33: =ROUND(((SUM(BE125:BE184))*I33), 2) -> 0
E34: znížená | F34: =ROUND((SUM(BF125:BF184)), 2) -> 0 | I34: 0.23 | J34: =ROUND(((SUM(BF125:BF184))*I34), 2) -> 0
E35: zákl. prenesená | F35: =ROUND((SUM(BG125:BG184)), 2) -> 0 | I35: 0.23 | J35: =0 -> 0
E36: zníž. prenesená | F36: =ROUND((SUM(BH125:BH184)), 2) -> 0 | I36: 0.23 | J36: =0 -> 0
E37: nulová | F37: =ROUND((SUM(BI125:BI184)), 2) -> 0 | I37: 0 | J37: =0 -> 0
D39: Cena s DPH | G39: v | H39: EUR | J39: =SUM(J30:J37) -> 0
D50: Projektant | G50: Spracovateľ
D61: Dátum a podpis: | F61: Pečiatka | G61: Dátum a podpis: | J61: Pečiatka
D65: Objednávateľ | G65: Zhotoviteľ
D76: Dátum a podpis: | F76: Pečiatka | G76: Dátum a podpis: | J76: Pečiatka
C82: REKAPITULÁCIA ROZPOČTU
C84: Stavba:
E85: =E7 -> Nové záchytné centrum, Bojnice
C86: Objekt:
E87: =E9 -> SO 09 - Oplotenie
C89: Miesto: | F89: =F12 -> Bojnice | I89: Dátum: | J89: =IF(J12="","",J12) -> 46146
C91: Objednávateľ: | F91: =E15 -> Národná zoologická záhrada | I91: Projektant: | J91: =E21 -> ERGAprojekt s.r.o.
C92: Zhotoviteľ: | F92: =IF(E18="","",E18) | I92: Spracovateľ: | J92: =E24
C94: Kód dielu - Popis | J94: Cena celkom [EUR]
C96: Náklady z rozpočtu | J96: =J125 -> 0 | AU96: -1
...

Sheet SO 10 - Oporný múr
L2: >> skryté stĺpce << | AT2: {2eac94ff-4ccd-48dd-8857-356f28ca9e01}
AT3: 0
D4: KRYCÍ LIST ROZPOČTU | M4: v --- nižšie sa nachádzajú doplnkové a pomocné údaje k zostavám --- v | AT4: False
D6: Stavba:
E7: ='Rekapitulácia stavby'!K6 -> Nové záchytné centrum, Bojnice
D8: Objekt:
E9: SO 10 - Oporný múr
D11: JKSO: | I11: ČS:
D12: Miesto: | F12: Bojnice | I12: Dátum: | J12: ='Rekapitulácia stavby'!AN8 -> 46146
D14: Objednávateľ: | I14: IČO:
E15: Národná zoologická záhrada | I15: IČ DPH:
D17: Zhotoviteľ: | I17: IČO:
I18: IČ DPH:
D20: Projektant: | I20: IČO:
E21: ERGAprojekt s.r.o. | I21: IČ DPH:
D23: Spracovateľ: | I23: IČO: | J23: =IF('Rekapitulácia stavby'!AN19="","",'Rekapitulácia stavby'!AN19)
E24: =IF('Rekapitulácia stavby'!E20="","",'Rekapitulácia stavby'!E20) | I24: IČ DPH: | J24: =IF('Rekapitulácia stavby'!AN20="","",'Rekapitulácia stavby'!AN20)
D26: Poznámka:
D30: Cena bez DPH | J30: =ROUND(J124, 2) -> 0
F32: Základ dane | I32: Sadzba dane | J32: Výška dane
D33: DPH | E33: základná | F33: =ROUND((SUM(BE124:BE154)), 2) -> 0 | I33: 0.23 | J33: =ROUND(((SUM(BE124:BE154))*I33), 2) -> 0
E34: znížená | F34: =ROUND((SUM(BF124:BF154)), 2) -> 0 | I34: 0.23 | J34: =ROUND(((SUM(BF124:BF154))*I34), 2) -> 0
E35: zákl. prenesená | F35: =ROUND((SUM(BG124:BG154)), 2) -> 0 | I35: 0.23 | J35: =0 -> 0
E36: zníž. prenesená | F36: =ROUND((SUM(BH124:BH154)), 2) -> 0 | I36: 0.23 | J36: =0 -> 0
E37: nulová | F37: =ROUND((SUM(BI124:BI154)), 2) -> 0 | I37: 0 | J37: =0 -> 0
D39: Cena s DPH | G39: v | H39: EUR | J39: =SUM(J30:J37) -> 0
D50: Projektant | G50: Spracovateľ
D61: Dátum a podpis: | F61: Pečiatka | G61: Dátum a podpis: | J61: Pečiatka
D65: Objednávateľ | G65: Zhotoviteľ
D76: Dátum a podpis: | F76: Pečiatka | G76: Dátum a podpis: | J76: Pečiatka
C82: REKAPITULÁCIA ROZPOČTU
C84: Stavba:
E85: =E7 -> Nové záchytné centrum, Bojnice
C86: Objekt:
E87: =E9 -> SO 10 - Oporný múr
C89: Miesto: | F89: =F12 -> Bojnice | I89: Dátum: | J89: =IF(J12="","",J12) -> 46146
C91: Objednávateľ: | F91: =E15 -> Národná zoologická záhrada | I91: Projektant: | J91: =E21 -> ERGAprojekt s.r.o.
C92: Zhotoviteľ: | F92: =IF(E18="","",E18) | I92: Spracovateľ: | J92: =E24
C94: Kód dielu - Popis | J94: Cena celkom [EUR]
C96: Náklady z rozpočtu | J96: =J124 -> 0 | AU96: -1
...
