Workbook

Sheet Rekapitulácia stavby
A1: Export Komplet | BA1: 2.0 | BT1: False | BU1: False | BV1: {538720a2-0504-4b27-ae32-02a5586d285f}
AR2: >> skryté stĺpce << | BS2: 0,01 | BT2: 23
BS3: 0,01 | BT3: 23
D4: REKAPITULÁCIA STAVBY | AS4: v --- nižšie sa nachádzajú doplnkové a pomocné údaje k zostavám --- v | BE4: Návod na vyplnenie | BS4: 0,001
D5: Kód: | BE5: Meniť je možné iba bunky so žltým podfarbením!_x000D_ _x000D_ 1) na prvom liste Rekapitulácie stavby vyplňte v zostave_x000D_ _x000D_ a) Rekapitulácia stavby_x000D_ - údaje o Zhotoviteľovi_x000D_ (prenesú sa do ostatných zostáv aj v iných listoch)_x000D_ _x000D_ b) Rekapitulácia objektov stavby_x000D_ - potrebné Ostatné náklady_x000D_ _x000D_ 2) na vybraných listoch vyplňte v zostave_x000D_ _x000D_ a) Krycí list_x000D_ - údaje o Zhotoviteľovi, pokiaľ sa líšia od údajov o Zhotoviteľovi na Rekapitulácii stavby_x000D_ (údaje se prenesú do ostatných zostav v danom liste)_x000D_ _x000D_ b) Rekapitulácia rozpočtu_x000D_ - potrebné Ostatné náklady_x000D_ _x000D_ c) Celkové náklady za stavbu_x000D_ - ceny na položkách_x000D_ - množstvo, pokiaľ má žlté podfarbenie_x000D_ - a v prípade potreby poznámku (tá je v skrytom stĺpci) | BS5: 0,01
D6: Stavba: | K6: Nové záchytné centrum, Bojnice | BS6: 0,01
D7: JKSO: | AK7: ČS: | BS7: 0,01
D8: Miesto: | K8: Bojnice | AK8: Dátum: | AN8: 46146 | BS8: 0,01
BS9: 0,01
D10: Objednávateľ: | AK10: IČO: | BS10: 0,01
E11: Národná zoologická záhrada | AK11: IČ DPH: | BS11: 0,01
BS12: 0,01
D13: Zhotoviteľ: | AK13: IČO: | BS13: 0,01
AK14: IČ DPH: | BS14: 0,01
BS15: False
D16: Projektant: | AK16: IČO: | BS16: False
E17: ERGAprojekt s.r.o. | AK17: IČ DPH: | BS17: True
BS18: 0,01
D19: Spracovateľ: | AK19: IČO: | BS19: 0,01
AK20: IČ DPH: | BS20: True
D22: Poznámka:
D26: Cena bez DPH | AK26: =ROUND(AG94,2) -> 0
L28: Sadzba dane | W28: Základ dane | AK28: Výška dane
D29: DPH | F29: základná | L29: 0.23 | W29: =ROUND(AZ94, 2) -> 0 | AK29: =ROUND(AV94, 2) -> 0
F30: znížená | L30: 0.23 | W30: =ROUND(BA94, 2) -> 0 | AK30: =ROUND(AW94, 2) -> 0
F31: zákl. prenesená | L31: 0.23 | W31: =ROUND(BB94, 2) -> 0 | AK31: 0
F32: zníž. prenesená | L32: 0.23 | W32: =ROUND(BC94, 2) -> 0 | AK32: 0
F33: nulová | L33: 0 | W33: =ROUND(BD94, 2) -> 0 | AK33: 0
D35: Cena s DPH | T35: v | X35: EUR | AK35: =SUM(AK26:AK33) -> 0
D49: Projektant | AH49: Spracovateľ
D60: Dátum a podpis: | V60: Pečiatka | AH60: Dátum a podpis: | AM60: Pečiatka
D64: Objednávateľ | AH64: Zhotoviteľ
D75: Dátum a podpis: | V75: Pečiatka | AH75: Dátum a podpis: | AM75: Pečiatka
C82: REKAPITULÁCIA OBJEKTOV STAVBY
C84: Kód:
C85: Stavba: | L85: =K6 -> Nové záchytné centrum, Bojnice
C87: Miesto: | L87: =IF(K8="","",K8) -> Bojnice | AI87: Dátum: | AM87: =IF(AN8= "","",AN8) -> 46146
C89: Objednávateľ: | L89: =IF(E11= "","",E11) -> Národná zoologická záhrada | AI89: Projektant: | AM89: =IF(E17="","",E17) -> ERGAprojekt s.r.o. | AS89: Informatívne údaje z listov zákaziek
C90: Zhotoviteľ: | L90: =IF(E14= "Vyplň údaj","",E14) -> 0 | AI90: Spracovateľ: | AM90: =IF(E20="","",E20)
C92: Kód | I92: Popis | AG92: Cena bez DPH [EUR] | AN92: Cena s DPH [EUR] | AQ92: Typ | AS92: z toho Ostat._x000D_ náklady [EUR] | AT92: DPH [EUR] | AU92: Normohodiny [h] | AV92: DPH základná [EUR] | AW92: DPH znížená [EUR] | AX92: DPH základná prenesená_x000D_ [EUR] | AY92: DPH znížená prenesená_x000D_ [EUR] | AZ92: Základňa_x000D_ DPH základná | BA92: Základňa_x000D_ DPH znížená | BB92: Základňa_x000D_ DPH zákl. prenesená | BC92: Základňa_x000D_ DPH zníž. prenesená | BD92: Základňa_x000D_ DPH nulová
C94: Náklady z rozpočtov | AG94: =ROUND(AG95+SUM(AG106:AG114),2) -> 0 | AN94: =SUM(AG94,AT94) -> 0 | AS94: =ROUND(AS95+SUM(AS106:AS114),2) -> 0 | AT94: =ROUND(SUM(AV94:AW94),2) -> 0 | AU94: =ROUND(AU95+SUM(AU106:AU114),5) -> 0 | AV94: =ROUND(AZ94*L29,2) -> 0 | AW94: =ROUND(BA94*L30,2) -> 0 | AX94: =ROUND(BB94*L29,2) -> 0 | AY94: =ROUND(BC94*L30,2) -> 0 | AZ94: =ROUND(AZ95+SUM(AZ106:AZ114),2) -> 0 | BA94: =ROUND(BA95+SUM(BA106:BA114),2) -> 0 | BB94: =ROUND(BB95+SUM(BB106:BB114),2) -> 0 | BC94: =ROUND(BC95+SUM(BC106:BC114),2) -> 0 | BD94: =ROUND(BD95+SUM(BD106:BD114),2) -> 0 | BS94: D | BT94: 0 | BU94: ###NOIMPORT### | BV94: IMPORT | BW94: {538720a2-0504-4b27-ae32-02a5586d285f} | BX94: {00000000-0000-0000-0000-000000000000}
D95: SO 01 | J95: Chovný priestor | AG95: =ROUND(SUM(AG96:AG105),2) -> 0 | AN95: =SUM(AG95,AT95) -> 0 | AQ95: STA | AS95: =ROUND(SUM(AS96:AS105),2) -> 0 | AT95: =ROUND(SUM(AV95:AW95),2) -> 0 | AU95: =ROUND(SUM(AU96:AU105),5) -> 0 | AV95: =ROUND(AZ95*L29,2) -> 0 | AW95: =ROUND(BA95*L30,2) -> 0 | AX95: =ROUND(BB95*L29,2) -> 0 | AY95: =ROUND(BC95*L30,2) -> 0 | AZ95: =ROUND(SUM(AZ96:AZ105),2) -> 0 | BA95: =ROUND(SUM(BA96:BA105),2) -> 0 | BB95: =ROUND(SUM(BB96:BB105),2) -> 0 | BC95: =ROUND(SUM(BC96:BC105),2) -> 0 | BD95: =ROUND(SUM(BD96:BD105),2) -> 0 | BS95: D | BT95: 1 | BU95: ###NOIMPORT### | BV95: IMPORT | BW95: {532fe49d-8b91-4fdc-8edb-9b9cd25c47bd} | BX95: {538720a2-0504-4b27-ae32-02a5586d285f} | CM95: 0
A96: / | E96: ASR | K96: Architektonicko-stavebné riešenie | AG96: ='ASR - Architektonicko-sta...'!J32 -> 0 | AN96: =SUM(AG96,AT96) -> 0 | AQ96: Časť | AS96: 0 | AT96: =ROUND(SUM(AV96:AW96),2) -> 0 | AU96: ='ASR - Architektonicko-sta...'!P141 -> 0 | AV96: ='ASR - Architektonicko-sta...'!J35 -> 0 | AW96: ='ASR - Architektonicko-sta...'!J36 -> 0 | AX96: ='ASR - Architektonicko-sta...'!J37 -> 0 | AY96: ='ASR - Architektonicko-sta...'!J38 -> 0 | AZ96: ='ASR - Architektonicko-sta...'!F35 -> 0 | BA96: ='ASR - Architektonicko-sta...'!F36 -> 0 | BB96: ='ASR - Architektonicko-sta...'!F37 -> 0 | BC96: ='ASR - Architektonicko-sta...'!F38 -> 0 | BD96: ='ASR - Architektonicko-sta...'!F39 -> 0 | BT96: 2 | BV96: IMPORT | BW96: {5afaced8-c2b9-4999-a435-76357f29ce92} | BX96: {532fe49d-8b91-4fdc-8edb-9b9cd25c47bd}
A97: / | E97: STA | K97: Statika | AG97: ='STA - Statika'!J32 -> 0 | AN97: =SUM(AG97,AT97) -> 0 | AQ97: Časť | AS97: 0 | AT97: =ROUND(SUM(AV97:AW97),2) -> 0 | AU97: ='STA - Statika'!P126 -> 0 | AV97: ='STA - Statika'!J35 -> 0 | AW97: ='STA - Statika'!J36 -> 0 | AX97: ='STA - Statika'!J37 -> 0 | AY97: ='STA - Statika'!J38 -> 0 | AZ97: ='STA - Statika'!F35 -> 0 | BA97: ='STA - Statika'!F36 -> 0 | BB97: ='STA - Statika'!F37 -> 0 | BC97: ='STA - Statika'!F38 -> 0 | BD97: ='STA - Statika'!F39 -> 0 | BT97: 2 | BV97: IMPORT | BW97: {d357b84f-bf81-4236-b8d6-f3611a0259c8} | BX97: {532fe49d-8b91-4fdc-8edb-9b9cd25c47bd}
A98: / | E98: ZTI | K98: Zdravotechnika | AG98: ='ZTI - Zdravotechnika'!J32 -> 0 | AN98: =SUM(AG98,AT98) -> 0 | AQ98: Časť | AS98: 0 | AT98: =ROUND(SUM(AV98:AW98),2) -> 0 | AU98: ='ZTI - Zdravotechnika'!P131 -> 0 | AV98: ='ZTI - Zdravotechnika'!J35 -> 0 | AW98: ='ZTI - Zdravotechnika'!J36 -> 0 | AX98: ='ZTI - Zdravotechnika'!J37 -> 0 | AY98: ='ZTI - Zdravotechnika'!J38 -> 0 | AZ98: ='ZTI - Zdravotechnika'!F35 -> 0 | BA98: ='ZTI - Zdravotechnika'!F36 -> 0 | BB98: ='ZTI - Zdravotechnika'!F37 -> 0 | BC98: ='ZTI - Zdravotechnika'!F38 -> 0 | BD98: ='ZTI - Zdravotechnika'!F39 -> 0 | BT98: 2 | BV98: IMPORT | BW98: {b84dc38d-72a4-40ca-a38d-2e3acf9c92e0} | BX98: {532fe49d-8b91-4fdc-8edb-9b9cd25c47bd}
A99: / | E99: VYK | K99: Vykurovanie | AG99: ='VYK - Vykurovanie'!J32 -> 0 | AN99: =SUM(AG99,AT99) -> 0 | AQ99: Časť | AS99: 0 | AT99: =ROUND(SUM(AV99:AW99),2) -> 0 | AU99: ='VYK - Vykurovanie'!P131 -> 0 | AV99: ='VYK - Vykurovanie'!J35 -> 0 | AW99: ='VYK - Vykurovanie'!J36 -> 0 | AX99: ='VYK - Vykurovanie'!J37 -> 0 | AY99: ='VYK - Vykurovanie'!J38 -> 0 | AZ99: ='VYK - Vykurovanie'!F35 -> 0 | BA99: ='VYK - Vykurovanie'!F36 -> 0 | BB99: ='VYK - Vykurovanie'!F37 -> 0 | BC99: ='VYK - Vykurovanie'!F38 -> 0 | BD99: ='VYK - Vykurovanie'!F39 -> 0 | BT99: 2 | BV99: IMPORT | BW99: {48394ebc-7924-4a0d-9ba1-f650dd1bacbe} | BX99: {532fe49d-8b91-4fdc-8edb-9b9cd25c47bd}
A100: / | E100: VZT | K100: Vzduchotechnika a chladenie | AG100: ='VZT - Vzduchotechnika a c...'!J32 -> 0 | AN100: =SUM(AG100,AT100) -> 0 | AQ100: Časť | AS100: 0 | AT100: =ROUND(SUM(AV100:AW100),2) -> 0 | AU100: ='VZT - Vzduchotechnika a c...'!P126 -> 0 | AV100: ='VZT - Vzduchotechnika a c...'!J35 -> 0 | AW100: ='VZT - Vzduchotechnika a c...'!J36 -> 0 | AX100: ='VZT - Vzduchotechnika a c...'!J37 -> 0 | AY100: ='VZT - Vzduchotechnika a c...'!J38 -> 0 | AZ100: ='VZT - Vzduchotechnika a c...'!F35 -> 0 | BA100: ='VZT - Vzduchotechnika a c...'!F36 -> 0 | BB100: ='VZT - Vzduchotechnika a c...'!F37 -> 0 | BC100: ='VZT - Vzduchotechnika a c...'!F38 -> 0 | BD100: ='VZT - Vzduchotechnika a c...'!F39 -> 0 | BT100: 2 | BV100: IMPORT | BW100: {12b50c6d-6ab6-43ed-88ca-443778d0c037} | BX100: {532fe49d-8b91-4fdc-8edb-9b9cd25c47bd}
A101: / | E101: ELI | K101: Elektroinštalácia | AG101: ='ELI - Elektroinštalácia'!J32 -> 0 | AN101: =SUM(AG101,AT101) -> 0 | AQ101: Časť | AS101: 0 | AT101: =ROUND(SUM(AV101:AW101),2) -> 0 | AU101: ='ELI - Elektroinštalácia'!P123 -> 0 | AV101: ='ELI - Elektroinštalácia'!J35 -> 0 | AW101: ='ELI - Elektroinštalácia'!J36 -> 0 | AX101: ='ELI - Elektroinštalácia'!J37 -> 0 | AY101: ='ELI - Elektroinštalácia'!J38 -> 0 | AZ101: ='ELI - Elektroinštalácia'!F35 -> 0 | BA101: ='ELI - Elektroinštalácia'!F36 -> 0 | BB101: ='ELI - Elektroinštalácia'!F37 -> 0 | BC101: ='ELI - Elektroinštalácia'!F38 -> 0 | BD101: ='ELI - Elektroinštalácia'!F39 -> 0 | BT101: 2 | BV101: IMPORT | BW101: {7d8ed1e8-546c-4923-ab90-734250cc260e} | BX101: {532fe49d-8b91-4fdc-8edb-9b9cd25c47bd}
A102: / | E102: BLZ | K102: Bleskozvod a uzemnenie | AG102: ='BLZ - Bleskozvod a uzemnenie'!J32 -> 0 | AN102: =SUM(AG102,AT102) -> 0 | AQ102: Časť | AS102: 0 | AT102: =ROUND(SUM(AV102:AW102),2) -> 0 | AU102: ='BLZ - Bleskozvod a uzemnenie'!P121 -> 0 | AV102: ='BLZ - Bleskozvod a uzemnenie'!J35 -> 0 | AW102: ='BLZ - Bleskozvod a uzemnenie'!J36 -> 0 | AX102: ='BLZ - Bleskozvod a uzemnenie'!J37 -> 0 | AY102: ='BLZ - Bleskozvod a uzemnenie'!J38 -> 0 | AZ102: ='BLZ - Bleskozvod a uzemnenie'!F35 -> 0 | BA102: ='BLZ - Bleskozvod a uzemnenie'!F36 -> 0 | BB102: ='BLZ - Bleskozvod a uzemnenie'!F37 -> 0 | BC102: ='BLZ - Bleskozvod a uzemnenie'!F38 -> 0 | BD102: ='BLZ - Bleskozvod a uzemnenie'!F39 -> 0 | BT102: 2 | BV102: IMPORT | BW102: {e5ac7bf4-00aa-42cf-bad5-aa1d70271462} | BX102: {532fe49d-8b91-4fdc-8edb-9b9cd25c47bd}
A103: / | E103: FVE | K103: Fotovoltická elektráreň | AG103: ='FVE - Fotovoltická elektr...'!J32 -> 0 | AN103: =SUM(AG103,AT103) -> 0 | AQ103: Časť | AS103: 0 | AT103: =ROUND(SUM(AV103:AW103),2) -> 0 | AU103: ='FVE - Fotovoltická elektr...'!P121 -> 0 | AV103: ='FVE - Fotovoltická elektr...'!J35 -> 0 | AW103: ='FVE - Fotovoltická elektr...'!J36 -> 0 | AX103: ='FVE - Fotovoltická elektr...'!J37 -> 0 | AY103: ='FVE - Fotovoltická elektr...'!J38 -> 0 | AZ103: ='FVE - Fotovoltická elektr...'!F35 -> 0 | BA103: ='FVE - Fotovoltická elektr...'!F36 -> 0 | BB103: ='FVE - Fotovoltická elektr...'!F37 -> 0 | BC103: ='FVE - Fotovoltická elektr...'!F38 -> 0 | BD103: ='FVE - Fotovoltická elektr...'!F39 -> 0 | BT103: 2 | BV103: IMPORT | BW103: {3f9b9d99-36d9-42e9-9665-176d10e5a632} | BX103: {532fe49d-8b91-4fdc-8edb-9b9cd25c47bd}
A104: / | E104: MaR | K104: Meranie a regulácia | AG104: ='MaR - Meranie a regulácia'!J32 -> 0 | AN104: =SUM(AG104,AT104) -> 0 | AQ104: Časť | AS104: 0 | AT104: =ROUND(SUM(AV104:AW104),2) -> 0 | AU104: ='MaR - Meranie a regulácia'!P124 -> 0 | AV104: ='MaR - Meranie a regulácia'!J35 -> 0 | AW104: ='MaR - Meranie a regulácia'!J36 -> 0 | AX104: ='MaR - Meranie a regulácia'!J37 -> 0 | AY104: ='MaR - Meranie a regulácia'!J38 -> 0 | AZ104: ='MaR - Meranie a regulácia'!F35 -> 0 | BA104: ='MaR - Meranie a regulácia'!F36 -> 0 | BB104: ='MaR - Meranie a regulácia'!F37 -> 0 | BC104: ='MaR - Meranie a regulácia'!F38 -> 0 | BD104: ='MaR - Meranie a regulácia'!F39 -> 0 | BT104: 2 | BV104: IMPORT | BW104: {3e29b2a7-284a-4d19-9137-512468151d4f} | BX104: {532fe49d-8b91-4fdc-8edb-9b9cd25c47bd}
A105: / | E105: SLP | K105: Slaboprúdová inštalácia | AG105: ='SLP - Slaboprúdová inštal...'!J32 -> 0 | AN105: =SUM(AG105,AT105) -> 0 | AQ105: Časť | AS105: 0 | AT105: =ROUND(SUM(AV105:AW105),2) -> 0 | AU105: ='SLP - Slaboprúdová inštal...'!P121 -> 0 | AV105: ='SLP - Slaboprúdová inštal...'!J35 -> 0 | AW105: ='SLP - Slaboprúdová inštal...'!J36 -> 0 | AX105: ='SLP - Slaboprúdová inštal...'!J37 -> 0 | AY105: ='SLP - Slaboprúdová inštal...'!J38 -> 0 | AZ105: ='SLP - Slaboprúdová inštal...'!F35 -> 0 | BA105: ='SLP - Slaboprúdová inštal...'!F36 -> 0 | BB105: ='SLP - Slaboprúdová inštal...'!F37 -> 0 | BC105: ='SLP - Slaboprúdová inštal...'!F38 -> 0 | BD105: ='SLP - Slaboprúdová inštal...'!F39 -> 0 | BT105: 2 | BV105: IMPORT | BW105: {f9f63793-654a-4850-83ce-45c8b01d728b} | BX105: {532fe49d-8b91-4fdc-8edb-9b9cd25c47bd}
A106: / | D106: SO 02 | J106: Komunikácia, spevnené plochy | AG106: ='SO 02 - Komunikácia, spev...'!J30 -> 0 | AN106: =SUM(AG106,AT106) -> 0 | AQ106: STA | AS106: 0 | AT106: =ROUND(SUM(AV106:AW106),2) -> 0 | AU106: ='SO 02 - Komunikácia, spev...'!P124 -> 0 | AV106: ='SO 02 - Komunikácia, spev...'!J33 -> 0 | AW106: ='SO 02 - Komunikácia, spev...'!J34 -> 0 | AX106: ='SO 02 - Komunikácia, spev...'!J35 -> 0 | AY106: ='SO 02 - Komunikácia, spev...'!J36 -> 0 | AZ106: ='SO 02 - Komunikácia, spev...'!F33 -> 0 | BA106: ='SO 02 - Komunikácia, spev...'!F34 -> 0 | BB106: ='SO 02 - Komunikácia, spev...'!F35 -> 0 | BC106: ='SO 02 - Komunikácia, spev...'!F36 -> 0 | BD106: ='SO 02 - Komunikácia, spev...'!F37 -> 0 | BT106: 1 | BV106: IMPORT | BW106: {b1074a7a-8521-477d-be2b-845abb6eb2db} | BX106: {538720a2-0504-4b27-ae32-02a5586d285f} | CM106: 0
A107: / | D107: SO 03 | J107: Areálový vodovod | AG107: ='SO 03 - Areálový vodovod'!J30 -> 0 | AN107: =SUM(AG107,AT107) -> 0 | AQ107: STA | AS107: 0 | AT107: =ROUND(SUM(AV107:AW107),2) -> 0 | AU107: ='SO 03 - Areálový vodovod'!P127 -> 0 | AV107: ='SO 03 - Areálový vodovod'!J33 -> 0 | AW107: ='SO 03 - Areálový vodovod'!J34 -> 0 | AX107: ='SO 03 - Areálový vodovod'!J35 -> 0 | AY107: ='SO 03 - Areálový vodovod'!J36 -> 0 | AZ107: ='SO 03 - Areálový vodovod'!F33 -> 0 | BA107: ='SO 03 - Areálový vodovod'!F34 -> 0 | BB107: ='SO 03 - Areálový vodovod'!F35 -> 0 | BC107: ='SO 03 - Areálový vodovod'!F36 -> 0 | BD107: ='SO 03 - Areálový vodovod'!F37 -> 0 | BT107: 1 | BV107: IMPORT | BW107: {37853722-a32b-4449-a93d-91f970c5c70c} | BX107: {538720a2-0504-4b27-ae32-02a5586d285f} | CM107: 0
A108: / | D108: SO 04 | J108: Splašková kanalizácia | AG108: ='SO 04 - Splašková kanaliz...'!J30 -> 0 | AN108: =SUM(AG108,AT108) -> 0 | AQ108: STA | AS108: 0 | AT108: =ROUND(SUM(AV108:AW108),2) -> 0 | AU108: ='SO 04 - Splašková kanaliz...'!P123 -> 0 | AV108: ='SO 04 - Splašková kanaliz...'!J33 -> 0 | AW108: ='SO 04 - Splašková kanaliz...'!J34 -> 0 | AX108: ='SO 04 - Splašková kanaliz...'!J35 -> 0 | AY108: ='SO 04 - Splašková kanaliz...'!J36 -> 0 | AZ108: ='SO 04 - Splašková kanaliz...'!F33 -> 0 | BA108: ='SO 04 - Splašková kanaliz...'!F34 -> 0 | BB108: ='SO 04 - Splašková kanaliz...'!F35 -> 0 | BC108: ='SO 04 - Splašková kanaliz...'!F36 -> 0 | BD108: ='SO 04 - Splašková kanaliz...'!F37 -> 0 | BT108: 1 | BV108: IMPORT | BW108: {9d3a9b46-4556-4893-98e8-bfb0487b1a09} | BX108: {538720a2-0504-4b27-ae32-02a5586d285f} | CM108: 0
A109: / | D109: SO 05 | J109: Dažďová kanalizácia, vsakovacie objekty | AG109: ='SO 05 - Dažďová kanalizác...'!J30 -> 0 | AN109: =SUM(AG109,AT109) -> 0 | AQ109: STA | AS109: 0 | AT109: =ROUND(SUM(AV109:AW109),2) -> 0 | AU109: ='SO 05 - Dažďová kanalizác...'!P125 -> 0 | AV109: ='SO 05 - Dažďová kanalizác...'!J33 -> 0 | AW109: ='SO 05 - Dažďová kanalizác...'!J34 -> 0 | AX109: ='SO 05 - Dažďová kanalizác...'!J35 -> 0 | AY109: ='SO 05 - Dažďová kanalizác...'!J36 -> 0 | AZ109: ='SO 05 - Dažďová kanalizác...'!F33 -> 0 | BA109: ='SO 05 - Dažďová kanalizác...'!F34 -> 0 | BB109: ='SO 05 - Dažďová kanalizác...'!F35 -> 0 | BC109: ='SO 05 - Dažďová kanalizác...'!F36 -> 0 | BD109: ='SO 05 - Dažďová kanalizác...'!F37 -> 0 | BT109: 1 | BV109: IMPORT | BW109: {cd19225f-db4d-43b4-8873-937d01dc2fe0} | BX109: {538720a2-0504-4b27-ae32-02a5586d285f} | CM109: 0
A110: / | D110: SO 06 | J110: Areálový rozvod NN | AG110: ='SO 06 - Areálový rozvod NN'!J30 -> 0 | AN110: =SUM(AG110,AT110) -> 0 | AQ110: STA | AS110: 0 | AT110: =ROUND(SUM(AV110:AW110),2) -> 0 | AU110: ='SO 06 - Areálový rozvod NN'!P117 -> 0 | AV110: ='SO 06 - Areálový rozvod NN'!J33 -> 0 | AW110: ='SO 06 - Areálový rozvod NN'!J34 -> 0 | AX110: ='SO 06 - Areálový rozvod NN'!J35 -> 0 | AY110: ='SO 06 - Areálový rozvod NN'!J36 -> 0 | AZ110: ='SO 06 - Areálový rozvod NN'!F33 -> 0 | BA110: ='SO 06 - Areálový rozvod NN'!F34 -> 0 | BB110: ='SO 06 - Areálový rozvod NN'!F35 -> 0 | BC110: ='SO 06 - Areálový rozvod NN'!F36 -> 0 | BD110: ='SO 06 - Areálový rozvod NN'!F37 -> 0 | BT110: 1 | BV110: IMPORT | BW110: {3a586313-b1ab-4124-9ad8-2e948157b975} | BX110: {538720a2-0504-4b27-ae32-02a5586d285f} | CM110: 0
A111: / | D111: SO 07 | J111: Elektrický ohradník | AG111: ='SO 07 - Elektrický ohradník'!J30 -> 0 | AN111: =SUM(AG111,AT111) -> 0 | AQ111: STA | AS111: 0 | AT111: =ROUND(SUM(AV111:AW111),2) -> 0 | AU111: ='SO 07 - Elektrický ohradník'!P117 -> 0 | AV111: ='SO 07 - Elektrický ohradník'!J33 -> 0 | AW111: ='SO 07 - Elektrický ohradník'!J34 -> 0 | AX111: ='SO 07 - Elektrický ohradník'!J35 -> 0 | AY111: ='SO 07 - Elektrický ohradník'!J36 -> 0 | AZ111: ='SO 07 - Elektrický ohradník'!F33 -> 0 | BA111: ='SO 07 - Elektrický ohradník'!F34 -> 0 | BB111: ='SO 07 - Elektrický ohradník'!F35 -> 0 | BC111: ='SO 07 - Elektrický ohradník'!F36 -> 0 | BD111: ='SO 07 - Elektrický ohradník'!F37 -> 0 | BT111: 1 | BV111: IMPORT | BW111: {09f76dcc-33ed-4f43-be63-e7de5950128b} | BX111: {538720a2-0504-4b27-ae32-02a5586d285f} | CM111: 0
A112: / | D112: SO 08 | J112: Vonkajšie osvetlenie | AG112: ='SO 08 - Vonkajšie osvetlenie'!J30 -> 0 | AN112: =SUM(AG112,AT112) -> 0 | AQ112: STA | AS112: 0 | AT112: =ROUND(SUM(AV112:AW112),2) -> 0 | AU112: ='SO 08 - Vonkajšie osvetlenie'!P117 -> 0 | AV112: ='SO 08 - Vonkajšie osvetlenie'!J33 -> 0 | AW112: ='SO 08 - Vonkajšie osvetlenie'!J34 -> 0 | AX112: ='SO 08 - Vonkajšie osvetlenie'!J35 -> 0 | AY112: ='SO 08 - Vonkajšie osvetlenie'!J36 -> 0 | AZ112: ='SO 08 - Vonkajšie osvetlenie'!F33 -> 0 | BA112: ='SO 08 - Vonkajšie osvetlenie'!F34 -> 0 | BB112: ='SO 08 - Vonkajšie osvetlenie'!F35 -> 0 | BC112: ='SO 08 - Vonkajšie osvetlenie'!F36 -> 0 | BD112: ='SO 08 - Vonkajšie osvetlenie'!F37 -> 0 | BT112: 1 | BV112: IMPORT | BW112: {bbf9d775-bcc4-4680-82df-28dfd1c0eb71} | BX112: {538720a2-0504-4b27-ae32-02a5586d285f} | CM112: 0
A113: / | D113: SO 09 | J113: Oplotenie | AG113: ='SO 09 - Oplotenie'!J30 -> 0 | AN113: =SUM(AG113,AT113) -> 0 | AQ113: STA | AS113: 0 | AT113: =ROUND(SUM(AV113:AW113),2) -> 0 | AU113: ='SO 09 - Oplotenie'!P125 -> 0 | AV113: ='SO 09 - Oplotenie'!J33 -> 0 | AW113: ='SO 09 - Oplotenie'!J34 -> 0 | AX113: ='SO 09 - Oplotenie'!J35 -> 0 | AY113: ='SO 09 - Oplotenie'!J36 -> 0 | AZ113: ='SO 09 - Oplotenie'!F33 -> 0 | BA113: ='SO 09 - Oplotenie'!F34 -> 0 | BB113: ='SO 09 - Oplotenie'!F35 -> 0 | BC113: ='SO 09 - Oplotenie'!F36 -> 0 | BD113: ='SO 09 - Oplotenie'!F37 -> 0 | BT113: 1 | BV113: IMPORT | BW113: {6505a0a5-e539-479c-b819-a0f674f32687} | BX113: {538720a2-0504-4b27-ae32-02a5586d285f} | CM113: 0
A114: / | D114: SO 10 | J114: Oporný múr | AG114: ='SO 10 - Oporný múr'!J30 -> 0 | AN114: =SUM(AG114,AT114) -> 0 | AQ114: STA | AS114: 0 | AT114: =ROUND(SUM(AV114:AW114),2) -> 0 | AU114: ='SO 10 - Oporný múr'!P124 -> 0 | AV114: ='SO 10 - Oporný múr'!J33 -> 0 | AW114: ='SO 10 - Oporný múr'!J34 -> 0 | AX114: ='SO 10 - Oporný múr'!J35 -> 0 | AY114: ='SO 10 - Oporný múr'!J36 -> 0 | AZ114: ='SO 10 - Oporný múr'!F33 -> 0 | BA114: ='SO 10 - Oporný múr'!F34 -> 0 | BB114: ='SO 10 - Oporný múr'!F35 -> 0 | BC114: ='SO 10 - Oporný múr'!F36 -> 0 | BD114: ='SO 10 - Oporný múr'!F37 -> 0 | BT114: 1 | BV114: IMPORT | BW114: {2eac94ff-4ccd-48dd-8857-356f28ca9e01} | BX114: {538720a2-0504-4b27-ae32-02a5586d285f} | CM114: 0

Sheet ASR - Architektonicko-sta...
L2: >> skryté stĺpce << | AT2: {5afaced8-c2b9-4999-a435-76357f29ce92}
AT3: 0
D4: KRYCÍ LIST ROZPOČTU | M4: v --- nižšie sa nachádzajú doplnkové a pomocné údaje k zostavám --- v | AT4: False
D6: Stavba:
E7: ='Rekapitulácia stavby'!K6 -> Nové záchytné centrum, Bojnice
D8: Objekt:
E9: SO 01 - Chovný priestor
D10: Časť:
E11: ASR - Architektonicko-stavebné riešenie
D13: JKSO: | I13: ČS:
D14: Miesto: | F14: Bojnice | I14: Dátum: | J14: ='Rekapitulácia stavby'!AN8 -> 46146
D16: Objednávateľ: | I16: IČO:
E17: Národná zoologická záhrada | I17: IČ DPH:
D19: Zhotoviteľ: | I19: IČO:
E20: ='Rekapitulácia stavby'!E14 -> 0 | I20: IČ DPH:
D22: Projektant: | I22: IČO:
E23: ERGAprojekt s.r.o. | I23: IČ DPH:
D25: Spracovateľ: | I25: IČO: | J25: =IF('Rekapitulácia stavby'!AN19="","",'Rekapitulácia stavby'!AN19)
E26: =IF('Rekapitulácia stavby'!E20="","",'Rekapitulácia stavby'!E20) | I26: IČ DPH: | J26: =IF('Rekapitulácia stavby'!AN20="","",'Rekapitulácia stavby'!AN20)
D28: Poznámka:
D32: Cena bez DPH | J32: =ROUND(J141, 2) -> 0
F34: Základ dane | I34: Sadzba dane | J34: Výška dane
D35: DPH | E35: základná | F35: =ROUND((SUM(BE141:BE308)), 2) -> 0 | I35: 0.23 | J35: =ROUND(((SUM(BE141:BE308))*I35), 2) -> 0
E36: znížená | F36: =ROUND((SUM(BF141:BF308)), 2) -> 0 | I36: 0.23 | J36: =ROUND(((SUM(BF141:BF308))*I36), 2) -> 0
E37: zákl. prenesená | F37: =ROUND((SUM(BG141:BG308)), 2) -> 0 | I37: 0.23 | J37: =0 -> 0
E38: zníž. prenesená | F38: =ROUND((SUM(BH141:BH308)), 2) -> 0 | I38: 0.23 | J38: =0 -> 0
E39: nulová | F39: =ROUND((SUM(BI141:BI308)), 2) -> 0 | I39: 0 | J39: =0 -> 0
D41: Cena s DPH | G41: v | H41: EUR | J41: =SUM(J32:J39) -> 0
D50: Projektant | G50: Spracovateľ
D61: Dátum a podpis: | F61: Pečiatka | G61: Dátum a podpis: | J61: Pečiatka
D65: Objednávateľ | G65: Zhotoviteľ
D76: Dátum a podpis: | F76: Pečiatka | G76: Dátum a podpis: | J76: Pečiatka
C82: REKAPITULÁCIA ROZPOČTU
C84: Stavba:
E85: =E7 -> Nové záchytné centrum, Bojnice
C86: Objekt:
E87: SO 01 - Chovný priestor
C88: Časť:
E89: =E11 -> ASR - Architektonicko-stavebné riešenie
C91: Miesto: | F91: =F14 -> Bojnice | I91: Dátum: | J91: =IF(J14="","",J14) -> 46146
C93: Objednávateľ: | F93: =E17 -> Národná zoologická záhrada | I93: Projektant: | J93: =E23 -> ERGAprojekt s.r.o.
C94: Zhotoviteľ: | F94: =IF(E20="","",E20) -> 0 | I94: Spracovateľ: | J94: =E26
C96: Kód dielu - Popis | J96: Cena celkom [EUR]
C98: Náklady z rozpočtu | J98: =J141 -> 0 | AU98: -1
D99: HSV - Práce a dodávky HSV | J99: =J142 -> 0
D100: 2 - Zakladanie | J100: =J143 -> 0
D101: 3 - Zvislé a kompletné konštrukcie | J101: =J145 -> 0
D102: 4 - Vodorovné konštrukcie | J102: =J156 -> 0
D103: 6 - Úpravy povrchov, podlahy, osadenie | J103: =J160 -> 0
D104: 9 - Ostatné konštrukcie a práce-búranie | J104: =J180 -> 0
D105: 99 - Presun hmôt HSV | J105: =J186 -> 0
D106: PSV - Práce a dodávky PSV | J106: =J188 -> 0
D107: 711 - Izolácie proti vode a vlhkosti | J107: =J189 -> 0
D108: 713 - Izolácie tepelné | J108: =J203 -> 0
D109: 762 - Konštrukcie tesárske | J109: =J220 -> 0
D110: 763 - Konštrukcie - drevostavby | J110: =J232 -> 0
D111: 764 - Konštrukcie klampiarske | J111: =J241 -> 0
D112: 766 - Konštrukcie stolárske | J112: =J255 -> 0
D113: 767 - Konštrukcie doplnkové kovové | J113: =J266 -> 0
D114: 771 - Podlahy z dlaždíc | J114: =J282 -> 0
D115: 777 - Podlahy syntetické | J115: =J287 -> 0
D116: 781 - Obklady | J116: =J291 -> 0
D117: 783 - Nátery | J117: =J298 -> 0
D118: 784 - Maľby | J118: =J303 -> 0
D119: VRN - Investičné náklady neobsiahnuté v cenách | J119: =J306 -> 0
C126: ROZPOČET
C128: Stavba:
E129: =E7 -> Nové záchytné centrum, Bojnice
C130: Objekt:
E131: SO 01 - Chovný priestor
C132: Časť:
E133: =E11 -> ASR - Architektonicko-stavebné riešenie
C135: Miesto: | F135: =F14 -> Bojnice | I135: Dátum: | J135: =IF(J14="","",J14) -> 46146
C137: Objednávateľ: | F137: =E17 -> Národná zoologická záhrada | I137: Projektant: | J137: =E23 -> ERGAprojekt s.r.o.
C138: Zhotoviteľ: | F138: =IF(E20="","",E20) -> 0 | I138: Spracovateľ: | J138: =E26
C140: PČ | D140: Typ | E140: Kód | F140: Popis | G140: MJ | H140: Množstvo | I140: J.cena [EUR] | J140: Cena celkom [EUR] | K140: Cenová sústava | N140: DPH | O140: J. Nh [h] | P140: Nh celkom [h] | Q140: J. hmotnosť [t] | R140: Hmotnosť celkom [t] | S140: J. suť [t] | T140: Suť Celkom [t]
C141: Náklady z rozpočtu | J141: =BK141 -> 0 | P141: =P142+P188+P306 -> 0 | R141: =R142+R188+R306 -> 0 | T141: =T142+T188+T306 -> 0 | AT141: D | AU141: -1 | BK141: =BK142+BK188+BK306 -> 0
D142: D | E142: HSV | F142: Práce a dodávky HSV | J142: =BK142 -> 0 | P142: =P143+P145+P156+P160+P180+P186 -> 0 | R142: =R143+R145+R156+R160+R180+R186 -> 0 | T142: =T143+T145+T156+T160+T180+T186 -> 0 | AR142: 1 | AT142: D | AU142: 0 | AY142: ROZPOCET | BK142: =BK143+BK145+BK156+BK160+BK180+BK186 -> 0
D143: D | E143: 2 | F143: Zakladanie | J143: =BK143 -> 0 | P143: =P144 -> 0 | R143: =R144 -> 0 | T143: =T144 -> 0 | AR143: 1 | AT143: D | AU143: 1 | AY143: ROZPOCET | BK143: =BK144 -> 0
C144: 1 | D144: K | E144: 212752125.S | F144: Trativody z flexodrenážnych rúr DN 100 | G144: m | J144: =ROUND(I144*H144,2) -> 0 | N144: znížená | P144: =O144*H144 -> 0 | Q144: 0.246831 | R144: =Q144*H144 -> 0 | S144: 0 | T144: =S144*H144 -> 0 | AR144: 4 | AT144: K | AU144: 2 | AY144: ROZPOCET | BE144: =IF(N144="základná",J144,0) -> 0 | BF144: =IF(N144="znížená",J144,0) -> 0 | BG144: =IF(N144="zákl. prenesená",J144,0) -> 0 | BH144: =IF(N144="zníž. prenesená",J144,0) -> 0 | BI144: =IF(N144="nulová",J144,0) -> 0 | BJ144: 2 | BK144: =ROUND(I144*H144,2) -> 0 | BL144: 4 | BM144: 1995954500
D145: D | E145: 3 | F145: Zvislé a kompletné konštrukcie | J145: =BK145 -> 0 | P145: =SUM(P146:P155) -> 0 | R145: =SUM(R146:R155) -> 0 | T145: =SUM(T146:T155) -> 0 | AR145: 1 | AT145: D | AU145: 1 | AY145: ROZPOCET | BK145: =SUM(BK146:BK155) -> 0
C146: 2 | D146: K | E146: 311271480.1 | F146: Murivo nosné (m3) DURISOL DSs 37,5/12 s betónovou výplňou C 30/37 a výstužou hr. 375 mm | G146: m3 | J146: =ROUND(I146*H146,2) -> 0 | N146: znížená | P146: =O146*H146 -> 0 | Q146: 0.93831915 | R146: =Q146*H146 -> 0 | S146: 0 | T146: =S146*H146 -> 0 | AR146: 4 | AT146: K | AU146: 2 | AY146: ROZPOCET | BE146: =IF(N146="základná",J146,0) -> 0 | BF146: =IF(N146="znížená",J146,0) -> 0 | BG146: =IF(N146="zákl. prenesená",J146,0) -> 0 | BH146: =IF(N146="zníž. prenesená",J146,0) -> 0 | BI146: =IF(N146="nulová",J146,0) -> 0 | BJ146: 2 | BK146: =ROUND(I146*H146,2) -> 0 | BL146: 4 | BM146: 109600572
C147: 3 | D147: K | E147: 311272041.S1 | F147: Murivo nosné (m3) z betónových debniacich tvárnic s betónovou výplňou C 30/37 hrúbky 300 mm | G147: m3 | J147: =ROUND(I147*H147,2) -> 0 | N147: znížená | P147: =O147*H147 -> 0 | Q147: 2.197987 | R147: =Q147*H147 -> 0 | S147: 0 | T147: =S147*H147 -> 0 | AR147: 4 | AT147: K | AU147: 2 | AY147: ROZPOCET | BE147: =IF(N147="základná",J147,0) -> 0 | BF147: =IF(N147="znížená",J147,0) -> 0 | BG147: =IF(N147="zákl. prenesená",J147,0) -> 0 | BH147: =IF(N147="zníž. prenesená",J147,0) -> 0 | BI147: =IF(N147="nulová",J147,0) -> 0 | BJ147: 2 | BK147: =ROUND(I147*H147,2) -> 0 | BL147: 4 | BM147: 52548658
C148: 4 | D148: K | E148: 311361825.S | F148: Výstuž pre murivo nosné z betónových debniacich tvárnic s betónovou výplňou z ocele B500 (10505) | G148: t | J148: =ROUND(I148*H148,2) -> 0 | N148: znížená | P148: =O148*H148 -> 0 | Q148: 1.002 | R148: =Q148*H148 -> 0 | S148: 0 | T148: =S148*H148 -> 0 | AR148: 4 | AT148: K | AU148: 2 | AY148: ROZPOCET | BE148: =IF(N148="základná",J148,0) -> 0 | BF148: =IF(N148="znížená",J148,0) -> 0 | BG148: =IF(N148="zákl. prenesená",J148,0) -> 0 | BH148: =IF(N148="zníž. prenesená",J148,0) -> 0 | BI148: =IF(N148="nulová",J148,0) -> 0 | BJ148: 2 | BK148: =ROUND(I148*H148,2) -> 0 | BL148: 4 | BM148: 2068275987
C149: 5 | D149: K | E149: 312271432.1 | F149: Murivo výplňové (m3) DURISOL DMi 20/13 s betónovou výplňou C 30/37 a výstužou hr. 200 mm | G149: m3 | J149: =ROUND(I149*H149,2) -> 0 | N149: znížená | P149: =O149*H149 -> 0 | Q149: 1.720882 | R149: =Q149*H149 -> 0 | S149: 0 | T149: =S149*H149 -> 0 | AR149: 4 | AT149: K | AU149: 2 | AY149: ROZPOCET | BE149: =IF(N149="základná",J149,0) -> 0 | BF149: =IF(N149="znížená",J149,0) -> 0 | BG149: =IF(N149="zákl. prenesená",J149,0) -> 0 | BH149: =IF(N149="zníž. prenesená",J149,0) -> 0 | BI149: =IF(N149="nulová",J149,0) -> 0 | BJ149: 2 | BK149: =ROUND(I149*H149,2) -> 0 | BL149: 4 | BM149: 1656631792
C150: 6 | D150: K | E150: 331321610.S | F150: Betón stĺpov a pilierov hranatých, ťahadiel, rámových stojok, vzpier, železový (bez výstuže) tr. C 30/37 | G150: m3 | J150: =ROUND(I150*H150,2) -> 0 | N150: znížená | P150: =O150*H150 -> 0 | Q150: 2.3598536 | R150: =Q150*H150 -> 0 | S150: 0 | T150: =S150*H150 -> 0 | AR150: 4 | AT150: K | AU150: 2 | AY150: ROZPOCET | BE150: =IF(N150="základná",J150,0) -> 0 | BF150: =IF(N150="znížená",J150,0) -> 0 | BG150: =IF(N150="zákl. prenesená",J150,0) -> 0 | BH150: =IF(N150="zníž. prenesená",J150,0) -> 0 | BI150: =IF(N150="nulová",J150,0) -> 0 | BJ150: 2 | BK150: =ROUND(I150*H150,2) -> 0 | BL150: 4 | BM150: -847599800
C151: 7 | D151: K | E151: 331351101.S | F151: Debnenie hranatých stĺpov prierezu pravouhlého štvoruholníka výšky do 4 m, zhotovenie-dielce | G151: m2 | J151: =ROUND(I151*H151,2) -> 0 | N151: znížená | P151: =O151*H151 -> 0 | Q151: 0.00179497 | R151: =Q151*H151 -> 0 | S151: 0 | T151: =S151*H151 -> 0 | AR151: 4 | AT151: K | AU151: 2 | AY151: ROZPOCET | BE151: =IF(N151="základná",J151,0) -> 0 | BF151: =IF(N151="znížená",J151,0) -> 0 | BG151: =IF(N151="zákl. prenesená",J151,0) -> 0 | BH151: =IF(N151="zníž. prenesená",J151,0) -> 0 | BI151: =IF(N151="nulová",J151,0) -> 0 | BJ151: 2 | BK151: =ROUND(I151*H151,2) -> 0 | BL151: 4 | BM151: -864303666
C152: 8 | D152: K | E152: 331351102.S | F152: Debnenie hranatých stĺpov prierezu pravouhlého štvoruholníka výšky do 4 m, odstránenie-dielce | G152: m2 | J152: =ROUND(I152*H152,2) -> 0 | N152: znížená | P152: =O152*H152 -> 0 | Q152: 0 | R152: =Q152*H152 -> 0 | S152: 0 | T152: =S152*H152 -> 0 | AR152: 4 | AT152: K | AU152: 2 | AY152: ROZPOCET | BE152: =IF(N152="základná",J152,0) -> 0 | BF152: =IF(N152="znížená",J152,0) -> 0 | BG152: =IF(N152="zákl. prenesená",J152,0) -> 0 | BH152: =IF(N152="zníž. prenesená",J152,0) -> 0 | BI152: =IF(N152="nulová",J152,0) -> 0 | BJ152: 2 | BK152: =ROUND(I152*H152,2) -> 0 | BL152: 4 | BM152: -1444992860
C153: 9 | D153: K | E153: 331361821.S | F153: Výstuž stĺpov, pilierov, stojok hranatých z bet. ocele B500 (10505) | G153: t | J153: =ROUND(I153*H153,2) -> 0 | N153: znížená | P153: =O153*H153 -> 0 | Q153: 1.0195295 | R153: =Q153*H153 -> 0 | S153: 0 | T153: =S153*H153 -> 0 | AR153: 4 | AT153: K | AU153: 2 | AY153: ROZPOCET | BE153: =IF(N153="základná",J153,0) -> 0 | BF153: =IF(N153="znížená",J153,0) -> 0 | BG153: =IF(N153="zákl. prenesená",J153,0) -> 0 | BH153: =IF(N153="zníž. prenesená",J153,0) -> 0 | BI153: =IF(N153="nulová",J153,0) -> 0 | BJ153: 2 | BK153: =ROUND(I153*H153,2) -> 0 | BL153: 4 | BM153: -728337042
C154: 10 | D154: K | E154: 342272031.S | F154: Priečky z pórobetónových tvárnic hladkých s objemovou hmotnosťou do 600 kg/m3 hrúbky 100 mm | G154: m2 | J154: =ROUND(I154*H154,2) -> 0 | N154: znížená | P154: =O154*H154 -> 0 | Q154: 0.07413 | R154: =Q154*H154 -> 0 | S154: 0 | T154: =S154*H154 -> 0 | AR154: 4 | AT154: K | AU154: 2 | AY154: ROZPOCET | BE154: =IF(N154="základná",J154,0) -> 0 | BF154: =IF(N154="znížená",J154,0) -> 0 | BG154: =IF(N154="zákl. prenesená",J154,0) -> 0 | BH154: =IF(N154="zníž. prenesená",J154,0) -> 0 | BI154: =IF(N154="nulová",J154,0) -> 0 | BJ154: 2 | BK154: =ROUND(I154*H154,2) -> 0 | BL154: 4 | BM154: 1676042075
C155: 11 | D155: K | E155: 342272041.S | F155: Priečky z pórobetónových tvárnic hladkých s objemovou hmotnosťou do 600 kg/m3 hrúbky 125 mm | G155: m2 | J155: =ROUND(I155*H155,2) -> 0 | N155: znížená | P155: =O155*H155 -> 0 | Q155: 0.09304175 | R155: =Q155*H155 -> 0 | S155: 0 | T155: =S155*H155 -> 0 | AR155: 4 | AT155: K | AU155: 2 | AY155: ROZPOCET | BE155: =IF(N155="základná",J155,0) -> 0 | BF155: =IF(N155="znížená",J155,0) -> 0 | BG155: =IF(N155="zákl. prenesená",J155,0) -> 0 | BH155: =IF(N155="zníž. prenesená",J155,0) -> 0 | BI155: =IF(N155="nulová",J155,0) -> 0 | BJ155: 2 | BK155: =ROUND(I155*H155,2) -> 0 | BL155: 4 | BM155: -74297585
D156: D | E156: 4 | F156: Vodorovné konštrukcie | J156: =BK156 -> 0 | P156: =SUM(P157:P159) -> 0 | R156: =SUM(R157:R159) -> 0 | T156: =SUM(T157:T159) -> 0 | AR156: 1 | AT156: D | AU156: 1 | AY156: ROZPOCET | BK156: =SUM(BK157:BK159) -> 0
C157: 12 | D157: K | E157: 417391132.S | F157: Montáž obkladu betónových konštrukcií vykonaný súčasne s betónovaním, drevocementovou doskou s MW, drevocement hr. 7,5/7,5 mm, ZT,ZT2 | G157: m2 | J157: =ROUND(I157*H157,2) -> 0 | N157: znížená | P157: =O157*H157 -> 0 | Q157: 0.00015 | R157: =Q157*H157 -> 0 | S157: 0 | T157: =S157*H157 -> 0 | AR157: 4 | AT157: K | AU157: 2 | AY157: ROZPOCET | BE157: =IF(N157="základná",J157,0) -> 0 | BF157: =IF(N157="znížená",J157,0) -> 0 | BG157: =IF(N157="zákl. prenesená",J157,0) -> 0 | BH157: =IF(N157="zníž. prenesená",J157,0) -> 0 | BI157: =IF(N157="nulová",J157,0) -> 0 | BJ157: 2 | BK157: =ROUND(I157*H157,2) -> 0 | BL157: 4 | BM157: -352887978
C158: 13 | D158: M | E158: 591530001700.S | F158: Drevocementová doska s minerálnou vlnou, hr. 50 mm, drevocementová vrstva hr. 7,5/7,5 mm | G158: m2 | J158: =ROUND(I158*H158,2) -> 0 | N158: znížená | P158: =O158*H158 -> 0 | Q158: 0.011 | R158: =Q158*H158 -> 0 | S158: 0 | T158: =S158*H158 -> 0 | AR158: 8 | AT158: M | AU158: 2 | AY158: ROZPOCET | BE158: =IF(N158="základná",J158,0) -> 0 | BF158: =IF(N158="znížená",J158,0) -> 0 | BG158: =IF(N158="zákl. prenesená",J158,0) -> 0 | BH158: =IF(N158="zníž. prenesená",J158,0) -> 0 | BI158: =IF(N158="nulová",J158,0) -> 0 | BJ158: 2 | BK158: =ROUND(I158*H158,2) -> 0 | BL158: 4 | BM158: 699718733
C159: 14 | D159: M | E159: 591530002220.S | F159: Drevocementová doska s minerálnou vlnou, hr. 100, drevocementová vrstva hr. 12 mm, ZT2 | G159: m2 | J159: =ROUND(I159*H159,2) -> 0 | N159: znížená | P159: =O159*H159 -> 0 | Q159: 0.02 | R159: =Q159*H159 -> 0 | S159: 0 | T159: =S159*H159 -> 0 | AR159: 8 | AT159: M | AU159: 2 | AY159: ROZPOCET | BE159: =IF(N159="základná",J159,0) -> 0 | BF159: =IF(N159="znížená",J159,0) -> 0 | BG159: =IF(N159="zákl. prenesená",J159,0) -> 0 | BH159: =IF(N159="zníž. prenesená",J159,0) -> 0 | BI159: =IF(N159="nulová",J159,0) -> 0 | BJ159: 2 | BK159: =ROUND(I159*H159,2) -> 0 | BL159: 4 | BM159: 1081269549
D160: D | E160: 6 | F160: Úpravy povrchov, podlahy, osadenie | J160: =BK160 -> 0 | P160: =SUM(P161:P179) -> 0 | R160: =SUM(R161:R179) -> 0 | T160: =SUM(T161:T179) -> 0 | AR160: 1 | AT160: D | AU160: 1 | AY160: ROZPOCET | BK160: =SUM(BK161:BK179) -> 0
C161: 15 | D161: K | E161: 611460121.S | F161: Príprava vnútorného podkladu stropov penetráciou základnou | G161: m2 | J161: =ROUND(I161*H161,2) -> 0 | N161: znížená | P161: =O161*H161 -> 0 | Q161: 0.00023 | R161: =Q161*H161 -> 0 | S161: 0 | T161: =S161*H161 -> 0 | AR161: 4 | AT161: K | AU161: 2 | AY161: ROZPOCET | BE161: =IF(N161="základná",J161,0) -> 0 | BF161: =IF(N161="znížená",J161,0) -> 0 | BG161: =IF(N161="zákl. prenesená",J161,0) -> 0 | BH161: =IF(N161="zníž. prenesená",J161,0) -> 0 | BI161: =IF(N161="nulová",J161,0) -> 0 | BJ161: 2 | BK161: =ROUND(I161*H161,2) -> 0 | BL161: 4 | BM161: 1303116947
C162: 16 | D162: K | E162: 611460384.S | F162: Vnútorná omietka stropov vápennocementová štuková (jemná), hr. 4 mm | G162: m2 | J162: =ROUND(I162*H162,2) -> 0 | N162: znížená | P162: =O162*H162 -> 0 | Q162: 0.0066 | R162: =Q162*H162 -> 0 | S162: 0 | T162: =S162*H162 -> 0 | AR162: 4 | AT162: K | AU162: 2 | AY162: ROZPOCET | BE162: =IF(N162="základná",J162,0) -> 0 | BF162: =IF(N162="znížená",J162,0) -> 0 | BG162: =IF(N162="zákl. prenesená",J162,0) -> 0 | BH162: =IF(N162="zníž. prenesená",J162,0) -> 0 | BI162: =IF(N162="nulová",J162,0) -> 0 | BJ162: 2 | BK162: =ROUND(I162*H162,2) -> 0 | BL162: 4 | BM162: -1051864845
C163: 17 | D163: K | E163: 611481119.S | F163: Potiahnutie vnútorných stropov sklotextilnou mriežkou s celoplošným prilepením, P5,P6,P7 | G163: m2 | J163: =ROUND(I163*H163,2) -> 0 | N163: znížená | P163: =O163*H163 -> 0 | Q163: 0.005154 | R163: =Q163*H163 -> 0 | S163: 0 | T163: =S163*H163 -> 0 | AR163: 4 | AT163: K | AU163: 2 | AY163: ROZPOCET | BE163: =IF(N163="základná",J163,0) -> 0 | BF163: =IF(N163="znížená",J163,0) -> 0 | BG163: =IF(N163="zákl. prenesená",J163,0) -> 0 | BH163: =IF(N163="zníž. prenesená",J163,0) -> 0 | BI163: =IF(N163="nulová",J163,0) -> 0 | BJ163: 2 | BK163: =ROUND(I163*H163,2) -> 0 | BL163: 4 | BM163: 1833112945
C164: 18 | D164: K | E164: 612460121.S | F164: Príprava vnútorného podkladu stien penetráciou základnou | G164: m2 | J164: =ROUND(I164*H164,2) -> 0 | N164: znížená | P164: =O164*H164 -> 0 | Q164: 0.00023 | R164: =Q164*H164 -> 0 | S164: 0 | T164: =S164*H164 -> 0 | AR164: 4 | AT164: K | AU164: 2 | AY164: ROZPOCET | BE164: =IF(N164="základná",J164,0) -> 0 | BF164: =IF(N164="znížená",J164,0) -> 0 | BG164: =IF(N164="zákl. prenesená",J164,0) -> 0 | BH164: =IF(N164="zníž. prenesená",J164,0) -> 0 | BI164: =IF(N164="nulová",J164,0) -> 0 | BJ164: 2 | BK164: =ROUND(I164*H164,2) -> 0 | BL164: 4 | BM164: 526168613
...

Sheet STA - Statika
L2: >> skryté stĺpce << | AT2: {d357b84f-bf81-4236-b8d6-f3611a0259c8}
AT3: 0
D4: KRYCÍ LIST ROZPOČTU | M4: v --- nižšie sa nachádzajú doplnkové a pomocné údaje k zostavám --- v | AT4: False
D6: Stavba:
E7: ='Rekapitulácia stavby'!K6 -> Nové záchytné centrum, Bojnice
D8: Objekt:
E9: SO 01 - Chovný priestor
D10: Časť:
E11: STA - Statika
D13: JKSO: | I13: ČS:
D14: Miesto: | F14: Bojnice | I14: Dátum: | J14: ='Rekapitulácia stavby'!AN8 -> 46146
D16: Objednávateľ: | I16: IČO:
E17: Národná zoologická záhrada | I17: IČ DPH:
D19: Zhotoviteľ: | I19: IČO:
I20: IČ DPH: | J20: ='Rekapitulácia stavby'!AN14 -> 0
D22: Projektant: | I22: IČO:
E23: ERGAprojekt s.r.o. | I23: IČ DPH:
D25: Spracovateľ: | I25: IČO: | J25: =IF('Rekapitulácia stavby'!AN19="","",'Rekapitulácia stavby'!AN19)
E26: =IF('Rekapitulácia stavby'!E20="","",'Rekapitulácia stavby'!E20) | I26: IČ DPH: | J26: =IF('Rekapitulácia stavby'!AN20="","",'Rekapitulácia stavby'!AN20)
D28: Poznámka:
D32: Cena bez DPH | J32: =ROUND(J126, 2) -> 0
F34: Základ dane | I34: Sadzba dane | J34: Výška dane
D35: DPH | E35: základná | F35: =ROUND((SUM(BE126:BE171)), 2) -> 0 | I35: 0.23 | J35: =ROUND(((SUM(BE126:BE171))*I35), 2) -> 0
E36: znížená | F36: =ROUND((SUM(BF126:BF171)), 2) -> 0 | I36: 0.23 | J36: =ROUND(((SUM(BF126:BF171))*I36), 2) -> 0
E37: zákl. prenesená | F37: =ROUND((SUM(BG126:BG171)), 2) -> 0 | I37: 0.23 | J37: =0 -> 0
E38: zníž. prenesená | F38: =ROUND((SUM(BH126:BH171)), 2) -> 0 | I38: 0.23 | J38: =0 -> 0
E39: nulová | F39: =ROUND((SUM(BI126:BI171)), 2) -> 0 | I39: 0 | J39: =0 -> 0
D41: Cena s DPH | G41: v | H41: EUR | J41: =SUM(J32:J39) -> 0
D50: Projektant | G50: Spracovateľ
D61: Dátum a podpis: | F61: Pečiatka | G61: Dátum a podpis: | J61: Pečiatka
D65: Objednávateľ | G65: Zhotoviteľ
D76: Dátum a podpis: | F76: Pečiatka | G76: Dátum a podpis: | J76: Pečiatka
C82: REKAPITULÁCIA ROZPOČTU
C84: Stavba:
E85: =E7 -> Nové záchytné centrum, Bojnice
C86: Objekt:
E87: SO 01 - Chovný priestor
C88: Časť:
E89: =E11 -> STA - Statika
C91: Miesto: | F91: =F14 -> Bojnice | I91: Dátum: | J91: =IF(J14="","",J14) -> 46146
C93: Objednávateľ: | F93: =E17 -> Národná zoologická záhrada | I93: Projektant: | J93: =E23 -> ERGAprojekt s.r.o.
C94: Zhotoviteľ: | F94: =IF(E20="","",E20) | I94: Spracovateľ: | J94: =E26
C96: Kód dielu - Popis | J96: Cena celkom [EUR]
C98: Náklady z rozpočtu | J98: =J126 -> 0 | AU98: -1
D99: HSV - Práce a dodávky HSV | J99: =J127 -> 0
D100: 1 - Zemné práce | J100: =J128 -> 0
D101: 2 - Zakladanie | J101: =J136 -> 0
D102: 4 - Vodorovné konštrukcie | J102: =J143 -> 0
D103: 6 - Úpravy povrchov, podlahy, osadenie | J103: =J168 -> 0
D104: 99 - Presun hmôt HSV | J104: =J170 -> 0
C111: ROZPOČET
C113: Stavba:
E114: =E7 -> Nové záchytné centrum, Bojnice
C115: Objekt:
E116: SO 01 - Chovný priestor
C117: Časť:
E118: =E11 -> STA - Statika
C120: Miesto: | F120: =F14 -> Bojnice | I120: Dátum: | J120: =IF(J14="","",J14) -> 46146
C122: Objednávateľ: | F122: =E17 -> Národná zoologická záhrada | I122: Projektant: | J122: =E23 -> ERGAprojekt s.r.o.
C123: Zhotoviteľ: | F123: =IF(E20="","",E20) | I123: Spracovateľ: | J123: =E26
C125: PČ | D125: Typ | E125: Kód | F125: Popis | G125: MJ | H125: Množstvo | I125: J.cena [EUR] | J125: Cena celkom [EUR] | K125: Cenová sústava | N125: DPH | O125: J. Nh [h] | P125: Nh celkom [h] | Q125: J. hmotnosť [t] | R125: Hmotnosť celkom [t] | S125: J. suť [t] | T125: Suť Celkom [t]
C126: Náklady z rozpočtu | J126: =BK126 -> 0 | P126: =P127 -> 0 | R126: =R127 -> 0 | T126: =T127 -> 0 | AT126: D | AU126: -1 | BK126: =BK127 -> 0
D127: D | E127: HSV | F127: Práce a dodávky HSV | J127: =BK127 -> 0 | P127: =P128+P136+P143+P168+P170 -> 0 | R127: =R128+R136+R143+R168+R170 -> 0 | T127: =T128+T136+T143+T168+T170 -> 0 | AR127: 1 | AT127: D | AU127: 0 | AY127: ROZPOCET | BK127: =BK128+BK136+BK143+BK168+BK170 -> 0
D128: D | E128: 1 | F128: Zemné práce | J128: =BK128 -> 0 | P128: =SUM(P129:P135) -> 0 | R128: =SUM(R129:R135) -> 0 | T128: =SUM(T129:T135) -> 0 | AR128: 1 | AT128: D | AU128: 1 | AY128: ROZPOCET | BK128: =SUM(BK129:BK135) -> 0
C129: 1 | D129: K | E129: 122301102.S | F129: Odkopávka a prekopávka nezapažená v hornine 4, nad 100 do 1000 m3 | G129: m3 | J129: =ROUND(I129*H129,2) -> 0 | N129: znížená | P129: =O129*H129 -> 0 | Q129: 0 | R129: =Q129*H129 -> 0 | S129: 0 | T129: =S129*H129 -> 0 | AR129: 4 | AT129: K | AU129: 2 | AY129: ROZPOCET | BE129: =IF(N129="základná",J129,0) -> 0 | BF129: =IF(N129="znížená",J129,0) -> 0 | BG129: =IF(N129="zákl. prenesená",J129,0) -> 0 | BH129: =IF(N129="zníž. prenesená",J129,0) -> 0 | BI129: =IF(N129="nulová",J129,0) -> 0 | BJ129: 2 | BK129: =ROUND(I129*H129,2) -> 0 | BL129: 4 | BM129: -1458837311
C130: 2 | D130: K | E130: 122301109.S | F130: Odkopávky a prekopávky nezapažené. Príplatok za lepivosť horniny 4 | G130: m3 | J130: =ROUND(I130*H130,2) -> 0 | N130: znížená | P130: =O130*H130 -> 0 | Q130: 0 | R130: =Q130*H130 -> 0 | S130: 0 | T130: =S130*H130 -> 0 | AR130: 4 | AT130: K | AU130: 2 | AY130: ROZPOCET | BE130: =IF(N130="základná",J130,0) -> 0 | BF130: =IF(N130="znížená",J130,0) -> 0 | BG130: =IF(N130="zákl. prenesená",J130,0) -> 0 | BH130: =IF(N130="zníž. prenesená",J130,0) -> 0 | BI130: =IF(N130="nulová",J130,0) -> 0 | BJ130: 2 | BK130: =ROUND(I130*H130,2) -> 0 | BL130: 4 | BM130: 1632997971
C131: 3 | D131: K | E131: 132301201.S | F131: Výkop ryhy šírky 600-2000mm hor 4 do 100 m3 | G131: m3 | J131: =ROUND(I131*H131,2) -> 0 | N131: znížená | P131: =O131*H131 -> 0 | Q131: 0 | R131: =Q131*H131 -> 0 | S131: 0 | T131: =S131*H131 -> 0 | AR131: 4 | AT131: K | AU131: 2 | AY131: ROZPOCET | BE131: =IF(N131="základná",J131,0) -> 0 | BF131: =IF(N131="znížená",J131,0) -> 0 | BG131: =IF(N131="zákl. prenesená",J131,0) -> 0 | BH131: =IF(N131="zníž. prenesená",J131,0) -> 0 | BI131: =IF(N131="nulová",J131,0) -> 0 | BJ131: 2 | BK131: =ROUND(I131*H131,2) -> 0 | BL131: 4 | BM131: 1994732671
C132: 4 | D132: K | E132: 132301209.S | F132: Príplatok za lepivosť pri hĺbení rýh š. nad 600 do 2 000 mm zapažených i nezapažených, s urovnaním dna v hornine 4 | G132: m3 | J132: =ROUND(I132*H132,2) -> 0 | N132: znížená | P132: =O132*H132 -> 0 | Q132: 0 | R132: =Q132*H132 -> 0 | S132: 0 | T132: =S132*H132 -> 0 | AR132: 4 | AT132: K | AU132: 2 | AY132: ROZPOCET | BE132: =IF(N132="základná",J132,0) -> 0 | BF132: =IF(N132="znížená",J132,0) -> 0 | BG132: =IF(N132="zákl. prenesená",J132,0) -> 0 | BH132: =IF(N132="zníž. prenesená",J132,0) -> 0 | BI132: =IF(N132="nulová",J132,0) -> 0 | BJ132: 2 | BK132: =ROUND(I132*H132,2) -> 0 | BL132: 4 | BM132: 1806603927
C133: 5 | D133: K | E133: 162301122.S | F133: Vodorovné premiestnenie výkopku po spevnenej ceste z horniny tr.1-4, nad 100 do 1000 m3 na vzdialenosť do 1000 m | G133: m3 | J133: =ROUND(I133*H133,2) -> 0 | N133: znížená | P133: =O133*H133 -> 0 | Q133: 0 | R133: =Q133*H133 -> 0 | S133: 0 | T133: =S133*H133 -> 0 | AR133: 4 | AT133: K | AU133: 2 | AY133: ROZPOCET | BE133: =IF(N133="základná",J133,0) -> 0 | BF133: =IF(N133="znížená",J133,0) -> 0 | BG133: =IF(N133="zákl. prenesená",J133,0) -> 0 | BH133: =IF(N133="zníž. prenesená",J133,0) -> 0 | BI133: =IF(N133="nulová",J133,0) -> 0 | BJ133: 2 | BK133: =ROUND(I133*H133,2) -> 0 | BL133: 4 | BM133: -563611829
C134: 6 | D134: K | E134: 171201202.S | F134: Uloženie sypaniny na skládky nad 100 do 1000 m3 | G134: m3 | J134: =ROUND(I134*H134,2) -> 0 | N134: znížená | P134: =O134*H134 -> 0 | Q134: 0 | R134: =Q134*H134 -> 0 | S134: 0 | T134: =S134*H134 -> 0 | AR134: 4 | AT134: K | AU134: 2 | AY134: ROZPOCET | BE134: =IF(N134="základná",J134,0) -> 0 | BF134: =IF(N134="znížená",J134,0) -> 0 | BG134: =IF(N134="zákl. prenesená",J134,0) -> 0 | BH134: =IF(N134="zníž. prenesená",J134,0) -> 0 | BI134: =IF(N134="nulová",J134,0) -> 0 | BJ134: 2 | BK134: =ROUND(I134*H134,2) -> 0 | BL134: 4 | BM134: 738551222
C135: 7 | D135: K | E135: 175101201.S | F135: Obsyp objektov sypaninou z vhodných hornín 1 až 4 bez prehodenia sypaniny | G135: m3 | J135: =ROUND(I135*H135,2) -> 0 | N135: znížená | P135: =O135*H135 -> 0 | Q135: 0 | R135: =Q135*H135 -> 0 | S135: 0 | T135: =S135*H135 -> 0 | AR135: 4 | AT135: K | AU135: 2 | AY135: ROZPOCET | BE135: =IF(N135="základná",J135,0) -> 0 | BF135: =IF(N135="znížená",J135,0) -> 0 | BG135: =IF(N135="zákl. prenesená",J135,0) -> 0 | BH135: =IF(N135="zníž. prenesená",J135,0) -> 0 | BI135: =IF(N135="nulová",J135,0) -> 0 | BJ135: 2 | BK135: =ROUND(I135*H135,2) -> 0 | BL135: 4 | BM135: 407654280
D136: D | E136: 2 | F136: Zakladanie | J136: =BK136 -> 0 | P136: =SUM(P137:P142) -> 0 | R136: =SUM(R137:R142) -> 0 | T136: =SUM(T137:T142) -> 0 | AR136: 1 | AT136: D | AU136: 1 | AY136: ROZPOCET | BK136: =SUM(BK137:BK142) -> 0
C137: 8 | D137: K | E137: 273321511.S | F137: Betón základových dosiek, železový (bez výstuže), tr. C 30/37 | G137: m3 | J137: =ROUND(I137*H137,2) -> 0 | N137: znížená | P137: =O137*H137 -> 0 | Q137: 2.3683327 | R137: =Q137*H137 -> 0 | S137: 0 | T137: =S137*H137 -> 0 | AR137: 4 | AT137: K | AU137: 2 | AY137: ROZPOCET | BE137: =IF(N137="základná",J137,0) -> 0 | BF137: =IF(N137="znížená",J137,0) -> 0 | BG137: =IF(N137="zákl. prenesená",J137,0) -> 0 | BH137: =IF(N137="zníž. prenesená",J137,0) -> 0 | BI137: =IF(N137="nulová",J137,0) -> 0 | BJ137: 2 | BK137: =ROUND(I137*H137,2) -> 0 | BL137: 4 | BM137: -664371217
C138: 9 | D138: K | E138: 273351215.S | F138: Debnenie stien základových dosiek, zhotovenie-dielce | G138: m2 | J138: =ROUND(I138*H138,2) -> 0 | N138: znížená | P138: =O138*H138 -> 0 | Q138: 0.00159474 | R138: =Q138*H138 -> 0 | S138: 0 | T138: =S138*H138 -> 0 | AR138: 4 | AT138: K | AU138: 2 | AY138: ROZPOCET | BE138: =IF(N138="základná",J138,0) -> 0 | BF138: =IF(N138="znížená",J138,0) -> 0 | BG138: =IF(N138="zákl. prenesená",J138,0) -> 0 | BH138: =IF(N138="zníž. prenesená",J138,0) -> 0 | BI138: =IF(N138="nulová",J138,0) -> 0 | BJ138: 2 | BK138: =ROUND(I138*H138,2) -> 0 | BL138: 4 | BM138: 1833557695
C139: 10 | D139: K | E139: 273351216.S | F139: Debnenie stien základových dosiek, odstránenie-dielce | G139: m2 | J139: =ROUND(I139*H139,2) -> 0 | N139: znížená | P139: =O139*H139 -> 0 | Q139: 0 | R139: =Q139*H139 -> 0 | S139: 0 | T139: =S139*H139 -> 0 | AR139: 4 | AT139: K | AU139: 2 | AY139: ROZPOCET | BE139: =IF(N139="základná",J139,0) -> 0 | BF139: =IF(N139="znížená",J139,0) -> 0 | BG139: =IF(N139="zákl. prenesená",J139,0) -> 0 | BH139: =IF(N139="zníž. prenesená",J139,0) -> 0 | BI139: =IF(N139="nulová",J139,0) -> 0 | BJ139: 2 | BK139: =ROUND(I139*H139,2) -> 0 | BL139: 4 | BM139: -1176185110
C140: 11 | D140: K | E140: 273362021.S | F140: Výstuž základových dosiek zo zvár. sietí KARI | G140: t | J140: =ROUND(I140*H140,2) -> 0 | N140: znížená | P140: =O140*H140 -> 0 | Q140: 1.2029614 | R140: =Q140*H140 -> 0 | S140: 0 | T140: =S140*H140 -> 0 | AR140: 4 | AT140: K | AU140: 2 | AY140: ROZPOCET | BE140: =IF(N140="základná",J140,0) -> 0 | BF140: =IF(N140="znížená",J140,0) -> 0 | BG140: =IF(N140="zákl. prenesená",J140,0) -> 0 | BH140: =IF(N140="zníž. prenesená",J140,0) -> 0 | BI140: =IF(N140="nulová",J140,0) -> 0 | BJ140: 2 | BK140: =ROUND(I140*H140,2) -> 0 | BL140: 4 | BM140: -2022911489
C141: 12 | D141: K | E141: 274321511.S | F141: Betón základových pásov, železový (bez výstuže), tr. C 30/37 | G141: m3 | J141: =ROUND(I141*H141,2) -> 0 | N141: znížená | P141: =O141*H141 -> 0 | Q141: 2.3683327 | R141: =Q141*H141 -> 0 | S141: 0 | T141: =S141*H141 -> 0 | AR141: 4 | AT141: K | AU141: 2 | AY141: ROZPOCET | BE141: =IF(N141="základná",J141,0) -> 0 | BF141: =IF(N141="znížená",J141,0) -> 0 | BG141: =IF(N141="zákl. prenesená",J141,0) -> 0 | BH141: =IF(N141="zníž. prenesená",J141,0) -> 0 | BI141: =IF(N141="nulová",J141,0) -> 0 | BJ141: 2 | BK141: =ROUND(I141*H141,2) -> 0 | BL141: 4 | BM141: 465053279
C142: 13 | D142: K | E142: 274361821.S | F142: Výstuž základových pásov z ocele B500 (10505) | G142: t | J142: =ROUND(I142*H142,2) -> 0 | N142: znížená | P142: =O142*H142 -> 0 | Q142: 1.0189585 | R142: =Q142*H142 -> 0 | S142: 0 | T142: =S142*H142 -> 0 | AR142: 4 | AT142: K | AU142: 2 | AY142: ROZPOCET | BE142: =IF(N142="základná",J142,0) -> 0 | BF142: =IF(N142="znížená",J142,0) -> 0 | BG142: =IF(N142="zákl. prenesená",J142,0) -> 0 | BH142: =IF(N142="zníž. prenesená",J142,0) -> 0 | BI142: =IF(N142="nulová",J142,0) -> 0 | BJ142: 2 | BK142: =ROUND(I142*H142,2) -> 0 | BL142: 4 | BM142: -1009255140
D143: D | E143: 4 | F143: Vodorovné konštrukcie | J143: =BK143 -> 0 | P143: =SUM(P144:P167) -> 0 | R143: =SUM(R144:R167) -> 0 | T143: =SUM(T144:T167) -> 0 | AR143: 1 | AT143: D | AU143: 1 | AY143: ROZPOCET | BK143: =SUM(BK144:BK167) -> 0
C144: 14 | D144: K | E144: 411321616.S | F144: Betón stropov doskových a trámových, železový tr. C 30/37 | G144: m3 | J144: =ROUND(I144*H144,2) -> 0 | N144: znížená | P144: =O144*H144 -> 0 | Q144: 2.35999 | R144: =Q144*H144 -> 0 | S144: 0 | T144: =S144*H144 -> 0 | AR144: 4 | AT144: K | AU144: 2 | AY144: ROZPOCET | BE144: =IF(N144="základná",J144,0) -> 0 | BF144: =IF(N144="znížená",J144,0) -> 0 | BG144: =IF(N144="zákl. prenesená",J144,0) -> 0 | BH144: =IF(N144="zníž. prenesená",J144,0) -> 0 | BI144: =IF(N144="nulová",J144,0) -> 0 | BJ144: 2 | BK144: =ROUND(I144*H144,2) -> 0 | BL144: 4 | BM144: 1947063077
C145: 15 | D145: K | E145: 411351101.S | F145: Debnenie stropov doskových zhotovenie-dielce | G145: m2 | J145: =ROUND(I145*H145,2) -> 0 | N145: znížená | P145: =O145*H145 -> 0 | Q145: 0.00186439 | R145: =Q145*H145 -> 0 | S145: 0 | T145: =S145*H145 -> 0 | AR145: 4 | AT145: K | AU145: 2 | AY145: ROZPOCET | BE145: =IF(N145="základná",J145,0) -> 0 | BF145: =IF(N145="znížená",J145,0) -> 0 | BG145: =IF(N145="zákl. prenesená",J145,0) -> 0 | BH145: =IF(N145="zníž. prenesená",J145,0) -> 0 | BI145: =IF(N145="nulová",J145,0) -> 0 | BJ145: 2 | BK145: =ROUND(I145*H145,2) -> 0 | BL145: 4 | BM145: 1751016377
C146: 16 | D146: K | E146: 411351102.S | F146: Debnenie stropov doskových odstránenie-dielce | G146: m2 | J146: =ROUND(I146*H146,2) -> 0 | N146: znížená | P146: =O146*H146 -> 0 | Q146: 0 | R146: =Q146*H146 -> 0 | S146: 0 | T146: =S146*H146 -> 0 | AR146: 4 | AT146: K | AU146: 2 | AY146: ROZPOCET | BE146: =IF(N146="základná",J146,0) -> 0 | BF146: =IF(N146="znížená",J146,0) -> 0 | BG146: =IF(N146="zákl. prenesená",J146,0) -> 0 | BH146: =IF(N146="zníž. prenesená",J146,0) -> 0 | BI146: =IF(N146="nulová",J146,0) -> 0 | BJ146: 2 | BK146: =ROUND(I146*H146,2) -> 0 | BL146: 4 | BM146: -1541897286
C147: 17 | D147: K | E147: 411354173.S | F147: Podporná konštrukcia stropov výšky do 4 m pre zaťaženie do 12 kPa zhotovenie | G147: m2 | J147: =ROUND(I147*H147,2) -> 0 | N147: znížená | P147: =O147*H147 -> 0 | Q147: 0.0037525 | R147: =Q147*H147 -> 0 | S147: 0 | T147: =S147*H147 -> 0 | AR147: 4 | AT147: K | AU147: 2 | AY147: ROZPOCET | BE147: =IF(N147="základná",J147,0) -> 0 | BF147: =IF(N147="znížená",J147,0) -> 0 | BG147: =IF(N147="zákl. prenesená",J147,0) -> 0 | BH147: =IF(N147="zníž. prenesená",J147,0) -> 0 | BI147: =IF(N147="nulová",J147,0) -> 0 | BJ147: 2 | BK147: =ROUND(I147*H147,2) -> 0 | BL147: 4 | BM147: 1340369229
C148: 18 | D148: K | E148: 411354174.S | F148: Podporná konštrukcia stropov výšky do 4 m pre zaťaženie do 12 kPa odstránenie | G148: m2 | J148: =ROUND(I148*H148,2) -> 0 | N148: znížená | P148: =O148*H148 -> 0 | Q148: 0 | R148: =Q148*H148 -> 0 | S148: 0 | T148: =S148*H148 -> 0 | AR148: 4 | AT148: K | AU148: 2 | AY148: ROZPOCET | BE148: =IF(N148="základná",J148,0) -> 0 | BF148: =IF(N148="znížená",J148,0) -> 0 | BG148: =IF(N148="zákl. prenesená",J148,0) -> 0 | BH148: =IF(N148="zníž. prenesená",J148,0) -> 0 | BI148: =IF(N148="nulová",J148,0) -> 0 | BJ148: 2 | BK148: =ROUND(I148*H148,2) -> 0 | BL148: 4 | BM148: -1267258394
C149: 19 | D149: K | E149: 411354175.S | F149: Podporná konštrukcia stropov výšky do 4 m pre zaťaženie do 20 kPa zhotovenie | G149: m2 | J149: =ROUND(I149*H149,2) -> 0 | N149: znížená | P149: =O149*H149 -> 0 | Q149: 0.0053325 | R149: =Q149*H149 -> 0 | S149: 0 | T149: =S149*H149 -> 0 | AR149: 4 | AT149: K | AU149: 2 | AY149: ROZPOCET | BE149: =IF(N149="základná",J149,0) -> 0 | BF149: =IF(N149="znížená",J149,0) -> 0 | BG149: =IF(N149="zákl. prenesená",J149,0) -> 0 | BH149: =IF(N149="zníž. prenesená",J149,0) -> 0 | BI149: =IF(N149="nulová",J149,0) -> 0 | BJ149: 2 | BK149: =ROUND(I149*H149,2) -> 0 | BL149: 4 | BM149: 517713225
C150: 20 | D150: K | E150: 411354176.S | F150: Podporná konštrukcia stropov výšky do 4 m pre zaťaženie do 20 kPa odstránenie | G150: m2 | J150: =ROUND(I150*H150,2) -> 0 | N150: znížená | P150: =O150*H150 -> 0 | Q150: 0 | R150: =Q150*H150 -> 0 | S150: 0 | T150: =S150*H150 -> 0 | AR150: 4 | AT150: K | AU150: 2 | AY150: ROZPOCET | BE150: =IF(N150="základná",J150,0) -> 0 | BF150: =IF(N150="znížená",J150,0) -> 0 | BG150: =IF(N150="zákl. prenesená",J150,0) -> 0 | BH150: =IF(N150="zníž. prenesená",J150,0) -> 0 | BI150: =IF(N150="nulová",J150,0) -> 0 | BJ150: 2 | BK150: =ROUND(I150*H150,2) -> 0 | BL150: 4 | BM150: -1946258970
C151: 21 | D151: K | E151: 411361821.S | F151: Výstuž stropov doskových, trámových, vložkových,konzolových alebo balkónových, B500 (10505) | G151: t | J151: =ROUND(I151*H151,2) -> 0 | N151: znížená | P151: =O151*H151 -> 0 | Q151: 1.0162834 | R151: =Q151*H151 -> 0 | S151: 0 | T151: =S151*H151 -> 0 | AR151: 4 | AT151: K | AU151: 2 | AY151: ROZPOCET | BE151: =IF(N151="základná",J151,0) -> 0 | BF151: =IF(N151="znížená",J151,0) -> 0 | BG151: =IF(N151="zákl. prenesená",J151,0) -> 0 | BH151: =IF(N151="zníž. prenesená",J151,0) -> 0 | BI151: =IF(N151="nulová",J151,0) -> 0 | BJ151: 2 | BK151: =ROUND(I151*H151,2) -> 0 | BL151: 4 | BM151: -107229117
C152: 22 | D152: K | E152: 413321616.S | F152: Betón nosníkov, železový tr. C 30/37 | G152: m3 | J152: =ROUND(I152*H152,2) -> 0 | N152: znížená | P152: =O152*H152 -> 0 | Q152: 2.35999 | R152: =Q152*H152 -> 0 | S152: 0 | T152: =S152*H152 -> 0 | AR152: 4 | AT152: K | AU152: 2 | AY152: ROZPOCET | BE152: =IF(N152="základná",J152,0) -> 0 | BF152: =IF(N152="znížená",J152,0) -> 0 | BG152: =IF(N152="zákl. prenesená",J152,0) -> 0 | BH152: =IF(N152="zníž. prenesená",J152,0) -> 0 | BI152: =IF(N152="nulová",J152,0) -> 0 | BJ152: 2 | BK152: =ROUND(I152*H152,2) -> 0 | BL152: 4 | BM152: 2100235696
C153: 23 | D153: K | E153: 413351107.S | F153: Debnenie nosníka zhotovenie-dielce | G153: m2 | J153: =ROUND(I153*H153,2) -> 0 | N153: znížená | P153: =O153*H153 -> 0 | Q153: 0.00109 | R153: =Q153*H153 -> 0 | S153: 0 | T153: =S153*H153 -> 0 | AR153: 4 | AT153: K | AU153: 2 | AY153: ROZPOCET | BE153: =IF(N153="základná",J153,0) -> 0 | BF153: =IF(N153="znížená",J153,0) -> 0 | BG153: =IF(N153="zákl. prenesená",J153,0) -> 0 | BH153: =IF(N153="zníž. prenesená",J153,0) -> 0 | BI153: =IF(N153="nulová",J153,0) -> 0 | BJ153: 2 | BK153: =ROUND(I153*H153,2) -> 0 | BL153: 4 | BM153: 1579708587
C154: 24 | D154: K | E154: 413351108.S | F154: Debnenie nosníka odstránenie-dielce | G154: m2 | J154: =ROUND(I154*H154,2) -> 0 | N154: znížená | P154: =O154*H154 -> 0 | Q154: 0 | R154: =Q154*H154 -> 0 | S154: 0 | T154: =S154*H154 -> 0 | AR154: 4 | AT154: K | AU154: 2 | AY154: ROZPOCET | BE154: =IF(N154="základná",J154,0) -> 0 | BF154: =IF(N154="znížená",J154,0) -> 0 | BG154: =IF(N154="zákl. prenesená",J154,0) -> 0 | BH154: =IF(N154="zníž. prenesená",J154,0) -> 0 | BI154: =IF(N154="nulová",J154,0) -> 0 | BJ154: 2 | BK154: =ROUND(I154*H154,2) -> 0 | BL154: 4 | BM154: -2015447168
C155: 25 | D155: K | E155: 413351213.S | F155: Podporná konštrukcia nosníkov výšky do 4 m zaťaženia do 10 kPa - zhotovenie | G155: m2 | J155: =ROUND(I155*H155,2) -> 0 | N155: znížená | P155: =O155*H155 -> 0 | Q155: 0.00616 | R155: =Q155*H155 -> 0 | S155: 0 | T155: =S155*H155 -> 0 | AR155: 4 | AT155: K | AU155: 2 | AY155: ROZPOCET | BE155: =IF(N155="základná",J155,0) -> 0 | BF155: =IF(N155="znížená",J155,0) -> 0 | BG155: =IF(N155="zákl. prenesená",J155,0) -> 0 | BH155: =IF(N155="zníž. prenesená",J155,0) -> 0 | BI155: =IF(N155="nulová",J155,0) -> 0 | BJ155: 2 | BK155: =ROUND(I155*H155,2) -> 0 | BL155: 4 | BM155: 15201740
... C167: 37 | D167: K | E167: 433351132.S | F167: Debnenie - vrátane podpernej konštrukcie - schodníc pôdorysne priamočiarych odstránenie | G167: m2 | J167: =ROUND(I167*H167,2) -> 0 | N167: znížená | P167: =O167*H167 -> 0 | Q167: 0 | R167: =Q167*H167 -> 0 | S167: 0 | T167: =S167*H167 -> 0 | AR167: 4 | AT167: K | AU167: 2 | AY167: ROZPOCET | BE167: =IF(N167="základná",J167,0) -> 0 | BF167: =IF(N167="znížená",J167,0) -> 0 | BG167: =IF(N167="zákl. prenesená",J167,0) -> 0 | BH167: =IF(N167="zníž. prenesená",J167,0) -> 0 | BI167: =IF(N167="nulová",J167,0) -> 0 | BJ167: 2 | BK167: =ROUND(I167*H167,2) -> 0 | BL167: 4 | BM167: 1919894061
D168: D | E168: 6 | F168: Úpravy povrchov, podlahy, osadenie | J168: =BK168 -> 0 | P168: =P169 -> 0 | R168: =R169 -> 0 | T168: =T169 -> 0 | AR168: 1 | AT168: D | AU168: 1 | AY168: ROZPOCET | BK168: =BK169 -> 0
C169: 38 | D169: K | E169: 631501111.S | F169: Násyp s utlačením a urovnaním povrchu z kameniva ťaženého hrubého a drobného | G169: m3 | J169: =ROUND(I169*H169,2) -> 0 | N169: znížená | P169: =O169*H169 -> 0 | Q169: 1.7127 | R169: =Q169*H169 -> 0 | S169: 0 | T169: =S169*H169 -> 0 | AR169: 4 | AT169: K | AU169: 2 | AY169: ROZPOCET | BE169: =IF(N169="základná",J169,0) -> 0 | BF169: =IF(N169="znížená",J169,0) -> 0 | BG169: =IF(N169="zákl. prenesená",J169,0) -> 0 | BH169: =IF(N169="zníž. prenesená",J169,0) -> 0 | BI169: =IF(N169="nulová",J169,0) -> 0 | BJ169: 2 | BK169: =ROUND(I169*H169,2) -> 0 | BL169: 4 | BM169: 2079975955
D170: D | E170: 99 | F170: Presun hmôt HSV | J170: =BK170 -> 0 | P170: =P171 -> 0 | R170: =R171 -> 0 | T170: =T171 -> 0 | AR170: 1 | AT170: D | AU170: 1 | AY170: ROZPOCET | BK170: =BK171 -> 0
C171: 39 | D171: K | E171: 998011001.S | F171: Presun hmôt pre budovy (801, 803, 812), zvislá konštr. z tehál, tvárnic, z kovu výšky do 6 m | G171: t | J171: =ROUND(I171*H171,2) -> 0 | N171: znížená | P171: =O171*H171 -> 0 | Q171: 0 | R171: =Q171*H171 -> 0 | S171: 0 | T171: =S171*H171 -> 0 | AR171: 4 | AT171: K | AU171: 2 | AY171: ROZPOCET | BE171: =IF(N171="základná",J171,0) -> 0 | BF171: =IF(N171="znížená",J171,0) -> 0 | BG171: =IF(N171="zákl. prenesená",J171,0) -> 0 | BH171: =IF(N171="zníž. prenesená",J171,0) -> 0 | BI171: =IF(N171="nulová",J171,0) -> 0 | BJ171: 2 | BK171: =ROUND(I171*H171,2) -> 0 | BL171: 4 | BM171: 2026968532

Sheet ZTI - Zdravotechnika
L2: >> skryté stĺpce << | AT2: {b84dc38d-72a4-40ca-a38d-2e3acf9c92e0}
AT3: 0
D4: KRYCÍ LIST ROZPOČTU | M4: v --- nižšie sa nachádzajú doplnkové a pomocné údaje k zostavám --- v | AT4: False
D6: Stavba:
E7: ='Rekapitulácia stavby'!K6 -> Nové záchytné centrum, Bojnice
D8: Objekt:
E9: SO 01 - Chovný priestor
D10: Časť:
E11: ZTI - Zdravotechnika
D13: JKSO: | I13: ČS:
D14: Miesto: | F14: Bojnice | I14: Dátum: | J14: ='Rekapitulácia stavby'!AN8 -> 46146
D16: Objednávateľ: | I16: IČO:
E17: Národná zoologická záhrada | I17: IČ DPH:
D19: Zhotoviteľ: | I19: IČO:
I20: IČ DPH:
D22: Projektant: | I22: IČO:
E23: ERGAprojekt s.r.o. | I23: IČ DPH:
D25: Spracovateľ: | I25: IČO: | J25: =IF('Rekapitulácia stavby'!AN19="","",'Rekapitulácia stavby'!AN19)
E26: =IF('Rekapitulácia stavby'!E20="","",'Rekapitulácia stavby'!E20) | I26: IČ DPH: | J26: =IF('Rekapitulácia stavby'!AN20="","",'Rekapitulácia stavby'!AN20)
D28: Poznámka:
D32: Cena bez DPH | J32: =ROUND(J131, 2) -> 0
F34: Základ dane | I34: Sadzba dane | J34: Výška dane
D35: DPH | E35: základná | F35: =ROUND((SUM(BE131:BE269)), 2) -> 0 | I35: 0.23 | J35: =ROUND(((SUM(BE131:BE269))*I35), 2) -> 0
E36: znížená | F36: =ROUND((SUM(BF131:BF269)), 2) -> 0 | I36: 0.23 | J36: =ROUND(((SUM(BF131:BF269))*I36), 2) -> 0
E37: zákl. prenesená | F37: =ROUND((SUM(BG131:BG269)), 2) -> 0 | I37: 0.23 | J37: =0 -> 0
E38: zníž. prenesená | F38: =ROUND((SUM(BH131:BH269)), 2) -> 0 | I38: 0.23 | J38: =0 -> 0
E39: nulová | F39: =ROUND((SUM(BI131:BI269)), 2) -> 0 | I39: 0 | J39: =0 -> 0
D41: Cena s DPH | G41: v | H41: EUR | J41: =SUM(J32:J39) -> 0
D50: Projektant | G50: Spracovateľ
D61: Dátum a podpis: | F61: Pečiatka | G61: Dátum a podpis: | J61: Pečiatka
D65: Objednávateľ | G65: Zhotoviteľ
D76: Dátum a podpis: | F76: Pečiatka | G76: Dátum a podpis: | J76: Pečiatka
C82: REKAPITULÁCIA ROZPOČTU
C84: Stavba:
E85: =E7 -> Nové záchytné centrum, Bojnice
C86: Objekt:
E87: SO 01 - Chovný priestor
C88: Časť:
E89: =E11 -> ZTI - Zdravotechnika
C91: Miesto: | F91: =F14 -> Bojnice | I91: Dátum: | J91: =IF(J14="","",J14) -> 46146
C93: Objednávateľ: | F93: =E17 -> Národná zoologická záhrada | I93: Projektant: | J93: =E23 -> ERGAprojekt s.r.o.
C94: Zhotoviteľ: | F94: =IF(E20="","",E20) | I94: Spracovateľ: | J94: =E26
C96: Kód dielu - Popis | J96: Cena celkom [EUR]
C98: Náklady z rozpočtu | J98: =J131 -> 0 | AU98: -1
D99: PSV - Práce a dodávky PSV | J99: =J132 -> 0
D100: 713 - Izolácie tepelné | J100: =J133 -> 0
D101: 721 - Zdravotechnika - vnútorná kanalizácia | J101: =J141 -> 0
D102: D1 - Zdravotechnika - vysokotlaký čistič | J102: =J166 -> 0
D103: 722 - Zdravotechnika - vnútorný vodovod | J103: =J178 -> 0
D104: 722a - Zdravotechnika - vnútorný vodovod-/ohrievače ventily/ | J104: =J203 -> 0
D105: D2 - Zdravotechnika -rozvody tlakovej vody | J105: =J226 -> 0
D106: 725 - Zdravotechnika - zariaď. predmety | J106: =J235 -> 0
D107: 727 - Zdravotechnika-uloženie,uchytenie potrubia | J107: =J262 -> 0
D108: HZS - Hodinové zúčtovacie sadzby | J108: =J264 -> 0
D109: OST - Ostatné | J109: =J267 -> 0
C116: ROZPOČET
C118: Stavba:
E119: =E7 -> Nové záchytné centrum, Bojnice
C120: Objekt:
E121: SO 01 - Chovný priestor
C122: Časť:
E123: =E11 -> ZTI - Zdravotechnika
C125: Miesto: | F125: =F14 -> Bojnice | I125: Dátum: | J125: =IF(J14="","",J14) -> 46146
C127: Objednávateľ: | F127: =E17 -> Národná zoologická záhrada | I127: Projektant: | J127: =E23 -> ERGAprojekt s.r.o.
C128: Zhotoviteľ: | F128: =IF(E20="","",E20) | I128: Spracovateľ: | J128: =E26
C130: PČ | D130: Typ | E130: Kód | F130: Popis | G130: MJ | H130: Množstvo | I130: J.cena [EUR] | J130: Cena celkom [EUR] | K130: Cenová sústava | N130: DPH | O130: J. Nh [h] | P130: Nh celkom [h] | Q130: J. hmotnosť [t] | R130: Hmotnosť celkom [t] | S130: J. suť [t] | T130: Suť Celkom [t]
C131: Náklady z rozpočtu | J131: =BK131 -> 0 | P131: =P132+P264+P267 -> 0 | R131: =R132+R264+R267 -> 0 | T131: =T132+T264+T267 -> 0 | AT131: D | AU131: -1 | BK131: =BK132+BK264+BK267 -> 0
D132: D | E132: PSV | F132: Práce a dodávky PSV | J132: =BK132 -> 0 | P132: =P133+P141+P166+P178+P203+P226+P235+P262 -> 0 | R132: =R133+R141+R166+R178+R203+R226+R235+R262 -> 0 | T132: =T133+T141+T166+T178+T203+T226+T235+T262 -> 0 | AR132: 2 | AT132: D | AU132: 0 | AY132: ROZPOCET | BK132: =BK133+BK141+BK166+BK178+BK203+BK226+BK235+BK262 -> 0
D133: D | E133: 713 | F133: Izolácie tepelné | J133: =BK133 -> 0 | P133: =SUM(P134:P140) -> 0 | R133: =SUM(R134:R140) -> 0 | T133: =SUM(T134:T140) -> 0 | AR133: 2 | AT133: D | AU133: 1 | AY133: ROZPOCET | BK133: =SUM(BK134:BK140) -> 0
C134: 1 | D134: K | E134: 713482121.S | F134: Montáž trubíc z PE, hr.15-20 mm,vnút.priemer do 38 mm | G134: m | J134: =ROUND(I134*H134,2) -> 0 | N134: znížená | P134: =O134*H134 -> 0 | Q134: 2e-05 | R134: =Q134*H134 -> 0 | S134: 0 | T134: =S134*H134 -> 0 | AR134: 16 | AT134: K | AU134: 2 | AY134: ROZPOCET | BE134: =IF(N134="základná",J134,0) -> 0 | BF134: =IF(N134="znížená",J134,0) -> 0 | BG134: =IF(N134="zákl. prenesená",J134,0) -> 0 | BH134: =IF(N134="zníž. prenesená",J134,0) -> 0 | BI134: =IF(N134="nulová",J134,0) -> 0 | BJ134: 2 | BK134: =ROUND(I134*H134,2) -> 0 | BL134: 16 | BM134: 2
C135: 2 | D135: M | E135: 283310002600.R | F135: Izolačná PE trubica TUBOLIT DG -A 15x13 mm (d potrubia x hr. izolácie) | G135: m | J135: =ROUND(I135*H135,2) -> 0 | N135: znížená | P135: =O135*H135 -> 0 | Q135: 1e-05 | R135: =Q135*H135 -> 0 | S135: 0 | T135: =S135*H135 -> 0 | AR135: 32 | AT135: M | AU135: 2 | AY135: ROZPOCET | BE135: =IF(N135="základná",J135,0) -> 0 | BF135: =IF(N135="znížená",J135,0) -> 0 | BG135: =IF(N135="zákl. prenesená",J135,0) -> 0 | BH135: =IF(N135="zníž. prenesená",J135,0) -> 0 | BI135: =IF(N135="nulová",J135,0) -> 0 | BJ135: 2 | BK135: =ROUND(I135*H135,2) -> 0 | BL135: 16 | BM135: 4
C136: 3 | D136: M | E136: 283310002800.R | F136: Izolačná PE trubica TUBOLIT DG -A 20x13 mm (d potrubia x hr. izolácie) | G136: m | J136: =ROUND(I136*H136,2) -> 0 | N136: znížená | P136: =O136*H136 -> 0 | Q136: 4e-05 | R136: =Q136*H136 -> 0 | S136: 0 | T136: =S136*H136 -> 0 | AR136: 32 | AT136: M | AU136: 2 | AY136: ROZPOCET | BE136: =IF(N136="základná",J136,0) -> 0 | BF136: =IF(N136="znížená",J136,0) -> 0 | BG136: =IF(N136="zákl. prenesená",J136,0) -> 0 | BH136: =IF(N136="zníž. prenesená",J136,0) -> 0 | BI136: =IF(N136="nulová",J136,0) -> 0 | BJ136: 2 | BK136: =ROUND(I136*H136,2) -> 0 | BL136: 16 | BM136: 6
C137: 4 | D137: M | E137: 283310003000.R | F137: Izolačná PE trubica TUBOLIT DG-A 25x13 mm (d potrubia x hr. izolácie), | G137: m | J137: =ROUND(I137*H137,2) -> 0 | N137: znížená | P137: =O137*H137 -> 0 | Q137: 5e-05 | R137: =Q137*H137 -> 0 | S137: 0 | T137: =S137*H137 -> 0 | AR137: 32 | AT137: M | AU137: 2 | AY137: ROZPOCET | BE137: =IF(N137="základná",J137,0) -> 0 | BF137: =IF(N137="znížená",J137,0) -> 0 | BG137: =IF(N137="zákl. prenesená",J137,0) -> 0 | BH137: =IF(N137="zníž. prenesená",J137,0) -> 0 | BI137: =IF(N137="nulová",J137,0) -> 0 | BJ137: 2 | BK137: =ROUND(I137*H137,2) -> 0 | BL137: 16 | BM137: 8
C138: 5 | D138: K | E138: 713482122.S | F138: Montáž trubíc z PE, hr.15-20 mm,vnút.priemer 39-70 mm | G138: m | J138: =ROUND(I138*H138,2) -> 0 | N138: znížená | P138: =O138*H138 -> 0 | Q138: 2e-05 | R138: =Q138*H138 -> 0 | S138: 0 | T138: =S138*H138 -> 0 | AR138: 16 | AT138: K | AU138: 2 | AY138: ROZPOCET | BE138: =IF(N138="základná",J138,0) -> 0 | BF138: =IF(N138="znížená",J138,0) -> 0 | BG138: =IF(N138="zákl. prenesená",J138,0) -> 0 | BH138: =IF(N138="zníž. prenesená",J138,0) -> 0 | BI138: =IF(N138="nulová",J138,0) -> 0 | BJ138: 2 | BK138: =ROUND(I138*H138,2) -> 0 | BL138: 16 | BM138: 10
C139: 6 | D139: M | E139: 283310005000.R | F139: Izolačná PE trubica TUBOLIT DG-A 40x20 mm (d potrubia x hr. izolácie) | G139: m | J139: =ROUND(I139*H139,2) -> 0 | N139: znížená | P139: =O139*H139 -> 0 | Q139: 9e-05 | R139: =Q139*H139 -> 0 | S139: 0 | T139: =S139*H139 -> 0 | AR139: 32 | AT139: M | AU139: 2 | AY139: ROZPOCET | BE139: =IF(N139="základná",J139,0) -> 0 | BF139: =IF(N139="znížená",J139,0) -> 0 | BG139: =IF(N139="zákl. prenesená",J139,0) -> 0 | BH139: =IF(N139="zníž. prenesená",J139,0) -> 0 | BI139: =IF(N139="nulová",J139,0) -> 0 | BJ139: 2 | BK139: =ROUND(I139*H139,2) -> 0 | BL139: 16 | BM139: 12
C140: 7 | D140: K | E140: 998713202.S | F140: Presun hmôt pre izolácie tepelné v objektoch výšky nad 6 m do 12 m | G140: % | J140: =ROUND(I140*H140,2) -> 0 | N140: znížená | P140: =O140*H140 -> 0 | Q140: 0 | R140: =Q140*H140 -> 0 | S140: 0 | T140: =S140*H140 -> 0 | AR140: 16 | AT140: K | AU140: 2 | AY140: ROZPOCET | BE140: =IF(N140="základná",J140,0) -> 0 | BF140: =IF(N140="znížená",J140,0) -> 0 | BG140: =IF(N140="zákl. prenesená",J140,0) -> 0 | BH140: =IF(N140="zníž. prenesená",J140,0) -> 0 | BI140: =IF(N140="nulová",J140,0) -> 0 | BJ140: 2 | BK140: =ROUND(I140*H140,2) -> 0 | BL140: 16 | BM140: 14
D141: D | E141: 721 | F141: Zdravotechnika - vnútorná kanalizácia | J141: =BK141 -> 0 | P141: =SUM(P142:P165) -> 0 | R141: =SUM(R142:R165) -> 0 | T141: =SUM(T142:T165) -> 0 | AR141: 2 | AT141: D | AU141: 1 | AY141: ROZPOCET | BK141: =SUM(BK142:BK165) -> 0
C142: 8 | D142: K | E142: 721171109.S | F142: Potrubie z PVC - U odpadové ležaté hrdlové D 110 mm | G142: m | J142: =ROUND(I142*H142,2) -> 0 | N142: znížená | P142: =O142*H142 -> 0 | Q142: 0.00178 | R142: =Q142*H142 -> 0 | S142: 0 | T142: =S142*H142 -> 0 | AR142: 16 | AT142: K | AU142: 2 | AY142: ROZPOCET | BE142: =IF(N142="základná",J142,0) -> 0 | BF142: =IF(N142="znížená",J142,0) -> 0 | BG142: =IF(N142="zákl. prenesená",J142,0) -> 0 | BH142: =IF(N142="zníž. prenesená",J142,0) -> 0 | BI142: =IF(N142="nulová",J142,0) -> 0 | BJ142: 2 | BK142: =ROUND(I142*H142,2) -> 0 | BL142: 16 | BM142: 16
C143: 9 | D143: K | E143: 721171110.S | F143: Potrubie z PVC - U odpadové ležaté hrdlové D 125 mm | G143: m | J143: =ROUND(I143*H143,2) -> 0 | N143: znížená | P143: =O143*H143 -> 0 | Q143: 0.00191 | R143: =Q143*H143 -> 0 | S143: 0 | T143: =S143*H143 -> 0 | AR143: 16 | AT143: K | AU143: 2 | AY143: ROZPOCET | BE143: =IF(N143="základná",J143,0) -> 0 | BF143: =IF(N143="znížená",J143,0) -> 0 | BG143: =IF(N143="zákl. prenesená",J143,0) -> 0 | BH143: =IF(N143="zníž. prenesená",J143,0) -> 0 | BI143: =IF(N143="nulová",J143,0) -> 0 | BJ143: 2 | BK143: =ROUND(I143*H143,2) -> 0 | BL143: 16 | BM143: 18
C144: 10 | D144: K | E144: 721171112.S | F144: Potrubie z PVC - U odpadové ležaté hrdlové D 160 mm | G144: m | J144: =ROUND(I144*H144,2) -> 0 | N144: znížená | P144: =O144*H144 -> 0 | Q144: 0.00264 | R144: =Q144*H144 -> 0 | S144: 0 | T144: =S144*H144 -> 0 | AR144: 16 | AT144: K | AU144: 2 | AY144: ROZPOCET | BE144: =IF(N144="základná",J144,0) -> 0 | BF144: =IF(N144="znížená",J144,0) -> 0 | BG144: =IF(N144="zákl. prenesená",J144,0) -> 0 | BH144: =IF(N144="zníž. prenesená",J144,0) -> 0 | BI144: =IF(N144="nulová",J144,0) -> 0 | BJ144: 2 | BK144: =ROUND(I144*H144,2) -> 0 | BL144: 16 | BM144: 20
C145: 11 | D145: K | E145: 721171113.S | F145: Potrubie z PVC - U odpadové ležaté hrdlové D 200 mm | G145: m | J145: =ROUND(I145*H145,2) -> 0 | N145: znížená | P145: =O145*H145 -> 0 | Q145: 0.00465 | R145: =Q145*H145 -> 0 | S145: 0 | T145: =S145*H145 -> 0 | AR145: 16 | AT145: K | AU145: 2 | AY145: ROZPOCET | BE145: =IF(N145="základná",J145,0) -> 0 | BF145: =IF(N145="znížená",J145,0) -> 0 | BG145: =IF(N145="zákl. prenesená",J145,0) -> 0 | BH145: =IF(N145="zníž. prenesená",J145,0) -> 0 | BI145: =IF(N145="nulová",J145,0) -> 0 | BJ145: 2 | BK145: =ROUND(I145*H145,2) -> 0 | BL145: 16 | BM145: 22
C146: 12 | D146: K | E146: 721172109.S | F146: Potrubie z PVC - U odpadové zvislé hrdlové Dxt 110x2,2 mm | G146: m | J146: =ROUND(I146*H146,2) -> 0 | N146: znížená | P146: =O146*H146 -> 0 | Q146: 0.00164 | R146: =Q146*H146 -> 0 | S146: 0 | T146: =S146*H146 -> 0 | AR146: 16 | AT146: K | AU146: 2 | AY146: ROZPOCET | BE146: =IF(N146="základná",J146,0) -> 0 | BF146: =IF(N146="znížená",J146,0) -> 0 | BG146: =IF(N146="zákl. prenesená",J146,0) -> 0 | BH146: =IF(N146="zníž. prenesená",J146,0) -> 0 | BI146: =IF(N146="nulová",J146,0) -> 0 | BJ146: 2 | BK146: =ROUND(I146*H146,2) -> 0 | BL146: 16 | BM146: 24
C147: 13 | D147: K | E147: 72117235pc | F147: Montáž čistiaceho kusu potrubia DN 100 | G147: ks | J147: =ROUND(I147*H147,2) -> 0 | N147: znížená | P147: =O147*H147 -> 0 | Q147: 0.00019 | R147: =Q147*H147 -> 0 | S147: 0 | T147: =S147*H147 -> 0 | AR147: 16 | AT147: K | AU147: 2 | AY147: ROZPOCET | BE147: =IF(N147="základná",J147,0) -> 0 | BF147: =IF(N147="znížená",J147,0) -> 0 | BG147: =IF(N147="zákl. prenesená",J147,0) -> 0 | BH147: =IF(N147="zníž. prenesená",J147,0) -> 0 | BI147: =IF(N147="nulová",J147,0) -> 0 | BJ147: 2 | BK147: =ROUND(I147*H147,2) -> 0 | BL147: 16 | BM147: 26
C148: 14 | D148: M | E148: 286510021600.S | F148: Čistiaci kus PVC-U, DN 110 pre hladký, kanalizačný, gravitačný systém | G148: ks | J148: =ROUND(I148*H148,2) -> 0 | N148: znížená | P148: =O148*H148 -> 0 | Q148: 0.00067 | R148: =Q148*H148 -> 0 | S148: 0 | T148: =S148*H148 -> 0 | AR148: 32 | AT148: M | AU148: 2 | AY148: ROZPOCET | BE148: =IF(N148="základná",J148,0) -> 0 | BF148: =IF(N148="znížená",J148,0) -> 0 | BG148: =IF(N148="zákl. prenesená",J148,0) -> 0 | BH148: =IF(N148="zníž. prenesená",J148,0) -> 0 | BI148: =IF(N148="nulová",J148,0) -> 0 | BJ148: 2 | BK148: =ROUND(I148*H148,2) -> 0 | BL148: 16 | BM148: 28
C149: 15 | D149: K | E149: 721173204.S | F149: Potrubie z PVC - U odpadné pripájacie D 40 mm | G149: m | J149: =ROUND(I149*H149,2) -> 0 | N149: znížená | P149: =O149*H149 -> 0 | Q149: 0.00047 | R149: =Q149*H149 -> 0 | S149: 0 | T149: =S149*H149 -> 0 | AR149: 16 | AT149: K | AU149: 2 | AY149: ROZPOCET | BE149: =IF(N149="základná",J149,0) -> 0 | BF149: =IF(N149="znížená",J149,0) -> 0 | BG149: =IF(N149="zákl. prenesená",J149,0) -> 0 | BH149: =IF(N149="zníž. prenesená",J149,0) -> 0 | BI149: =IF(N149="nulová",J149,0) -> 0 | BJ149: 2 | BK149: =ROUND(I149*H149,2) -> 0 | BL149: 16 | BM149: 30
C150: 16 | D150: K | E150: 721173205.S | F150: Potrubie z PVC - U odpadné pripájacie D 50 mm | G150: m | J150: =ROUND(I150*H150,2) -> 0 | N150: znížená | P150: =O150*H150 -> 0 | Q150: 0.00064 | R150: =Q150*H150 -> 0 | S150: 0 | T150: =S150*H150 -> 0 | AR150: 16 | AT150: K | AU150: 2 | AY150: ROZPOCET | BE150: =IF(N150="základná",J150,0) -> 0 | BF150: =IF(N150="znížená",J150,0) -> 0 | BG150: =IF(N150="zákl. prenesená",J150,0) -> 0 | BH150: =IF(N150="zníž. prenesená",J150,0) -> 0 | BI150: =IF(N150="nulová",J150,0) -> 0 | BJ150: 2 | BK150: =ROUND(I150*H150,2) -> 0 | BL150: 16 | BM150: 32
C151: 17 | D151: K | E151: 721173207.S | F151: Potrubie z PVC - U odpadné pripájacie D 75 mm | G151: m | J151: =ROUND(I151*H151,2) -> 0 | N151: znížená | P151: =O151*H151 -> 0 | Q151: 0.00071666667 | R151: =Q151*H151 -> 0 | S151: 0 | T151: =S151*H151 -> 0 | AR151: 16 | AT151: K | AU151: 2 | AY151: ROZPOCET | BE151: =IF(N151="základná",J151,0) -> 0 | BF151: =IF(N151="znížená",J151,0) -> 0 | BG151: =IF(N151="zákl. prenesená",J151,0) -> 0 | BH151: =IF(N151="zníž. prenesená",J151,0) -> 0 | BI151: =IF(N151="nulová",J151,0) -> 0 | BJ151: 2 | BK151: =ROUND(I151*H151,2) -> 0 | BL151: 16 | BM151: 34
C152: 18 | D152: K | E152: 721194104.S | F152: Zriadenie prípojky na potrubí vyvedenie a upevnenie odpadových výpustiek D 40 mm | G152: ks | J152: =ROUND(I152*H152,2) -> 0 | N152: znížená | P152: =O152*H152 -> 0 | Q152: 0 | R152: =Q152*H152 -> 0 | S152: 0 | T152: =S152*H152 -> 0 | AR152: 16 | AT152: K | AU152: 2 | AY152: ROZPOCET | BE152: =IF(N152="základná",J152,0) -> 0 | BF152: =IF(N152="znížená",J152,0) -> 0 | BG152: =IF(N152="zákl. prenesená",J152,0) -> 0 | BH152: =IF(N152="zníž. prenesená",J152,0) -> 0 | BI152: =IF(N152="nulová",J152,0) -> 0 | BJ152: 2 | BK152: =ROUND(I152*H152,2) -> 0 | BL152: 16 | BM152: 36
C153: 19 | D153: K | E153: 721194105.S | F153: Zriadenie prípojky na potrubí vyvedenie a upevnenie odpadových výpustiek D 50 mm | G153: ks | J153: =ROUND(I153*H153,2) -> 0 | N153: znížená | P153: =O153*H153 -> 0 | Q153: 0 | R153: =Q153*H153 -> 0 | S153: 0 | T153: =S153*H153 -> 0 | AR153: 16 | AT153: K | AU153: 2 | AY153: ROZPOCET | BE153: =IF(N153="základná",J153,0) -> 0 | BF153: =IF(N153="znížená",J153,0) -> 0 | BG153: =IF(N153="zákl. prenesená",J153,0) -> 0 | BH153: =IF(N153="zníž. prenesená",J153,0) -> 0 | BI153: =IF(N153="nulová",J153,0) -> 0 | BJ153: 2 | BK153: =ROUND(I153*H153,2) -> 0 | BL153: 16 | BM153: 38
... C165: 31 | D165: K | E165: 998721202.S | F165: Presun hmôt pre vnútornú kanalizáciu v objektoch výšky nad 6 do 12 m | G165: % | J165: =ROUND(I165*H165,2) -> 0 | N165: znížená | P165: =O165*H165 -> 0 | Q165: 0 | R165: =Q165*H165 -> 0 | S165: 0 | T165: =S165*H165 -> 0 | AR165: 16 | AT165: K | AU165: 2 | AY165: ROZPOCET | BE165: =IF(N165="základná",J165,0) -> 0 | BF165: =IF(N165="znížená",J165,0) -> 0 | BG165: =IF(N165="zákl. prenesená",J165,0) -> 0 | BH165: =IF(N165="zníž. prenesená",J165,0) -> 0 | BI165: =IF(N165="nulová",J165,0) -> 0 | BJ165: 2 | BK165: =ROUND(I165*H165,2) -> 0 | BL165: 16 | BM165: 62
D166: D | E166: D1 | F166: Zdravotechnika - vysokotlaký čistič | J166: =BK166 -> 0 | P166: =SUM(P167:P177) -> 0 | R166: =SUM(R167:R177) -> 0 | T166: =SUM(T167:T177) -> 0 | AR166: 1 | AT166: D | AU166: 1 | AY166: ROZPOCET | BK166: =SUM(BK167:BK177) -> 0
C167: 32 | D167: K | E167: 7219KARCHER | F167: Montáž HDC + HWE s inštalačným materiálom | G167: kpl | J167: =ROUND(I167*H167,2) -> 0 | N167: znížená | P167: =O167*H167 -> 0 | Q167: 1e-05 | R167: =Q167*H167 -> 0 | S167: 0 | T167: =S167*H167 -> 0 | AR167: 4 | AT167: K | AU167: 2 | AY167: ROZPOCET | BE167: =IF(N167="základná",J167,0) -> 0 | BF167: =IF(N167="znížená",J167,0) -> 0 | BG167: =IF(N167="zákl. prenesená",J167,0) -> 0 | BH167: =IF(N167="zníž. prenesená",J167,0) -> 0 | BI167: =IF(N167="nulová",J167,0) -> 0 | BJ167: 2 | BK167: =ROUND(I167*H167,2) -> 0 | BL167: 4 | BM167: 64
C168: 33 | D168: M | E168: 2459KARCHEN | F168: Vysokotl.čistič HDC clasic 20/16,vstupná výst.hadica na vodu,autom.zap/vypín.tepel.ochrana,ochran proti uniku vody,prív.teplota do 85 st.C,okrytov.páskovo-lak.oceľ stojan na podlahu | G168: ks | J168: =ROUND(I168*H168,2) -> 0 | N168: znížená | P168: =O168*H168 -> 0 | Q168: 0.001 | R168: =Q168*H168 -> 0 | S168: 0 | T168: =S168*H168 -> 0 | AR168: 8 | AT168: M | AU168: 2 | AY168: ROZPOCET | BE168: =IF(N168="základná",J168,0) -> 0 | BF168: =IF(N168="znížená",J168,0) -> 0 | BG168: =IF(N168="zákl. prenesená",J168,0) -> 0 | BH168: =IF(N168="zníž. prenesená",J168,0) -> 0 | BI168: =IF(N168="nulová",J168,0) -> 0 | BJ168: 2 | BK168: =ROUND(I168*H168,2) -> 0 | BL168: 4 | BM168: 66
C169: 34 | D169: M | E169: 2459KARCHEN1 | F169: Príslušenstvo na 1 odber.niesto-Hadica TR potravinárka DN 8 25MPA 20m | G169: ks | J169: =ROUND(I169*H169,2) -> 0 | N169: znížená | P169: =O169*H169 -> 0 | Q169: 0.001 | R169: =Q169*H169 -> 0 | S169: 0 | T169: =S169*H169 -> 0 | AR169: 8 | AT169: M | AU169: 2 | AY169: ROZPOCET | BE169: =IF(N169="základná",J169,0) -> 0 | BF169: =IF(N169="znížená",J169,0) -> 0 | BG169: =IF(N169="zákl. prenesená",J169,0) -> 0 | BH169: =IF(N169="zníž. prenesená",J169,0) -> 0 | BI169: =IF(N169="nulová",J169,0) -> 0 | BJ169: 2 | BK169: =ROUND(I169*H169,2) -> 0 | BL169: 4 | BM169: 68
C170: 35 | D170: M | E170: 2459KARCHEN2 | F170: Príslušenstvo na 1 odber.niesto-EASY!Force pištoľ Advancet Food | G170: ks | J170: =ROUND(I170*H170,2) -> 0 | N170: znížená | P170: =O170*H170 -> 0 | Q170: 0.001 | R170: =Q170*H170 -> 0 | S170: 0 | T170: =S170*H170 -> 0 | AR170: 8 | AT170: M | AU170: 2 | AY170: ROZPOCET | BE170: =IF(N170="základná",J170,0) -> 0 | BF170: =IF(N170="znížená",J170,0) -> 0 | BG170: =IF(N170="zákl. prenesená",J170,0) -> 0 | BH170: =IF(N170="zníž. prenesená",J170,0) -> 0 | BI170: =IF(N170="nulová",J170,0) -> 0 | BJ170: 2 | BK170: =ROUND(I170*H170,2) -> 0 | BL170: 4 | BM170: 70
C171: 36 | D171: M | E171: 2459KARCHEN3 | F171: Príslušenstvo na 1 odber.niesto-Servoregulátor TR 700L | G171: ks | J171: =ROUND(I171*H171,2) -> 0 | N171: znížená | P171: =O171*H171 -> 0 | Q171: 0.001 | R171: =Q171*H171 -> 0 | S171: 0 | T171: =S171*H171 -> 0 | AR171: 8 | AT171: M | AU171: 2 | AY171: ROZPOCET | BE171: =IF(N171="základná",J171,0) -> 0 | BF171: =IF(N171="znížená",J171,0) -> 0 | BG171: =IF(N171="zákl. prenesená",J171,0) -> 0 | BH171: =IF(N171="zníž. prenesená",J171,0) -> 0 | BI171: =IF(N171="nulová",J171,0) -> 0 | BJ171: 2 | BK171: =ROUND(I171*H171,2) -> 0 | BL171: 4 | BM171: 72
C172: 37 | D172: M | E172: 2459KARCHEN4 | F172: Príslušenstvo na 1 odber.niesto-Otočná koncovka TR 1050 mm | G172: ks | J172: =ROUND(I172*H172,2) -> 0 | N172: znížená | P172: =O172*H172 -> 0 | Q172: 0.001 | R172: =Q172*H172 -> 0 | S172: 0 | T172: =S172*H172 -> 0 | AR172: 8 | AT172: M | AU172: 2 | AY172: ROZPOCET | BE172: =IF(N172="základná",J172,0) -> 0 | BF172: =IF(N172="znížená",J172,0) -> 0 | BG172: =IF(N172="zákl. prenesená",J172,0) -> 0 | BH172: =IF(N172="zníž. prenesená",J172,0) -> 0 | BI172: =IF(N172="nulová",J172,0) -> 0 | BJ172: 2 | BK172: =ROUND(I172*H172,2) -> 0 | BL172: 4 | BM172: 74
C173: 38 | D173: M | E173: 2459KARCHEN5 | F173: Príslušenstvo na 1 odber.niesto-Powertryska TR 25115 | G173: ks | J173: =ROUND(I173*H173,2) -> 0 | N173: znížená | P173: =O173*H173 -> 0 | Q173: 0.001 | R173: =Q173*H173 -> 0 | S173: 0 | T173: =S173*H173 -> 0 | AR173: 8 | AT173: M | AU173: 2 | AY173: ROZPOCET | BE173: =IF(N173="základná",J173,0) -> 0 | BF173: =IF(N173="znížená",J173,0) -> 0 | BG173: =IF(N173="zákl. prenesená",J173,0) -> 0 | BH173: =IF(N173="zníž. prenesená",J173,0) -> 0 | BI173: =IF(N173="nulová",J173,0) -> 0 | BJ173: 2 | BK173: =ROUND(I173*H173,2) -> 0 | BL173: 4 | BM173: 76
C174: 39 | D174: M | E174: 2459KARCHEN6 | F174: Príslušenstvo na 1 odber.niesto-Držiak hadice a pištole,nehrdzavejúca oceľ | G174: ks | J174: =ROUND(I174*H174,2) -> 0 | N174: znížená | P174: =O174*H174 -> 0 | Q174: 0.001 | R174: =Q174*H174 -> 0 | S174: 0 | T174: =S174*H174 -> 0 | AR174: 8 | AT174: M | AU174: 2 | AY174: ROZPOCET | BE174: =IF(N174="základná",J174,0) -> 0 | BF174: =IF(N174="znížená",J174,0) -> 0 | BG174: =IF(N174="zákl. prenesená",J174,0) -> 0 | BH174: =IF(N174="zníž. prenesená",J174,0) -> 0 | BI174: =IF(N174="nulová",J174,0) -> 0 | BJ174: 2 | BK174: =ROUND(I174*H174,2) -> 0 | BL174: 4 | BM174: 78
C175: 40 | D175: M | E175: 2459KARCHEN7 | F175: Príprava teplej vody el.ohrev 24 kW-Boiler HWE 860 | G175: ks | J175: =ROUND(I175*H175,2) -> 0 | N175: znížená | P175: =O175*H175 -> 0 | Q175: 0.001 | R175: =Q175*H175 -> 0 | S175: 0 | T175: =S175*H175 -> 0 | AR175: 8 | AT175: M | AU175: 2 | AY175: ROZPOCET | BE175: =IF(N175="základná",J175,0) -> 0 | BF175: =IF(N175="znížená",J175,0) -> 0 | BG175: =IF(N175="zákl. prenesená",J175,0) -> 0 | BH175: =IF(N175="zníž. prenesená",J175,0) -> 0 | BI175: =IF(N175="nulová",J175,0) -> 0 | BJ175: 2 | BK175: =ROUND(I175*H175,2) -> 0 | BL175: 4 | BM175: 80
...

Sheet VYK - Vykurovanie
L2: >> skryté stĺpce << | AT2: {48394ebc-7924-4a0d-9ba1-f650dd1bacbe}
AT3: 0
D4: KRYCÍ LIST ROZPOČTU | M4: v --- nižšie sa nachádzajú doplnkové a pomocné údaje k zostavám --- v | AT4: False
D6: Stavba:
E7: ='Rekapitulácia stavby'!K6 -> Nové záchytné centrum, Bojnice
D8: Objekt:
E9: SO 01 - Chovný priestor
D10: Časť:
E11: VYK - Vykurovanie
D13: JKSO: | I13: ČS:
D14: Miesto: | F14: Bojnice | I14: Dátum: | J14: ='Rekapitulácia stavby'!AN8 -> 46146
D16: Objednávateľ: | I16: IČO:
E17: Národná zoologická záhrada | I17: IČ DPH:
D19: Zhotoviteľ: | I19: IČO:
I20: IČ DPH:
D22: Projektant: | I22: IČO:
E23: ERGAprojekt s.r.o. | I23: IČ DPH:
D25: Spracovateľ: | I25: IČO: | J25: =IF('Rekapitulácia stavby'!AN19="","",'Rekapitulácia stavby'!AN19)
E26: =IF('Rekapitulácia stavby'!E20="","",'Rekapitulácia stavby'!E20) | I26: IČ DPH: | J26: =IF('Rekapitulácia stavby'!AN20="","",'Rekapitulácia stavby'!AN20)
D28: Poznámka:
D32: Cena bez DPH | J32: =ROUND(J131, 2) -> 0
F34: Základ dane | I34: Sadzba dane | J34: Výška dane
D35: DPH | E35: základná | F35: =ROUND((SUM(BE131:BE246)), 2) -> 0 | I35: 0.23 | J35: =ROUND(((SUM(BE131:BE246))*I35), 2) -> 0
E36: znížená | F36: =ROUND((SUM(BF131:BF246)), 2) -> 0 | I36: 0.23 | J36: =ROUND(((SUM(BF131:BF246))*I36), 2) -> 0
E37: zákl. prenesená | F37: =ROUND((SUM(BG131:BG246)), 2) -> 0 | I37: 0.23 | J37: =0 -> 0
E38: zníž. prenesená | F38: =ROUND((SUM(BH131:BH246)), 2) -> 0 | I38: 0.23 | J38: =0 -> 0
E39: nulová | F39: =ROUND((SUM(BI131:BI246)), 2) -> 0 | I39: 0 | J39: =0 -> 0
D41: Cena s DPH | G41: v | H41: EUR | J41: =SUM(J32:J39) -> 0
D50: Projektant | G50: Spracovateľ
D61: Dátum a podpis: | F61: Pečiatka | G61: Dátum a podpis: | J61: Pečiatka
D65: Objednávateľ | G65: Zhotoviteľ
D76: Dátum a podpis: | F76: Pečiatka | G76: Dátum a podpis: | J76: Pečiatka
C82: REKAPITULÁCIA ROZPOČTU
C84: Stavba:
E85: =E7 -> Nové záchytné centrum, Bojnice
C86: Objekt:
E87: SO 01 - Chovný priestor
C88: Časť:
E89: =E11 -> VYK - Vykurovanie
C91: Miesto: | F91: =F14 -> Bojnice | I91: Dátum: | J91: =IF(J14="","",J14) -> 46146
C93: Objednávateľ: | F93: =E17 -> Národná zoologická záhrada | I93: Projektant: | J93: =E23 -> ERGAprojekt s.r.o.
C94: Zhotoviteľ: | F94: =IF(E20="","",E20) | I94: Spracovateľ: | J94: =E26
C96: Kód dielu - Popis | J96: Cena celkom [EUR]
C98: Náklady z rozpočtu | J98: =J131 -> 0 | AU98: -1
D99: PSV - Práce a dodávky PSV | J99: =J132 -> 0
D100: 713 - Izolácie tepelné | J100: =J133 -> 0
D101: 732 - Ústredné kúrenie - strojovne | J101: =J142 -> 0
D102: 733 - Ústredné kúrenie - rozvodné potrubie | J102: =J168 -> 0
D103: 734 - Ústredné kúrenie - armatúry | J103: =J177 -> 0
D104: 735 - Ústredné kúrenie - vykurovacie telesá | J104: =J210 -> 0
D105: 735a - Ústredné kúrenie-/podlahové vykurovanie/ | J105: =J214 -> 0
D106: 738 - Ústredné kúrenie, -vykurovacia skúška | J106: =J236 -> 0
D107: 739 - Ústredné kúrenie, -uloženie ,uchyt.potrubia | J107: =J240 -> 0
D108: HZS - Hodinové zúčtovacie sadzby | J108: =J242 -> 0
D109: OST - Ostatné | J109: =J245 -> 0
C116: ROZPOČET
C118: Stavba:
E119: =E7 -> Nové záchytné centrum, Bojnice
C120: Objekt:
E121: SO 01 - Chovný priestor
C122: Časť:
E123: =E11 -> VYK - Vykurovanie
C125: Miesto: | F125: =F14 -> Bojnice | I125: Dátum: | J125: =IF(J14="","",J14) -> 46146
C127: Objednávateľ: | F127: =E17 -> Národná zoologická záhrada | I127: Projektant: | J127: =E23 -> ERGAprojekt s.r.o.
C128: Zhotoviteľ: | F128: =IF(E20="","",E20) | I128: Spracovateľ: | J128: =E26
C130: PČ | D130: Typ | E130: Kód | F130: Popis | G130: MJ | H130: Množstvo | I130: J.cena [EUR] | J130: Cena celkom [EUR] | K130: Cenová sústava | N130: DPH | O130: J. Nh [h] | P130: Nh celkom [h] | Q130: J. hmotnosť [t] | R130: Hmotnosť celkom [t] | S130: J. suť [t] | T130: Suť Celkom [t]
C131: Náklady z rozpočtu | J131: =BK131 -> 0 | P131: =P132+P242+P245 -> 0 | R131: =R132+R242+R245 -> 0 | T131: =T132+T242+T245 -> 0 | AT131: D | AU131: -1 | BK131: =BK132+BK242+BK245 -> 0
D132: D | E132: PSV | F132: Práce a dodávky PSV | J132: =BK132 -> 0 | P132: =P133+P142+P168+P177+P210+P214+P236+P240 -> 0 | R132: =R133+R142+R168+R177+R210+R214+R236+R240 -> 0 | T132: =T133+T142+T168+T177+T210+T214+T236+T240 -> 0 | AR132: 2 | AT132: D | AU132: 0 | AY132: ROZPOCET | BK132: =BK133+BK142+BK168+BK177+BK210+BK214+BK236+BK240 -> 0
D133: D | E133: 713 | F133: Izolácie tepelné | J133: =BK133 -> 0 | P133: =SUM(P134:P141) -> 0 | R133: =SUM(R134:R141) -> 0 | T133: =SUM(T134:T141) -> 0 | AR133: 2 | AT133: D | AU133: 1 | AY133: ROZPOCET | BK133: =SUM(BK134:BK141) -> 0
C134: 1 | D134: K | E134: 713482121.S | F134: Montáž trubíc z PE, hr.15-20 mm,vnút.priemer do 38 mm | G134: m | J134: =ROUND(I134*H134,2) -> 0 | N134: znížená | P134: =O134*H134 -> 0 | Q134: 2e-05 | R134: =Q134*H134 -> 0 | S134: 0 | T134: =S134*H134 -> 0 | AR134: 16 | AT134: K | AU134: 2 | AY134: ROZPOCET | BE134: =IF(N134="základná",J134,0) -> 0 | BF134: =IF(N134="znížená",J134,0) -> 0 | BG134: =IF(N134="zákl. prenesená",J134,0) -> 0 | BH134: =IF(N134="zníž. prenesená",J134,0) -> 0 | BI134: =IF(N134="nulová",J134,0) -> 0 | BJ134: 2 | BK134: =ROUND(I134*H134,2) -> 0 | BL134: 16 | BM134: 2
C135: 2 | D135: M | E135: 283310004700 | F135: Izolačná PE trubica TUBOLIT DG 22x20 mm (d potrubia x hr. izolácie), | G135: m | J135: =ROUND(I135*H135,2) -> 0 | N135: znížená | P135: =O135*H135 -> 0 | Q135: 1e-05 | R135: =Q135*H135 -> 0 | S135: 0 | T135: =S135*H135 -> 0 | AR135: 32 | AT135: M | AU135: 2 | AY135: ROZPOCET | BE135: =IF(N135="základná",J135,0) -> 0 | BF135: =IF(N135="znížená",J135,0) -> 0 | BG135: =IF(N135="zákl. prenesená",J135,0) -> 0 | BH135: =IF(N135="zníž. prenesená",J135,0) -> 0 | BI135: =IF(N135="nulová",J135,0) -> 0 | BJ135: 2 | BK135: =ROUND(I135*H135,2) -> 0 | BL135: 16 | BM135: 4
C136: 3 | D136: K | E136: 713482131.S | F136: Montáž trubíc z PE, hr.30 mm,vnút.priemer do 38 mm | G136: m | J136: =ROUND(I136*H136,2) -> 0 | N136: znížená | P136: =O136*H136 -> 0 | Q136: 4e-05 | R136: =Q136*H136 -> 0 | S136: 0 | T136: =S136*H136 -> 0 | AR136: 16 | AT136: K | AU136: 2 | AY136: ROZPOCET | BE136: =IF(N136="základná",J136,0) -> 0 | BF136: =IF(N136="znížená",J136,0) -> 0 | BG136: =IF(N136="zákl. prenesená",J136,0) -> 0 | BH136: =IF(N136="zníž. prenesená",J136,0) -> 0 | BI136: =IF(N136="nulová",J136,0) -> 0 | BJ136: 2 | BK136: =ROUND(I136*H136,2) -> 0 | BL136: 16 | BM136: 6
C137: 4 | D137: M | E137: 283310006300 | F137: Izolačná PE trubica TUBOLIT DG 25x25 mm (d potrubia x hr. izolácie) | G137: m | J137: =ROUND(I137*H137,2) -> 0 | N137: znížená | P137: =O137*H137 -> 0 | Q137: 6e-05 | R137: =Q137*H137 -> 0 | S137: 0 | T137: =S137*H137 -> 0 | AR137: 32 | AT137: M | AU137: 2 | AY137: ROZPOCET | BE137: =IF(N137="základná",J137,0) -> 0 | BF137: =IF(N137="znížená",J137,0) -> 0 | BG137: =IF(N137="zákl. prenesená",J137,0) -> 0 | BH137: =IF(N137="zníž. prenesená",J137,0) -> 0 | BI137: =IF(N137="nulová",J137,0) -> 0 | BJ137: 2 | BK137: =ROUND(I137*H137,2) -> 0 | BL137: 16 | BM137: 8
C138: 5 | D138: M | E138: 283310006400.R | F138: Izolačná PE trubica TUBOLIT DG 32x25 mm (d potrubia x hr. izolácie), | G138: m | J138: =ROUND(I138*H138,2) -> 0 | N138: znížená | P138: =O138*H138 -> 0 | Q138: 4e-05 | R138: =Q138*H138 -> 0 | S138: 0 | T138: =S138*H138 -> 0 | AR138: 32 | AT138: M | AU138: 2 | AY138: ROZPOCET | BE138: =IF(N138="základná",J138,0) -> 0 | BF138: =IF(N138="znížená",J138,0) -> 0 | BG138: =IF(N138="zákl. prenesená",J138,0) -> 0 | BH138: =IF(N138="zníž. prenesená",J138,0) -> 0 | BI138: =IF(N138="nulová",J138,0) -> 0 | BJ138: 2 | BK138: =ROUND(I138*H138,2) -> 0 | BL138: 16 | BM138: 10
C139: 6 | D139: K | E139: 713482132.S | F139: Montáž trubíc z PE, hr.30 mm,vnút.priemer 39-70 mm | G139: m | J139: =ROUND(I139*H139,2) -> 0 | N139: znížená | P139: =O139*H139 -> 0 | Q139: 4e-05 | R139: =Q139*H139 -> 0 | S139: 0 | T139: =S139*H139 -> 0 | AR139: 16 | AT139: K | AU139: 2 | AY139: ROZPOCET | BE139: =IF(N139="základná",J139,0) -> 0 | BF139: =IF(N139="znížená",J139,0) -> 0 | BG139: =IF(N139="zákl. prenesená",J139,0) -> 0 | BH139: =IF(N139="zníž. prenesená",J139,0) -> 0 | BI139: =IF(N139="nulová",J139,0) -> 0 | BJ139: 2 | BK139: =ROUND(I139*H139,2) -> 0 | BL139: 16 | BM139: 12
C140: 7 | D140: M | E140: 283310006700 | F140: Izolačná PE trubica TUBOLIT DG 50x30 mm (d potrubia x hr. izolácie) | G140: m | J140: =ROUND(I140*H140,2) -> 0 | N140: znížená | P140: =O140*H140 -> 0 | Q140: 0.00025 | R140: =Q140*H140 -> 0 | S140: 0 | T140: =S140*H140 -> 0 | AR140: 32 | AT140: M | AU140: 2 | AY140: ROZPOCET | BE140: =IF(N140="základná",J140,0) -> 0 | BF140: =IF(N140="znížená",J140,0) -> 0 | BG140: =IF(N140="zákl. prenesená",J140,0) -> 0 | BH140: =IF(N140="zníž. prenesená",J140,0) -> 0 | BI140: =IF(N140="nulová",J140,0) -> 0 | BJ140: 2 | BK140: =ROUND(I140*H140,2) -> 0 | BL140: 16 | BM140: 14
C141: 8 | D141: K | E141: 998713202.S | F141: Presun hmôt pre izolácie tepelné v objektoch výšky nad 6 m do 12 m | G141: % | J141: =ROUND(I141*H141,2) -> 0 | N141: znížená | P141: =O141*H141 -> 0 | Q141: 0 | R141: =Q141*H141 -> 0 | S141: 0 | T141: =S141*H141 -> 0 | AR141: 16 | AT141: K | AU141: 2 | AY141: ROZPOCET | BE141: =IF(N141="základná",J141,0) -> 0 | BF141: =IF(N141="znížená",J141,0) -> 0 | BG141: =IF(N141="zákl. prenesená",J141,0) -> 0 | BH141: =IF(N141="zníž. prenesená",J141,0) -> 0 | BI141: =IF(N141="nulová",J141,0) -> 0 | BJ141: 2 | BK141: =ROUND(I141*H141,2) -> 0 | BL141: 16 | BM141: 16
D142: D | E142: 732 | F142: Ústredné kúrenie - strojovne | J142: =BK142 -> 0 | P142: =SUM(P143:P167) -> 0 | R142: =SUM(R143:R167) -> 0 | T142: =SUM(T143:T167) -> 0 | AR142: 2 | AT142: D | AU142: 1 | AY142: ROZPOCET | BK142: =SUM(BK143:BK167) -> 0
C143: 9 | D143: K | E143: 732199100.S | F143: Montáž orientačného štítka | G143: súb. | J143: =ROUND(I143*H143,2) -> 0 | N143: znížená | P143: =O143*H143 -> 0 | Q143: 0.00114 | R143: =Q143*H143 -> 0 | S143: 0 | T143: =S143*H143 -> 0 | AR143: 16 | AT143: K | AU143: 2 | AY143: ROZPOCET | BE143: =IF(N143="základná",J143,0) -> 0 | BF143: =IF(N143="znížená",J143,0) -> 0 | BG143: =IF(N143="zákl. prenesená",J143,0) -> 0 | BH143: =IF(N143="zníž. prenesená",J143,0) -> 0 | BI143: =IF(N143="nulová",J143,0) -> 0 | BJ143: 2 | BK143: =ROUND(I143*H143,2) -> 0 | BL143: 16 | BM143: 18
C144: 10 | D144: M | E144: 5482300009pc | F144: Štítok orientačný | G144: ks | J144: =ROUND(I144*H144,2) -> 0 | N144: znížená | P144: =O144*H144 -> 0 | Q144: 0.00015 | R144: =Q144*H144 -> 0 | S144: 0 | T144: =S144*H144 -> 0 | AR144: 32 | AT144: M | AU144: 2 | AY144: ROZPOCET | BE144: =IF(N144="základná",J144,0) -> 0 | BF144: =IF(N144="znížená",J144,0) -> 0 | BG144: =IF(N144="zákl. prenesená",J144,0) -> 0 | BH144: =IF(N144="zníž. prenesená",J144,0) -> 0 | BI144: =IF(N144="nulová",J144,0) -> 0 | BJ144: 2 | BK144: =ROUND(I144*H144,2) -> 0 | BL144: 16 | BM144: 20
C145: 11 | D145: K | E145: 732219210.R | F145: Montáž zásobníka akumulačného SPU-1, objem 200 l | G145: ks | J145: =ROUND(I145*H145,2) -> 0 | N145: znížená | P145: =O145*H145 -> 0 | Q145: 0 | R145: =Q145*H145 -> 0 | S145: 0 | T145: =S145*H145 -> 0 | AR145: 16 | AT145: K | AU145: 2 | AY145: ROZPOCET | BE145: =IF(N145="základná",J145,0) -> 0 | BF145: =IF(N145="znížená",J145,0) -> 0 | BG145: =IF(N145="zákl. prenesená",J145,0) -> 0 | BH145: =IF(N145="zníž. prenesená",J145,0) -> 0 | BI145: =IF(N145="nulová",J145,0) -> 0 | BJ145: 2 | BK145: =ROUND(I145*H145,2) -> 0 | BL145: 16 | BM145: 22
C146: 12 | D146: M | E146: 4842483884Wolf | F146: Zásobník akumulačný SPU-1,200 (9145869) objem 200 l (WF7) | G146: ks | J146: =ROUND(I146*H146,2) -> 0 | N146: znížená | P146: =O146*H146 -> 0 | Q146: 0.097 | R146: =Q146*H146 -> 0 | S146: 0 | T146: =S146*H146 -> 0 | AR146: 32 | AT146: M | AU146: 2 | AY146: ROZPOCET | BE146: =IF(N146="základná",J146,0) -> 0 | BF146: =IF(N146="znížená",J146,0) -> 0 | BG146: =IF(N146="zákl. prenesená",J146,0) -> 0 | BH146: =IF(N146="zníž. prenesená",J146,0) -> 0 | BI146: =IF(N146="nulová",J146,0) -> 0 | BJ146: 2 | BK146: =ROUND(I146*H146,2) -> 0 | BL146: 16 | BM146: 24
C147: 13 | D147: K | E147: 732219215.R | F147: Montáž zásobníkového ohrievača vody SEW-1-300 (WF7) objem zásobníka 290 l | G147: ks | J147: =ROUND(I147*H147,2) -> 0 | N147: znížená | P147: =O147*H147 -> 0 | Q147: 0 | R147: =Q147*H147 -> 0 | S147: 0 | T147: =S147*H147 -> 0 | AR147: 16 | AT147: K | AU147: 2 | AY147: ROZPOCET | BE147: =IF(N147="základná",J147,0) -> 0 | BF147: =IF(N147="znížená",J147,0) -> 0 | BG147: =IF(N147="zákl. prenesená",J147,0) -> 0 | BH147: =IF(N147="zníž. prenesená",J147,0) -> 0 | BI147: =IF(N147="nulová",J147,0) -> 0 | BJ147: 2 | BK147: =ROUND(I147*H147,2) -> 0 | BL147: 16 | BM147: 26
C148: 14 | D148: M | E148: 4849145937Wolf | F148: Zásobníkový ohrievač vody SEW-1-300 (WF7) objem zásobníka 290 l | G148: ks | J148: =ROUND(I148*H148,2) -> 0 | N148: znížená | P148: =O148*H148 -> 0 | Q148: 0.151 | R148: =Q148*H148 -> 0 | S148: 0 | T148: =S148*H148 -> 0 | AR148: 32 | AT148: M | AU148: 2 | AY148: ROZPOCET | BE148: =IF(N148="základná",J148,0) -> 0 | BF148: =IF(N148="znížená",J148,0) -> 0 | BG148: =IF(N148="zákl. prenesená",J148,0) -> 0 | BH148: =IF(N148="zníž. prenesená",J148,0) -> 0 | BI148: =IF(N148="nulová",J148,0) -> 0 | BJ148: 2 | BK148: =ROUND(I148*H148,2) -> 0 | BL148: 16 | BM148: 28
C149: 15 | D149: K | E149: 732331015.S | F149: Montáž expanznej nádoby tlak do 6 bar s membránou 50 l | G149: ks | J149: =ROUND(I149*H149,2) -> 0 | N149: znížená | P149: =O149*H149 -> 0 | Q149: 0 | R149: =Q149*H149 -> 0 | S149: 0 | T149: =S149*H149 -> 0 | AR149: 16 | AT149: K | AU149: 2 | AY149: ROZPOCET | BE149: =IF(N149="základná",J149,0) -> 0 | BF149: =IF(N149="znížená",J149,0) -> 0 | BG149: =IF(N149="zákl. prenesená",J149,0) -> 0 | BH149: =IF(N149="zníž. prenesená",J149,0) -> 0 | BI149: =IF(N149="nulová",J149,0) -> 0 | BJ149: 2 | BK149: =ROUND(I149*H149,2) -> 0 | BL149: 16 | BM149: 30
C150: 16 | D150: M | E150: 484630006510 | F150: Nádoba expanzná s membránou typ N 50 l, D 441 mm, v 487 mm, pripojenie R 3/4", 6 bar / 1,5 bar, šedá | G150: ks | J150: =ROUND(I150*H150,2) -> 0 | N150: znížená | P150: =O150*H150 -> 0 | Q150: 0.00205 | R150: =Q150*H150 -> 0 | S150: 0 | T150: =S150*H150 -> 0 | AR150: 32 | AT150: M | AU150: 2 | AY150: ROZPOCET | BE150: =IF(N150="základná",J150,0) -> 0 | BF150: =IF(N150="znížená",J150,0) -> 0 | BG150: =IF(N150="zákl. prenesená",J150,0) -> 0 | BH150: =IF(N150="zníž. prenesená",J150,0) -> 0 | BI150: =IF(N150="nulová",J150,0) -> 0 | BJ150: 2 | BK150: =ROUND(I150*H150,2) -> 0 | BL150: 16 | BM150: 32
C151: 17 | D151: K | E151: 7323319pc | F151: Zmäkčovacie zariadenie-/malá úpravňa vody SOBWATERM MZV 7 | G151: súb. | J151: =ROUND(I151*H151,2) -> 0 | N151: znížená | P151: =O151*H151 -> 0 | Q151: 0.00832 | R151: =Q151*H151 -> 0 | S151: 0 | T151: =S151*H151 -> 0 | AR151: 16 | AT151: K | AU151: 2 | AY151: ROZPOCET | BE151: =IF(N151="základná",J151,0) -> 0 | BF151: =IF(N151="znížená",J151,0) -> 0 | BG151: =IF(N151="zákl. prenesená",J151,0) -> 0 | BH151: =IF(N151="zníž. prenesená",J151,0) -> 0 | BI151: =IF(N151="nulová",J151,0) -> 0 | BJ151: 2 | BK151: =ROUND(I151*H151,2) -> 0 | BL151: 16 | BM151: 34
C152: 18 | D152: K | E152: 732429111.S | F152: Montáž čerpadla (do potrubia) obehového špirálového DN 25 | G152: súb. | J152: =ROUND(I152*H152,2) -> 0 | N152: znížená | P152: =O152*H152 -> 0 | Q152: 1e-05 | R152: =Q152*H152 -> 0 | S152: 0 | T152: =S152*H152 -> 0 | AR152: 16 | AT152: K | AU152: 2 | AY152: ROZPOCET | BE152: =IF(N152="základná",J152,0) -> 0 | BF152: =IF(N152="znížená",J152,0) -> 0 | BG152: =IF(N152="zákl. prenesená",J152,0) -> 0 | BH152: =IF(N152="zníž. prenesená",J152,0) -> 0 | BI152: =IF(N152="nulová",J152,0) -> 0 | BJ152: 2 | BK152: =ROUND(I152*H152,2) -> 0 | BL152: 16 | BM152: 36
C153: 19 | D153: M | E153: 426110002400 | F153: Čerpadlo obehové ALPHA2 25-40 180 | G153: ks | J153: =ROUND(I153*H153,2) -> 0 | N153: znížená | P153: =O153*H153 -> 0 | Q153: 0.00215 | R153: =Q153*H153 -> 0 | S153: 0 | T153: =S153*H153 -> 0 | AR153: 32 | AT153: M | AU153: 2 | AY153: ROZPOCET | BE153: =IF(N153="základná",J153,0) -> 0 | BF153: =IF(N153="znížená",J153,0) -> 0 | BG153: =IF(N153="zákl. prenesená",J153,0) -> 0 | BH153: =IF(N153="zníž. prenesená",J153,0) -> 0 | BI153: =IF(N153="nulová",J153,0) -> 0 | BJ153: 2 | BK153: =ROUND(I153*H153,2) -> 0 | BL153: 16 | BM153: 38
C154: 20 | D154: K | E154: 7324609pc1 | F154: Montáž zostavy s tepelným čerpadlom CHA-Monoblok 16/20,400v,s elektrickým vykurovacím článkom 9 kW,s AM (WF7) vrátane príslušenstva a dopravy | G154: kpl | J154: =ROUND(I154*H154,2) -> 0 | N154: znížená | P154: =O154*H154 -> 0 | Q154: 0 | R154: =Q154*H154 -> 0 | S154: 0 | T154: =S154*H154 -> 0 | AR154: 16 | AT154: K | AU154: 2 | AY154: ROZPOCET | BE154: =IF(N154="základná",J154,0) -> 0 | BF154: =IF(N154="znížená",J154,0) -> 0 | BG154: =IF(N154="zákl. prenesená",J154,0) -> 0 | BH154: =IF(N154="zníž. prenesená",J154,0) -> 0 | BI154: =IF(N154="nulová",J154,0) -> 0 | BJ154: 2 | BK154: =ROUND(I154*H154,2) -> 0 | BL154: 16 | BM154: 40
... C167: 33 | D167: K | E167: 998732202.S | F167: Presun hmôt pre strojovne v objektoch výšky nad 6 m do 12 m | G167: % | J167: =ROUND(I167*H167,2) -> 0 | N167: znížená | P167: =O167*H167 -> 0 | Q167: 0 | R167: =Q167*H167 -> 0 | S167: 0 | T167: =S167*H167 -> 0 | AR167: 16 | AT167: K | AU167: 2 | AY167: ROZPOCET | BE167: =IF(N167="základná",J167,0) -> 0 | BF167: =IF(N167="znížená",J167,0) -> 0 | BG167: =IF(N167="zákl. prenesená",J167,0) -> 0 | BH167: =IF(N167="zníž. prenesená",J167,0) -> 0 | BI167: =IF(N167="nulová",J167,0) -> 0 | BJ167: 2 | BK167: =ROUND(I167*H167,2) -> 0 | BL167: 16 | BM167: 66
D168: D | E168: 733 | F168: Ústredné kúrenie - rozvodné potrubie | J168: =BK168 -> 0 | P168: =SUM(P169:P176) -> 0 | R168: =SUM(R169:R176) -> 0 | T168: =SUM(T169:T176) -> 0 | AR168: 2 | AT168: D | AU168: 1 | AY168: ROZPOCET | BK168: =SUM(BK169:BK176) -> 0
C169: 34 | D169: K | E169: 733113113.R | F169: Príplatok k cene za zhotovenie prípojky do DN 20-/pre vyk.telesá a koralux/ | G169: ks | J169: =ROUND(I169*H169,2) -> 0 | N169: znížená | P169: =O169*H169 -> 0 | Q169: 0 | R169: =Q169*H169 -> 0 | S169: 0 | T169: =S169*H169 -> 0 | AR169: 16 | AT169: K | AU169: 2 | AY169: ROZPOCET | BE169: =IF(N169="základná",J169,0) -> 0 | BF169: =IF(N169="znížená",J169,0) -> 0 | BG169: =IF(N169="zákl. prenesená",J169,0) -> 0 | BH169: =IF(N169="zníž. prenesená",J169,0) -> 0 | BI169: =IF(N169="nulová",J169,0) -> 0 | BJ169: 2 | BK169: =ROUND(I169*H169,2) -> 0 | BL169: 16 | BM169: 68
C170: 35 | D170: K | E170: 733125009 | F170: Potrubie z uhlíkovej ocele Viega Prestabo 1103 spájané lisovaním 22x1,5 mm-/dn20/ | G170: m | J170: =ROUND(I170*H170,2) -> 0 | N170: znížená | P170: =O170*H170 -> 0 | Q170: 0.00103 | R170: =Q170*H170 -> 0 | S170: 0 | T170: =S170*H170 -> 0 | AR170: 16 | AT170: K | AU170: 2 | AY170: ROZPOCET | BE170: =IF(N170="základná",J170,0) -> 0 | BF170: =IF(N170="znížená",J170,0) -> 0 | BG170: =IF(N170="zákl. prenesená",J170,0) -> 0 | BH170: =IF(N170="zníž. prenesená",J170,0) -> 0 | BI170: =IF(N170="nulová",J170,0) -> 0 | BJ170: 2 | BK170: =ROUND(I170*H170,2) -> 0 | BL170: 16 | BM170: 70
C171: 36 | D171: K | E171: 733125012 | F171: Potrubie z uhlíkovej ocele Viega Prestabo 1103 spájané lisovaním 28x1,5 mm-/dn25/ | G171: m | J171: =ROUND(I171*H171,2) -> 0 | N171: znížená | P171: =O171*H171 -> 0 | Q171: 0.00128 | R171: =Q171*H171 -> 0 | S171: 0 | T171: =S171*H171 -> 0 | AR171: 16 | AT171: K | AU171: 2 | AY171: ROZPOCET | BE171: =IF(N171="základná",J171,0) -> 0 | BF171: =IF(N171="znížená",J171,0) -> 0 | BG171: =IF(N171="zákl. prenesená",J171,0) -> 0 | BH171: =IF(N171="zníž. prenesená",J171,0) -> 0 | BI171: =IF(N171="nulová",J171,0) -> 0 | BJ171: 2 | BK171: =ROUND(I171*H171,2) -> 0 | BL171: 16 | BM171: 72
C172: 37 | D172: K | E172: 733125015 | F172: Potrubie z uhlíkovej ocele Viega Prestabo 1103 spájané lisovaním 35x1,5 mm-/dn32/ | G172: m | J172: =ROUND(I172*H172,2) -> 0 | N172: znížená | P172: =O172*H172 -> 0 | Q172: 0.00158 | R172: =Q172*H172 -> 0 | S172: 0 | T172: =S172*H172 -> 0 | AR172: 16 | AT172: K | AU172: 2 | AY172: ROZPOCET | BE172: =IF(N172="základná",J172,0) -> 0 | BF172: =IF(N172="znížená",J172,0) -> 0 | BG172: =IF(N172="zákl. prenesená",J172,0) -> 0 | BH172: =IF(N172="zníž. prenesená",J172,0) -> 0 | BI172: =IF(N172="nulová",J172,0) -> 0 | BJ172: 2 | BK172: =ROUND(I172*H172,2) -> 0 | BL172: 16 | BM172: 74
C173: 38 | D173: K | E173: 733125021 | F173: Potrubie z uhlíkovej ocele Viega Prestabo 1103 spájané lisovaním 54x1,5 mm-/dn50/ | G173: m | J173: =ROUND(I173*H173,2) -> 0 | N173: znížená | P173: =O173*H173 -> 0 | Q173: 0.0025 | R173: =Q173*H173 -> 0 | S173: 0 | T173: =S173*H173 -> 0 | AR173: 16 | AT173: K | AU173: 2 | AY173: ROZPOCET | BE173: =IF(N173="základná",J173,0) -> 0 | BF173: =IF(N173="znížená",J173,0) -> 0 | BG173: =IF(N173="zákl. prenesená",J173,0) -> 0 | BH173: =IF(N173="zníž. prenesená",J173,0) -> 0 | BI173: =IF(N173="nulová",J173,0) -> 0 | BJ173: 2 | BK173: =ROUND(I173*H173,2) -> 0 | BL173: 16 | BM173: 76
C174: 39 | D174: K | E174: 7331299pc | F174: Potrubie z uhlíkovej ocele Viega Prestabo-/ príplatok na tvarovky/ | G174: kpl | J174: =ROUND(I174*H174,2) -> 0 | N174: znížená | P174: =O174*H174 -> 0 | Q174: 0.0025 | R174: =Q174*H174 -> 0 | S174: 0 | T174: =S174*H174 -> 0 | AR174: 16 | AT174: K | AU174: 2 | AY174: ROZPOCET | BE174: =IF(N174="základná",J174,0) -> 0 | BF174: =IF(N174="znížená",J174,0) -> 0 | BG174: =IF(N174="zákl. prenesená",J174,0) -> 0 | BH174: =IF(N174="zníž. prenesená",J174,0) -> 0 | BI174: =IF(N174="nulová",J174,0) -> 0 | BJ174: 2 | BK174: =ROUND(I174*H174,2) -> 0 | BL174: 16 | BM174: 78
C175: 40 | D175: K | E175: 733190107.R | F175: Tlaková skúška potrubia z rúrok Prestábo do DN 50 | G175: m | J175: =ROUND(I175*H175,2) -> 0 | N175: znížená | P175: =O175*H175 -> 0 | Q175: 0 | R175: =Q175*H175 -> 0 | S175: 0 | T175: =S175*H175 -> 0 | AR175: 16 | AT175: K | AU175: 2 | AY175: ROZPOCET | BE175: =IF(N175="základná",J175,0) -> 0 | BF175: =IF(N175="znížená",J175,0) -> 0 | BG175: =IF(N175="zákl. prenesená",J175,0) -> 0 | BH175: =IF(N175="zníž. prenesená",J175,0) -> 0 | BI175: =IF(N175="nulová",J175,0) -> 0 | BJ175: 2 | BK175: =ROUND(I175*H175,2) -> 0 | BL175: 16 | BM175: 80
C176: 41 | D176: K | E176: 998733203.S | F176: Presun hmôt pre rozvody potrubia v objektoch výšky nad 6 do 24 m | G176: % | J176: =ROUND(I176*H176,2) -> 0 | N176: znížená | P176: =O176*H176 -> 0 | Q176: 0 | R176: =Q176*H176 -> 0 | S176: 0 | T176: =S176*H176 -> 0 | AR176: 16 | AT176: K | AU176: 2 | AY176: ROZPOCET | BE176: =IF(N176="základná",J176,0) -> 0 | BF176: =IF(N176="znížená",J176,0) -> 0 | BG176: =IF(N176="zákl. prenesená",J176,0) -> 0 | BH176: =IF(N176="zníž. prenesená",J176,0) -> 0 | BI176: =IF(N176="nulová",J176,0) -> 0 | BJ176: 2 | BK176: =ROUND(I176*H176,2) -> 0 | BL176: 16 | BM176: 82
...

Sheet VZT - Vzduchotechnika a c...
L2: >> skryté stĺpce << | AT2: {12b50c6d-6ab6-43ed-88ca-443778d0c037}
AT3: 0
D4: KRYCÍ LIST ROZPOČTU | M4: v --- nižšie sa nachádzajú doplnkové a pomocné údaje k zostavám --- v | AT4: False
D6: Stavba:
E7: ='Rekapitulácia stavby'!K6 -> Nové záchytné centrum, Bojnice
D8: Objekt:
E9: SO 01 - Chovný priestor
D10: Časť:
E11: VZT - Vzduchotechnika a chladenie
D13: JKSO: | I13: ČS:
D14: Miesto: | F14: Bojnice | I14: Dátum: | J14: ='Rekapitulácia stavby'!AN8 -> 46146
D16: Objednávateľ: | I16: IČO:
E17: Národná zoologická záhrada | I17: IČ DPH:
D19: Zhotoviteľ: | I19: IČO:
I20: IČ DPH:
D22: Projektant: | I22: IČO:
E23: ERGAprojekt s.r.o. | I23: IČ DPH:
D25: Spracovateľ: | I25: IČO: | J25: =IF('Rekapitulácia stavby'!AN19="","",'Rekapitulácia stavby'!AN19)
E26: =IF('Rekapitulácia stavby'!E20="","",'Rekapitulácia stavby'!E20) | I26: IČ DPH: | J26: =IF('Rekapitulácia stavby'!AN20="","",'Rekapitulácia stavby'!AN20)
D28: Poznámka:
D32: Cena bez DPH | J32: =ROUND(J126, 2) -> 0
F34: Základ dane | I34: Sadzba dane | J34: Výška dane
D35: DPH | E35: základná | F35: =ROUND((SUM(BE126:BE169)), 2) -> 0 | I35: 0.23 | J35: =ROUND(((SUM(BE126:BE169))*I35), 2) -> 0
E36: znížená | F36: =ROUND((SUM(BF126:BF169)), 2) -> 0 | I36: 0.23 | J36: =ROUND(((SUM(BF126:BF169))*I36), 2) -> 0
E37: zákl. prenesená | F37: =ROUND((SUM(BG126:BG169)), 2) -> 0 | I37: 0.23 | J37: =0 -> 0
E38: zníž. prenesená | F38: =ROUND((SUM(BH126:BH169)), 2) -> 0 | I38: 0.23 | J38: =0 -> 0
E39: nulová | F39: =ROUND((SUM(BI126:BI169)), 2) -> 0 | I39: 0 | J39: =0 -> 0
D41: Cena s DPH | G41: v | H41: EUR | J41: =SUM(J32:J39) -> 0
D50: Projektant | G50: Spracovateľ
D61: Dátum a podpis: | F61: Pečiatka | G61: Dátum a podpis: | J61: Pečiatka
D65: Objednávateľ | G65: Zhotoviteľ
D76: Dátum a podpis: | F76: Pečiatka | G76: Dátum a podpis: | J76: Pečiatka
C82: REKAPITULÁCIA ROZPOČTU
C84: Stavba:
E85: =E7 -> Nové záchytné centrum, Bojnice
C86: Objekt:
E87: SO 01 - Chovný priestor
C88: Časť:
E89: =E11 -> VZT - Vzduchotechnika a chladenie
C91: Miesto: | F91: =F14 -> Bojnice | I91: Dátum: | J91: =IF(J14="","",J14) -> 46146
C93: Objednávateľ: | F93: =E17 -> Národná zoologická záhrada | I93: Projektant: | J93: =E23 -> ERGAprojekt s.r.o.
C94: Zhotoviteľ: | F94: =IF(E20="","",E20) | I94: Spracovateľ: | J94: =E26
C96: Kód dielu - Popis | J96: Cena celkom [EUR]
C98: Náklady z rozpočtu | J98: =J126 -> 0 | AU98: -1
D99: PSV - Práce a dodávky PSV | J99: =J127 -> 0
D100: 713 - Izolácie tepelné | J100: =J128 -> 0
D101: 739 - Vzt, -uloženie ,uchyt.potrubia | J101: =J135 -> 0
D102: 769 - Montáže vzduchotechnických zariadení | J102: =J138 -> 0
D103: HZS - Hodinové zúčtovacie sadzby | J103: =J165 -> 0
D104: OST - Ostatné | J104: =J168 -> 0
C111: ROZPOČET
C113: Stavba:
E114: =E7 -> Nové záchytné centrum, Bojnice
C115: Objekt:
E116: SO 01 - Chovný priestor
C117: Časť:
E118: =E11 -> VZT - Vzduchotechnika a chladenie
C120: Miesto: | F120: =F14 -> Bojnice | I120: Dátum: | J120: =IF(J14="","",J14) -> 46146
C122: Objednávateľ: | F122: =E17 -> Národná zoologická záhrada | I122: Projektant: | J122: =E23 -> ERGAprojekt s.r.o.
C123: Zhotoviteľ: | F123: =IF(E20="","",E20) | I123: Spracovateľ: | J123: =E26
C125: PČ | D125: Typ | E125: Kód | F125: Popis | G125: MJ | H125: Množstvo | I125: J.cena [EUR] | J125: Cena celkom [EUR] | K125: Cenová sústava | N125: DPH | O125: J. Nh [h] | P125: Nh celkom [h] | Q125: J. hmotnosť [t] | R125: Hmotnosť celkom [t] | S125: J. suť [t] | T125: Suť Celkom [t]
C126: Náklady z rozpočtu | J126: =BK126 -> 0 | P126: =P127+P165+P168 -> 0 | R126: =R127+R165+R168 -> 0 | T126: =T127+T165+T168 -> 0 | AT126: D | AU126: -1 | BK126: =BK127+BK165+BK168 -> 0
D127: D | E127: PSV | F127: Práce a dodávky PSV | J127: =BK127 -> 0 | P127: =P128+P135+P138 -> 0 | R127: =R128+R135+R138 -> 0 | T127: =T128+T135+T138 -> 0 | AR127: 2 | AT127: D | AU127: 0 | AY127: ROZPOCET | BK127: =BK128+BK135+BK138 -> 0
D128: D | E128: 713 | F128: Izolácie tepelné | J128: =BK128 -> 0 | P128: =SUM(P129:P134) -> 0 | R128: =SUM(R129:R134) -> 0 | T128: =SUM(T129:T134) -> 0 | AR128: 2 | AT128: D | AU128: 1 | AY128: ROZPOCET | BK128: =SUM(BK129:BK134) -> 0
C129: 1 | D129: K | E129: 7134212pc | F129: Montáž izolácie tepelnej potrubia, izolačnými pásmi ARMAFLEX / AF hr.25mm--/pol.špecif.1.39 / | G129: m2 | J129: =ROUND(I129*H129,2) -> 0 | N129: znížená | P129: =O129*H129 -> 0 | Q129: 0.00173 | R129: =Q129*H129 -> 0 | S129: 0 | T129: =S129*H129 -> 0 | AR129: 16 | AT129: K | AU129: 2 | AY129: ROZPOCET | BE129: =IF(N129="základná",J129,0) -> 0 | BF129: =IF(N129="znížená",J129,0) -> 0 | BG129: =IF(N129="zákl. prenesená",J129,0) -> 0 | BH129: =IF(N129="zníž. prenesená",J129,0) -> 0 | BI129: =IF(N129="nulová",J129,0) -> 0 | BJ129: 2 | BK129: =ROUND(I129*H129,2) -> 0 | BL129: 16 | BM129: 2
C130: 2 | D130: M | E130: 2833100299pc1 | F130: Izolácia potrubia izol.pásmi i ARMAFLEX/ AF ,hr.25mm-/ pol.špečifikácie ako u montáže | G130: m2 | J130: =ROUND(I130*H130,2) -> 0 | N130: znížená | P130: =O130*H130 -> 0 | Q130: 0.0004 | R130: =Q130*H130 -> 0 | S130: 0 | T130: =S130*H130 -> 0 | AR130: 32 | AT130: M | AU130: 2 | AY130: ROZPOCET | BE130: =IF(N130="základná",J130,0) -> 0 | BF130: =IF(N130="znížená",J130,0) -> 0 | BG130: =IF(N130="zákl. prenesená",J130,0) -> 0 | BH130: =IF(N130="zníž. prenesená",J130,0) -> 0 | BI130: =IF(N130="nulová",J130,0) -> 0 | BJ130: 2 | BK130: =ROUND(I130*H130,2) -> 0 | BL130: 16 | BM130: 4
C131: 3 | D131: K | E131: 713491111.S | F131: Izolácia tepelná - montáž oplechovania pevného - potrubia | G131: m2 | J131: =ROUND(I131*H131,2) -> 0 | N131: znížená | P131: =O131*H131 -> 0 | Q131: 8e-05 | R131: =Q131*H131 -> 0 | S131: 0 | T131: =S131*H131 -> 0 | AR131: 16 | AT131: K | AU131: 2 | AY131: ROZPOCET | BE131: =IF(N131="základná",J131,0) -> 0 | BF131: =IF(N131="znížená",J131,0) -> 0 | BG131: =IF(N131="zákl. prenesená",J131,0) -> 0 | BH131: =IF(N131="zníž. prenesená",J131,0) -> 0 | BI131: =IF(N131="nulová",J131,0) -> 0 | BJ131: 2 | BK131: =ROUND(I131*H131,2) -> 0 | BL131: 16 | BM131: 6
C132: 4 | D132: M | E132: 138110006200.S | F132: Plech hladký pozinkovaný hr. 1,00 mm | G132: t | J132: =ROUND(I132*H132,2) -> 0 | N132: znížená | P132: =O132*H132 -> 0 | Q132: 1 | R132: =Q132*H132 -> 0 | S132: 0 | T132: =S132*H132 -> 0 | AR132: 32 | AT132: M | AU132: 2 | AY132: ROZPOCET | BE132: =IF(N132="základná",J132,0) -> 0 | BF132: =IF(N132="znížená",J132,0) -> 0 | BG132: =IF(N132="zákl. prenesená",J132,0) -> 0 | BH132: =IF(N132="zníž. prenesená",J132,0) -> 0 | BI132: =IF(N132="nulová",J132,0) -> 0 | BJ132: 2 | BK132: =ROUND(I132*H132,2) -> 0 | BL132: 16 | BM132: 8
C133: 5 | D133: K | E133: 713491119.S | F133: Izolácia tepelná - výroba oplechovania | G133: m2 | J133: =ROUND(I133*H133,2) -> 0 | N133: znížená | P133: =O133*H133 -> 0 | Q133: 0 | R133: =Q133*H133 -> 0 | S133: 0 | T133: =S133*H133 -> 0 | AR133: 16 | AT133: K | AU133: 2 | AY133: ROZPOCET | BE133: =IF(N133="základná",J133,0) -> 0 | BF133: =IF(N133="znížená",J133,0) -> 0 | BG133: =IF(N133="zákl. prenesená",J133,0) -> 0 | BH133: =IF(N133="zníž. prenesená",J133,0) -> 0 | BI133: =IF(N133="nulová",J133,0) -> 0 | BJ133: 2 | BK133: =ROUND(I133*H133,2) -> 0 | BL133: 16 | BM133: 10
C134: 6 | D134: K | E134: 998713202.S | F134: Presun hmôt pre izolácie tepelné v objektoch výšky nad 6 m do 12 m | G134: % | J134: =ROUND(I134*H134,2) -> 0 | N134: znížená | P134: =O134*H134 -> 0 | Q134: 0 | R134: =Q134*H134 -> 0 | S134: 0 | T134: =S134*H134 -> 0 | AR134: 16 | AT134: K | AU134: 2 | AY134: ROZPOCET | BE134: =IF(N134="základná",J134,0) -> 0 | BF134: =IF(N134="znížená",J134,0) -> 0 | BG134: =IF(N134="zákl. prenesená",J134,0) -> 0 | BH134: =IF(N134="zníž. prenesená",J134,0) -> 0 | BI134: =IF(N134="nulová",J134,0) -> 0 | BJ134: 2 | BK134: =ROUND(I134*H134,2) -> 0 | BL134: 16 | BM134: 12
D135: D | E135: 739 | F135: Vzt, -uloženie ,uchyt.potrubia | J135: =BK135 -> 0 | P135: =SUM(P136:P137) -> 0 | R135: =SUM(R136:R137) -> 0 | T135: =SUM(T136:T137) -> 0 | AR135: 1 | AT135: D | AU135: 1 | AY135: ROZPOCET | BK135: =SUM(BK136:BK137) -> 0
C136: 7 | D136: K | E136: 7390000pc | F136: Závesy pre ulož a uchytenie potrubia -/predbežne/predpoklad | G136: kpl | J136: =ROUND(I136*H136,2) -> 0 | N136: znížená | P136: =O136*H136 -> 0 | Q136: 0 | R136: =Q136*H136 -> 0 | S136: 0 | T136: =S136*H136 -> 0 | AR136: 4 | AT136: K | AU136: 2 | AY136: ROZPOCET | BE136: =IF(N136="základná",J136,0) -> 0 | BF136: =IF(N136="znížená",J136,0) -> 0 | BG136: =IF(N136="zákl. prenesená",J136,0) -> 0 | BH136: =IF(N136="zníž. prenesená",J136,0) -> 0 | BI136: =IF(N136="nulová",J136,0) -> 0 | BJ136: 2 | BK136: =ROUND(I136*H136,2) -> 0 | BL136: 4 | BM136: 14
C137: 8 | D137: K | E137: 7390000pc1 | F137: Konzoly pre VZT potrubie vedené na fasáde-40ks -/predbežne/predpoklad/ | G137: kpl | J137: =ROUND(I137*H137,2) -> 0 | N137: znížená | P137: =O137*H137 -> 0 | Q137: 0 | R137: =Q137*H137 -> 0 | S137: 0 | T137: =S137*H137 -> 0 | AR137: 4 | AT137: K | AU137: 2 | AY137: ROZPOCET | BE137: =IF(N137="základná",J137,0) -> 0 | BF137: =IF(N137="znížená",J137,0) -> 0 | BG137: =IF(N137="zákl. prenesená",J137,0) -> 0 | BH137: =IF(N137="zníž. prenesená",J137,0) -> 0 | BI137: =IF(N137="nulová",J137,0) -> 0 | BJ137: 2 | BK137: =ROUND(I137*H137,2) -> 0 | BL137: 4 | BM137: 16
D138: D | E138: 769 | F138: Montáže vzduchotechnických zariadení | J138: =BK138 -> 0 | P138: =SUM(P139:P164) -> 0 | R138: =SUM(R139:R164) -> 0 | T138: =SUM(T139:T164) -> 0 | AR138: 2 | AT138: D | AU138: 1 | AY138: ROZPOCET | BK138: =SUM(BK139:BK164) -> 0
C139: 9 | D139: K | E139: 769021036.S | F139: Montáž štvorhranného potrubia tesnosti I dĺžky 1000 mm do obvodu 1000 mm-/pol.špecif.1.8,pol.1.9,pol.1.10/ | G139: m2 | J139: =ROUND(I139*H139,2) -> 0 | N139: znížená | P139: =O139*H139 -> 0 | Q139: 0 | R139: =Q139*H139 -> 0 | S139: 0 | T139: =S139*H139 -> 0 | AR139: 16 | AT139: K | AU139: 2 | AY139: ROZPOCET | BE139: =IF(N139="základná",J139,0) -> 0 | BF139: =IF(N139="znížená",J139,0) -> 0 | BG139: =IF(N139="zákl. prenesená",J139,0) -> 0 | BH139: =IF(N139="zníž. prenesená",J139,0) -> 0 | BI139: =IF(N139="nulová",J139,0) -> 0 | BJ139: 2 | BK139: =ROUND(I139*H139,2) -> 0 | BL139: 16 | BM139: 18
C140: 10 | D140: M | E140: 429820000100.S | F140: Potrubie štvorhranné, rovné dĺ. 1000 mm, rozmer do obvodu 1000 mm-/množstvo podľa mont.položky/ | G140: m2 | J140: =ROUND(I140*H140,2) -> 0 | N140: znížená | P140: =O140*H140 -> 0 | Q140: 0.0083 | R140: =Q140*H140 -> 0 | S140: 0 | T140: =S140*H140 -> 0 | AR140: 32 | AT140: M | AU140: 2 | AY140: ROZPOCET | BE140: =IF(N140="základná",J140,0) -> 0 | BF140: =IF(N140="znížená",J140,0) -> 0 | BG140: =IF(N140="zákl. prenesená",J140,0) -> 0 | BH140: =IF(N140="zníž. prenesená",J140,0) -> 0 | BI140: =IF(N140="nulová",J140,0) -> 0 | BJ140: 2 | BK140: =ROUND(I140*H140,2) -> 0 | BL140: 16 | BM140: 20
C141: 11 | D141: K | E141: 769021040.S | F141: Montáž štvorhranného potrubia tesnosti I dĺžky 1000 mm do obvodu 1800 mm-/pol.špecif.1.2,pol.pol.1.3,pol.1.4,pol.1.5,pol.1.6,pol.1.7/ | G141: m2 | J141: =ROUND(I141*H141,2) -> 0 | N141: znížená | P141: =O141*H141 -> 0 | Q141: 0 | R141: =Q141*H141 -> 0 | S141: 0 | T141: =S141*H141 -> 0 | AR141: 16 | AT141: K | AU141: 2 | AY141: ROZPOCET | BE141: =IF(N141="základná",J141,0) -> 0 | BF141: =IF(N141="znížená",J141,0) -> 0 | BG141: =IF(N141="zákl. prenesená",J141,0) -> 0 | BH141: =IF(N141="zníž. prenesená",J141,0) -> 0 | BI141: =IF(N141="nulová",J141,0) -> 0 | BJ141: 2 | BK141: =ROUND(I141*H141,2) -> 0 | BL141: 16 | BM141: 22
C142: 12 | D142: M | E142: 429820000200.S | F142: Potrubie štvorhranné, rovné dĺ. 1000 mm, rozmer do obvodu 1800 mm-/množzstvo podľa špecifik.montáže/ | G142: m2 | J142: =ROUND(I142*H142,2) -> 0 | N142: znížená | P142: =O142*H142 -> 0 | Q142: 0.0083 | R142: =Q142*H142 -> 0 | S142: 0 | T142: =S142*H142 -> 0 | AR142: 32 | AT142: M | AU142: 2 | AY142: ROZPOCET | BE142: =IF(N142="základná",J142,0) -> 0 | BF142: =IF(N142="znížená",J142,0) -> 0 | BG142: =IF(N142="zákl. prenesená",J142,0) -> 0 | BH142: =IF(N142="zníž. prenesená",J142,0) -> 0 | BI142: =IF(N142="nulová",J142,0) -> 0 | BJ142: 2 | BK142: =ROUND(I142*H142,2) -> 0 | BL142: 16 | BM142: 24
C143: 13 | D143: K | E143: 769021250.S | F143: Montáž tvarovky do štvorhranného potrubia do obvodu 1000 mm- oblúky-/pol.zo špecif.mater.pol.1.1c,pol.1.1d,pol.1.1e/ | G143: m2 | J143: =ROUND(I143*H143,2) -> 0 | N143: znížená | P143: =O143*H143 -> 0 | Q143: 0 | R143: =Q143*H143 -> 0 | S143: 0 | T143: =S143*H143 -> 0 | AR143: 16 | AT143: K | AU143: 2 | AY143: ROZPOCET | BE143: =IF(N143="základná",J143,0) -> 0 | BF143: =IF(N143="znížená",J143,0) -> 0 | BG143: =IF(N143="zákl. prenesená",J143,0) -> 0 | BH143: =IF(N143="zníž. prenesená",J143,0) -> 0 | BI143: =IF(N143="nulová",J143,0) -> 0 | BJ143: 2 | BK143: =ROUND(I143*H143,2) -> 0 | BL143: 16 | BM143: 26
C144: 14 | D144: M | E144: 429850026300.S | F144: Tvarovka pre štvorhranné potrubie 1000-/množstvo podľa špecfikácie montáže/ | G144: m2 | J144: =ROUND(I144*H144,2) -> 0 | N144: znížená | P144: =O144*H144 -> 0 | Q144: 0.0086992806 | R144: =Q144*H144 -> 0 | S144: 0 | T144: =S144*H144 -> 0 | AR144: 32 | AT144: M | AU144: 2 | AY144: ROZPOCET | BE144: =IF(N144="základná",J144,0) -> 0 | BF144: =IF(N144="znížená",J144,0) -> 0 | BG144: =IF(N144="zákl. prenesená",J144,0) -> 0 | BH144: =IF(N144="zníž. prenesená",J144,0) -> 0 | BI144: =IF(N144="nulová",J144,0) -> 0 | BJ144: 2 | BK144: =ROUND(I144*H144,2) -> 0 | BL144: 16 | BM144: 28
C145: 15 | D145: K | E145: 769021250.S1 | F145: Montáž tvarovky do štvorhranného potrubia do obvodu 1000 mm- odbočky jednoduché-/pol.zo špecif.mater.pol.1.16,pol.1.24,pol.1.25/ | G145: m2 | J145: =ROUND(I145*H145,2) -> 0 | N145: znížená | P145: =O145*H145 -> 0 | Q145: 0 | R145: =Q145*H145 -> 0 | S145: 0 | T145: =S145*H145 -> 0 | AR145: 16 | AT145: K | AU145: 2 | AY145: ROZPOCET | BE145: =IF(N145="základná",J145,0) -> 0 | BF145: =IF(N145="znížená",J145,0) -> 0 | BG145: =IF(N145="zákl. prenesená",J145,0) -> 0 | BH145: =IF(N145="zníž. prenesená",J145,0) -> 0 | BI145: =IF(N145="nulová",J145,0) -> 0 | BJ145: 2 | BK145: =ROUND(I145*H145,2) -> 0 | BL145: 16 | BM145: 30
C146: 16 | D146: M | E146: 429850026300.S1 | F146: Tvarovka pre štvorhranné potrubie 1000-/množstvo podľa špecfikácie montáže/ | G146: m2 | J146: =ROUND(I146*H146,2) -> 0 | N146: znížená | P146: =O146*H146 -> 0 | Q146: 0.0087 | R146: =Q146*H146 -> 0 | S146: 0 | T146: =S146*H146 -> 0 | AR146: 32 | AT146: M | AU146: 2 | AY146: ROZPOCET | BE146: =IF(N146="základná",J146,0) -> 0 | BF146: =IF(N146="znížená",J146,0) -> 0 | BG146: =IF(N146="zákl. prenesená",J146,0) -> 0 | BH146: =IF(N146="zníž. prenesená",J146,0) -> 0 | BI146: =IF(N146="nulová",J146,0) -> 0 | BJ146: 2 | BK146: =ROUND(I146*H146,2) -> 0 | BL146: 16 | BM146: 32
C147: 17 | D147: K | E147: 769021253.S | F147: Montáž tvarovky do štvorhranného potrubia do obvodu 1800 mm-oblúky -/tvarovky podľa špecifik.materialu pol.1.1b,pol.1.1a/ | G147: m2 | J147: =ROUND(I147*H147,2) -> 0 | N147: znížená | P147: =O147*H147 -> 0 | Q147: 0 | R147: =Q147*H147 -> 0 | S147: 0 | T147: =S147*H147 -> 0 | AR147: 16 | AT147: K | AU147: 2 | AY147: ROZPOCET | BE147: =IF(N147="základná",J147,0) -> 0 | BF147: =IF(N147="znížená",J147,0) -> 0 | BG147: =IF(N147="zákl. prenesená",J147,0) -> 0 | BH147: =IF(N147="zníž. prenesená",J147,0) -> 0 | BI147: =IF(N147="nulová",J147,0) -> 0 | BJ147: 2 | BK147: =ROUND(I147*H147,2) -> 0 | BL147: 16 | BM147: 34
C148: 18 | D148: M | E148: 429850026400.S | F148: Tvarovka pre štvorhranné potrubie 1800-/množstvo podľa montaž.pol. | G148: m2 | J148: =ROUND(I148*H148,2) -> 0 | N148: znížená | P148: =O148*H148 -> 0 | Q148: 0.0087 | R148: =Q148*H148 -> 0 | S148: 0 | T148: =S148*H148 -> 0 | AR148: 32 | AT148: M | AU148: 2 | AY148: ROZPOCET | BE148: =IF(N148="základná",J148,0) -> 0 | BF148: =IF(N148="znížená",J148,0) -> 0 | BG148: =IF(N148="zákl. prenesená",J148,0) -> 0 | BH148: =IF(N148="zníž. prenesená",J148,0) -> 0 | BI148: =IF(N148="nulová",J148,0) -> 0 | BJ148: 2 | BK148: =ROUND(I148*H148,2) -> 0 | BL148: 16 | BM148: 36
C149: 19 | D149: K | E149: 769021253.S1 | F149: Montáž tvarovky do štvorhranného potrubia do obvodu 1800 mm-odbočky jednoduché -/tvarovky podľa špecifik.materialu pol.1.12,pol.1.13,pol.1.14,pol.1.15/,pol.1.17,,pol.1.18,pol.1.19,pol.1.20,pol.1.21,pol.1.22,pol.1.23,/ | G149: m2 | J149: =ROUND(I149*H149,2) -> 0 | N149: znížená | P149: =O149*H149 -> 0 | Q149: 0 | R149: =Q149*H149 -> 0 | S149: 0 | T149: =S149*H149 -> 0 | AR149: 16 | AT149: K | AU149: 2 | AY149: ROZPOCET | BE149: =IF(N149="základná",J149,0) -> 0 | BF149: =IF(N149="znížená",J149,0) -> 0 | BG149: =IF(N149="zákl. prenesená",J149,0) -> 0 | BH149: =IF(N149="zníž. prenesená",J149,0) -> 0 | BI149: =IF(N149="nulová",J149,0) -> 0 | BJ149: 2 | BK149: =ROUND(I149*H149,2) -> 0 | BL149: 16 | BM149: 38
C150: 20 | D150: M | E150: 429850026400.S1 | F150: Tvarovky pre štvorhranné potrubie 1800-/množstvo podľa montaž.položiek-/odbočky/ | G150: m2 | J150: =ROUND(I150*H150,2) -> 0 | N150: znížená | P150: =O150*H150 -> 0 | Q150: 0.008700333 | R150: =Q150*H150 -> 0 | S150: 0 | T150: =S150*H150 -> 0 | AR150: 32 | AT150: M | AU150: 2 | AY150: ROZPOCET | BE150: =IF(N150="základná",J150,0) -> 0 | BF150: =IF(N150="znížená",J150,0) -> 0 | BG150: =IF(N150="zákl. prenesená",J150,0) -> 0 | BH150: =IF(N150="zníž. prenesená",J150,0) -> 0 | BI150: =IF(N150="nulová",J150,0) -> 0 | BJ150: 2 | BK150: =ROUND(I150*H150,2) -> 0 | BL150: 16 | BM150: 40
... C164: 34 | D164: K | E164: 998769203.S | F164: Presun hmôt pre montáž vzduchotechnických zariadení v stavbe (objekte) výšky nad 7 do 24 m | G164: % | J164: =ROUND(I164*H164,2) -> 0 | N164: znížená | P164: =O164*H164 -> 0 | Q164: 0 | R164: =Q164*H164 -> 0 | S164: 0 | T164: =S164*H164 -> 0 | AR164: 16 | AT164: K | AU164: 2 | AY164: ROZPOCET | BE164: =IF(N164="základná",J164,0) -> 0 | BF164: =IF(N164="znížená",J164,0) -> 0 | BG164: =IF(N164="zákl. prenesená",J164,0) -> 0 | BH164: =IF(N164="zníž. prenesená",J164,0) -> 0 | BI164: =IF(N164="nulová",J164,0) -> 0 | BJ164: 2 | BK164: =ROUND(I164*H164,2) -> 0 | BL164: 16 | BM164: 68
D165: D | E165: HZS | F165: Hodinové zúčtovacie sadzby | J165: =BK165 -> 0 | P165: =SUM(P166:P167) -> 0 | R165: =SUM(R166:R167) -> 0 | T165: =SUM(T166:T167) -> 0 | AR165: 4 | AT165: D | AU165: 0 | AY165: ROZPOCET | BK165: =SUM(BK166:BK167) -> 0
C166: 35 | D166: K | E166: HZS000113p | F166: Stavebno montážne práce náročné ucelené - odborné...ostatné /nerozpočované položkami ako ,stav.upravy otvorov,potrebné práce pri ulož a uchyt.potrubia ,pom.lešenie a pod.../ | G166: hod | J166: =ROUND(I166*H166,2) -> 0 | N166: znížená | P166: =O166*H166 -> 0 | Q166: 0 | R166: =Q166*H166 -> 0 | S166: 0 | T166: =S166*H166 -> 0 | AR166: 262144 | AT166: K | AU166: 1 | AY166: ROZPOCET | BE166: =IF(N166="základná",J166,0) -> 0 | BF166: =IF(N166="znížená",J166,0) -> 0 | BG166: =IF(N166="zákl. prenesená",J166,0) -> 0 | BH166: =IF(N166="zníž. prenesená",J166,0) -> 0 | BI166: =IF(N166="nulová",J166,0) -> 0 | BJ166: 2 | BK166: =ROUND(I166*H166,2) -> 0 | BL166: 262144 | BM166: 70
C167: 36 | D167: K | E167: HZS000114p | F167: Stavebno montážne práce najnáročnejšie na odbornosť - uvedenie zariadenie do prevádzky akomplexné vyskúšanie,rev.správy /v rozsahu viac ako 8 hodín/ | G167: hod | J167: =ROUND(I167*H167,2) -> 0 | N167: znížená | P167: =O167*H167 -> 0 | Q167: 0 | R167: =Q167*H167 -> 0 | S167: 0 | T167: =S167*H167 -> 0 | AR167: 262144 | AT167: K | AU167: 1 | AY167: ROZPOCET | BE167: =IF(N167="základná",J167,0) -> 0 | BF167: =IF(N167="znížená",J167,0) -> 0 | BG167: =IF(N167="zákl. prenesená",J167,0) -> 0 | BH167: =IF(N167="zníž. prenesená",J167,0) -> 0 | BI167: =IF(N167="nulová",J167,0) -> 0 | BJ167: 2 | BK167: =ROUND(I167*H167,2) -> 0 | BL167: 262144 | BM167: 72
D168: D | E168: OST | F168: Ostatné | J168: =BK168 -> 0 | P168: =P169 -> 0 | R168: =R169 -> 0 | T168: =T169 -> 0 | AR168: 4 | AT168: D | AU168: 0 | AY168: ROZPOCET | BK168: =BK169 -> 0
C169: 37 | D169: K | E169: OSTS000213.2 | F169: Stavebno montážne práce náročné ucelené - odborné, /-protokoly o skúškách....predbežne/ | G169: kpl | J169: =ROUND(I169*H169,2) -> 0 | N169: znížená | P169: =O169*H169 -> 0 | Q169: 0 | R169: =Q169*H169 -> 0 | S169: 0 | T169: =S169*H169 -> 0 | AR169: 262144 | AT169: K | AU169: 1 | AY169: ROZPOCET | BE169: =IF(N169="základná",J169,0) -> 0 | BF169: =IF(N169="znížená",J169,0) -> 0 | BG169: =IF(N169="zákl. prenesená",J169,0) -> 0 | BH169: =IF(N169="zníž. prenesená",J169,0) -> 0 | BI169: =IF(N169="nulová",J169,0) -> 0 | BJ169: 2 | BK169: =ROUND(I169*H169,2) -> 0 | BL169: 262144 | BM169: 74

Sheet ELI - Elektroinštalácia
L2: >> skryté stĺpce << | AT2: {7d8ed1e8-546c-4923-ab90-734250cc260e}
AT3: 0
D4: KRYCÍ LIST ROZPOČTU | M4: v --- nižšie sa nachádzajú doplnkové a pomocné údaje k zostavám --- v | AT4: False
D6: Stavba:
E7: ='Rekapitulácia stavby'!K6 -> Nové záchytné centrum, Bojnice
D8: Objekt:
E9: SO 01 - Chovný priestor
D10: Časť:
E11: ELI - Elektroinštalácia
D13: JKSO: | I13: ČS:
D14: Miesto: | F14: Bojnice | I14: Dátum: | J14: ='Rekapitulácia stavby'!AN8 -> 46146
D16: Objednávateľ: | I16: IČO:
E17: Národná zoologická záhrada | I17: IČ DPH:
D19: Zhotoviteľ: | I19: IČO:
I20: IČ DPH:
D22: Projektant: | I22: IČO:
E23: ERGAprojekt s.r.o. | I23: IČ DPH:
D25: Spracovateľ: | I25: IČO: | J25: =IF('Rekapitulácia stavby'!AN19="","",'Rekapitulácia stavby'!AN19)
E26: =IF('Rekapitulácia stavby'!E20="","",'Rekapitulácia stavby'!E20) | I26: IČ DPH: | J26: =IF('Rekapitulácia stavby'!AN20="","",'Rekapitulácia stavby'!AN20)
D28: Poznámka:
D32: Cena bez DPH | J32: =ROUND(J123, 2) -> 0
F34: Základ dane | I34: Sadzba dane | J34: Výška dane
D35: DPH | E35: základná | F35: =ROUND((SUM(BE123:BE180)), 2) -> 0 | I35: 0.23 | J35: =ROUND(((SUM(BE123:BE180))*I35), 2) -> 0
E36: znížená | F36: =ROUND((SUM(BF123:BF180)), 2) -> 0 | I36: 0.23 | J36: =ROUND(((SUM(BF123:BF180))*I36), 2) -> 0
E37: zákl. prenesená | F37: =ROUND((SUM(BG123:BG180)), 2) -> 0 | I37: 0.23 | J37: =0 -> 0
E38: zníž. prenesená | F38: =ROUND((SUM(BH123:BH180)), 2) -> 0 | I38: 0.23 | J38: =0 -> 0
E39: nulová | F39: =ROUND((SUM(BI123:BI180)), 2) -> 0 | I39: 0 | J39: =0 -> 0
D41: Cena s DPH | G41: v | H41: EUR | J41: =SUM(J32:J39) -> 0
D50: Projektant | G50: Spracovateľ
D61: Dátum a podpis: | F61: Pečiatka | G61: Dátum a podpis: | J61: Pečiatka
D65: Objednávateľ | G65: Zhotoviteľ
D76: Dátum a podpis: | F76: Pečiatka | G76: Dátum a podpis: | J76: Pečiatka
C82: REKAPITULÁCIA ROZPOČTU
C84: Stavba:
E85: =E7 -> Nové záchytné centrum, Bojnice
C86: Objekt:
E87: SO 01 - Chovný priestor
C88: Časť:
E89: =E11 -> ELI - Elektroinštalácia
C91: Miesto: | F91: =F14 -> Bojnice | I91: Dátum: | J91: =IF(J14="","",J14) -> 46146
C93: Objednávateľ: | F93: =E17 -> Národná zoologická záhrada | I93: Projektant: | J93: =E23 -> ERGAprojekt s.r.o.
C94: Zhotoviteľ: | F94: =IF(E20="","",E20) | I94: Spracovateľ: | J94: =E26
C96: Kód dielu - Popis | J96: Cena celkom [EUR]
C98: Náklady z rozpočtu | J98: =J123 -> 0 | AU98: -1
D99: D1 - Rozvádzače | J99: =J124 -> 0
D100: D2 - Hrubá montáž | J100: =J126 -> 0
D101: D3 - Kompletáž | J101: =J154 -> 0
C108: ROZPOČET
C110: Stavba:
E111: =E7 -> Nové záchytné centrum, Bojnice
C112: Objekt:
E113: SO 01 - Chovný priestor
C114: Časť:
E115: =E11 -> ELI - Elektroinštalácia
C117: Miesto: | F117: =F14 -> Bojnice | I117: Dátum: | J117: =IF(J14="","",J14) -> 46146
C119: Objednávateľ: | F119: =E17 -> Národná zoologická záhrada | I119: Projektant: | J119: =E23 -> ERGAprojekt s.r.o.
C120: Zhotoviteľ: | F120: =IF(E20="","",E20) | I120: Spracovateľ: | J120: =E26
C122: PČ | D122: Typ | E122: Kód | F122: Popis | G122: MJ | H122: Množstvo | I122: J.cena [EUR] | J122: Cena celkom [EUR] | K122: Cenová sústava | N122: DPH | O122: J. Nh [h] | P122: Nh celkom [h] | Q122: J. hmotnosť [t] | R122: Hmotnosť celkom [t] | S122: J. suť [t] | T122: Suť Celkom [t]
C123: Náklady z rozpočtu | J123: =BK123 -> 0 | P123: =P124+P126+P154 -> 0 | R123: =R124+R126+R154 -> 0 | T123: =T124+T126+T154 -> 0 | AT123: D | AU123: -1 | BK123: =BK124+BK126+BK154 -> 0
D124: D | E124: D1 | F124: Rozvádzače | J124: =BK124 -> 0 | P124: =P125 -> 0 | R124: =R125 -> 0 | T124: =T125 -> 0 | AR124: 1 | AT124: D | AU124: 0 | AY124: ROZPOCET | BK124: =BK125 -> 0
C125: 0 | D125: K | E125: Pol1 | F125: Rozvádzač RH podľa schémy na výkrese č. 05 | G125: ks | J125: =ROUND(I125*H125,2) -> 0 | N125: znížená | P125: =O125*H125 -> 0 | Q125: 0 | R125: =Q125*H125 -> 0 | S125: 0 | T125: =S125*H125 -> 0 | AR125: 4 | AT125: K | AU125: 1 | AY125: ROZPOCET | BE125: =IF(N125="základná",J125,0) -> 0 | BF125: =IF(N125="znížená",J125,0) -> 0 | BG125: =IF(N125="zákl. prenesená",J125,0) -> 0 | BH125: =IF(N125="zníž. prenesená",J125,0) -> 0 | BI125: =IF(N125="nulová",J125,0) -> 0 | BJ125: 2 | BK125: =ROUND(I125*H125,2) -> 0 | BL125: 4 | BM125: 2
D126: D | E126: D2 | F126: Hrubá montáž | J126: =BK126 -> 0 | P126: =SUM(P127:P153) -> 0 | R126: =SUM(R127:R153) -> 0 | T126: =SUM(T127:T153) -> 0 | AR126: 1 | AT126: D | AU126: 0 | AY126: ROZPOCET | BK126: =SUM(BK127:BK153) -> 0
C127: 0 | D127: K | E127: Pol2 | F127: Krabica KP 68 | G127: ks | J127: =ROUND(I127*H127,2) -> 0 | N127: znížená | P127: =O127*H127 -> 0 | Q127: 0 | R127: =Q127*H127 -> 0 | S127: 0 | T127: =S127*H127 -> 0 | AR127: 4 | AT127: K | AU127: 1 | AY127: ROZPOCET | BE127: =IF(N127="základná",J127,0) -> 0 | BF127: =IF(N127="znížená",J127,0) -> 0 | BG127: =IF(N127="zákl. prenesená",J127,0) -> 0 | BH127: =IF(N127="zníž. prenesená",J127,0) -> 0 | BI127: =IF(N127="nulová",J127,0) -> 0 | BJ127: 2 | BK127: =ROUND(I127*H127,2) -> 0 | BL127: 4 | BM127: 4
C128: 0 | D128: K | E128: Pol3 | F128: Vodič medený CYA 6 žltozelený | G128: m | J128: =ROUND(I128*H128,2) -> 0 | N128: znížená | P128: =O128*H128 -> 0 | Q128: 0 | R128: =Q128*H128 -> 0 | S128: 0 | T128: =S128*H128 -> 0 | AR128: 4 | AT128: K | AU128: 1 | AY128: ROZPOCET | BE128: =IF(N128="základná",J128,0) -> 0 | BF128: =IF(N128="znížená",J128,0) -> 0 | BG128: =IF(N128="zákl. prenesená",J128,0) -> 0 | BH128: =IF(N128="zníž. prenesená",J128,0) -> 0 | BI128: =IF(N128="nulová",J128,0) -> 0 | BJ128: 2 | BK128: =ROUND(I128*H128,2) -> 0 | BL128: 4 | BM128: 6
C129: 0 | D129: K | E129: Pol4 | F129: Vodič medený CYA 25 žltozelený | G129: m | J129: =ROUND(I129*H129,2) -> 0 | N129: znížená | P129: =O129*H129 -> 0 | Q129: 0 | R129: =Q129*H129 -> 0 | S129: 0 | T129: =S129*H129 -> 0 | AR129: 4 | AT129: K | AU129: 1 | AY129: ROZPOCET | BE129: =IF(N129="základná",J129,0) -> 0 | BF129: =IF(N129="znížená",J129,0) -> 0 | BG129: =IF(N129="zákl. prenesená",J129,0) -> 0 | BH129: =IF(N129="zníž. prenesená",J129,0) -> 0 | BI129: =IF(N129="nulová",J129,0) -> 0 | BJ129: 2 | BK129: =ROUND(I129*H129,2) -> 0 | BL129: 4 | BM129: 8
C130: 0 | D130: K | E130: Pol5 | F130: Kábel CHKE-O-V 3x1,5 PS60 - pre CENTRAL STOP | G130: m | J130: =ROUND(I130*H130,2) -> 0 | N130: znížená | P130: =O130*H130 -> 0 | Q130: 0 | R130: =Q130*H130 -> 0 | S130: 0 | T130: =S130*H130 -> 0 | AR130: 4 | AT130: K | AU130: 1 | AY130: ROZPOCET | BE130: =IF(N130="základná",J130,0) -> 0 | BF130: =IF(N130="znížená",J130,0) -> 0 | BG130: =IF(N130="zákl. prenesená",J130,0) -> 0 | BH130: =IF(N130="zníž. prenesená",J130,0) -> 0 | BI130: =IF(N130="nulová",J130,0) -> 0 | BJ130: 2 | BK130: =ROUND(I130*H130,2) -> 0 | BL130: 4 | BM130: 10
C131: 0 | D131: K | E131: Pol6 | F131: Kábel silový medený CYKY-J 3x1,5 | G131: m | J131: =ROUND(I131*H131,2) -> 0 | N131: znížená | P131: =O131*H131 -> 0 | Q131: 0 | R131: =Q131*H131 -> 0 | S131: 0 | T131: =S131*H131 -> 0 | AR131: 4 | AT131: K | AU131: 1 | AY131: ROZPOCET | BE131: =IF(N131="základná",J131,0) -> 0 | BF131: =IF(N131="znížená",J131,0) -> 0 | BG131: =IF(N131="zákl. prenesená",J131,0) -> 0 | BH131: =IF(N131="zníž. prenesená",J131,0) -> 0 | BI131: =IF(N131="nulová",J131,0) -> 0 | BJ131: 2 | BK131: =ROUND(I131*H131,2) -> 0 | BL131: 4 | BM131: 12
C132: 0 | D132: K | E132: Pol7 | F132: Kábel silový medený CYKY-O 3x1,5 | G132: m | J132: =ROUND(I132*H132,2) -> 0 | N132: znížená | P132: =O132*H132 -> 0 | Q132: 0 | R132: =Q132*H132 -> 0 | S132: 0 | T132: =S132*H132 -> 0 | AR132: 4 | AT132: K | AU132: 1 | AY132: ROZPOCET | BE132: =IF(N132="základná",J132,0) -> 0 | BF132: =IF(N132="znížená",J132,0) -> 0 | BG132: =IF(N132="zákl. prenesená",J132,0) -> 0 | BH132: =IF(N132="zníž. prenesená",J132,0) -> 0 | BI132: =IF(N132="nulová",J132,0) -> 0 | BJ132: 2 | BK132: =ROUND(I132*H132,2) -> 0 | BL132: 4 | BM132: 14
C133: 0 | D133: K | E133: Pol8 | F133: Kábel silový medený CYKY-J 3x2,5 | G133: m | J133: =ROUND(I133*H133,2) -> 0 | N133: znížená | P133: =O133*H133 -> 0 | Q133: 0 | R133: =Q133*H133 -> 0 | S133: 0 | T133: =S133*H133 -> 0 | AR133: 4 | AT133: K | AU133: 1 | AY133: ROZPOCET | BE133: =IF(N133="základná",J133,0) -> 0 | BF133: =IF(N133="znížená",J133,0) -> 0 | BG133: =IF(N133="zákl. prenesená",J133,0) -> 0 | BH133: =IF(N133="zníž. prenesená",J133,0) -> 0 | BI133: =IF(N133="nulová",J133,0) -> 0 | BJ133: 2 | BK133: =ROUND(I133*H133,2) -> 0 | BL133: 4 | BM133: 16
C134: 0 | D134: K | E134: Pol9 | F134: Kábel silový medený CYKY-J 5x2,5 | G134: m | J134: =ROUND(I134*H134,2) -> 0 | N134: znížená | P134: =O134*H134 -> 0 | Q134: 0 | R134: =Q134*H134 -> 0 | S134: 0 | T134: =S134*H134 -> 0 | AR134: 4 | AT134: K | AU134: 1 | AY134: ROZPOCET | BE134: =IF(N134="základná",J134,0) -> 0 | BF134: =IF(N134="znížená",J134,0) -> 0 | BG134: =IF(N134="zákl. prenesená",J134,0) -> 0 | BH134: =IF(N134="zníž. prenesená",J134,0) -> 0 | BI134: =IF(N134="nulová",J134,0) -> 0 | BJ134: 2 | BK134: =ROUND(I134*H134,2) -> 0 | BL134: 4 | BM134: 18
C135: 0 | D135: K | E135: Pol10 | F135: Kábel silový medený CYKY-J 5x10 | G135: m | J135: =ROUND(I135*H135,2) -> 0 | N135: znížená | P135: =O135*H135 -> 0 | Q135: 0 | R135: =Q135*H135 -> 0 | S135: 0 | T135: =S135*H135 -> 0 | AR135: 4 | AT135: K | AU135: 1 | AY135: ROZPOCET | BE135: =IF(N135="základná",J135,0) -> 0 | BF135: =IF(N135="znížená",J135,0) -> 0 | BG135: =IF(N135="zákl. prenesená",J135,0) -> 0 | BH135: =IF(N135="zníž. prenesená",J135,0) -> 0 | BI135: =IF(N135="nulová",J135,0) -> 0 | BJ135: 2 | BK135: =ROUND(I135*H135,2) -> 0 | BL135: 4 | BM135: 20
C136: 0 | D136: K | E136: Pol11 | F136: Káblová príchytka kovová | G136: ks | J136: =ROUND(I136*H136,2) -> 0 | N136: znížená | P136: =O136*H136 -> 0 | Q136: 0 | R136: =Q136*H136 -> 0 | S136: 0 | T136: =S136*H136 -> 0 | AR136: 4 | AT136: K | AU136: 1 | AY136: ROZPOCET | BE136: =IF(N136="základná",J136,0) -> 0 | BF136: =IF(N136="znížená",J136,0) -> 0 | BG136: =IF(N136="zákl. prenesená",J136,0) -> 0 | BH136: =IF(N136="zníž. prenesená",J136,0) -> 0 | BI136: =IF(N136="nulová",J136,0) -> 0 | BJ136: 2 | BK136: =ROUND(I136*H136,2) -> 0 | BL136: 4 | BM136: 22
C137: 0 | D137: K | E137: Pol12 | F137: Káblová príchytka plastová | G137: ks | J137: =ROUND(I137*H137,2) -> 0 | N137: znížená | P137: =O137*H137 -> 0 | Q137: 0 | R137: =Q137*H137 -> 0 | S137: 0 | T137: =S137*H137 -> 0 | AR137: 4 | AT137: K | AU137: 1 | AY137: ROZPOCET | BE137: =IF(N137="základná",J137,0) -> 0 | BF137: =IF(N137="znížená",J137,0) -> 0 | BG137: =IF(N137="zákl. prenesená",J137,0) -> 0 | BH137: =IF(N137="zníž. prenesená",J137,0) -> 0 | BI137: =IF(N137="nulová",J137,0) -> 0 | BJ137: 2 | BK137: =ROUND(I137*H137,2) -> 0 | BL137: 4 | BM137: 24
C138: 0 | D138: K | E138: Pol13 | F138: Natrelovací klinec 17mm | G138: ks | J138: =ROUND(I138*H138,2) -> 0 | N138: znížená | P138: =O138*H138 -> 0 | Q138: 0 | R138: =Q138*H138 -> 0 | S138: 0 | T138: =S138*H138 -> 0 | AR138: 4 | AT138: K | AU138: 1 | AY138: ROZPOCET | BE138: =IF(N138="základná",J138,0) -> 0 | BF138: =IF(N138="znížená",J138,0) -> 0 | BG138: =IF(N138="zákl. prenesená",J138,0) -> 0 | BH138: =IF(N138="zníž. prenesená",J138,0) -> 0 | BI138: =IF(N138="nulová",J138,0) -> 0 | BJ138: 2 | BK138: =ROUND(I138*H138,2) -> 0 | BL138: 4 | BM138: 26
... C153: 0 | D153: K | E153: Pol28 | F153: Sádra | G153: kg | J153: =ROUND(I153*H153,2) -> 0 | N153: znížená | P153: =O153*H153 -> 0 | Q153: 0 | R153: =Q153*H153 -> 0 | S153: 0 | T153: =S153*H153 -> 0 | AR153: 4 | AT153: K | AU153: 1 | AY153: ROZPOCET | BE153: =IF(N153="základná",J153,0) -> 0 | BF153: =IF(N153="znížená",J153,0) -> 0 | BG153: =IF(N153="zákl. prenesená",J153,0) -> 0 | BH153: =IF(N153="zníž. prenesená",J153,0) -> 0 | BI153: =IF(N153="nulová",J153,0) -> 0 | BJ153: 2 | BK153: =ROUND(I153*H153,2) -> 0 | BL153: 4 | BM153: 56
D154: D | E154: D3 | F154: Kompletáž | J154: =BK154 -> 0 | P154: =SUM(P155:P180) -> 0 | R154: =SUM(R155:R180) -> 0 | T154: =SUM(T155:T180) -> 0 | AR154: 1 | AT154: D | AU154: 0 | AY154: ROZPOCET | BK154: =SUM(BK155:BK180) -> 0
C155: 0 | D155: K | E155: Pol29 | F155: Jednopólový vypínač vypínač IP 20 (komplet) | G155: ks | J155: =ROUND(I155*H155,2) -> 0 | N155: znížená | P155: =O155*H155 -> 0 | Q155: 0 | R155: =Q155*H155 -> 0 | S155: 0 | T155: =S155*H155 -> 0 | AR155: 4 | AT155: K | AU155: 1 | AY155: ROZPOCET | BE155: =IF(N155="základná",J155,0) -> 0 | BF155: =IF(N155="znížená",J155,0) -> 0 | BG155: =IF(N155="zákl. prenesená",J155,0) -> 0 | BH155: =IF(N155="zníž. prenesená",J155,0) -> 0 | BI155: =IF(N155="nulová",J155,0) -> 0 | BJ155: 2 | BK155: =ROUND(I155*H155,2) -> 0 | BL155: 4 | BM155: 58
C156: 0 | D156: K | E156: Pol30 | F156: Striedavý vypínač IP 20 (komplet) | G156: ks | J156: =ROUND(I156*H156,2) -> 0 | N156: znížená | P156: =O156*H156 -> 0 | Q156: 0 | R156: =Q156*H156 -> 0 | S156: 0 | T156: =S156*H156 -> 0 | AR156: 4 | AT156: K | AU156: 1 | AY156: ROZPOCET | BE156: =IF(N156="základná",J156,0) -> 0 | BF156: =IF(N156="znížená",J156,0) -> 0 | BG156: =IF(N156="zákl. prenesená",J156,0) -> 0 | BH156: =IF(N156="zníž. prenesená",J156,0) -> 0 | BI156: =IF(N156="nulová",J156,0) -> 0 | BJ156: 2 | BK156: =ROUND(I156*H156,2) -> 0 | BL156: 4 | BM156: 60
C157: 0 | D157: K | E157: Pol31 | F157: Zásuvka biela - jednonásobná 240V/16A, IP20 (komplet) | G157: ks | J157: =ROUND(I157*H157,2) -> 0 | N157: znížená | P157: =O157*H157 -> 0 | Q157: 0 | R157: =Q157*H157 -> 0 | S157: 0 | T157: =S157*H157 -> 0 | AR157: 4 | AT157: K | AU157: 1 | AY157: ROZPOCET | BE157: =IF(N157="základná",J157,0) -> 0 | BF157: =IF(N157="znížená",J157,0) -> 0 | BG157: =IF(N157="zákl. prenesená",J157,0) -> 0 | BH157: =IF(N157="zníž. prenesená",J157,0) -> 0 | BI157: =IF(N157="nulová",J157,0) -> 0 | BJ157: 2 | BK157: =ROUND(I157*H157,2) -> 0 | BL157: 4 | BM157: 62
C158: 0 | D158: K | E158: Pol32 | F158: Zásuvka 400V. 16A | G158: ks | J158: =ROUND(I158*H158,2) -> 0 | N158: znížená | P158: =O158*H158 -> 0 | Q158: 0 | R158: =Q158*H158 -> 0 | S158: 0 | T158: =S158*H158 -> 0 | AR158: 4 | AT158: K | AU158: 1 | AY158: ROZPOCET | BE158: =IF(N158="základná",J158,0) -> 0 | BF158: =IF(N158="znížená",J158,0) -> 0 | BG158: =IF(N158="zákl. prenesená",J158,0) -> 0 | BH158: =IF(N158="zníž. prenesená",J158,0) -> 0 | BI158: =IF(N158="nulová",J158,0) -> 0 | BJ158: 2 | BK158: =ROUND(I158*H158,2) -> 0 | BL158: 4 | BM158: 64
C159: 0 | D159: K | E159: Pol33 | F159: LED svietidlo 34W, 4000K, IP65, IK10 prevedenie antivandal ako napr. vyrtych staford LED 34W | G159: ks | J159: =ROUND(I159*H159,2) -> 0 | N159: znížená | P159: =O159*H159 -> 0 | Q159: 0 | R159: =Q159*H159 -> 0 | S159: 0 | T159: =S159*H159 -> 0 | AR159: 4 | AT159: K | AU159: 1 | AY159: ROZPOCET | BE159: =IF(N159="základná",J159,0) -> 0 | BF159: =IF(N159="znížená",J159,0) -> 0 | BG159: =IF(N159="zákl. prenesená",J159,0) -> 0 | BH159: =IF(N159="zníž. prenesená",J159,0) -> 0 | BI159: =IF(N159="nulová",J159,0) -> 0 | BJ159: 2 | BK159: =ROUND(I159*H159,2) -> 0 | BL159: 4 | BM159: 66
C160: 0 | D160: K | E160: Pol34 | F160: LED svietidlo prisadené 18W, 4000K, IP20/IP44 | G160: ks | J160: =ROUND(I160*H160,2) -> 0 | N160: znížená | P160: =O160*H160 -> 0 | Q160: 0 | R160: =Q160*H160 -> 0 | S160: 0 | T160: =S160*H160 -> 0 | AR160: 4 | AT160: K | AU160: 1 | AY160: ROZPOCET | BE160: =IF(N160="základná",J160,0) -> 0 | BF160: =IF(N160="znížená",J160,0) -> 0 | BG160: =IF(N160="zákl. prenesená",J160,0) -> 0 | BH160: =IF(N160="zníž. prenesená",J160,0) -> 0 | BI160: =IF(N160="nulová",J160,0) -> 0 | BJ160: 2 | BK160: =ROUND(I160*H160,2) -> 0 | BL160: 4 | BM160: 68
C161: 0 | D161: K | E161: Pol35 | F161: LED svietidlo prachotesné 40W, IP65 | G161: ks | J161: =ROUND(I161*H161,2) -> 0 | N161: znížená | P161: =O161*H161 -> 0 | Q161: 0 | R161: =Q161*H161 -> 0 | S161: 0 | T161: =S161*H161 -> 0 | AR161: 4 | AT161: K | AU161: 1 | AY161: ROZPOCET | BE161: =IF(N161="základná",J161,0) -> 0 | BF161: =IF(N161="znížená",J161,0) -> 0 | BG161: =IF(N161="zákl. prenesená",J161,0) -> 0 | BH161: =IF(N161="zníž. prenesená",J161,0) -> 0 | BI161: =IF(N161="nulová",J161,0) -> 0 | BJ161: 2 | BK161: =ROUND(I161*H161,2) -> 0 | BL161: 4 | BM161: 70
C162: 0 | D162: K | E162: Pol36 | F162: Núdzové autonómne s vlastným zdrojom 1W, 170lm | G162: ks | J162: =ROUND(I162*H162,2) -> 0 | N162: znížená | P162: =O162*H162 -> 0 | Q162: 0 | R162: =Q162*H162 -> 0 | S162: 0 | T162: =S162*H162 -> 0 | AR162: 4 | AT162: K | AU162: 1 | AY162: ROZPOCET | BE162: =IF(N162="základná",J162,0) -> 0 | BF162: =IF(N162="znížená",J162,0) -> 0 | BG162: =IF(N162="zákl. prenesená",J162,0) -> 0 | BH162: =IF(N162="zníž. prenesená",J162,0) -> 0 | BI162: =IF(N162="nulová",J162,0) -> 0 | BJ162: 2 | BK162: =ROUND(I162*H162,2) -> 0 | BL162: 4 | BM162: 72
C163: 0 | D163: K | E163: Pol37 | F163: Svorka Bernard s pásikom | G163: ks | J163: =ROUND(I163*H163,2) -> 0 | N163: znížená | P163: =O163*H163 -> 0 | Q163: 0 | R163: =Q163*H163 -> 0 | S163: 0 | T163: =S163*H163 -> 0 | AR163: 4 | AT163: K | AU163: 1 | AY163: ROZPOCET | BE163: =IF(N163="základná",J163,0) -> 0 | BF163: =IF(N163="znížená",J163,0) -> 0 | BG163: =IF(N163="zákl. prenesená",J163,0) -> 0 | BH163: =IF(N163="zníž. prenesená",J163,0) -> 0 | BI163: =IF(N163="nulová",J163,0) -> 0 | BJ163: 2 | BK163: =ROUND(I163*H163,2) -> 0 | BL163: 4 | BM163: 74
C164: 0 | D164: K | E164: Pol38 | F164: Káblové oká na vodič s prierezom 6mm | G164: ks | J164: =ROUND(I164*H164,2) -> 0 | N164: znížená | P164: =O164*H164 -> 0 | Q164: 0 | R164: =Q164*H164 -> 0 | S164: 0 | T164: =S164*H164 -> 0 | AR164: 4 | AT164: K | AU164: 1 | AY164: ROZPOCET | BE164: =IF(N164="základná",J164,0) -> 0 | BF164: =IF(N164="znížená",J164,0) -> 0 | BG164: =IF(N164="zákl. prenesená",J164,0) -> 0 | BH164: =IF(N164="zníž. prenesená",J164,0) -> 0 | BI164: =IF(N164="nulová",J164,0) -> 0 | BJ164: 2 | BK164: =ROUND(I164*H164,2) -> 0 | BL164: 4 | BM164: 76
C165: 0 | D165: K | E165: Pol39 | F165: Svorka WAGO 2X1,5 | G165: ks | J165: =ROUND(I165*H165,2) -> 0 | N165: znížená | P165: =O165*H165 -> 0 | Q165: 0 | R165: =Q165*H165 -> 0 | S165: 0 | T165: =S165*H165 -> 0 | AR165: 4 | AT165: K | AU165: 1 | AY165: ROZPOCET | BE165: =IF(N165="základná",J165,0) -> 0 | BF165: =IF(N165="znížená",J165,0) -> 0 | BG165: =IF(N165="zákl. prenesená",J165,0) -> 0 | BH165: =IF(N165="zníž. prenesená",J165,0) -> 0 | BI165: =IF(N165="nulová",J165,0) -> 0 | BJ165: 2 | BK165: =ROUND(I165*H165,2) -> 0 | BL165: 4 | BM165: 78
C166: 0 | D166: K | E166: Pol40 | F166: Svorka WAGO 3X1,5 | G166: ks | J166: =ROUND(I166*H166,2) -> 0 | N166: znížená | P166: =O166*H166 -> 0 | Q166: 0 | R166: =Q166*H166 -> 0 | S166: 0 | T166: =S166*H166 -> 0 | AR166: 4 | AT166: K | AU166: 1 | AY166: ROZPOCET | BE166: =IF(N166="základná",J166,0) -> 0 | BF166: =IF(N166="znížená",J166,0) -> 0 | BG166: =IF(N166="zákl. prenesená",J166,0) -> 0 | BH166: =IF(N166="zníž. prenesená",J166,0) -> 0 | BI166: =IF(N166="nulová",J166,0) -> 0 | BJ166: 2 | BK166: =ROUND(I166*H166,2) -> 0 | BL166: 4 | BM166: 80
... C180: 0 | D180: K | E180: Pol54 | F180: Revízie elektro, certifikáty, vyhlásenia o zhode | G180: kpl | J180: =ROUND(I180*H180,2) -> 0 | N180: znížená | P180: =O180*H180 -> 0 | Q180: 0 | R180: =Q180*H180 -> 0 | S180: 0 | T180: =S180*H180 -> 0 | AR180: 4 | AT180: K | AU180: 1 | AY180: ROZPOCET | BE180: =IF(N180="základná",J180,0) -> 0 | BF180: =IF(N180="znížená",J180,0) -> 0 | BG180: =IF(N180="zákl. prenesená",J180,0) -> 0 | BH180: =IF(N180="zníž. prenesená",J180,0) -> 0 | BI180: =IF(N180="nulová",J180,0) -> 0 | BJ180: 2 | BK180: =ROUND(I180*H180,2) -> 0 | BL180: 4 | BM180: 108

Sheet BLZ - Bleskozvod a uzemnenie
L2: >> skryté stĺpce << | AT2: {e5ac7bf4-00aa-42cf-bad5-aa1d70271462}
AT3: 0
D4: KRYCÍ LIST ROZPOČTU | M4: v --- nižšie sa nachádzajú doplnkové a pomocné údaje k zostavám --- v | AT4: False
D6: Stavba:
E7: ='Rekapitulácia stavby'!K6 -> Nové záchytné centrum, Bojnice
D8: Objekt:
E9: SO 01 - Chovný priestor
D10: Časť:
E11: BLZ - Bleskozvod a uzemnenie
D13: JKSO: | I13: ČS:
D14: Miesto: | F14: Bojnice | I14: Dátum: | J14: ='Rekapitulácia stavby'!AN8 -> 46146
D16: Objednávateľ: | I16: IČO:
E17: Národná zoologická záhrada | I17: IČ DPH:
D19: Zhotoviteľ: | I19: IČO:
I20: IČ DPH:
D22: Projektant: | I22: IČO:
E23: ERGAprojekt s.r.o. | I23: IČ DPH:
D25: Spracovateľ: | I25: IČO: | J25: =IF('Rekapitulácia stavby'!AN19="","",'Rekapitulácia stavby'!AN19)
E26: =IF('Rekapitulácia stavby'!E20="","",'Rekapitulácia stavby'!E20) | I26: IČ DPH: | J26: =IF('Rekapitulácia stavby'!AN20="","",'Rekapitulácia stavby'!AN20)
D28: Poznámka:
D32: Cena bez DPH | J32: =ROUND(J121, 2) -> 0
F34: Základ dane | I34: Sadzba dane | J34: Výška dane
D35: DPH | E35: základná | F35: =ROUND((SUM(BE121:BE147)), 2) -> 0 | I35: 0.23 | J35: =ROUND(((SUM(BE121:BE147))*I35), 2) -> 0
E36: znížená | F36: =ROUND((SUM(BF121:BF147)), 2) -> 0 | I36: 0.23 | J36: =ROUND(((SUM(BF121:BF147))*I36), 2) -> 0
E37: zákl. prenesená | F37: =ROUND((SUM(BG121:BG147)), 2) -> 0 | I37: 0.23 | J37: =0 -> 0
E38: zníž. prenesená | F38: =ROUND((SUM(BH121:BH147)), 2) -> 0 | I38: 0.23 | J38: =0 -> 0
E39: nulová | F39: =ROUND((SUM(BI121:BI147)), 2) -> 0 | I39: 0 | J39: =0 -> 0
D41: Cena s DPH | G41: v | H41: EUR | J41: =SUM(J32:J39) -> 0
D50: Projektant | G50: Spracovateľ
D61: Dátum a podpis: | F61: Pečiatka | G61: Dátum a podpis: | J61: Pečiatka
D65: Objednávateľ | G65: Zhotoviteľ
D76: Dátum a podpis: | F76: Pečiatka | G76: Dátum a podpis: | J76: Pečiatka
C82: REKAPITULÁCIA ROZPOČTU
C84: Stavba:
E85: =E7 -> Nové záchytné centrum, Bojnice
C86: Objekt:
E87: SO 01 - Chovný priestor
C88: Časť:
E89: =E11 -> BLZ - Bleskozvod a uzemnenie
C91: Miesto: | F91: =F14 -> Bojnice | I91: Dátum: | J91: =IF(J14="","",J14) -> 46146
C93: Objednávateľ: | F93: =E17 -> Národná zoologická záhrada | I93: Projektant: | J93: =E23 -> ERGAprojekt s.r.o.
C94: Zhotoviteľ: | F94: =IF(E20="","",E20) | I94: Spracovateľ: | J94: =E26
C96: Kód dielu - Popis | J96: Cena celkom [EUR]
C98: Náklady z rozpočtu | J98: =J121 -> 0 | AU98: -1
D99: D4 - Bleskozvod | J99: =J122 -> 0
C106: ROZPOČET
C108: Stavba:
E109: =E7 -> Nové záchytné centrum, Bojnice
C110: Objekt:
E111: SO 01 - Chovný priestor
C112: Časť:
E113: =E11 -> BLZ - Bleskozvod a uzemnenie
C115: Miesto: | F115: =F14 -> Bojnice | I115: Dátum: | J115: =IF(J14="","",J14) -> 46146
C117: Objednávateľ: | F117: =E17 -> Národná zoologická záhrada | I117: Projektant: | J117: =E23 -> ERGAprojekt s.r.o.
C118: Zhotoviteľ: | F118: =IF(E20="","",E20) | I118: Spracovateľ: | J118: =E26
C120: PČ | D120: Typ | E120: Kód | F120: Popis | G120: MJ | H120: Množstvo | I120: J.cena [EUR] | J120: Cena celkom [EUR] | K120: Cenová sústava | N120: DPH | O120: J. Nh [h] | P120: Nh celkom [h] | Q120: J. hmotnosť [t] | R120: Hmotnosť celkom [t] | S120: J. suť [t] | T120: Suť Celkom [t]
C121: Náklady z rozpočtu | J121: =BK121 -> 0 | P121: =P122 -> 0 | R121: =R122 -> 0 | T121: =T122 -> 0 | AT121: D | AU121: -1 | BK121: =BK122 -> 0
D122: D | E122: D4 | F122: Bleskozvod | J122: =BK122 -> 0 | P122: =SUM(P123:P147) -> 0 | R122: =SUM(R123:R147) -> 0 | T122: =SUM(T123:T147) -> 0 | AR122: 1 | AT122: D | AU122: 0 | AY122: ROZPOCET | BK122: =SUM(BK123:BK147) -> 0
C123: 0 | D123: K | E123: Pol55 | F123: HVI Llight plus vodič (napr. kat. č. 819600 ) | G123: m | J123: =ROUND(I123*H123,2) -> 0 | N123: znížená | P123: =O123*H123 -> 0 | Q123: 0 | R123: =Q123*H123 -> 0 | S123: 0 | T123: =S123*H123 -> 0 | AR123: 4 | AT123: K | AU123: 1 | AY123: ROZPOCET | BE123: =IF(N123="základná",J123,0) -> 0 | BF123: =IF(N123="znížená",J123,0) -> 0 | BG123: =IF(N123="zákl. prenesená",J123,0) -> 0 | BH123: =IF(N123="zníž. prenesená",J123,0) -> 0 | BI123: =IF(N123="nulová",J123,0) -> 0 | BJ123: 2 | BK123: =ROUND(I123*H123,2) -> 0 | BL123: 4 | BM123: 110
C124: 0 | D124: K | E124: Pol56 | F124: Podpera našikmú strechu (napr. kat. č.202853) | G124: ks | J124: =ROUND(I124*H124,2) -> 0 | N124: znížená | P124: =O124*H124 -> 0 | Q124: 0 | R124: =Q124*H124 -> 0 | S124: 0 | T124: =S124*H124 -> 0 | AR124: 4 | AT124: K | AU124: 1 | AY124: ROZPOCET | BE124: =IF(N124="základná",J124,0) -> 0 | BF124: =IF(N124="znížená",J124,0) -> 0 | BG124: =IF(N124="zákl. prenesená",J124,0) -> 0 | BH124: =IF(N124="zníž. prenesená",J124,0) -> 0 | BI124: =IF(N124="nulová",J124,0) -> 0 | BJ124: 2 | BK124: =ROUND(I124*H124,2) -> 0 | BL124: 4 | BM124: 112
C125: 0 | D125: K | E125: Pol57 | F125: Podpera na zvislú stenu (napr. kat. č. 275252) | G125: ks | J125: =ROUND(I125*H125,2) -> 0 | N125: znížená | P125: =O125*H125 -> 0 | Q125: 0 | R125: =Q125*H125 -> 0 | S125: 0 | T125: =S125*H125 -> 0 | AR125: 4 | AT125: K | AU125: 1 | AY125: ROZPOCET | BE125: =IF(N125="základná",J125,0) -> 0 | BF125: =IF(N125="znížená",J125,0) -> 0 | BG125: =IF(N125="zákl. prenesená",J125,0) -> 0 | BH125: =IF(N125="zníž. prenesená",J125,0) -> 0 | BI125: =IF(N125="nulová",J125,0) -> 0 | BJ125: 2 | BK125: =ROUND(I125*H125,2) -> 0 | BL125: 4 | BM125: 114
C126: 0 | D126: K | E126: Pol58 | F126: Zemná liatinová krabica (napr. kat. č. 549000) | G126: ks | J126: =ROUND(I126*H126,2) -> 0 | N126: znížená | P126: =O126*H126 -> 0 | Q126: 0 | R126: =Q126*H126 -> 0 | S126: 0 | T126: =S126*H126 -> 0 | AR126: 4 | AT126: K | AU126: 1 | AY126: ROZPOCET | BE126: =IF(N126="základná",J126,0) -> 0 | BF126: =IF(N126="znížená",J126,0) -> 0 | BG126: =IF(N126="zákl. prenesená",J126,0) -> 0 | BH126: =IF(N126="zníž. prenesená",J126,0) -> 0 | BI126: =IF(N126="nulová",J126,0) -> 0 | BJ126: 2 | BK126: =ROUND(I126*H126,2) -> 0 | BL126: 4 | BM126: 116
C127: 0 | D127: K | E127: Pol59 | F127: Svorka SZ (napr. kat. č. 459200) | G127: ks | J127: =ROUND(I127*H127,2) -> 0 | N127: znížená | P127: =O127*H127 -> 0 | Q127: 0 | R127: =Q127*H127 -> 0 | S127: 0 | T127: =S127*H127 -> 0 | AR127: 4 | AT127: K | AU127: 1 | AY127: ROZPOCET | BE127: =IF(N127="základná",J127,0) -> 0 | BF127: =IF(N127="znížená",J127,0) -> 0 | BG127: =IF(N127="zákl. prenesená",J127,0) -> 0 | BH127: =IF(N127="zníž. prenesená",J127,0) -> 0 | BI127: =IF(N127="nulová",J127,0) -> 0 | BJ127: 2 | BK127: =ROUND(I127*H127,2) -> 0 | BL127: 4 | BM127: 118
C128: 0 | D128: K | E128: Pol60 | F128: Svorka (napr. kat. č. 459200) | G128: ks | J128: =ROUND(I128*H128,2) -> 0 | N128: znížená | P128: =O128*H128 -> 0 | Q128: 0 | R128: =Q128*H128 -> 0 | S128: 0 | T128: =S128*H128 -> 0 | AR128: 4 | AT128: K | AU128: 1 | AY128: ROZPOCET | BE128: =IF(N128="základná",J128,0) -> 0 | BF128: =IF(N128="znížená",J128,0) -> 0 | BG128: =IF(N128="zákl. prenesená",J128,0) -> 0 | BH128: =IF(N128="zníž. prenesená",J128,0) -> 0 | BI128: =IF(N128="nulová",J128,0) -> 0 | BJ128: 2 | BK128: =ROUND(I128*H128,2) -> 0 | BL128: 4 | BM128: 120
C129: 0 | D129: K | E129: Pol61 | F129: Číslo zvodu (napr. kat. č. 490110) | G129: ks | J129: =ROUND(I129*H129,2) -> 0 | N129: znížená | P129: =O129*H129 -> 0 | Q129: 0 | R129: =Q129*H129 -> 0 | S129: 0 | T129: =S129*H129 -> 0 | AR129: 4 | AT129: K | AU129: 1 | AY129: ROZPOCET | BE129: =IF(N129="základná",J129,0) -> 0 | BF129: =IF(N129="znížená",J129,0) -> 0 | BG129: =IF(N129="zákl. prenesená",J129,0) -> 0 | BH129: =IF(N129="zníž. prenesená",J129,0) -> 0 | BI129: =IF(N129="nulová",J129,0) -> 0 | BJ129: 2 | BK129: =ROUND(I129*H129,2) -> 0 | BL129: 4 | BM129: 122
C130: 0 | D130: K | E130: Pol62 | F130: Svorka SR03 zemná | G130: ks | J130: =ROUND(I130*H130,2) -> 0 | N130: znížená | P130: =O130*H130 -> 0 | Q130: 0 | R130: =Q130*H130 -> 0 | S130: 0 | T130: =S130*H130 -> 0 | AR130: 4 | AT130: K | AU130: 1 | AY130: ROZPOCET | BE130: =IF(N130="základná",J130,0) -> 0 | BF130: =IF(N130="znížená",J130,0) -> 0 | BG130: =IF(N130="zákl. prenesená",J130,0) -> 0 | BH130: =IF(N130="zníž. prenesená",J130,0) -> 0 | BI130: =IF(N130="nulová",J130,0) -> 0 | BJ130: 2 | BK130: =ROUND(I130*H130,2) -> 0 | BL130: 4 | BM130: 124
C131: 0 | D131: K | E131: Pol63 | F131: Svorka SR02 zemná | G131: ks | J131: =ROUND(I131*H131,2) -> 0 | N131: znížená | P131: =O131*H131 -> 0 | Q131: 0 | R131: =Q131*H131 -> 0 | S131: 0 | T131: =S131*H131 -> 0 | AR131: 4 | AT131: K | AU131: 1 | AY131: ROZPOCET | BE131: =IF(N131="základná",J131,0) -> 0 | BF131: =IF(N131="znížená",J131,0) -> 0 | BG131: =IF(N131="zákl. prenesená",J131,0) -> 0 | BH131: =IF(N131="zníž. prenesená",J131,0) -> 0 | BI131: =IF(N131="nulová",J131,0) -> 0 | BJ131: 2 | BK131: =ROUND(I131*H131,2) -> 0 | BL131: 4 | BM131: 126
C132: 0 | D132: K | E132: Pol64 | F132: Pás FeZn 30x4 | G132: m | J132: =ROUND(I132*H132,2) -> 0 | N132: znížená | P132: =O132*H132 -> 0 | Q132: 0 | R132: =Q132*H132 -> 0 | S132: 0 | T132: =S132*H132 -> 0 | AR132: 4 | AT132: K | AU132: 1 | AY132: ROZPOCET | BE132: =IF(N132="základná",J132,0) -> 0 | BF132: =IF(N132="znížená",J132,0) -> 0 | BG132: =IF(N132="zákl. prenesená",J132,0) -> 0 | BH132: =IF(N132="zníž. prenesená",J132,0) -> 0 | BI132: =IF(N132="nulová",J132,0) -> 0 | BJ132: 2 | BK132: =ROUND(I132*H132,2) -> 0 | BL132: 4 | BM132: 128
C133: 0 | D133: K | E133: Pol65 | F133: AlMgSi 8mm (vyrovanie potenciálov) | G133: m | J133: =ROUND(I133*H133,2) -> 0 | N133: znížená | P133: =O133*H133 -> 0 | Q133: 0 | R133: =Q133*H133 -> 0 | S133: 0 | T133: =S133*H133 -> 0 | AR133: 4 | AT133: K | AU133: 1 | AY133: ROZPOCET | BE133: =IF(N133="základná",J133,0) -> 0 | BF133: =IF(N133="znížená",J133,0) -> 0 | BG133: =IF(N133="zákl. prenesená",J133,0) -> 0 | BH133: =IF(N133="zníž. prenesená",J133,0) -> 0 | BI133: =IF(N133="nulová",J133,0) -> 0 | BJ133: 2 | BK133: =ROUND(I133*H133,2) -> 0 | BL133: 4 | BM133: 130
C134: 0 | D134: K | E134: Pol66 | F134: Kaliber FeZn10mm (pripojenie zvodov) | G134: m | J134: =ROUND(I134*H134,2) -> 0 | N134: znížená | P134: =O134*H134 -> 0 | Q134: 0 | R134: =Q134*H134 -> 0 | S134: 0 | T134: =S134*H134 -> 0 | AR134: 4 | AT134: K | AU134: 1 | AY134: ROZPOCET | BE134: =IF(N134="základná",J134,0) -> 0 | BF134: =IF(N134="znížená",J134,0) -> 0 | BG134: =IF(N134="zákl. prenesená",J134,0) -> 0 | BH134: =IF(N134="zníž. prenesená",J134,0) -> 0 | BI134: =IF(N134="nulová",J134,0) -> 0 | BJ134: 2 | BK134: =ROUND(I134*H134,2) -> 0 | BL134: 4 | BM134: 132
... C147: 0 | D147: K | E147: Pol79 | F147: Kaliber FeZn10mm (mreža v podkladovom betóne) | G147: m | J147: =ROUND(I147*H147,2) -> 0 | N147: znížená | P147: =O147*H147 -> 0 | Q147: 0 | R147: =Q147*H147 -> 0 | S147: 0 | T147: =S147*H147 -> 0 | AR147: 4 | AT147: K | AU147: 1 | AY147: ROZPOCET | BE147: =IF(N147="základná",J147,0) -> 0 | BF147: =IF(N147="znížená",J147,0) -> 0 | BG147: =IF(N147="zákl. prenesená",J147,0) -> 0 | BH147: =IF(N147="zníž. prenesená",J147,0) -> 0 | BI147: =IF(N147="nulová",J147,0) -> 0 | BJ147: 2 | BK147: =ROUND(I147*H147,2) -> 0 | BL147: 4 | BM147: 158

Sheet FVE - Fotovoltická elektr...
L2: >> skryté stĺpce << | AT2: {3f9b9d99-36d9-42e9-9665-176d10e5a632}
AT3: 0
D4: KRYCÍ LIST ROZPOČTU | M4: v --- nižšie sa nachádzajú doplnkové a pomocné údaje k zostavám --- v | AT4: False
D6: Stavba:
E7: ='Rekapitulácia stavby'!K6 -> Nové záchytné centrum, Bojnice
D8: Objekt:
E9: SO 01 - Chovný priestor
D10: Časť:
E11: FVE - Fotovoltická elektráreň
D13: JKSO: | I13: ČS:
D14: Miesto: | F14: Bojnice | I14: Dátum: | J14: ='Rekapitulácia stavby'!AN8 -> 46146
D16: Objednávateľ: | I16: IČO:
E17: Národná zoologická záhrada | I17: IČ DPH:
D19: Zhotoviteľ: | I19: IČO:
I20: IČ DPH:
D22: Projektant: | I22: IČO:
E23: ERGAprojekt s.r.o. | I23: IČ DPH:
D25: Spracovateľ: | I25: IČO: | J25: =IF('Rekapitulácia stavby'!AN19="","",'Rekapitulácia stavby'!AN19)
E26: =IF('Rekapitulácia stavby'!E20="","",'Rekapitulácia stavby'!E20) | I26: IČ DPH: | J26: =IF('Rekapitulácia stavby'!AN20="","",'Rekapitulácia stavby'!AN20)
D28: Poznámka:
D32: Cena bez DPH | J32: =ROUND(J121, 2) -> 0
F34: Základ dane | I34: Sadzba dane | J34: Výška dane
D35: DPH | E35: základná | F35: =ROUND((SUM(BE121:BE151)), 2) -> 0 | I35: 0.23 | J35: =ROUND(((SUM(BE121:BE151))*I35), 2) -> 0
E36: znížená | F36: =ROUND((SUM(BF121:BF151)), 2) -> 0 | I36: 0.23 | J36: =ROUND(((SUM(BF121:BF151))*I36), 2) -> 0
E37: zákl. prenesená | F37: =ROUND((SUM(BG121:BG151)), 2) -> 0 | I37: 0.23 | J37: =0 -> 0
E38: zníž. prenesená | F38: =ROUND((SUM(BH121:BH151)), 2) -> 0 | I38: 0.23 | J38: =0 -> 0
E39: nulová | F39: =ROUND((SUM(BI121:BI151)), 2) -> 0 | I39: 0 | J39: =0 -> 0
D41: Cena s DPH | G41: v | H41: EUR | J41: =SUM(J32:J39) -> 0
D50: Projektant | G50: Spracovateľ
D61: Dátum a podpis: | F61: Pečiatka | G61: Dátum a podpis: | J61: Pečiatka
D65: Objednávateľ | G65: Zhotoviteľ
D76: Dátum a podpis: | F76: Pečiatka | G76: Dátum a podpis: | J76: Pečiatka
C82: REKAPITULÁCIA ROZPOČTU
C84: Stavba:
E85: =E7 -> Nové záchytné centrum, Bojnice
C86: Objekt:
E87: SO 01 - Chovný priestor
C88: Časť:
E89: =E11 -> FVE - Fotovoltická elektráreň
C91: Miesto: | F91: =F14 -> Bojnice | I91: Dátum: | J91: =IF(J14="","",J14) -> 46146
C93: Objednávateľ: | F93: =E17 -> Národná zoologická záhrada | I93: Projektant: | J93: =E23 -> ERGAprojekt s.r.o.
C94: Zhotoviteľ: | F94: =IF(E20="","",E20) | I94: Spracovateľ: | J94: =E26
C96: Kód dielu - Popis | J96: Cena celkom [EUR]
C98: Náklady z rozpočtu | J98: =J121 -> 0 | AU98: -1
D99: D1 - Fotovoltická elektráreň | J99: =J122 -> 0
C106: ROZPOČET
C108: Stavba:
E109: =E7 -> Nové záchytné centrum, Bojnice
C110: Objekt:
E111: SO 01 - Chovný priestor
C112: Časť:
E113: =E11 -> FVE - Fotovoltická elektráreň
C115: Miesto: | F115: =F14 -> Bojnice | I115: Dátum: | J115: =IF(J14="","",J14) -> 46146
C117: Objednávateľ: | F117: =E17 -> Národná zoologická záhrada | I117: Projektant: | J117: =E23 -> ERGAprojekt s.r.o.
C118: Zhotoviteľ: | F118: =IF(E20="","",E20) | I118: Spracovateľ: | J118: =E26
C120: PČ | D120: Typ | E120: Kód | F120: Popis | G120: MJ | H120: Množstvo | I120: J.cena [EUR] | J120: Cena celkom [EUR] | K120: Cenová sústava | N120: DPH | O120: J. Nh [h] | P120: Nh celkom [h] | Q120: J. hmotnosť [t] | R120: Hmotnosť celkom [t] | S120: J. suť [t] | T120: Suť Celkom [t]
C121: Náklady z rozpočtu | J121: =BK121 -> 0 | P121: =P122 -> 0 | R121: =R122 -> 0 | T121: =T122 -> 0 | AT121: D | AU121: -1 | BK121: =BK122 -> 0
D122: D | E122: D1 | F122: Fotovoltická elektráreň | J122: =BK122 -> 0 | P122: =SUM(P123:P151) -> 0 | R122: =SUM(R123:R151) -> 0 | T122: =SUM(T123:T151) -> 0 | AR122: 1 | AT122: D | AU122: 0 | AY122: ROZPOCET | BK122: =SUM(BK123:BK151) -> 0
C123: 0 | D123: K | E123: Pol80 | F123: Solárny panel monokryštalický, 530Wp | G123: ks | J123: =ROUND(I123*H123,2) -> 0 | N123: znížená | P123: =O123*H123 -> 0 | Q123: 0 | R123: =Q123*H123 -> 0 | S123: 0 | T123: =S123*H123 -> 0 | AR123: 4 | AT123: K | AU123: 1 | AY123: ROZPOCET | BE123: =IF(N123="základná",J123,0) -> 0 | BF123: =IF(N123="znížená",J123,0) -> 0 | BG123: =IF(N123="zákl. prenesená",J123,0) -> 0 | BH123: =IF(N123="zníž. prenesená",J123,0) -> 0 | BI123: =IF(N123="nulová",J123,0) -> 0 | BJ123: 2 | BK123: =ROUND(I123*H123,2) -> 0 | BL123: 4 | BM123: 2
C124: 0 | D124: K | E124: Pol81 | F124: Konštrukcia pre FVE panely vrátane betónových kociek (komplet) | G124: kpl | J124: =ROUND(I124*H124,2) -> 0 | N124: znížená | P124: =O124*H124 -> 0 | Q124: 0 | R124: =Q124*H124 -> 0 | S124: 0 | T124: =S124*H124 -> 0 | AR124: 4 | AT124: K | AU124: 1 | AY124: ROZPOCET | BE124: =IF(N124="základná",J124,0) -> 0 | BF124: =IF(N124="znížená",J124,0) -> 0 | BG124: =IF(N124="zákl. prenesená",J124,0) -> 0 | BH124: =IF(N124="zníž. prenesená",J124,0) -> 0 | BI124: =IF(N124="nulová",J124,0) -> 0 | BJ124: 2 | BK124: =ROUND(I124*H124,2) -> 0 | BL124: 4 | BM124: 4
C125: 0 | D125: K | E125: Pol82 | F125: Inverter napätia 10kW | G125: ks | J125: =ROUND(I125*H125,2) -> 0 | N125: znížená | P125: =O125*H125 -> 0 | Q125: 0 | R125: =Q125*H125 -> 0 | S125: 0 | T125: =S125*H125 -> 0 | AR125: 4 | AT125: K | AU125: 1 | AY125: ROZPOCET | BE125: =IF(N125="základná",J125,0) -> 0 | BF125: =IF(N125="znížená",J125,0) -> 0 | BG125: =IF(N125="zákl. prenesená",J125,0) -> 0 | BH125: =IF(N125="zníž. prenesená",J125,0) -> 0 | BI125: =IF(N125="nulová",J125,0) -> 0 | BJ125: 2 | BK125: =ROUND(I125*H125,2) -> 0 | BL125: 4 | BM125: 6
C126: 0 | D126: K | E126: Pol83 | F126: Rapid Shutdown (odpojovač dvoch panelov) | G126: ks | J126: =ROUND(I126*H126,2) -> 0 | N126: znížená | P126: =O126*H126 -> 0 | Q126: 0 | R126: =Q126*H126 -> 0 | S126: 0 | T126: =S126*H126 -> 0 | AR126: 4 | AT126: K | AU126: 1 | AY126: ROZPOCET | BE126: =IF(N126="základná",J126,0) -> 0 | BF126: =IF(N126="znížená",J126,0) -> 0 | BG126: =IF(N126="zákl. prenesená",J126,0) -> 0 | BH126: =IF(N126="zníž. prenesená",J126,0) -> 0 | BI126: =IF(N126="nulová",J126,0) -> 0 | BJ126: 2 | BK126: =ROUND(I126*H126,2) -> 0 | BL126: 4 | BM126: 8
C127: 0 | D127: K | E127: Pol84 | F127: Kábel na prepojenie rapid shutdown | G127: ks | J127: =ROUND(I127*H127,2) -> 0 | N127: znížená | P127: =O127*H127 -> 0 | Q127: 0 | R127: =Q127*H127 -> 0 | S127: 0 | T127: =S127*H127 -> 0 | AR127: 4 | AT127: K | AU127: 1 | AY127: ROZPOCET | BE127: =IF(N127="základná",J127,0) -> 0 | BF127: =IF(N127="znížená",J127,0) -> 0 | BG127: =IF(N127="zákl. prenesená",J127,0) -> 0 | BH127: =IF(N127="zníž. prenesená",J127,0) -> 0 | BI127: =IF(N127="nulová",J127,0) -> 0 | BJ127: 2 | BK127: =ROUND(I127*H127,2) -> 0 | BL127: 4 | BM127: 10
C128: 0 | D128: K | E128: Pol85 | F128: Napäťová a frekvenčná ochrana | G128: ks | J128: =ROUND(I128*H128,2) -> 0 | N128: znížená | P128: =O128*H128 -> 0 | Q128: 0 | R128: =Q128*H128 -> 0 | S128: 0 | T128: =S128*H128 -> 0 | AR128: 4 | AT128: K | AU128: 1 | AY128: ROZPOCET | BE128: =IF(N128="základná",J128,0) -> 0 | BF128: =IF(N128="znížená",J128,0) -> 0 | BG128: =IF(N128="zákl. prenesená",J128,0) -> 0 | BH128: =IF(N128="zníž. prenesená",J128,0) -> 0 | BI128: =IF(N128="nulová",J128,0) -> 0 | BJ128: 2 | BK128: =ROUND(I128*H128,2) -> 0 | BL128: 4 | BM128: 12
C129: 0 | D129: K | E129: Pol86 | F129: Inštalačný stykač 400V, 25A | G129: ks | J129: =ROUND(I129*H129,2) -> 0 | N129: znížená | P129: =O129*H129 -> 0 | Q129: 0 | R129: =Q129*H129 -> 0 | S129: 0 | T129: =S129*H129 -> 0 | AR129: 4 | AT129: K | AU129: 1 | AY129: ROZPOCET | BE129: =IF(N129="základná",J129,0) -> 0 | BF129: =IF(N129="znížená",J129,0) -> 0 | BG129: =IF(N129="zákl. prenesená",J129,0) -> 0 | BH129: =IF(N129="zníž. prenesená",J129,0) -> 0 | BI129: =IF(N129="nulová",J129,0) -> 0 | BJ129: 2 | BK129: =ROUND(I129*H129,2) -> 0 | BL129: 4 | BM129: 14
C130: 0 | D130: K | E130: Pol87 | F130: Inštalačný stykač 400V, 16A | G130: ks | J130: =ROUND(I130*H130,2) -> 0 | N130: znížená | P130: =O130*H130 -> 0 | Q130: 0 | R130: =Q130*H130 -> 0 | S130: 0 | T130: =S130*H130 -> 0 | AR130: 4 | AT130: K | AU130: 1 | AY130: ROZPOCET | BE130: =IF(N130="základná",J130,0) -> 0 | BF130: =IF(N130="znížená",J130,0) -> 0 | BG130: =IF(N130="zákl. prenesená",J130,0) -> 0 | BH130: =IF(N130="zníž. prenesená",J130,0) -> 0 | BI130: =IF(N130="nulová",J130,0) -> 0 | BJ130: 2 | BK130: =ROUND(I130*H130,2) -> 0 | BL130: 4 | BM130: 16
C131: 0 | D131: K | E131: Pol88 | F131: Poistkový odpínač dvojpólový 16A (s poistkami) | G131: ks | J131: =ROUND(I131*H131,2) -> 0 | N131: znížená | P131: =O131*H131 -> 0 | Q131: 0 | R131: =Q131*H131 -> 0 | S131: 0 | T131: =S131*H131 -> 0 | AR131: 4 | AT131: K | AU131: 1 | AY131: ROZPOCET | BE131: =IF(N131="základná",J131,0) -> 0 | BF131: =IF(N131="znížená",J131,0) -> 0 | BG131: =IF(N131="zákl. prenesená",J131,0) -> 0 | BH131: =IF(N131="zníž. prenesená",J131,0) -> 0 | BI131: =IF(N131="nulová",J131,0) -> 0 | BJ131: 2 | BK131: =ROUND(I131*H131,2) -> 0 | BL131: 4 | BM131: 18
C132: 0 | D132: K | E132: Pol89 | F132: Poistkový odpínač 1/2A (s poistkami) | G132: ks | J132: =ROUND(I132*H132,2) -> 0 | N132: znížená | P132: =O132*H132 -> 0 | Q132: 0 | R132: =Q132*H132 -> 0 | S132: 0 | T132: =S132*H132 -> 0 | AR132: 4 | AT132: K | AU132: 1 | AY132: ROZPOCET | BE132: =IF(N132="základná",J132,0) -> 0 | BF132: =IF(N132="znížená",J132,0) -> 0 | BG132: =IF(N132="zákl. prenesená",J132,0) -> 0 | BH132: =IF(N132="zníž. prenesená",J132,0) -> 0 | BI132: =IF(N132="nulová",J132,0) -> 0 | BJ132: 2 | BK132: =ROUND(I132*H132,2) -> 0 | BL132: 4 | BM132: 20
C133: 0 | D133: K | E133: Pol90 | F133: Poistkový odpínač 3/2A (s poistkami) | G133: ks | J133: =ROUND(I133*H133,2) -> 0 | N133: znížená | P133: =O133*H133 -> 0 | Q133: 0 | R133: =Q133*H133 -> 0 | S133: 0 | T133: =S133*H133 -> 0 | AR133: 4 | AT133: K | AU133: 1 | AY133: ROZPOCET | BE133: =IF(N133="základná",J133,0) -> 0 | BF133: =IF(N133="znížená",J133,0) -> 0 | BG133: =IF(N133="zákl. prenesená",J133,0) -> 0 | BH133: =IF(N133="zníž. prenesená",J133,0) -> 0 | BI133: =IF(N133="nulová",J133,0) -> 0 | BJ133: 2 | BK133: =ROUND(I133*H133,2) -> 0 | BL133: 4 | BM133: 22
C134: 0 | D134: K | E134: Pol91 | F134: Zvodič prepätia KIWA PO II PV 600V DC | G134: ks | J134: =ROUND(I134*H134,2) -> 0 | N134: znížená | P134: =O134*H134 -> 0 | Q134: 0 | R134: =Q134*H134 -> 0 | S134: 0 | T134: =S134*H134 -> 0 | AR134: 4 | AT134: K | AU134: 1 | AY134: ROZPOCET | BE134: =IF(N134="základná",J134,0) -> 0 | BF134: =IF(N134="znížená",J134,0) -> 0 | BG134: =IF(N134="zákl. prenesená",J134,0) -> 0 | BH134: =IF(N134="zníž. prenesená",J134,0) -> 0 | BI134: =IF(N134="nulová",J134,0) -> 0 | BJ134: 2 | BK134: =ROUND(I134*H134,2) -> 0 | BL134: 4 | BM134: 24
... C151: 0 | D151: K | E151: Pol107 | F151: Revízia elektro | G151: kpl | J151: =ROUND(I151*H151,2) -> 0 | N151: znížená | P151: =O151*H151 -> 0 | Q151: 0 | R151: =Q151*H151 -> 0 | S151: 0 | T151: =S151*H151 -> 0 | AR151: 4 | AT151: K | AU151: 1 | AY151: ROZPOCET | BE151: =IF(N151="základná",J151,0) -> 0 | BF151: =IF(N151="znížená",J151,0) -> 0 | BG151: =IF(N151="zákl. prenesená",J151,0) -> 0 | BH151: =IF(N151="zníž. prenesená",J151,0) -> 0 | BI151: =IF(N151="nulová",J151,0) -> 0 | BJ151: 2 | BK151: =ROUND(I151*H151,2) -> 0 | BL151: 4 | BM151: 58

Sheet MaR - Meranie a regulácia
L2: >> skryté stĺpce << | AT2: {3e29b2a7-284a-4d19-9137-512468151d4f}
AT3: 0
D4: KRYCÍ LIST ROZPOČTU | M4: v --- nižšie sa nachádzajú doplnkové a pomocné údaje k zostavám --- v | AT4: False
D6: Stavba:
E7: ='Rekapitulácia stavby'!K6 -> Nové záchytné centrum, Bojnice
D8: Objekt:
E9: SO 01 - Chovný priestor
D10: Časť:
E11: MaR - Meranie a regulácia
D13: JKSO: | I13: ČS:
D14: Miesto: | F14: Bojnice | I14: Dátum: | J14: ='Rekapitulácia stavby'!AN8 -> 46146
D16: Objednávateľ: | I16: IČO:
E17: Národná zoologická záhrada | I17: IČ DPH:
D19: Zhotoviteľ: | I19: IČO:
I20: IČ DPH:
D22: Projektant: | I22: IČO:
E23: ERGAprojekt s.r.o. | I23: IČ DPH:
D25: Spracovateľ: | I25: IČO: | J25: =IF('Rekapitulácia stavby'!AN19="","",'Rekapitulácia stavby'!AN19)
E26: =IF('Rekapitulácia stavby'!E20="","",'Rekapitulácia stavby'!E20) | I26: IČ DPH: | J26: =IF('Rekapitulácia stavby'!AN20="","",'Rekapitulácia stavby'!AN20)
D28: Poznámka:
D32: Cena bez DPH | J32: =ROUND(J124, 2) -> 0
F34: Základ dane | I34: Sadzba dane | J34: Výška dane
D35: DPH | E35: základná | F35: =ROUND((SUM(BE124:BE205)), 2) -> 0 | I35: 0.23 | J35: =ROUND(((SUM(BE124:BE205))*I35), 2) -> 0
E36: znížená | F36: =ROUND((SUM(BF124:BF205)), 2) -> 0 | I36: 0.23 | J36: =ROUND(((SUM(BF124:BF205))*I36), 2) -> 0
E37: zákl. prenesená | F37: =ROUND((SUM(BG124:BG205)), 2) -> 0 | I37: 0.23 | J37: =0 -> 0
E38: zníž. prenesená | F38: =ROUND((SUM(BH124:BH205)), 2) -> 0 | I38: 0.23 | J38: =0 -> 0
E39: nulová | F39: =ROUND((SUM(BI124:BI205)), 2) -> 0 | I39: 0 | J39: =0 -> 0
D41: Cena s DPH | G41: v | H41: EUR | J41: =SUM(J32:J39) -> 0
D50: Projektant | G50: Spracovateľ
D61: Dátum a podpis: | F61: Pečiatka | G61: Dátum a podpis: | J61: Pečiatka
D65: Objednávateľ | G65: Zhotoviteľ
D76: Dátum a podpis: | F76: Pečiatka | G76: Dátum a podpis: | J76: Pečiatka
C82: REKAPITULÁCIA ROZPOČTU
C84: Stavba:
E85: =E7 -> Nové záchytné centrum, Bojnice
C86: Objekt:
E87: SO 01 - Chovný priestor
C88: Časť:
E89: =E11 -> MaR - Meranie a regulácia
C91: Miesto: | F91: =F14 -> Bojnice | I91: Dátum: | J91: =IF(J14="","",J14) -> 46146
C93: Objednávateľ: | F93: =E17 -> Národná zoologická záhrada | I93: Projektant: | J93: =E23 -> ERGAprojekt s.r.o.
C94: Zhotoviteľ: | F94: =IF(E20="","",E20) | I94: Spracovateľ: | J94: =E26
C96: Kód dielu - Popis | J96: Cena celkom [EUR]
C98: Náklady z rozpočtu | J98: =J124 -> 0 | AU98: -1
D99: D1 - DTK | J99: =J125 -> 0
D100: D2 - Priestorové periférie | J100: =J154 -> 0
D101: D3 - Montážny materiál a práce | J101: =J161 -> 0
D102: D4 - Služby | J102: =J195 -> 0
C109: ROZPOČET
C111: Stavba:
E112: =E7 -> Nové záchytné centrum, Bojnice
C113: Objekt:
E114: SO 01 - Chovný priestor
C115: Časť:
E116: =E11 -> MaR - Meranie a regulácia
C118: Miesto: | F118: =F14 -> Bojnice | I118: Dátum: | J118: =IF(J14="","",J14) -> 46146
C120: Objednávateľ: | F120: =E17 -> Národná zoologická záhrada | I120: Projektant: | J120: =E23 -> ERGAprojekt s.r.o.
C121: Zhotoviteľ: | F121: =IF(E20="","",E20) | I121: Spracovateľ: | J121: =E26
C123: PČ | D123: Typ | E123: Kód | F123: Popis | G123: MJ | H123: Množstvo | I123: J.cena [EUR] | J123: Cena celkom [EUR] | K123: Cenová sústava | N123: DPH | O123: J. Nh [h] | P123: Nh celkom [h] | Q123: J. hmotnosť [t] | R123: Hmotnosť celkom [t] | S123: J. suť [t] | T123: Suť Celkom [t]
C124: Náklady z rozpočtu | J124: =BK124 -> 0 | P124: =P125+P154+P161+P195 -> 0 | R124: =R125+R154+R161+R195 -> 0 | T124: =T125+T154+T161+T195 -> 0 | AT124: D | AU124: -1 | BK124: =BK125+BK154+BK161+BK195 -> 0
D125: D | E125: D1 | F125: DTK | J125: =BK125 -> 0 | P125: =SUM(P126:P153) -> 0 | R125: =SUM(R126:R153) -> 0 | T125: =SUM(T126:T153) -> 0 | AR125: 1 | AT125: D | AU125: 0 | AY125: ROZPOCET | BK125: =SUM(BK126:BK153) -> 0
C126: 0 | D126: K | E126: Pol108 | F126: Radové svorky | G126: kpl | J126: =ROUND(I126*H126,2) -> 0 | N126: znížená | P126: =O126*H126 -> 0 | Q126: 0 | R126: =Q126*H126 -> 0 | S126: 0 | T126: =S126*H126 -> 0 | AR126: 4 | AT126: K | AU126: 1 | AY126: ROZPOCET | BE126: =IF(N126="základná",J126,0) -> 0 | BF126: =IF(N126="znížená",J126,0) -> 0 | BG126: =IF(N126="zákl. prenesená",J126,0) -> 0 | BH126: =IF(N126="zníž. prenesená",J126,0) -> 0 | BI126: =IF(N126="nulová",J126,0) -> 0 | BJ126: 2 | BK126: =ROUND(I126*H126,2) -> 0 | BL126: 4 | BM126: 2
C127: 0 | D127: K | E127: Pol109 | F127: Príslušenstvo k radovým svorkám (kryty, mostíky,...) | G127: kpl | J127: =ROUND(I127*H127,2) -> 0 | N127: znížená | P127: =O127*H127 -> 0 | Q127: 0 | R127: =Q127*H127 -> 0 | S127: 0 | T127: =S127*H127 -> 0 | AR127: 4 | AT127: K | AU127: 1 | AY127: ROZPOCET | BE127: =IF(N127="základná",J127,0) -> 0 | BF127: =IF(N127="znížená",J127,0) -> 0 | BG127: =IF(N127="zákl. prenesená",J127,0) -> 0 | BH127: =IF(N127="zníž. prenesená",J127,0) -> 0 | BI127: =IF(N127="nulová",J127,0) -> 0 | BJ127: 2 | BK127: =ROUND(I127*H127,2) -> 0 | BL127: 4 | BM127: 4
C128: 0 | D128: K | E128: Pol110 | F128: Svorkovnica N | G128: ks | J128: =ROUND(I128*H128,2) -> 0 | N128: znížená | P128: =O128*H128 -> 0 | Q128: 0 | R128: =Q128*H128 -> 0 | S128: 0 | T128: =S128*H128 -> 0 | AR128: 4 | AT128: K | AU128: 1 | AY128: ROZPOCET | BE128: =IF(N128="základná",J128,0) -> 0 | BF128: =IF(N128="znížená",J128,0) -> 0 | BG128: =IF(N128="zákl. prenesená",J128,0) -> 0 | BH128: =IF(N128="zníž. prenesená",J128,0) -> 0 | BI128: =IF(N128="nulová",J128,0) -> 0 | BJ128: 2 | BK128: =ROUND(I128*H128,2) -> 0 | BL128: 4 | BM128: 6
C129: 0 | D129: K | E129: Pol111 | F129: Svorkovnica PE | G129: ks | J129: =ROUND(I129*H129,2) -> 0 | N129: znížená | P129: =O129*H129 -> 0 | Q129: 0 | R129: =Q129*H129 -> 0 | S129: 0 | T129: =S129*H129 -> 0 | AR129: 4 | AT129: K | AU129: 1 | AY129: ROZPOCET | BE129: =IF(N129="základná",J129,0) -> 0 | BF129: =IF(N129="znížená",J129,0) -> 0 | BG129: =IF(N129="zákl. prenesená",J129,0) -> 0 | BH129: =IF(N129="zníž. prenesená",J129,0) -> 0 | BI129: =IF(N129="nulová",J129,0) -> 0 | BJ129: 2 | BK129: =ROUND(I129*H129,2) -> 0 | BL129: 4 | BM129: 8
C130: 0 | D130: K | E130: Pol112 | F130: Vypínač modulárny 80A/3 | G130: ks | J130: =ROUND(I130*H130,2) -> 0 | N130: znížená | P130: =O130*H130 -> 0 | Q130: 0 | R130: =Q130*H130 -> 0 | S130: 0 | T130: =S130*H130 -> 0 | AR130: 4 | AT130: K | AU130: 1 | AY130: ROZPOCET | BE130: =IF(N130="základná",J130,0) -> 0 | BF130: =IF(N130="znížená",J130,0) -> 0 | BG130: =IF(N130="zákl. prenesená",J130,0) -> 0 | BH130: =IF(N130="zníž. prenesená",J130,0) -> 0 | BI130: =IF(N130="nulová",J130,0) -> 0 | BJ130: 2 | BK130: =ROUND(I130*H130,2) -> 0 | BL130: 4 | BM130: 10
C131: 0 | D131: K | E131: Pol113 | F131: Prepäťová ochrana T2+T3 12,5kA/pól | G131: ks | J131: =ROUND(I131*H131,2) -> 0 | N131: znížená | P131: =O131*H131 -> 0 | Q131: 0 | R131: =Q131*H131 -> 0 | S131: 0 | T131: =S131*H131 -> 0 | AR131: 4 | AT131: K | AU131: 1 | AY131: ROZPOCET | BE131: =IF(N131="základná",J131,0) -> 0 | BF131: =IF(N131="znížená",J131,0) -> 0 | BG131: =IF(N131="zákl. prenesená",J131,0) -> 0 | BH131: =IF(N131="zníž. prenesená",J131,0) -> 0 | BI131: =IF(N131="nulová",J131,0) -> 0 | BJ131: 2 | BK131: =ROUND(I131*H131,2) -> 0 | BL131: 4 | BM131: 12
C132: 0 | D132: K | E132: Pol114 | F132: Istič modulárny B6/1 | G132: ks | J132: =ROUND(I132*H132,2) -> 0 | N132: znížená | P132: =O132*H132 -> 0 | Q132: 0 | R132: =Q132*H132 -> 0 | S132: 0 | T132: =S132*H132 -> 0 | AR132: 4 | AT132: K | AU132: 1 | AY132: ROZPOCET | BE132: =IF(N132="základná",J132,0) -> 0 | BF132: =IF(N132="znížená",J132,0) -> 0 | BG132: =IF(N132="zákl. prenesená",J132,0) -> 0 | BH132: =IF(N132="zníž. prenesená",J132,0) -> 0 | BI132: =IF(N132="nulová",J132,0) -> 0 | BJ132: 2 | BK132: =ROUND(I132*H132,2) -> 0 | BL132: 4 | BM132: 14
C133: 0 | D133: K | E133: Pol115 | F133: Istič modulárny B2/1 | G133: ks | J133: =ROUND(I133*H133,2) -> 0 | N133: znížená | P133: =O133*H133 -> 0 | Q133: 0 | R133: =Q133*H133 -> 0 | S133: 0 | T133: =S133*H133 -> 0 | AR133: 4 | AT133: K | AU133: 1 | AY133: ROZPOCET | BE133: =IF(N133="základná",J133,0) -> 0 | BF133: =IF(N133="znížená",J133,0) -> 0 | BG133: =IF(N133="zákl. prenesená",J133,0) -> 0 | BH133: =IF(N133="zníž. prenesená",J133,0) -> 0 | BI133: =IF(N133="nulová",J133,0) -> 0 | BJ133: 2 | BK133: =ROUND(I133*H133,2) -> 0 | BL133: 4 | BM133: 16
C134: 0 | D134: K | E134: Pol116 | F134: Istič modulárny B16/1 | G134: ks | J134: =ROUND(I134*H134,2) -> 0 | N134: znížená | P134: =O134*H134 -> 0 | Q134: 0 | R134: =Q134*H134 -> 0 | S134: 0 | T134: =S134*H134 -> 0 | AR134: 4 | AT134: K | AU134: 1 | AY134: ROZPOCET | BE134: =IF(N134="základná",J134,0) -> 0 | BF134: =IF(N134="znížená",J134,0) -> 0 | BG134: =IF(N134="zákl. prenesená",J134,0) -> 0 | BH134: =IF(N134="zníž. prenesená",J134,0) -> 0 | BI134: =IF(N134="nulová",J134,0) -> 0 | BJ134: 2 | BK134: =ROUND(I134*H134,2) -> 0 | BL134: 4 | BM134: 18
C135: 0 | D135: K | E135: Pol117 | F135: Istič modulárny B16/3 | G135: ks | J135: =ROUND(I135*H135,2) -> 0 | N135: znížená | P135: =O135*H135 -> 0 | Q135: 0 | R135: =Q135*H135 -> 0 | S135: 0 | T135: =S135*H135 -> 0 | AR135: 4 | AT135: K | AU135: 1 | AY135: ROZPOCET | BE135: =IF(N135="základná",J135,0) -> 0 | BF135: =IF(N135="znížená",J135,0) -> 0 | BG135: =IF(N135="zákl. prenesená",J135,0) -> 0 | BH135: =IF(N135="zníž. prenesená",J135,0) -> 0 | BI135: =IF(N135="nulová",J135,0) -> 0 | BJ135: 2 | BK135: =ROUND(I135*H135,2) -> 0 | BL135: 4 | BM135: 20
C136: 0 | D136: K | E136: Pol118 | F136: Istič modulárny B10/1 | G136: ks | J136: =ROUND(I136*H136,2) -> 0 | N136: znížená | P136: =O136*H136 -> 0 | Q136: 0 | R136: =Q136*H136 -> 0 | S136: 0 | T136: =S136*H136 -> 0 | AR136: 4 | AT136: K | AU136: 1 | AY136: ROZPOCET | BE136: =IF(N136="základná",J136,0) -> 0 | BF136: =IF(N136="znížená",J136,0) -> 0 | BG136: =IF(N136="zákl. prenesená",J136,0) -> 0 | BH136: =IF(N136="zníž. prenesená",J136,0) -> 0 | BI136: =IF(N136="nulová",J136,0) -> 0 | BJ136: 2 | BK136: =ROUND(I136*H136,2) -> 0 | BL136: 4 | BM136: 22
C137: 0 | D137: K | E137: Pol119 | F137: Prúdový chránič s nadprúdovou ochranou B16/1+N, 30mA | G137: ks | J137: =ROUND(I137*H137,2) -> 0 | N137: znížená | P137: =O137*H137 -> 0 | Q137: 0 | R137: =Q137*H137 -> 0 | S137: 0 | T137: =S137*H137 -> 0 | AR137: 4 | AT137: K | AU137: 1 | AY137: ROZPOCET | BE137: =IF(N137="základná",J137,0) -> 0 | BF137: =IF(N137="znížená",J137,0) -> 0 | BG137: =IF(N137="zákl. prenesená",J137,0) -> 0 | BH137: =IF(N137="zníž. prenesená",J137,0) -> 0 | BI137: =IF(N137="nulová",J137,0) -> 0 | BJ137: 2 | BK137: =ROUND(I137*H137,2) -> 0 | BL137: 4 | BM137: 24
... C153: 0 | D153: K | E153: Pol135 | F153: Rozvádzačová dokumentácia (vyhlásenie o zhode, protokol o kusovej skúške, návod na obsluhu, schéma skutočného zapojenia, ...) | G153: kpl | J153: =ROUND(I153*H153,2) -> 0 | N153: znížená | P153: =O153*H153 -> 0 | Q153: 0 | R153: =Q153*H153 -> 0 | S153: 0 | T153: =S153*H153 -> 0 | AR153: 4 | AT153: K | AU153: 1 | AY153: ROZPOCET | BE153: =IF(N153="základná",J153,0) -> 0 | BF153: =IF(N153="znížená",J153,0) -> 0 | BG153: =IF(N153="zákl. prenesená",J153,0) -> 0 | BH153: =IF(N153="zníž. prenesená",J153,0) -> 0 | BI153: =IF(N153="nulová",J153,0) -> 0 | BJ153: 2 | BK153: =ROUND(I153*H153,2) -> 0 | BL153: 4 | BM153: 56
D154: D | E154: D2 | F154: Priestorové periférie | J154: =BK154 -> 0 | P154: =SUM(P155:P160) -> 0 | R154: =SUM(R155:R160) -> 0 | T154: =SUM(T155:T160) -> 0 | AR154: 1 | AT154: D | AU154: 0 | AY154: ROZPOCET | BK154: =SUM(BK155:BK160) -> 0
C155: 0 | D155: K | E155: Pol136 | F155: Vačkový spínač 3f. | G155: ks | J155: =ROUND(I155*H155,2) -> 0 | N155: znížená | P155: =O155*H155 -> 0 | Q155: 0 | R155: =Q155*H155 -> 0 | S155: 0 | T155: =S155*H155 -> 0 | AR155: 4 | AT155: K | AU155: 1 | AY155: ROZPOCET | BE155: =IF(N155="základná",J155,0) -> 0 | BF155: =IF(N155="znížená",J155,0) -> 0 | BG155: =IF(N155="zákl. prenesená",J155,0) -> 0 | BH155: =IF(N155="zníž. prenesená",J155,0) -> 0 | BI155: =IF(N155="nulová",J155,0) -> 0 | BJ155: 2 | BK155: =ROUND(I155*H155,2) -> 0 | BL155: 4 | BM155: 58
C156: 0 | D156: K | E156: Pol137 | F156: Pripojenie kaskádového modulu KM-2 | G156: ks | J156: =ROUND(I156*H156,2) -> 0 | N156: znížená | P156: =O156*H156 -> 0 | Q156: 0 | R156: =Q156*H156 -> 0 | S156: 0 | T156: =S156*H156 -> 0 | AR156: 4 | AT156: K | AU156: 1 | AY156: ROZPOCET | BE156: =IF(N156="základná",J156,0) -> 0 | BF156: =IF(N156="znížená",J156,0) -> 0 | BG156: =IF(N156="zákl. prenesená",J156,0) -> 0 | BH156: =IF(N156="zníž. prenesená",J156,0) -> 0 | BI156: =IF(N156="nulová",J156,0) -> 0 | BJ156: 2 | BK156: =ROUND(I156*H156,2) -> 0 | BL156: 4 | BM156: 60
C157: 0 | D157: K | E157: Pol138 | F157: Pripojenie ovládacieho modulu BM-2 | G157: ks | J157: =ROUND(I157*H157,2) -> 0 | N157: znížená | P157: =O157*H157 -> 0 | Q157: 0 | R157: =Q157*H157 -> 0 | S157: 0 | T157: =S157*H157 -> 0 | AR157: 4 | AT157: K | AU157: 1 | AY157: ROZPOCET | BE157: =IF(N157="základná",J157,0) -> 0 | BF157: =IF(N157="znížená",J157,0) -> 0 | BG157: =IF(N157="zákl. prenesená",J157,0) -> 0 | BH157: =IF(N157="zníž. prenesená",J157,0) -> 0 | BI157: =IF(N157="nulová",J157,0) -> 0 | BJ157: 2 | BK157: =ROUND(I157*H157,2) -> 0 | BL157: 4 | BM157: 62
C158: 0 | D158: K | E158: Pol139 | F158: Pripojenie čerpadla | G158: ks | J158: =ROUND(I158*H158,2) -> 0 | N158: znížená | P158: =O158*H158 -> 0 | Q158: 0 | R158: =Q158*H158 -> 0 | S158: 0 | T158: =S158*H158 -> 0 | AR158: 4 | AT158: K | AU158: 1 | AY158: ROZPOCET | BE158: =IF(N158="základná",J158,0) -> 0 | BF158: =IF(N158="znížená",J158,0) -> 0 | BG158: =IF(N158="zákl. prenesená",J158,0) -> 0 | BH158: =IF(N158="zníž. prenesená",J158,0) -> 0 | BI158: =IF(N158="nulová",J158,0) -> 0 | BJ158: 2 | BK158: =ROUND(I158*H158,2) -> 0 | BL158: 4 | BM158: 64
C159: 0 | D159: K | E159: Pol140 | F159: Teplotné čidlo vonkajšej teploty | G159: ks | J159: =ROUND(I159*H159,2) -> 0 | N159: znížená | P159: =O159*H159 -> 0 | Q159: 0 | R159: =Q159*H159 -> 0 | S159: 0 | T159: =S159*H159 -> 0 | AR159: 4 | AT159: K | AU159: 1 | AY159: ROZPOCET | BE159: =IF(N159="základná",J159,0) -> 0 | BF159: =IF(N159="znížená",J159,0) -> 0 | BG159: =IF(N159="zákl. prenesená",J159,0) -> 0 | BH159: =IF(N159="zníž. prenesená",J159,0) -> 0 | BI159: =IF(N159="nulová",J159,0) -> 0 | BJ159: 2 | BK159: =ROUND(I159*H159,2) -> 0 | BL159: 4 | BM159: 66
C160: 0 | D160: K | E160: Pol141 | F160: Teplotné čidlo | G160: ks | J160: =ROUND(I160*H160,2) -> 0 | N160: znížená | P160: =O160*H160 -> 0 | Q160: 0 | R160: =Q160*H160 -> 0 | S160: 0 | T160: =S160*H160 -> 0 | AR160: 4 | AT160: K | AU160: 1 | AY160: ROZPOCET | BE160: =IF(N160="základná",J160,0) -> 0 | BF160: =IF(N160="znížená",J160,0) -> 0 | BG160: =IF(N160="zákl. prenesená",J160,0) -> 0 | BH160: =IF(N160="zníž. prenesená",J160,0) -> 0 | BI160: =IF(N160="nulová",J160,0) -> 0 | BJ160: 2 | BK160: =ROUND(I160*H160,2) -> 0 | BL160: 4 | BM160: 68
D161: D | E161: D3 | F161: Montážny materiál a práce | J161: =BK161 -> 0 | P161: =SUM(P162:P194) -> 0 | R161: =SUM(R162:R194) -> 0 | T161: =SUM(T162:T194) -> 0 | AR161: 1 | AT161: D | AU161: 0 | AY161: ROZPOCET | BK161: =SUM(BK162:BK194) -> 0
C162: 0 | D162: K | E162: Pol142 | F162: prieraz káblového prestupu na fasádu | G162: ks | J162: =ROUND(I162*H162,2) -> 0 | N162: znížená | P162: =O162*H162 -> 0 | Q162: 0 | R162: =Q162*H162 -> 0 | S162: 0 | T162: =S162*H162 -> 0 | AR162: 4 | AT162: K | AU162: 1 | AY162: ROZPOCET | BE162: =IF(N162="základná",J162,0) -> 0 | BF162: =IF(N162="znížená",J162,0) -> 0 | BG162: =IF(N162="zákl. prenesená",J162,0) -> 0 | BH162: =IF(N162="zníž. prenesená",J162,0) -> 0 | BI162: =IF(N162="nulová",J162,0) -> 0 | BJ162: 2 | BK162: =ROUND(I162*H162,2) -> 0 | BL162: 4 | BM162: 70
C163: 0 | D163: K | E163: Pol143 | F163: zhotovenie káblového prestupu na fasádu | G163: ks | J163: =ROUND(I163*H163,2) -> 0 | N163: znížená | P163: =O163*H163 -> 0 | Q163: 0 | R163: =Q163*H163 -> 0 | S163: 0 | T163: =S163*H163 -> 0 | AR163: 4 | AT163: K | AU163: 1 | AY163: ROZPOCET | BE163: =IF(N163="základná",J163,0) -> 0 | BF163: =IF(N163="znížená",J163,0) -> 0 | BG163: =IF(N163="zákl. prenesená",J163,0) -> 0 | BH163: =IF(N163="zníž. prenesená",J163,0) -> 0 | BI163: =IF(N163="nulová",J163,0) -> 0 | BJ163: 2 | BK163: =ROUND(I163*H163,2) -> 0 | BL163: 4 | BM163: 72
C164: 0 | D164: K | E164: Pol144 | F164: utesnenie káblového prestupu na fasádu | G164: ks | J164: =ROUND(I164*H164,2) -> 0 | N164: znížená | P164: =O164*H164 -> 0 | Q164: 0 | R164: =Q164*H164 -> 0 | S164: 0 | T164: =S164*H164 -> 0 | AR164: 4 | AT164: K | AU164: 1 | AY164: ROZPOCET | BE164: =IF(N164="základná",J164,0) -> 0 | BF164: =IF(N164="znížená",J164,0) -> 0 | BG164: =IF(N164="zákl. prenesená",J164,0) -> 0 | BH164: =IF(N164="zníž. prenesená",J164,0) -> 0 | BI164: =IF(N164="nulová",J164,0) -> 0 | BJ164: 2 | BK164: =ROUND(I164*H164,2) -> 0 | BL164: 4 | BM164: 74
C165: 0 | D165: K | E165: Pol145 | F165: PVC kanál 100x50 resp. ekvivalentný prierez | G165: m | J165: =ROUND(I165*H165,2) -> 0 | N165: znížená | P165: =O165*H165 -> 0 | Q165: 0 | R165: =Q165*H165 -> 0 | S165: 0 | T165: =S165*H165 -> 0 | AR165: 4 | AT165: K | AU165: 1 | AY165: ROZPOCET | BE165: =IF(N165="základná",J165,0) -> 0 | BF165: =IF(N165="znížená",J165,0) -> 0 | BG165: =IF(N165="zákl. prenesená",J165,0) -> 0 | BH165: =IF(N165="zníž. prenesená",J165,0) -> 0 | BI165: =IF(N165="nulová",J165,0) -> 0 | BJ165: 2 | BK165: =ROUND(I165*H165,2) -> 0 | BL165: 4 | BM165: 76
C166: 0 | D166: K | E166: Pol146 | F166: PVC žlab 20x20 resp. ekvivalentný prierez | G166: m | J166: =ROUND(I166*H166,2) -> 0 | N166: znížená | P166: =O166*H166 -> 0 | Q166: 0 | R166: =Q166*H166 -> 0 | S166: 0 | T166: =S166*H166 -> 0 | AR166: 4 | AT166: K | AU166: 1 | AY166: ROZPOCET | BE166: =IF(N166="základná",J166,0) -> 0 | BF166: =IF(N166="znížená",J166,0) -> 0 | BG166: =IF(N166="zákl. prenesená",J166,0) -> 0 | BH166: =IF(N166="zníž. prenesená",J166,0) -> 0 | BI166: =IF(N166="nulová",J166,0) -> 0 | BJ166: 2 | BK166: =ROUND(I166*H166,2) -> 0 | BL166: 4 | BM166: 78
C167: 0 | D167: K | E167: Pol147 | F167: Prepážka do PVC kanála | G167: m | J167: =ROUND(I167*H167,2) -> 0 | N167: znížená | P167: =O167*H167 -> 0 | Q167: 0 | R167: =Q167*H167 -> 0 | S167: 0 | T167: =S167*H167 -> 0 | AR167: 4 | AT167: K | AU167: 1 | AY167: ROZPOCET | BE167: =IF(N167="základná",J167,0) -> 0 | BF167: =IF(N167="znížená",J167,0) -> 0 | BG167: =IF(N167="zákl. prenesená",J167,0) -> 0 | BH167: =IF(N167="zníž. prenesená",J167,0) -> 0 | BI167: =IF(N167="nulová",J167,0) -> 0 | BJ167: 2 | BK167: =ROUND(I167*H167,2) -> 0 | BL167: 4 | BM167: 80
C168: 0 | D168: K | E168: Pol148 | F168: Systémový roh k PVC kanálu - vonkajší | G168: ks | J168: =ROUND(I168*H168,2) -> 0 | N168: znížená | P168: =O168*H168 -> 0 | Q168: 0 | R168: =Q168*H168 -> 0 | S168: 0 | T168: =S168*H168 -> 0 | AR168: 4 | AT168: K | AU168: 1 | AY168: ROZPOCET | BE168: =IF(N168="základná",J168,0) -> 0 | BF168: =IF(N168="znížená",J168,0) -> 0 | BG168: =IF(N168="zákl. prenesená",J168,0) -> 0 | BH168: =IF(N168="zníž. prenesená",J168,0) -> 0 | BI168: =IF(N168="nulová",J168,0) -> 0 | BJ168: 2 | BK168: =ROUND(I168*H168,2) -> 0 | BL168: 4 | BM168: 82
C169: 0 | D169: K | E169: Pol149 | F169: Systémový roh k PVC kanálu - vnútorný | G169: ks | J169: =ROUND(I169*H169,2) -> 0 | N169: znížená | P169: =O169*H169 -> 0 | Q169: 0 | R169: =Q169*H169 -> 0 | S169: 0 | T169: =S169*H169 -> 0 | AR169: 4 | AT169: K | AU169: 1 | AY169: ROZPOCET | BE169: =IF(N169="základná",J169,0) -> 0 | BF169: =IF(N169="znížená",J169,0) -> 0 | BG169: =IF(N169="zákl. prenesená",J169,0) -> 0 | BH169: =IF(N169="zníž. prenesená",J169,0) -> 0 | BI169: =IF(N169="nulová",J169,0) -> 0 | BJ169: 2 | BK169: =ROUND(I169*H169,2) -> 0 | BL169: 4 | BM169: 84
C170: 0 | D170: K | E170: Pol150 | F170: Koncový kryt k PVC kanálu | G170: ks | J170: =ROUND(I170*H170,2) -> 0 | N170: znížená | P170: =O170*H170 -> 0 | Q170: 0 | R170: =Q170*H170 -> 0 | S170: 0 | T170: =S170*H170 -> 0 | AR170: 4 | AT170: K | AU170: 1 | AY170: ROZPOCET | BE170: =IF(N170="základná",J170,0) -> 0 | BF170: =IF(N170="znížená",J170,0) -> 0 | BG170: =IF(N170="zákl. prenesená",J170,0) -> 0 | BH170: =IF(N170="zníž. prenesená",J170,0) -> 0 | BI170: =IF(N170="nulová",J170,0) -> 0 | BJ170: 2 | BK170: =ROUND(I170*H170,2) -> 0 | BL170: 4 | BM170: 86
C171: 0 | D171: K | E171: Pol151 | F171: Spojovací kryt k PVC kanálu | G171: ks | J171: =ROUND(I171*H171,2) -> 0 | N171: znížená | P171: =O171*H171 -> 0 | Q171: 0 | R171: =Q171*H171 -> 0 | S171: 0 | T171: =S171*H171 -> 0 | AR171: 4 | AT171: K | AU171: 1 | AY171: ROZPOCET | BE171: =IF(N171="základná",J171,0) -> 0 | BF171: =IF(N171="znížená",J171,0) -> 0 | BG171: =IF(N171="zákl. prenesená",J171,0) -> 0 | BH171: =IF(N171="zníž. prenesená",J171,0) -> 0 | BI171: =IF(N171="nulová",J171,0) -> 0 | BJ171: 2 | BK171: =ROUND(I171*H171,2) -> 0 | BL171: 4 | BM171: 88
C172: 0 | D172: K | E172: Pol152 | F172: Hmoždinka 8mm vr. vyvŕtania diery | G172: ks | J172: =ROUND(I172*H172,2) -> 0 | N172: znížená | P172: =O172*H172 -> 0 | Q172: 0 | R172: =Q172*H172 -> 0 | S172: 0 | T172: =S172*H172 -> 0 | AR172: 4 | AT172: K | AU172: 1 | AY172: ROZPOCET | BE172: =IF(N172="základná",J172,0) -> 0 | BF172: =IF(N172="znížená",J172,0) -> 0 | BG172: =IF(N172="zákl. prenesená",J172,0) -> 0 | BH172: =IF(N172="zníž. prenesená",J172,0) -> 0 | BI172: =IF(N172="nulová",J172,0) -> 0 | BJ172: 2 | BK172: =ROUND(I172*H172,2) -> 0 | BL172: 4 | BM172: 90
C173: 0 | D173: K | E173: Pol153 | F173: Káblová príchitka plastová | G173: ks | J173: =ROUND(I173*H173,2) -> 0 | N173: znížená | P173: =O173*H173 -> 0 | Q173: 0 | R173: =Q173*H173 -> 0 | S173: 0 | T173: =S173*H173 -> 0 | AR173: 4 | AT173: K | AU173: 1 | AY173: ROZPOCET | BE173: =IF(N173="základná",J173,0) -> 0 | BF173: =IF(N173="znížená",J173,0) -> 0 | BG173: =IF(N173="zákl. prenesená",J173,0) -> 0 | BH173: =IF(N173="zníž. prenesená",J173,0) -> 0 | BI173: =IF(N173="nulová",J173,0) -> 0 | BJ173: 2 | BK173: =ROUND(I173*H173,2) -> 0 | BL173: 4 | BM173: 92
... C194: 0 | D194: K | E194: Pol171 | F194: Podiel pridružných výkonov | G194: % | J194: =ROUND(I194*H194,2) -> 0 | N194: znížená | P194: =O194*H194 -> 0 | Q194: 0 | R194: =Q194*H194 -> 0 | S194: 0 | T194: =S194*H194 -> 0 | AR194: 4 | AT194: K | AU194: 1 | AY194: ROZPOCET | BE194: =IF(N194="základná",J194,0) -> 0 | BF194: =IF(N194="znížená",J194,0) -> 0 | BG194: =IF(N194="zákl. prenesená",J194,0) -> 0 | BH194: =IF(N194="zníž. prenesená",J194,0) -> 0 | BI194: =IF(N194="nulová",J194,0) -> 0 | BJ194: 2 | BK194: =ROUND(I194*H194,2) -> 0 | BL194: 4 | BM194: 134
D195: D | E195: D4 | F195: Služby | J195: =BK195 -> 0 | P195: =SUM(P196:P205) -> 0 | R195: =SUM(R196:R205) -> 0 | T195: =SUM(T196:T205) -> 0 | AR195: 1 | AT195: D | AU195: 0 | AY195: ROZPOCET | BK195: =SUM(BK196:BK205) -> 0
C196: 0 | D196: K | E196: Pol172 | F196: Revízia | G196: nh | J196: =ROUND(I196*H196,2) -> 0 | N196: znížená | P196: =O196*H196 -> 0 | Q196: 0 | R196: =Q196*H196 -> 0 | S196: 0 | T196: =S196*H196 -> 0 | AR196: 4 | AT196: K | AU196: 1 | AY196: ROZPOCET | BE196: =IF(N196="základná",J196,0) -> 0 | BF196: =IF(N196="znížená",J196,0) -> 0 | BG196: =IF(N196="zákl. prenesená",J196,0) -> 0 | BH196: =IF(N196="zníž. prenesená",J196,0) -> 0 | BI196: =IF(N196="nulová",J196,0) -> 0 | BJ196: 2 | BK196: =ROUND(I196*H196,2) -> 0 | BL196: 4 | BM196: 136
C197: 0 | D197: K | E197: Pol173 | F197: Funkčná skúška/skúšobná prevádzka | G197: nh | J197: =ROUND(I197*H197,2) -> 0 | N197: znížená | P197: =O197*H197 -> 0 | Q197: 0 | R197: =Q197*H197 -> 0 | S197: 0 | T197: =S197*H197 -> 0 | AR197: 4 | AT197: K | AU197: 1 | AY197: ROZPOCET | BE197: =IF(N197="základná",J197,0) -> 0 | BF197: =IF(N197="znížená",J197,0) -> 0 | BG197: =IF(N197="zákl. prenesená",J197,0) -> 0 | BH197: =IF(N197="zníž. prenesená",J197,0) -> 0 | BI197: =IF(N197="nulová",J197,0) -> 0 | BJ197: 2 | BK197: =ROUND(I197*H197,2) -> 0 | BL197: 4 | BM197: 138
C198: 0 | D198: K | E198: Pol174 | F198: Spracovanie dielenskej/výrobnej projektovej dokumentácie | G198: ks | J198: =ROUND(I198*H198,2) -> 0 | N198: znížená | P198: =O198*H198 -> 0 | Q198: 0 | R198: =Q198*H198 -> 0 | S198: 0 | T198: =S198*H198 -> 0 | AR198: 4 | AT198: K | AU198: 1 | AY198: ROZPOCET | BE198: =IF(N198="základná",J198,0) -> 0 | BF198: =IF(N198="znížená",J198,0) -> 0 | BG198: =IF(N198="zákl. prenesená",J198,0) -> 0 | BH198: =IF(N198="zníž. prenesená",J198,0) -> 0 | BI198: =IF(N198="nulová",J198,0) -> 0 | BJ198: 2 | BK198: =ROUND(I198*H198,2) -> 0 | BL198: 4 | BM198: 140
C199: 0 | D199: K | E199: Pol175 | F199: Spracovanie projektovej dokumentácie skutkového vyhotovenia | G199: ks | J199: =ROUND(I199*H199,2) -> 0 | N199: znížená | P199: =O199*H199 -> 0 | Q199: 0 | R199: =Q199*H199 -> 0 | S199: 0 | T199: =S199*H199 -> 0 | AR199: 4 | AT199: K | AU199: 1 | AY199: ROZPOCET | BE199: =IF(N199="základná",J199,0) -> 0 | BF199: =IF(N199="znížená",J199,0) -> 0 | BG199: =IF(N199="zákl. prenesená",J199,0) -> 0 | BH199: =IF(N199="zníž. prenesená",J199,0) -> 0 | BI199: =IF(N199="nulová",J199,0) -> 0 | BJ199: 2 | BK199: =ROUND(I199*H199,2) -> 0 | BL199: 4 | BM199: 142
...

Sheet SLP - Slaboprúdová inštal...
L2: >> skryté stĺpce << | AT2: {f9f63793-654a-4850-83ce-45c8b01d728b}
AT3: 0
D4: KRYCÍ LIST ROZPOČTU | M4: v --- nižšie sa nachádzajú doplnkové a pomocné údaje k zostavám --- v | AT4: False
D6: Stavba:
E7: ='Rekapitulácia stavby'!K6 -> Nové záchytné centrum, Bojnice
D8: Objekt:
E9: SO 01 - Chovný priestor
D10: Časť:
E11: SLP - Slaboprúdová inštalácia
D13: JKSO: | I13: ČS:
D14: Miesto: | F14: Bojnice | I14: Dátum: | J14: ='Rekapitulácia stavby'!AN8 -> 46146
D16: Objednávateľ: | I16: IČO:
E17: Národná zoologická záhrada | I17: IČ DPH:
D19: Zhotoviteľ: | I19: IČO:
I20: IČ DPH:
D22: Projektant: | I22: IČO:
E23: ERGAprojekt s.r.o. | I23: IČ DPH:
D25: Spracovateľ: | I25: IČO: | J25: =IF('Rekapitulácia stavby'!AN19="","",'Rekapitulácia stavby'!AN19)
E26: =IF('Rekapitulácia stavby'!E20="","",'Rekapitulácia stavby'!E20) | I26: IČ DPH: | J26: =IF('Rekapitulácia stavby'!AN20="","",'Rekapitulácia stavby'!AN20)
D28: Poznámka:
D32: Cena bez DPH | J32: =ROUND(J121, 2) -> 0
F34: Základ dane | I34: Sadzba dane | J34: Výška dane
D35: DPH | E35: základná | F35: =ROUND((SUM(BE121:BE140)), 2) -> 0 | I35: 0.23 | J35: =ROUND(((SUM(BE121:BE140))*I35), 2) -> 0
E36: znížená | F36: =ROUND((SUM(BF121:BF140)), 2) -> 0 | I36: 0.23 | J36: =ROUND(((SUM(BF121:BF140))*I36), 2) -> 0
E37: zákl. prenesená | F37: =ROUND((SUM(BG121:BG140)), 2) -> 0 | I37: 0.23 | J37: =0 -> 0
E38: zníž. prenesená | F38: =ROUND((SUM(BH121:BH140)), 2) -> 0 | I38: 0.23 | J38: =0 -> 0
E39: nulová | F39: =ROUND((SUM(BI121:BI140)), 2) -> 0 | I39: 0 | J39: =0 -> 0
D41: Cena s DPH | G41: v | H41: EUR | J41: =SUM(J32:J39) -> 0
D50: Projektant | G50: Spracovateľ
D61: Dátum a podpis: | F61: Pečiatka | G61: Dátum a podpis: | J61: Pečiatka
D65: Objednávateľ | G65: Zhotoviteľ
D76: Dátum a podpis: | F76: Pečiatka | G76: Dátum a podpis: | J76: Pečiatka
C82: REKAPITULÁCIA ROZPOČTU
C84: Stavba:
E85: =E7 -> Nové záchytné centrum, Bojnice
C86: Objekt:
E87: SO 01 - Chovný priestor
C88: Časť:
E89: =E11 -> SLP - Slaboprúdová inštalácia
C91: Miesto: | F91: =F14 -> Bojnice | I91: Dátum: | J91: =IF(J14="","",J14) -> 46146
C93: Objednávateľ: | F93: =E17 -> Národná zoologická záhrada | I93: Projektant: | J93: =E23 -> ERGAprojekt s.r.o.
C94: Zhotoviteľ: | F94: =IF(E20="","",E20) | I94: Spracovateľ: | J94: =E26
C96: Kód dielu - Popis | J96: Cena celkom [EUR]
C98: Náklady z rozpočtu | J98: =J121 -> 0 | AU98: -1
D99: D1 - Kamerový systém | J99: =J122 -> 0
C106: ROZPOČET
C108: Stavba:
E109: =E7 -> Nové záchytné centrum, Bojnice
C110: Objekt:
E111: SO 01 - Chovný priestor
C112: Časť:
E113: =E11 -> SLP - Slaboprúdová inštalácia
C115: Miesto: | F115: =F14 -> Bojnice | I115: Dátum: | J115: =IF(J14="","",J14) -> 46146
C117: Objednávateľ: | F117: =E17 -> Národná zoologická záhrada | I117: Projektant: | J117: =E23 -> ERGAprojekt s.r.o.
C118: Zhotoviteľ: | F118: =IF(E20="","",E20) | I118: Spracovateľ: | J118: =E26
C120: PČ | D120: Typ | E120: Kód | F120: Popis | G120: MJ | H120: Množstvo | I120: J.cena [EUR] | J120: Cena celkom [EUR] | K120: Cenová sústava | N120: DPH | O120: J. Nh [h] | P120: Nh celkom [h] | Q120: J. hmotnosť [t] | R120: Hmotnosť celkom [t] | S120: J. suť [t] | T120: Suť Celkom [t]
C121: Náklady z rozpočtu | J121: =BK121 -> 0 | P121: =P122 -> 0 | R121: =R122 -> 0 | T121: =T122 -> 0 | AT121: D | AU121: -1 | BK121: =BK122 -> 0
D122: D | E122: D1 | F122: Kamerový systém | J122: =BK122 -> 0 | P122: =SUM(P123:P140) -> 0 | R122: =SUM(R123:R140) -> 0 | T122: =SUM(T123:T140) -> 0 | AR122: 1 | AT122: D | AU122: 0 | AY122: ROZPOCET | BK122: =SUM(BK123:BK140) -> 0
C123: 0 | D123: K | E123: Pol182 | F123: Dátový rozvádzač 600x600x42U | G123: ks | J123: =ROUND(I123*H123,2) -> 0 | N123: znížená | P123: =O123*H123 -> 0 | Q123: 0 | R123: =Q123*H123 -> 0 | S123: 0 | T123: =S123*H123 -> 0 | AR123: 4 | AT123: K | AU123: 1 | AY123: ROZPOCET | BE123: =IF(N123="základná",J123,0) -> 0 | BF123: =IF(N123="znížená",J123,0) -> 0 | BG123: =IF(N123="zákl. prenesená",J123,0) -> 0 | BH123: =IF(N123="zníž. prenesená",J123,0) -> 0 | BI123: =IF(N123="nulová",J123,0) -> 0 | BJ123: 2 | BK123: =ROUND(I123*H123,2) -> 0 | BL123: 4 | BM123: 2
C124: 0 | D124: K | E124: Pol183 | F124: PoE switch 48 portový | G124: ks | J124: =ROUND(I124*H124,2) -> 0 | N124: znížená | P124: =O124*H124 -> 0 | Q124: 0 | R124: =Q124*H124 -> 0 | S124: 0 | T124: =S124*H124 -> 0 | AR124: 4 | AT124: K | AU124: 1 | AY124: ROZPOCET | BE124: =IF(N124="základná",J124,0) -> 0 | BF124: =IF(N124="znížená",J124,0) -> 0 | BG124: =IF(N124="zákl. prenesená",J124,0) -> 0 | BH124: =IF(N124="zníž. prenesená",J124,0) -> 0 | BI124: =IF(N124="nulová",J124,0) -> 0 | BJ124: 2 | BK124: =ROUND(I124*H124,2) -> 0 | BL124: 4 | BM124: 4
C125: 0 | D125: K | E125: Pol184 | F125: Vyväzovacia polica | G125: ks | J125: =ROUND(I125*H125,2) -> 0 | N125: znížená | P125: =O125*H125 -> 0 | Q125: 0 | R125: =Q125*H125 -> 0 | S125: 0 | T125: =S125*H125 -> 0 | AR125: 4 | AT125: K | AU125: 1 | AY125: ROZPOCET | BE125: =IF(N125="základná",J125,0) -> 0 | BF125: =IF(N125="znížená",J125,0) -> 0 | BG125: =IF(N125="zákl. prenesená",J125,0) -> 0 | BH125: =IF(N125="zníž. prenesená",J125,0) -> 0 | BI125: =IF(N125="nulová",J125,0) -> 0 | BJ125: 2 | BK125: =ROUND(I125*H125,2) -> 0 | BL125: 4 | BM125: 6
C126: 0 | D126: K | E126: Pol185 | F126: Držiak patch káblov | G126: ks | J126: =ROUND(I126*H126,2) -> 0 | N126: znížená | P126: =O126*H126 -> 0 | Q126: 0 | R126: =Q126*H126 -> 0 | S126: 0 | T126: =S126*H126 -> 0 | AR126: 4 | AT126: K | AU126: 1 | AY126: ROZPOCET | BE126: =IF(N126="základná",J126,0) -> 0 | BF126: =IF(N126="znížená",J126,0) -> 0 | BG126: =IF(N126="zákl. prenesená",J126,0) -> 0 | BH126: =IF(N126="zníž. prenesená",J126,0) -> 0 | BI126: =IF(N126="nulová",J126,0) -> 0 | BJ126: 2 | BK126: =ROUND(I126*H126,2) -> 0 | BL126: 4 | BM126: 8
C127: 0 | D127: K | E127: Pol186 | F127: Nahrávacie zariadenie NVR | G127: ks | J127: =ROUND(I127*H127,2) -> 0 | N127: znížená | P127: =O127*H127 -> 0 | Q127: 0 | R127: =Q127*H127 -> 0 | S127: 0 | T127: =S127*H127 -> 0 | AR127: 4 | AT127: K | AU127: 1 | AY127: ROZPOCET | BE127: =IF(N127="základná",J127,0) -> 0 | BF127: =IF(N127="znížená",J127,0) -> 0 | BG127: =IF(N127="zákl. prenesená",J127,0) -> 0 | BH127: =IF(N127="zníž. prenesená",J127,0) -> 0 | BI127: =IF(N127="nulová",J127,0) -> 0 | BJ127: 2 | BK127: =ROUND(I127*H127,2) -> 0 | BL127: 4 | BM127: 10
C128: 0 | D128: K | E128: Pol187 | F128: Kamera viacsenzorová 4x5Mpx | G128: ks | J128: =ROUND(I128*H128,2) -> 0 | N128: znížená | P128: =O128*H128 -> 0 | Q128: 0 | R128: =Q128*H128 -> 0 | S128: 0 | T128: =S128*H128 -> 0 | AR128: 4 | AT128: K | AU128: 1 | AY128: ROZPOCET | BE128: =IF(N128="základná",J128,0) -> 0 | BF128: =IF(N128="znížená",J128,0) -> 0 | BG128: =IF(N128="zákl. prenesená",J128,0) -> 0 | BH128: =IF(N128="zníž. prenesená",J128,0) -> 0 | BI128: =IF(N128="nulová",J128,0) -> 0 | BJ128: 2 | BK128: =ROUND(I128*H128,2) -> 0 | BL128: 4 | BM128: 12
C129: 0 | D129: K | E129: Pol188 | F129: Kamera IP kompaktná 4Mpx - exteriérová kamera | G129: ks | J129: =ROUND(I129*H129,2) -> 0 | N129: znížená | P129: =O129*H129 -> 0 | Q129: 0 | R129: =Q129*H129 -> 0 | S129: 0 | T129: =S129*H129 -> 0 | AR129: 4 | AT129: K | AU129: 1 | AY129: ROZPOCET | BE129: =IF(N129="základná",J129,0) -> 0 | BF129: =IF(N129="znížená",J129,0) -> 0 | BG129: =IF(N129="zákl. prenesená",J129,0) -> 0 | BH129: =IF(N129="zníž. prenesená",J129,0) -> 0 | BI129: =IF(N129="nulová",J129,0) -> 0 | BJ129: 2 | BK129: =ROUND(I129*H129,2) -> 0 | BL129: 4 | BM129: 14
C130: 0 | D130: K | E130: Pol189 | F130: Kábel FTP UTP Cat 5E | G130: m | J130: =ROUND(I130*H130,2) -> 0 | N130: znížená | P130: =O130*H130 -> 0 | Q130: 0 | R130: =Q130*H130 -> 0 | S130: 0 | T130: =S130*H130 -> 0 | AR130: 4 | AT130: K | AU130: 1 | AY130: ROZPOCET | BE130: =IF(N130="základná",J130,0) -> 0 | BF130: =IF(N130="znížená",J130,0) -> 0 | BG130: =IF(N130="zákl. prenesená",J130,0) -> 0 | BH130: =IF(N130="zníž. prenesená",J130,0) -> 0 | BI130: =IF(N130="nulová",J130,0) -> 0 | BJ130: 2 | BK130: =ROUND(I130*H130,2) -> 0 | BL130: 4 | BM130: 16
C131: 0 | D131: K | E131: Pol190 | F131: Konektor RJ45 cat 5E | G131: ks | J131: =ROUND(I131*H131,2) -> 0 | N131: znížená | P131: =O131*H131 -> 0 | Q131: 0 | R131: =Q131*H131 -> 0 | S131: 0 | T131: =S131*H131 -> 0 | AR131: 4 | AT131: K | AU131: 1 | AY131: ROZPOCET | BE131: =IF(N131="základná",J131,0) -> 0 | BF131: =IF(N131="znížená",J131,0) -> 0 | BG131: =IF(N131="zákl. prenesená",J131,0) -> 0 | BH131: =IF(N131="zníž. prenesená",J131,0) -> 0 | BI131: =IF(N131="nulová",J131,0) -> 0 | BJ131: 2 | BK131: =ROUND(I131*H131,2) -> 0 | BL131: 4 | BM131: 18
