Workbook

Sheet Rekapitulácia stavby
A1: Export Komplet | BA1: 2.0 | BB1: ZAMOK | BT1: False | BU1: False | BV1: {59c69e72-4e55-4667-be36-daa19aa24476}
BS2: 0,01 | BT2: 23
BS3: 0,01 | BT3: 23
D4: REKAPITULÁCIA STAVBY | AS4: v --- nižšie sa nachádzajú doplnkové a pomocné údaje k zostavám --- v | BE4: Návod na vyplnenie | BS4: 0,001
D5: Kód: | K5: 08 | BE5: Meniť je možné iba bunky so žltým podfarbením!_x000d_ _x000d_ 1) na prvom liste Rekapitulácie stavby vyplňte v zostave_x000d_ _x000d_ a) Rekapitulácia stavby_x000d_ - údaje o Zhotoviteľovi_x000d_ (prenesú sa do ostatných zostáv aj v iných listoch)_x000d_ _x000d_ b) Rekapitulácia objektov stavby_x000d_ - potrebné Ostatné náklady_x000d_ _x000d_ 2) na vybraných listoch vyplňte v zostave_x000d_ _x000d_ a) Krycí list_x000d_ - údaje o Zhotoviteľovi, pokiaľ sa líšia od údajov o Zhotoviteľovi na Rekapitulácii stavby_x000d_ (údaje se prenesú do ostatných zostav v danom liste)_x000d_ _x000d_ b) Rekapitulácia rozpočtu_x000d_ - potrebné Ostatné náklady_x000d_ _x000d_ c) Celkové náklady za stavbu_x000d_ - ceny na položkách_x000d_ - množstvo, pokiaľ má žlté podfarbenie_x000d_ - a v prípade potreby poznámku (tá je v skrytom stĺpci) | BS5: 0,01
D6: Stavba: | K6: Miloslavov III/1054 | BS6: 0,01
D7: JKSO: | AK7: ČS: | BS7: 0,01
D8: Miesto: | AK8: Dátum: | AN8: 27. 7. 2026 | BS8: 0,01
BS9: 0,01
D10: Objednávateľ: | AK10: IČO: | BS10: 0,01
AK11: IČ DPH: | BS11: 0,01
BS12: 0,01
D13: Zhotoviteľ: | AK13: IČO: | AN13: Vyplň údaj | BS13: 0,01
E14: Vyplň údaj | AK14: IČ DPH: | AN14: Vyplň údaj | BS14: 0,01
BS15: False
D16: Projektant: | AK16: IČO: | BS16: False
AK17: IČ DPH: | BS17: True
BS18: 0,01
D19: Spracovateľ: | AK19: IČO: | BS19: 0,01
AK20: IČ DPH: | BS20: True
D22: Poznámka:
E23: do rozpočtu boli vložené 2 položky - geomreža, ale nebol opravený presun hmôt, ten ostal z pôvodnej verzie
D26: Cena bez DPH | AK26: =ROUND(AG94,2) -> 0
L28: Sadzba dane | W28: Základ dane | AK28: Výška dane
D29: DPH | F29: základná | L29: 0.23 | W29: =ROUND(AZ94, 2) -> 0 | AK29: =ROUND(AV94, 2) -> 0
F30: znížená | L30: 0.23 | W30: =ROUND(BA94, 2) -> 0 | AK30: =ROUND(AW94, 2) -> 0
F31: zákl. prenesená | L31: 0.23 | W31: =ROUND(BB94, 2) -> 0 | AK31: 0
F32: zníž. prenesená | L32: 0.23 | W32: =ROUND(BC94, 2) -> 0 | AK32: 0
F33: nulová | L33: 0 | W33: =ROUND(BD94, 2) -> 0 | AK33: 0
D35: Cena s DPH | T35: v | X35: EUR | AK35: =SUM(AK26:AK33) -> 0
D49: Projektant | AH49: Spracovateľ
D60: Dátum a podpis: | V60: Pečiatka | AH60: Dátum a podpis: | AM60: Pečiatka
D64: Objednávateľ | AH64: Zhotoviteľ
D75: Dátum a podpis: | V75: Pečiatka | AH75: Dátum a podpis: | AM75: Pečiatka
C82: REKAPITULÁCIA OBJEKTOV STAVBY
C84: Kód: | L84: =K5 -> 08
C85: Stavba: | L85: =K6 -> Miloslavov III/1054
C87: Miesto: | L87: =IF(K8="","",K8) | AI87: Dátum: | AM87: =IF(AN8= "","",AN8) -> 27. 7. 2026
C89: Objednávateľ: | L89: =IF(E11= "","",E11) | AI89: Projektant: | AM89: =IF(E17="","",E17) | AS89: Informatívne údaje z listov zákaziek
C90: Zhotoviteľ: | L90: =IF(E14= "Vyplň údaj","",E14) | AI90: Spracovateľ: | AM90: =IF(E20="","",E20)
C92: Kód | I92: Popis | AG92: Cena bez DPH [EUR] | AN92: Cena s DPH [EUR] | AQ92: Typ | AS92: z toho Ostat._x000d_ náklady [EUR] | AT92: DPH [EUR] | AU92: Normohodiny [h] | AV92: DPH základná [EUR] | AW92: DPH znížená [EUR] | AX92: DPH základná prenesená_x000d_ [EUR] | AY92: DPH znížená prenesená_x000d_ [EUR] | AZ92: Základňa_x000d_ DPH základná | BA92: Základňa_x000d_ DPH znížená | BB92: Základňa_x000d_ DPH zákl. prenesená | BC92: Základňa_x000d_ DPH zníž. prenesená | BD92: Základňa_x000d_ DPH nulová
C94: Náklady z rozpočtov | AG94: =ROUND(AG95,2) -> 0 | AN94: =SUM(AG94,AT94) -> 0 | AS94: =ROUND(AS95,2) -> 0 | AT94: =ROUND(SUM(AV94:AW94),2) -> 0 | AU94: =ROUND(AU95,5) -> 0 | AV94: =ROUND(AZ94*L29,2) -> 0 | AW94: =ROUND(BA94*L30,2) -> 0 | AX94: =ROUND(BB94*L29,2) -> 0 | AY94: =ROUND(BC94*L30,2) -> 0 | AZ94: =ROUND(AZ95,2) -> 0 | BA94: =ROUND(BA95,2) -> 0 | BB94: =ROUND(BB95,2) -> 0 | BC94: =ROUND(BC95,2) -> 0 | BD94: =ROUND(BD95,2) -> 0 | BS94: D | BT94: 0 | BV94: IMPORT | BW94: {59c69e72-4e55-4667-be36-daa19aa24476} | BX94: {00000000-0000-0000-0000-000000000000}
A95: / | D95: 08 | J95: Miloslavov III/1054 | AG95: ='08 - Miloslavov III-1054'!J28 -> 0 | AN95: =SUM(AG95,AT95) -> 0 | AQ95: STA | AS95: 0 | AT95: =ROUND(SUM(AV95:AW95),2) -> 0 | AU95: ='08 - Miloslavov III-1054'!P119 -> 0 | AV95: ='08 - Miloslavov III-1054'!J31 -> 0 | AW95: ='08 - Miloslavov III-1054'!J32 -> 0 | AX95: ='08 - Miloslavov III-1054'!J33 -> 0 | AY95: ='08 - Miloslavov III-1054'!J34 -> 0 | AZ95: ='08 - Miloslavov III-1054'!F31 -> 0 | BA95: ='08 - Miloslavov III-1054'!F32 -> 0 | BB95: ='08 - Miloslavov III-1054'!F33 -> 0 | BC95: ='08 - Miloslavov III-1054'!F34 -> 0 | BD95: ='08 - Miloslavov III-1054'!F35 -> 0 | BT95: 1 | BU95: ###NOINSERT### | BV95: IMPORT | BW95: {59c69e72-4e55-4667-be36-daa19aa24476} | BX95: {00000000-0000-0000-0000-000000000000}

Sheet 08 - Miloslavov III-1054
AT2: {59c69e72-4e55-4667-be36-daa19aa24476}
AT3: 0
D4: KRYCÍ LIST ROZPOČTU | M4: v --- nižšie sa nachádzajú doplnkové a pomocné údaje k zostavám --- v | AT4: False
D6: Stavba:
E7: Miloslavov III/1054
D9: JKSO: | I9: ČS:
D10: Miesto: | I10: Dátum: | J10: ='Rekapitulácia stavby'!AN8 -> 27. 7. 2026
D12: Objednávateľ: | I12: IČO: | J12: =IF('Rekapitulácia stavby'!AN10="","",'Rekapitulácia stavby'!AN10)
E13: =IF('Rekapitulácia stavby'!E11="","",'Rekapitulácia stavby'!E11) | I13: IČ DPH: | J13: =IF('Rekapitulácia stavby'!AN11="","",'Rekapitulácia stavby'!AN11)
D15: Zhotoviteľ: | I15: IČO: | J15: ='Rekapitulácia stavby'!AN13 -> Vyplň údaj
E16: ='Rekapitulácia stavby'!E14 -> Vyplň údaj | I16: IČ DPH: | J16: ='Rekapitulácia stavby'!AN14 -> Vyplň údaj
D18: Projektant: | I18: IČO: | J18: =IF('Rekapitulácia stavby'!AN16="","",'Rekapitulácia stavby'!AN16)
E19: =IF('Rekapitulácia stavby'!E17="","",'Rekapitulácia stavby'!E17) | I19: IČ DPH: | J19: =IF('Rekapitulácia stavby'!AN17="","",'Rekapitulácia stavby'!AN17)
D21: Spracovateľ: | I21: IČO: | J21: =IF('Rekapitulácia stavby'!AN19="","",'Rekapitulácia stavby'!AN19)
E22: =IF('Rekapitulácia stavby'!E20="","",'Rekapitulácia stavby'!E20) | I22: IČ DPH: | J22: =IF('Rekapitulácia stavby'!AN20="","",'Rekapitulácia stavby'!AN20)
D24: Poznámka:
E25: do rozpočtu boli vložené 2 položky - geomreža, ale nebol opravený presun hmôt, ten ostal z pôvodnej verzie
D28: Cena bez DPH | J28: =ROUND(J119, 2) -> 0
F30: Základ dane | I30: Sadzba dane | J30: Výška dane
D31: DPH | E31: základná | F31: =ROUND((SUM(BE119:BE218)), 2) -> 0 | I31: 0.23 | J31: =ROUND(((SUM(BE119:BE218))*I31), 2) -> 0
E32: znížená | F32: =ROUND((SUM(BF119:BF218)), 2) -> 0 | I32: 0.23 | J32: =ROUND(((SUM(BF119:BF218))*I32), 2) -> 0
E33: zákl. prenesená | F33: =ROUND((SUM(BG119:BG218)), 2) -> 0 | I33: 0.23 | J33: =0 -> 0
E34: zníž. prenesená | F34: =ROUND((SUM(BH119:BH218)), 2) -> 0 | I34: 0.23 | J34: =0 -> 0
E35: nulová | F35: =ROUND((SUM(BI119:BI218)), 2) -> 0 | I35: 0 | J35: =0 -> 0
D37: Cena s DPH | G37: v | H37: EUR | J37: =SUM(J28:J35) -> 0
D50: Projektant | G50: Spracovateľ
D61: Dátum a podpis: | F61: Pečiatka | G61: Dátum a podpis: | J61: Pečiatka
D65: Objednávateľ | G65: Zhotoviteľ
D76: Dátum a podpis: | F76: Pečiatka | G76: Dátum a podpis: | J76: Pečiatka
C82: REKAPITULÁCIA ROZPOČTU
C84: Stavba:
E85: =E7 -> Miloslavov III/1054
C87: Miesto: | F87: =F10 | I87: Dátum: | J87: =IF(J10="","",J10) -> 27. 7. 2026
C89: Objednávateľ: | F89: =E13 | I89: Projektant: | J89: =E19
C90: Zhotoviteľ: | F90: =IF(E16="","",E16) -> Vyplň údaj | I90: Spracovateľ: | J90: =E22
C92: Kód dielu - Popis | J92: Cena celkom [EUR]
C94: Náklady z rozpočtu | J94: =J119 -> 0 | AU94: -1
D95: HSV - Práce a dodávky HSV | J95: =J120 -> 0
D96: 1 - Zemné práce | J96: =J121 -> 0
D97: 2 - Zakladanie | J97: =J143 -> 0
D98: 5 - Komunikácie | J98: =J148 -> 0
D99: 8 - Rúrové vedenie | J99: =J155 -> 0
D100: 9 - Ostatné konštrukcie a práce-búranie | J100: =J172 -> 0
D101: 99 - Presun hmôt HSV | J101: =J217 -> 0
C108: ROZPOČET
C110: Stavba:
E111: =E7 -> Miloslavov III/1054
C113: Miesto: | F113: =F10 | I113: Dátum: | J113: =IF(J10="","",J10) -> 27. 7. 2026
C115: Objednávateľ: | F115: =E13 | I115: Projektant: | J115: =E19
C116: Zhotoviteľ: | F116: =IF(E16="","",E16) -> Vyplň údaj | I116: Spracovateľ: | J116: =E22
C118: PČ | D118: Typ | E118: Kód | F118: Popis | G118: MJ | H118: Množstvo | I118: J.cena [EUR] | J118: Cena celkom [EUR] | K118: Cenová sústava | N118: DPH | O118: J. Nh [h] | P118: Nh celkom [h] | Q118: J. hmotnosť [t] | R118: Hmotnosť celkom [t] | S118: J. suť [t] | T118: Suť Celkom [t]
C119: Náklady z rozpočtu | J119: =BK119 -> 0 | P119: =P120 -> 0 | R119: =R120 -> 3220.2773 | T119: =T120 -> 3376.0446 | AT119: D | AU119: -1 | BK119: =BK120 -> 0
D120: D | E120: HSV | F120: Práce a dodávky HSV | J120: =BK120 -> 0 | P120: =P121+P143+P148+P155+P172+P217 -> 0 | R120: =R121+R143+R148+R155+R172+R217 -> 3220.2773 | T120: =T121+T143+T148+T155+T172+T217 -> 3376.0446 | AR120: 1 | AT120: D | AU120: 0 | AY120: ROZPOCET | BK120: =BK121+BK143+BK148+BK155+BK172+BK217 -> 0
D121: D | E121: 1 | F121: Zemné práce | J121: =BK121 -> 0 | P121: =SUM(P122:P142) -> 0 | R121: =SUM(R122:R142) -> 148.88152 | T121: =SUM(T122:T142) -> 2906.375 | AR121: 1 | AT121: D | AU121: 1 | AY121: ROZPOCET | BK121: =SUM(BK122:BK142) -> 0
C122: 1 | D122: K | E122: 113152630.S | F122: Frézovanie asf. podkladu alebo krytu bez prek., plochy cez 1000 do 10000 m2, pruh š. cez 1 m do 2 m, hr. 50 mm 0,125 t | G122: m2 | H122: 1795 | J122: =ROUND(I122*H122,2) -> 0 | N122: znížená | P122: =O122*H122 -> 0 | Q122: 0.00014784 | R122: =Q122*H122 -> 0.2653728 | S122: 0.125 | T122: =S122*H122 -> 224.375 | AR122: 4 | AT122: K | AU122: 2 | AY122: ROZPOCET | BE122: =IF(N122="základná",J122,0) -> 0 | BF122: =IF(N122="znížená",J122,0) -> 0 | BG122: =IF(N122="zákl. prenesená",J122,0) -> 0 | BH122: =IF(N122="zníž. prenesená",J122,0) -> 0 | BI122: =IF(N122="nulová",J122,0) -> 0 | BJ122: 2 | BK122: =ROUND(I122*H122,2) -> 0 | BL122: 4 | BM122: 1777831050
C123: 2 | D123: K | E123: 113152740.S | F123: Frézovanie asf. podkladu alebo krytu bez prek., plochy cez 10000 m2, pruh š. do 2 m, hr. 100 mm 0,250 t | G123: m2 | H123: 10040 | J123: =ROUND(I123*H123,2) -> 0 | N123: znížená | P123: =O123*H123 -> 0 | Q123: 0.000265056 | R123: =Q123*H123 -> 2.6611622 | S123: 0.25 | T123: =S123*H123 -> 2510 | AR123: 4 | AT123: K | AU123: 2 | AY123: ROZPOCET | BE123: =IF(N123="základná",J123,0) -> 0 | BF123: =IF(N123="znížená",J123,0) -> 0 | BG123: =IF(N123="zákl. prenesená",J123,0) -> 0 | BH123: =IF(N123="zníž. prenesená",J123,0) -> 0 | BI123: =IF(N123="nulová",J123,0) -> 0 | BJ123: 2 | BK123: =ROUND(I123*H123,2) -> 0 | BL123: 4 | BM123: -1137448413
C124: 3 | D124: K | E124: 113157222.S | F124: Odstránenie podkladu alebo krytu z kameniva hrubého drveného v ploche do 200 m2 strojne, hr. vrstvy nad 100 do 200 mm, -0,23500t | G124: m2 | H124: 200 | J124: =ROUND(I124*H124,2) -> 0 | N124: znížená | P124: =O124*H124 -> 0 | Q124: 0 | R124: =Q124*H124 -> 0 | S124: 0.235 | T124: =S124*H124 -> 47 | AR124: 4 | AT124: K | AU124: 2 | AY124: ROZPOCET | BE124: =IF(N124="základná",J124,0) -> 0 | BF124: =IF(N124="znížená",J124,0) -> 0 | BG124: =IF(N124="zákl. prenesená",J124,0) -> 0 | BH124: =IF(N124="zníž. prenesená",J124,0) -> 0 | BI124: =IF(N124="nulová",J124,0) -> 0 | BJ124: 2 | BK124: =ROUND(I124*H124,2) -> 0 | BL124: 4 | BM124: -152729077
C125: 4 | D125: K | E125: 113157232.S | F125: Odstránenie podkladu alebo krytu z betónu prostého v ploche do 200 m2 strojne, hr. vrstvy nad 150 do 300 mm, -0,62500t | G125: m2 | H125: 200 | J125: =ROUND(I125*H125,2) -> 0 | N125: znížená | P125: =O125*H125 -> 0 | Q125: 0 | R125: =Q125*H125 -> 0 | S125: 0.625 | T125: =S125*H125 -> 125 | AR125: 4 | AT125: K | AU125: 2 | AY125: ROZPOCET | BE125: =IF(N125="základná",J125,0) -> 0 | BF125: =IF(N125="znížená",J125,0) -> 0 | BG125: =IF(N125="zákl. prenesená",J125,0) -> 0 | BH125: =IF(N125="zníž. prenesená",J125,0) -> 0 | BI125: =IF(N125="nulová",J125,0) -> 0 | BJ125: 2 | BK125: =ROUND(I125*H125,2) -> 0 | BL125: 4 | BM125: 1390571844
C126: 5 | D126: K | E126: 132251105.S | F126: Výkop ryhy do šírky 600 mm strojne v hornine tr. 3, objem do 30 m3 | G126: m3 | H126: 8.19 | J126: =ROUND(I126*H126,2) -> 0 | N126: znížená | P126: =O126*H126 -> 0 | Q126: 0 | R126: =Q126*H126 -> 0 | S126: 0 | T126: =S126*H126 -> 0 | AR126: 4 | AT126: K | AU126: 2 | AY126: ROZPOCET | BE126: =IF(N126="základná",J126,0) -> 0 | BF126: =IF(N126="znížená",J126,0) -> 0 | BG126: =IF(N126="zákl. prenesená",J126,0) -> 0 | BH126: =IF(N126="zníž. prenesená",J126,0) -> 0 | BI126: =IF(N126="nulová",J126,0) -> 0 | BJ126: 2 | BK126: =ROUND(I126*H126,2) -> 0 | BL126: 4 | BM126: 1615978614
C127: 6 | D127: K | E127: 132251109.S | F127: Príplatok k cene za lepivosť pri hĺbení rýh šírky do 600 mm zapažených i nezapažených s urovnaním dna v hornine tr. 3 | G127: m3 | H127: 8.19 | J127: =ROUND(I127*H127,2) -> 0 | N127: znížená | P127: =O127*H127 -> 0 | Q127: 0 | R127: =Q127*H127 -> 0 | S127: 0 | T127: =S127*H127 -> 0 | AR127: 4 | AT127: K | AU127: 2 | AY127: ROZPOCET | BE127: =IF(N127="základná",J127,0) -> 0 | BF127: =IF(N127="znížená",J127,0) -> 0 | BG127: =IF(N127="zákl. prenesená",J127,0) -> 0 | BH127: =IF(N127="zníž. prenesená",J127,0) -> 0 | BI127: =IF(N127="nulová",J127,0) -> 0 | BJ127: 2 | BK127: =ROUND(I127*H127,2) -> 0 | BL127: 4 | BM127: -1572106304
C128: 7 | D128: K | E128: 133201101.S | F128: Výkop šachty zapaženej, hornina 3 do 100 m3 | G128: m3 | H128: 79.02 | J128: =ROUND(I128*H128,2) -> 0 | N128: znížená | P128: =O128*H128 -> 0 | Q128: 0 | R128: =Q128*H128 -> 0 | S128: 0 | T128: =S128*H128 -> 0 | AR128: 4 | AT128: K | AU128: 2 | AY128: ROZPOCET | BE128: =IF(N128="základná",J128,0) -> 0 | BF128: =IF(N128="znížená",J128,0) -> 0 | BG128: =IF(N128="zákl. prenesená",J128,0) -> 0 | BH128: =IF(N128="zníž. prenesená",J128,0) -> 0 | BI128: =IF(N128="nulová",J128,0) -> 0 | BJ128: 2 | BK128: =ROUND(I128*H128,2) -> 0 | BL128: 4 | BM128: -634528499
C129: 8 | D129: K | E129: 133251109.S | F129: Príplatok k cenám za lepivosť pri hĺbení šachiet zapažených i nezapažených v hornine tr. 3 | G129: m3 | H129: 79.02 | J129: =ROUND(I129*H129,2) -> 0 | N129: znížená | P129: =O129*H129 -> 0 | Q129: 0 | R129: =Q129*H129 -> 0 | S129: 0 | T129: =S129*H129 -> 0 | AR129: 4 | AT129: K | AU129: 2 | AY129: ROZPOCET | BE129: =IF(N129="základná",J129,0) -> 0 | BF129: =IF(N129="znížená",J129,0) -> 0 | BG129: =IF(N129="zákl. prenesená",J129,0) -> 0 | BH129: =IF(N129="zníž. prenesená",J129,0) -> 0 | BI129: =IF(N129="nulová",J129,0) -> 0 | BJ129: 2 | BK129: =ROUND(I129*H129,2) -> 0 | BL129: 4 | BM129: 1259008906
C130: 9 | D130: K | E130: 151201103.S | F130: Paženie rýh pre podzemné vedenie, záťažné hĺbky do 8m | G130: m2 | H130: 105.36 | J130: =ROUND(I130*H130,2) -> 0 | N130: znížená | P130: =O130*H130 -> 0 | Q130: 0.00205 | R130: =Q130*H130 -> 0.215988 | S130: 0 | T130: =S130*H130 -> 0 | AR130: 4 | AT130: K | AU130: 2 | AY130: ROZPOCET | BE130: =IF(N130="základná",J130,0) -> 0 | BF130: =IF(N130="znížená",J130,0) -> 0 | BG130: =IF(N130="zákl. prenesená",J130,0) -> 0 | BH130: =IF(N130="zníž. prenesená",J130,0) -> 0 | BI130: =IF(N130="nulová",J130,0) -> 0 | BJ130: 2 | BK130: =ROUND(I130*H130,2) -> 0 | BL130: 4 | BM130: 1312651310
C131: 10 | D131: K | E131: 151201113.S | F131: Odstránenie paženia rýh pre podzemné vedenie, záťažné hĺbky do 8 m | G131: m2 | H131: 105.36 | J131: =ROUND(I131*H131,2) -> 0 | N131: znížená | P131: =O131*H131 -> 0 | Q131: 0 | R131: =Q131*H131 -> 0 | S131: 0 | T131: =S131*H131 -> 0 | AR131: 4 | AT131: K | AU131: 2 | AY131: ROZPOCET | BE131: =IF(N131="základná",J131,0) -> 0 | BF131: =IF(N131="znížená",J131,0) -> 0 | BG131: =IF(N131="zákl. prenesená",J131,0) -> 0 | BH131: =IF(N131="zníž. prenesená",J131,0) -> 0 | BI131: =IF(N131="nulová",J131,0) -> 0 | BJ131: 2 | BK131: =ROUND(I131*H131,2) -> 0 | BL131: 4 | BM131: -1765701163
C132: 11 | D132: K | E132: 162503102.S | F132: Vodorovné premiestnenie výkopku pre cesty po spevnenej ceste z horniny tr.1-4 do 1000 m3 na vzdialenosť do 3000 m | G132: m3 | H132: 87.21 | J132: =ROUND(I132*H132,2) -> 0 | N132: znížená | P132: =O132*H132 -> 0 | Q132: 0 | R132: =Q132*H132 -> 0 | S132: 0 | T132: =S132*H132 -> 0 | AR132: 4 | AT132: K | AU132: 2 | AY132: ROZPOCET | BE132: =IF(N132="základná",J132,0) -> 0 | BF132: =IF(N132="znížená",J132,0) -> 0 | BG132: =IF(N132="zákl. prenesená",J132,0) -> 0 | BH132: =IF(N132="zníž. prenesená",J132,0) -> 0 | BI132: =IF(N132="nulová",J132,0) -> 0 | BJ132: 2 | BK132: =ROUND(I132*H132,2) -> 0 | BL132: 4 | BM132: 55964896
C133: 12 | D133: K | E133: 162503103.S | F133: Vodorovné premiestnenie výkopku pre cesty po spevnenej ceste z horniny tr.1-4 do 1000 m3, príplatok k cene za každých ďalšich a začatých 1000 m | G133: m3 | H133: 523.26 | J133: =ROUND(I133*H133,2) -> 0 | N133: znížená | P133: =O133*H133 -> 0 | Q133: 0 | R133: =Q133*H133 -> 0 | S133: 0 | T133: =S133*H133 -> 0 | AR133: 4 | AT133: K | AU133: 2 | AY133: ROZPOCET | BE133: =IF(N133="základná",J133,0) -> 0 | BF133: =IF(N133="znížená",J133,0) -> 0 | BG133: =IF(N133="zákl. prenesená",J133,0) -> 0 | BH133: =IF(N133="zníž. prenesená",J133,0) -> 0 | BI133: =IF(N133="nulová",J133,0) -> 0 | BJ133: 2 | BK133: =ROUND(I133*H133,2) -> 0 | BL133: 4 | BM133: -1567645278
... C142: 21 | D142: M | E142: 583410004400.S | F142: Štrkodrva frakcia 0-63 mm | G142: t | H142: 129.83 | J142: =ROUND(I142*H142,2) -> 0 | N142: znížená | P142: =O142*H142 -> 0 | Q142: 1 | R142: =Q142*H142 -> 129.83 | S142: 0 | T142: =S142*H142 -> 0 | AR142: 8 | AT142: M | AU142: 2 | AY142: ROZPOCET | BE142: =IF(N142="základná",J142,0) -> 0 | BF142: =IF(N142="znížená",J142,0) -> 0 | BG142: =IF(N142="zákl. prenesená",J142,0) -> 0 | BH142: =IF(N142="zníž. prenesená",J142,0) -> 0 | BI142: =IF(N142="nulová",J142,0) -> 0 | BJ142: 2 | BK142: =ROUND(I142*H142,2) -> 0 | BL142: 4 | BM142: -481490372
D143: D | E143: 2 | F143: Zakladanie | J143: =BK143 -> 0 | P143: =SUM(P144:P147) -> 0 | R143: =SUM(R144:R147) -> 0.01349314 | T143: =SUM(T144:T147) -> 0 | AR143: 1 | AT143: D | AU143: 1 | AY143: ROZPOCET | BK143: =SUM(BK144:BK147) -> 0
C144: 22 | D144: K | E144: 211971121.S | F144: Zhotov. oplášt. výplne z geotext. v ryhe alebo v záreze pri rozvinutej šírke oplášt. od 0 do 2, 5 m | G144: m2 | H144: 3.454 | J144: =ROUND(I144*H144,2) -> 0 | N144: znížená | P144: =O144*H144 -> 0 | Q144: 0.00035 | R144: =Q144*H144 -> 0.0012089 | S144: 0 | T144: =S144*H144 -> 0 | AR144: 4 | AT144: K | AU144: 2 | AY144: ROZPOCET | BE144: =IF(N144="základná",J144,0) -> 0 | BF144: =IF(N144="znížená",J144,0) -> 0 | BG144: =IF(N144="zákl. prenesená",J144,0) -> 0 | BH144: =IF(N144="zníž. prenesená",J144,0) -> 0 | BI144: =IF(N144="nulová",J144,0) -> 0 | BJ144: 2 | BK144: =ROUND(I144*H144,2) -> 0 | BL144: 4 | BM144: -629460981
C145: 23 | D145: M | E145: 693110004710.S | F145: Geotextília polypropylénová netkaná 400 g/m2 | G145: m2 | H145: 3.972 | J145: =ROUND(I145*H145,2) -> 0 | N145: znížená | P145: =O145*H145 -> 0 | Q145: 0.00014 | R145: =Q145*H145 -> 0.00055608 | S145: 0 | T145: =S145*H145 -> 0 | AR145: 8 | AT145: M | AU145: 2 | AY145: ROZPOCET | BE145: =IF(N145="základná",J145,0) -> 0 | BF145: =IF(N145="znížená",J145,0) -> 0 | BG145: =IF(N145="zákl. prenesená",J145,0) -> 0 | BH145: =IF(N145="zníž. prenesená",J145,0) -> 0 | BI145: =IF(N145="nulová",J145,0) -> 0 | BJ145: 2 | BK145: =ROUND(I145*H145,2) -> 0 | BL145: 4 | BM145: -361012760
C146: 24 | D146: K | E146: 289971731.S.1 | F146: Zhotovenie aktívneho geokompozitu pre viazanie olejov-vsakovacie šachty | G146: m2 | H146: 5.338 | J146: =ROUND(I146*H146,2) -> 0 | N146: znížená | P146: =O146*H146 -> 0 | Q146: 0.00102 | R146: =Q146*H146 -> 0.00544476 | S146: 0 | T146: =S146*H146 -> 0 | AR146: 4 | AT146: K | AU146: 2 | AY146: ROZPOCET | BE146: =IF(N146="základná",J146,0) -> 0 | BF146: =IF(N146="znížená",J146,0) -> 0 | BG146: =IF(N146="zákl. prenesená",J146,0) -> 0 | BH146: =IF(N146="zníž. prenesená",J146,0) -> 0 | BI146: =IF(N146="nulová",J146,0) -> 0 | BJ146: 2 | BK146: =ROUND(I146*H146,2) -> 0 | BL146: 4 | BM146: 409093192
C147: 25 | D147: M | E147: 69331000040000.S.1 | F147: SORPČNÝ GEOKOMPOZIT, plošná hmotnosť 1000 g, Absorpcia - MIN. 7,3 l OLEJA / 1M2 | G147: m2 | H147: 7.06 | J147: =ROUND(I147*H147,2) -> 0 | N147: znížená | P147: =O147*H147 -> 0 | Q147: 0.00089 | R147: =Q147*H147 -> 0.0062834 | S147: 0 | T147: =S147*H147 -> 0 | AR147: 8 | AT147: M | AU147: 2 | AY147: ROZPOCET | BE147: =IF(N147="základná",J147,0) -> 0 | BF147: =IF(N147="znížená",J147,0) -> 0 | BG147: =IF(N147="zákl. prenesená",J147,0) -> 0 | BH147: =IF(N147="zníž. prenesená",J147,0) -> 0 | BI147: =IF(N147="nulová",J147,0) -> 0 | BJ147: 2 | BK147: =ROUND(I147*H147,2) -> 0 | BL147: 4 | BM147: -336415664
D148: D | E148: 5 | F148: Komunikácie | J148: =BK148 -> 0 | P148: =SUM(P149:P154) -> 0 | R148: =SUM(R149:R154) -> 3035.239 | T148: =SUM(T149:T154) -> 0 | AR148: 1 | AT148: D | AU148: 1 | AY148: ROZPOCET | BK148: =SUM(BK149:BK154) -> 0
C149: 26 | D149: K | E149: 564861111.S | F149: Podklad zo štrkodrviny s rozprestretím a zhutnením, po zhutnení hr. 200 mm | G149: m2 | H149: 200 | J149: =ROUND(I149*H149,2) -> 0 | N149: znížená | P149: =O149*H149 -> 0 | Q149: 0.46 | R149: =Q149*H149 -> 92 | S149: 0 | T149: =S149*H149 -> 0 | AR149: 4 | AT149: K | AU149: 2 | AY149: ROZPOCET | BE149: =IF(N149="základná",J149,0) -> 0 | BF149: =IF(N149="znížená",J149,0) -> 0 | BG149: =IF(N149="zákl. prenesená",J149,0) -> 0 | BH149: =IF(N149="zníž. prenesená",J149,0) -> 0 | BI149: =IF(N149="nulová",J149,0) -> 0 | BJ149: 2 | BK149: =ROUND(I149*H149,2) -> 0 | BL149: 4 | BM149: -781487633
C150: 27 | D150: K | E150: 567132115.S | F150: Podklad z kameniva stmeleného cementom s rozprestretím a zhutnením, CBGM C 8/10 (C 6/8), po zhutnení hr. 200 mm | G150: m2 | H150: 200 | J150: =ROUND(I150*H150,2) -> 0 | N150: znížená | P150: =O150*H150 -> 0 | Q150: 0.4788511 | R150: =Q150*H150 -> 95.77022 | S150: 0 | T150: =S150*H150 -> 0 | AR150: 4 | AT150: K | AU150: 2 | AY150: ROZPOCET | BE150: =IF(N150="základná",J150,0) -> 0 | BF150: =IF(N150="znížená",J150,0) -> 0 | BG150: =IF(N150="zákl. prenesená",J150,0) -> 0 | BH150: =IF(N150="zníž. prenesená",J150,0) -> 0 | BI150: =IF(N150="nulová",J150,0) -> 0 | BJ150: 2 | BK150: =ROUND(I150*H150,2) -> 0 | BL150: 4 | BM150: -67252581
C151: 28 | D151: K | E151: 573231107.S | F151: Postrek asfaltový spojovací bez posypu kamenivom z cestnej emulzie v množstve 0,50 kg/m2 | G151: m2 | H151: 21875 | J151: =ROUND(I151*H151,2) -> 0 | N151: znížená | P151: =O151*H151 -> 0 | Q151: 0.00051 | R151: =Q151*H151 -> 11.15625 | S151: 0 | T151: =S151*H151 -> 0 | AR151: 4 | AT151: K | AU151: 2 | AY151: ROZPOCET | BE151: =IF(N151="základná",J151,0) -> 0 | BF151: =IF(N151="znížená",J151,0) -> 0 | BG151: =IF(N151="zákl. prenesená",J151,0) -> 0 | BH151: =IF(N151="zníž. prenesená",J151,0) -> 0 | BI151: =IF(N151="nulová",J151,0) -> 0 | BJ151: 2 | BK151: =ROUND(I151*H151,2) -> 0 | BL151: 4 | BM151: -1256498543
C152: 29 | D152: K | E152: 577134251.S | F152: Asfaltový betón vrstva obrusná AC 11 O v pruhu š. do 3 m z modifik. asfaltu tr. I, po zhutnení hr. 40 mm | G152: m2 | H152: 10040 | J152: =ROUND(I152*H152,2) -> 0 | N152: znížená | P152: =O152*H152 -> 0 | Q152: 0.10373 | R152: =Q152*H152 -> 1041.4492 | S152: 0 | T152: =S152*H152 -> 0 | AR152: 4 | AT152: K | AU152: 2 | AY152: ROZPOCET | BE152: =IF(N152="základná",J152,0) -> 0 | BF152: =IF(N152="znížená",J152,0) -> 0 | BG152: =IF(N152="zákl. prenesená",J152,0) -> 0 | BH152: =IF(N152="zníž. prenesená",J152,0) -> 0 | BI152: =IF(N152="nulová",J152,0) -> 0 | BJ152: 2 | BK152: =ROUND(I152*H152,2) -> 0 | BL152: 4 | BM152: -1721489141
C153: 30 | D153: K | E153: 577144261.S | F153: Asfaltový betón vrstva obrusná AC 11 O v pruhu š. nad 3 m z modifik. asfaltu tr. I, po zhutnení hr. 50 mm | G153: m2 | H153: 1795 | J153: =ROUND(I153*H153,2) -> 0 | N153: znížená | P153: =O153*H153 -> 0 | Q153: 0.12966 | R153: =Q153*H153 -> 232.7397 | S153: 0 | T153: =S153*H153 -> 0 | AR153: 4 | AT153: K | AU153: 2 | AY153: ROZPOCET | BE153: =IF(N153="základná",J153,0) -> 0 | BF153: =IF(N153="znížená",J153,0) -> 0 | BG153: =IF(N153="zákl. prenesená",J153,0) -> 0 | BH153: =IF(N153="zníž. prenesená",J153,0) -> 0 | BI153: =IF(N153="nulová",J153,0) -> 0 | BJ153: 2 | BK153: =ROUND(I153*H153,2) -> 0 | BL153: 4 | BM153: 281928512
C154: 31 | D154: K | E154: 577154451.S | F154: Asfaltový betón vrstva ložná AC 22 L v pruhu š. do 3 m z modifik. asfaltu tr. I, po zhutnení hr. 60 mm | G154: m2 | H154: 10040 | J154: =ROUND(I154*H154,2) -> 0 | N154: znížená | P154: =O154*H154 -> 0 | Q154: 0.15559 | R154: =Q154*H154 -> 1562.1236 | S154: 0 | T154: =S154*H154 -> 0 | AR154: 4 | AT154: K | AU154: 2 | AY154: ROZPOCET | BE154: =IF(N154="základná",J154,0) -> 0 | BF154: =IF(N154="znížená",J154,0) -> 0 | BG154: =IF(N154="zákl. prenesená",J154,0) -> 0 | BH154: =IF(N154="zníž. prenesená",J154,0) -> 0 | BI154: =IF(N154="nulová",J154,0) -> 0 | BJ154: 2 | BK154: =ROUND(I154*H154,2) -> 0 | BL154: 4 | BM154: -1235298357
D155: D | E155: 8 | F155: Rúrové vedenie | J155: =BK155 -> 0 | P155: =SUM(P156:P171) -> 0 | R155: =SUM(R156:R171) -> 10.918613 | T155: =SUM(T156:T171) -> 0 | AR155: 1 | AT155: D | AU155: 1 | AY155: ROZPOCET | BK155: =SUM(BK156:BK171) -> 0
C156: 32 | D156: K | E156: 871355563.S | F156: Potrubie kanalizačné PVC-U gravitačné hladké plnostenné SN 12 DN 200 | G156: m | H156: 6 | J156: =ROUND(I156*H156,2) -> 0 | N156: znížená | P156: =O156*H156 -> 0 | Q156: 0.00707171 | R156: =Q156*H156 -> 0.04243026 | S156: 0 | T156: =S156*H156 -> 0 | AR156: 4 | AT156: K | AU156: 2 | AY156: ROZPOCET | BE156: =IF(N156="základná",J156,0) -> 0 | BF156: =IF(N156="znížená",J156,0) -> 0 | BG156: =IF(N156="zákl. prenesená",J156,0) -> 0 | BH156: =IF(N156="zníž. prenesená",J156,0) -> 0 | BI156: =IF(N156="nulová",J156,0) -> 0 | BJ156: 2 | BK156: =ROUND(I156*H156,2) -> 0 | BL156: 4 | BM156: -1443119206
C157: 33 | D157: K | E157: 877356006.S | F157: Montáž kanalizačného PVC-U kolena DN 200 | G157: ks | H157: 2 | J157: =ROUND(I157*H157,2) -> 0 | N157: znížená | P157: =O157*H157 -> 0 | Q157: 7e-05 | R157: =Q157*H157 -> 0.00014 | S157: 0 | T157: =S157*H157 -> 0 | AR157: 4 | AT157: K | AU157: 2 | AY157: ROZPOCET | BE157: =IF(N157="základná",J157,0) -> 0 | BF157: =IF(N157="znížená",J157,0) -> 0 | BG157: =IF(N157="zákl. prenesená",J157,0) -> 0 | BH157: =IF(N157="zníž. prenesená",J157,0) -> 0 | BI157: =IF(N157="nulová",J157,0) -> 0 | BJ157: 2 | BK157: =ROUND(I157*H157,2) -> 0 | BL157: 4 | BM157: -2146494594
C158: 34 | D158: M | E158: 286510004800.S | F158: Koleno PVC-U, DN 200x15°, 30°, 45° pre hladký, kanalizačný, gravitačný systém | G158: ks | H158: 2 | J158: =ROUND(I158*H158,2) -> 0 | N158: znížená | P158: =O158*H158 -> 0 | Q158: 0.00125 | R158: =Q158*H158 -> 0.0025 | S158: 0 | T158: =S158*H158 -> 0 | AR158: 8 | AT158: M | AU158: 2 | AY158: ROZPOCET | BE158: =IF(N158="základná",J158,0) -> 0 | BF158: =IF(N158="znížená",J158,0) -> 0 | BG158: =IF(N158="zákl. prenesená",J158,0) -> 0 | BH158: =IF(N158="zníž. prenesená",J158,0) -> 0 | BI158: =IF(N158="nulová",J158,0) -> 0 | BJ158: 2 | BK158: =ROUND(I158*H158,2) -> 0 | BL158: 4 | BM158: 1668074552
C159: 35 | D159: K | E159: 894422053.S | F159: Osadenie betónových prefabrikovaných dielcov rovných skruží pre šachty DN 1000 | G159: ks | H159: 8 | J159: =ROUND(I159*H159,2) -> 0 | N159: znížená | P159: =O159*H159 -> 0 | Q159: 0.005605 | R159: =Q159*H159 -> 0.04484 | S159: 0 | T159: =S159*H159 -> 0 | AR159: 4 | AT159: K | AU159: 2 | AY159: ROZPOCET | BE159: =IF(N159="základná",J159,0) -> 0 | BF159: =IF(N159="znížená",J159,0) -> 0 | BG159: =IF(N159="zákl. prenesená",J159,0) -> 0 | BH159: =IF(N159="zníž. prenesená",J159,0) -> 0 | BI159: =IF(N159="nulová",J159,0) -> 0 | BJ159: 2 | BK159: =ROUND(I159*H159,2) -> 0 | BL159: 4 | BM159: -679888131
C160: 36 | D160: M | E160: 592240002500.S | F160: Skruž betónová so stúpadlom pre kanalizačnú šachtu DN 1000, Dxvxhr 1000x500x100 mm | G160: ks | H160: 2 | J160: =ROUND(I160*H160,2) -> 0 | N160: znížená | P160: =O160*H160 -> 0 | Q160: 0.43 | R160: =Q160*H160 -> 0.86 | S160: 0 | T160: =S160*H160 -> 0 | AR160: 8 | AT160: M | AU160: 2 | AY160: ROZPOCET | BE160: =IF(N160="základná",J160,0) -> 0 | BF160: =IF(N160="znížená",J160,0) -> 0 | BG160: =IF(N160="zákl. prenesená",J160,0) -> 0 | BH160: =IF(N160="zníž. prenesená",J160,0) -> 0 | BI160: =IF(N160="nulová",J160,0) -> 0 | BJ160: 2 | BK160: =ROUND(I160*H160,2) -> 0 | BL160: 4 | BM160: -58235975
C161: 37 | D161: M | E161: 592240002700.S | F161: Skruž betónová so stúpadlom pre kanalizačnú šachtu DN 1000, Dxvxhr 1000x1000x100 mm | G161: ks | H161: 6 | J161: =ROUND(I161*H161,2) -> 0 | N161: znížená | P161: =O161*H161 -> 0 | Q161: 0.86 | R161: =Q161*H161 -> 5.16 | S161: 0 | T161: =S161*H161 -> 0 | AR161: 8 | AT161: M | AU161: 2 | AY161: ROZPOCET | BE161: =IF(N161="základná",J161,0) -> 0 | BF161: =IF(N161="znížená",J161,0) -> 0 | BG161: =IF(N161="zákl. prenesená",J161,0) -> 0 | BH161: =IF(N161="zníž. prenesená",J161,0) -> 0 | BI161: =IF(N161="nulová",J161,0) -> 0 | BJ161: 2 | BK161: =ROUND(I161*H161,2) -> 0 | BL161: 4 | BM161: 163291707
C162: 38 | D162: K | E162: 894422103.S | F162: Osadenie betónových prefabrikovaných dielcov prechodových skruží-kónusov pre šachty DN 1000 | G162: ks | H162: 2 | J162: =ROUND(I162*H162,2) -> 0 | N162: znížená | P162: =O162*H162 -> 0 | Q162: 0.005605 | R162: =Q162*H162 -> 0.01121 | S162: 0 | T162: =S162*H162 -> 0 | AR162: 4 | AT162: K | AU162: 2 | AY162: ROZPOCET | BE162: =IF(N162="základná",J162,0) -> 0 | BF162: =IF(N162="znížená",J162,0) -> 0 | BG162: =IF(N162="zákl. prenesená",J162,0) -> 0 | BH162: =IF(N162="zníž. prenesená",J162,0) -> 0 | BI162: =IF(N162="nulová",J162,0) -> 0 | BJ162: 2 | BK162: =ROUND(I162*H162,2) -> 0 | BL162: 4 | BM162: -841289210
C163: 39 | D163: M | E163: 592240002100.S | F163: Kónus betónový so stúpadlom pre kanalizačnú šachtu DN 1000, hr. steny 100 mm, rozmer 1000x625x580 mm | G163: ks | H163: 2 | J163: =ROUND(I163*H163,2) -> 0 | N163: znížená | P163: =O163*H163 -> 0 | Q163: 0.505 | R163: =Q163*H163 -> 1.01 | S163: 0 | T163: =S163*H163 -> 0 | AR163: 8 | AT163: M | AU163: 2 | AY163: ROZPOCET | BE163: =IF(N163="základná",J163,0) -> 0 | BF163: =IF(N163="znížená",J163,0) -> 0 | BG163: =IF(N163="zákl. prenesená",J163,0) -> 0 | BH163: =IF(N163="zníž. prenesená",J163,0) -> 0 | BI163: =IF(N163="nulová",J163,0) -> 0 | BJ163: 2 | BK163: =ROUND(I163*H163,2) -> 0 | BL163: 4 | BM163: -1754903298
C164: 40 | D164: K | E164: 899102111.S | F164: Osadenie poklopu liatinového a oceľového vrátane rámu hmotn. nad 50 do 100 kg | G164: ks | H164: 2 | J164: =ROUND(I164*H164,2) -> 0 | N164: znížená | P164: =O164*H164 -> 0 | Q164: 0.0063 | R164: =Q164*H164 -> 0.0126 | S164: 0 | T164: =S164*H164 -> 0 | AR164: 4 | AT164: K | AU164: 2 | AY164: ROZPOCET | BE164: =IF(N164="základná",J164,0) -> 0 | BF164: =IF(N164="znížená",J164,0) -> 0 | BG164: =IF(N164="zákl. prenesená",J164,0) -> 0 | BH164: =IF(N164="zníž. prenesená",J164,0) -> 0 | BI164: =IF(N164="nulová",J164,0) -> 0 | BJ164: 2 | BK164: =ROUND(I164*H164,2) -> 0 | BL164: 4 | BM164: -648964461
C165: 41 | D165: M | E165: 552410002500.S | F165: Poklop liatinový s odvetraním, tr. zaťaženia D400 | G165: ks | H165: 2 | J165: =ROUND(I165*H165,2) -> 0 | N165: znížená | P165: =O165*H165 -> 0 | Q165: 0.06 | R165: =Q165*H165 -> 0.12 | S165: 0 | T165: =S165*H165 -> 0 | AR165: 8 | AT165: M | AU165: 2 | AY165: ROZPOCET | BE165: =IF(N165="základná",J165,0) -> 0 | BF165: =IF(N165="znížená",J165,0) -> 0 | BG165: =IF(N165="zákl. prenesená",J165,0) -> 0 | BH165: =IF(N165="zníž. prenesená",J165,0) -> 0 | BI165: =IF(N165="nulová",J165,0) -> 0 | BJ165: 2 | BK165: =ROUND(I165*H165,2) -> 0 | BL165: 4 | BM165: 160614020
C166: 42 | D166: K | E166: 899231111.S | F166: Výšková úprava uličného vstupu alebo vpuste do 200 mm zvýšením mreže | G166: ks | H166: 3 | J166: =ROUND(I166*H166,2) -> 0 | N166: znížená | P166: =O166*H166 -> 0 | Q166: 0.4132465 | R166: =Q166*H166 -> 1.2397395 | S166: 0 | T166: =S166*H166 -> 0 | AR166: 4 | AT166: K | AU166: 2 | AY166: ROZPOCET | BE166: =IF(N166="základná",J166,0) -> 0 | BF166: =IF(N166="znížená",J166,0) -> 0 | BG166: =IF(N166="zákl. prenesená",J166,0) -> 0 | BH166: =IF(N166="zníž. prenesená",J166,0) -> 0 | BI166: =IF(N166="nulová",J166,0) -> 0 | BJ166: 2 | BK166: =ROUND(I166*H166,2) -> 0 | BL166: 4 | BM166: -524375683
C167: 43 | D167: M | E167: 5524100035001.S | F167: Mreža liatinová štvorcová 500x500 mm, tr. zaťaženia D400 | G167: ks | H167: 1 | J167: =ROUND(I167*H167,2) -> 0 | N167: znížená | P167: =O167*H167 -> 0 | Q167: 0.076 | R167: =Q167*H167 -> 0.076 | S167: 0 | T167: =S167*H167 -> 0 | AR167: 8 | AT167: M | AU167: 2 | AY167: ROZPOCET | BE167: =IF(N167="základná",J167,0) -> 0 | BF167: =IF(N167="znížená",J167,0) -> 0 | BG167: =IF(N167="zákl. prenesená",J167,0) -> 0 | BH167: =IF(N167="zníž. prenesená",J167,0) -> 0 | BI167: =IF(N167="nulová",J167,0) -> 0 | BJ167: 2 | BK167: =ROUND(I167*H167,2) -> 0 | BL167: 4 | BM167: 1338154994
... C171: 47 | D171: M | E171: 552410000300.S | F171: Poklop ventilový pre vodu, plyn | G171: ks | H171: 1 | J171: =ROUND(I171*H171,2) -> 0 | N171: znížená | P171: =O171*H171 -> 0 | Q171: 0.0075 | R171: =Q171*H171 -> 0.0075 | S171: 0 | T171: =S171*H171 -> 0 | AR171: 8 | AT171: M | AU171: 2 | AY171: ROZPOCET | BE171: =IF(N171="základná",J171,0) -> 0 | BF171: =IF(N171="znížená",J171,0) -> 0 | BG171: =IF(N171="zákl. prenesená",J171,0) -> 0 | BH171: =IF(N171="zníž. prenesená",J171,0) -> 0 | BI171: =IF(N171="nulová",J171,0) -> 0 | BJ171: 2 | BK171: =ROUND(I171*H171,2) -> 0 | BL171: 4 | BM171: 1782993418
D172: D | E172: 9 | F172: Ostatné konštrukcie a práce-búranie | J172: =BK172 -> 0 | P172: =SUM(P173:P216) -> 0 | R172: =SUM(R173:R216) -> 25.224687 | T172: =SUM(T173:T216) -> 469.6696 | AR172: 1 | AT172: D | AU172: 1 | AY172: ROZPOCET | BK172: =SUM(BK173:BK216) -> 0
C173: 48 | D173: K | E173: 914001111.S | F173: Osadenie a montáž cestnej zvislej dopravnej značky na stĺpik, stĺp, konzolu alebo objekt | G173: ks | H173: 29 | J173: =ROUND(I173*H173,2) -> 0 | N173: znížená | P173: =O173*H173 -> 0 | Q173: 0.22133 | R173: =Q173*H173 -> 6.41857 | S173: 0 | T173: =S173*H173 -> 0 | AR173: 4 | AT173: K | AU173: 2 | AY173: ROZPOCET | BE173: =IF(N173="základná",J173,0) -> 0 | BF173: =IF(N173="znížená",J173,0) -> 0 | BG173: =IF(N173="zákl. prenesená",J173,0) -> 0 | BH173: =IF(N173="zníž. prenesená",J173,0) -> 0 | BI173: =IF(N173="nulová",J173,0) -> 0 | BJ173: 2 | BK173: =ROUND(I173*H173,2) -> 0 | BL173: 4 | BM173: 955638034
C174: 49 | D174: M | E174: 404410112325 | F174: Informatívna značka ZDZ 301-20 "Križovatka s prednosťou v jazde (vedľajšia cesta sprava)", Zn lisovaná, V2-900 mm, RA2, P3, E2, SP1 | G174: ks | H174: 1 | J174: =ROUND(I174*H174,2) -> 0 | N174: znížená | P174: =O174*H174 -> 0 | Q174: 0.0026 | R174: =Q174*H174 -> 0.0026 | S174: 0 | T174: =S174*H174 -> 0 | AR174: 8 | AT174: M | AU174: 2 | AY174: ROZPOCET | BE174: =IF(N174="základná",J174,0) -> 0 | BF174: =IF(N174="znížená",J174,0) -> 0 | BG174: =IF(N174="zákl. prenesená",J174,0) -> 0 | BH174: =IF(N174="zníž. prenesená",J174,0) -> 0 | BI174: =IF(N174="nulová",J174,0) -> 0 | BJ174: 2 | BK174: =ROUND(I174*H174,2) -> 0 | BL174: 4 | BM174: 1723529925
C175: 50 | D175: M | E175: 404410113109 | F175: Informatívna značka ZDZ 305-62 "Obec (Miestna časť obce:2+1 riadok)", Zn lisovaná, V3 - 840x1260 mm, RA2, P3, E2, SP1 | G175: ks | H175: 1 | J175: =ROUND(I175*H175,2) -> 0 | N175: znížená | P175: =O175*H175 -> 0 | Q175: 0.0053 | R175: =Q175*H175 -> 0.0053 | S175: 0 | T175: =S175*H175 -> 0 | AR175: 8 | AT175: M | AU175: 2 | AY175: ROZPOCET | BE175: =IF(N175="základná",J175,0) -> 0 | BF175: =IF(N175="znížená",J175,0) -> 0 | BG175: =IF(N175="zákl. prenesená",J175,0) -> 0 | BH175: =IF(N175="zníž. prenesená",J175,0) -> 0 | BI175: =IF(N175="nulová",J175,0) -> 0 | BJ175: 2 | BK175: =ROUND(I175*H175,2) -> 0 | BL175: 4 | BM175: -1597915951
C176: 51 | D176: M | E176: 404410113122 | F176: Informatívna značka ZDZ 306-62 "Koniec obce (Miestna časť obce:2+1 riadok)", Zn lisovaná, V3 - 840x1260 mm, RA2, P3, E2, SP1 | G176: ks | H176: 1 | J176: =ROUND(I176*H176,2) -> 0 | N176: znížená | P176: =O176*H176 -> 0 | Q176: 0.0053 | R176: =Q176*H176 -> 0.0053 | S176: 0 | T176: =S176*H176 -> 0 | AR176: 8 | AT176: M | AU176: 2 | AY176: ROZPOCET | BE176: =IF(N176="základná",J176,0) -> 0 | BF176: =IF(N176="znížená",J176,0) -> 0 | BG176: =IF(N176="zákl. prenesená",J176,0) -> 0 | BH176: =IF(N176="zníž. prenesená",J176,0) -> 0 | BI176: =IF(N176="nulová",J176,0) -> 0 | BJ176: 2 | BK176: =ROUND(I176*H176,2) -> 0 | BL176: 4 | BM176: 1163441046
C177: 52 | D177: M | E177: 404410000895 | F177: Výstražná značka ZDZ 101 "Nebezpečenstvo", Zn lisovaná, V3-1260 mm, RA2, P3, E2, SP1 | G177: ks | H177: 2 | J177: =ROUND(I177*H177,2) -> 0 | N177: znížená | P177: =O177*H177 -> 0 | Q177: 0.006 | R177: =Q177*H177 -> 0.012 | S177: 0 | T177: =S177*H177 -> 0 | AR177: 8 | AT177: M | AU177: 2 | AY177: ROZPOCET | BE177: =IF(N177="základná",J177,0) -> 0 | BF177: =IF(N177="znížená",J177,0) -> 0 | BG177: =IF(N177="zákl. prenesená",J177,0) -> 0 | BH177: =IF(N177="zníž. prenesená",J177,0) -> 0 | BI177: =IF(N177="nulová",J177,0) -> 0 | BJ177: 2 | BK177: =ROUND(I177*H177,2) -> 0 | BL177: 4 | BM177: -1405340178
C178: 53 | D178: M | E178: 404410180294 | F178: Všeobecná dodatková tabuľa ZDZ 509-58 V2RA2 "Spresňujúce informácie (k značke 101: výjazd)", rozmer 330x600 mm, Zn lisovaná, P3, E2, SP1 | G178: ks | H178: 2 | J178: =ROUND(I178*H178,2) -> 0 | N178: znížená | P178: =O178*H178 -> 0 | Q178: 0.00072 | R178: =Q178*H178 -> 0.00144 | S178: 0 | T178: =S178*H178 -> 0 | AR178: 8 | AT178: M | AU178: 2 | AY178: ROZPOCET | BE178: =IF(N178="základná",J178,0) -> 0 | BF178: =IF(N178="znížená",J178,0) -> 0 | BG178: =IF(N178="zákl. prenesená",J178,0) -> 0 | BH178: =IF(N178="zníž. prenesená",J178,0) -> 0 | BI178: =IF(N178="nulová",J178,0) -> 0 | BJ178: 2 | BK178: =ROUND(I178*H178,2) -> 0 | BL178: 4 | BM178: -258584887
...
