Workbook

Sheet Rekapitulácia stavby
A1: Export Komplet | BA1: 2.0 | BB1: ZAMOK | BT1: False | BU1: False | BV1: {59c69e72-4e55-4667-be36-daa19aa24476}
BS2: 0,01 | BT2: 23
BS3: 0,01 | BT3: 23
D4: REKAPITULÁCIA STAVBY | AS4: v --- nižšie sa nachádzajú doplnkové a pomocné údaje k zostavám --- v | BE4: Návod na vyplnenie | BS4: 0,001
D5: Kód: | K5: 08 | BE5: Meniť je možné iba bunky so žltým podfarbením!_x000d_ _x000d_ 1) na prvom liste Rekapitulácie stavby vyplňte v zostave_x000d_ _x000d_ a) Rekapitulácia stavby_x000d_ - údaje o Zhotoviteľovi_x000d_ (prenesú sa do ostatných zostáv aj v iných listoch)_x000d_ _x000d_ b) Rekapitulácia objektov stavby_x000d_ - potrebné Ostatné náklady_x000d_ _x000d_ 2) na vybraných listoch vyplňte v zostave_x000d_ _x000d_ a) Krycí list_x000d_ - údaje o Zhotoviteľovi, pokiaľ sa líšia od údajov o Zhotoviteľovi na Rekapitulácii stavby_x000d_ (údaje se prenesú do ostatných zostav v danom liste)_x000d_ _x000d_ b) Rekapitulácia rozpočtu_x000d_ - potrebné Ostatné náklady_x000d_ _x000d_ c) Celkové náklady za stavbu_x000d_ - ceny na položkách_x000d_ - množstvo, pokiaľ má žlté podfarbenie_x000d_ - a v prípade potreby poznámku (tá je v skrytom stĺpci) | BS5: 0,01
D6: Stavba: | K6: Miloslavov III/1054 | BS6: 0,01
D7: JKSO: | AK7: ČS: | BS7: 0,01
D8: Miesto: | AK8: Dátum: | AN8: 27. 7. 2026 | BS8: 0,01
BS9: 0,01
D10: Objednávateľ: | AK10: IČO: | BS10: 0,01
AK11: IČ DPH: | BS11: 0,01
BS12: 0,01
D13: Zhotoviteľ: | AK13: IČO: | AN13: Vyplň údaj | BS13: 0,01
E14: Vyplň údaj | AK14: IČ DPH: | AN14: Vyplň údaj | BS14: 0,01
BS15: False
D16: Projektant: | AK16: IČO: | BS16: False
AK17: IČ DPH: | BS17: True
BS18: 0,01
D19: Spracovateľ: | AK19: IČO: | BS19: 0,01
AK20: IČ DPH: | BS20: True
D22: Poznámka:
E23: do rozpočtu boli vložené 2 položky - geomreža, ale nebol opravený presun hmôt, ten ostal z pôvodnej verzie
D26: Cena bez DPH | AK26: =ROUND(AG94,2) -> 0
L28: Sadzba dane | W28: Základ dane | AK28: Výška dane
D29: DPH | F29: základná | L29: 0.23 | W29: =ROUND(AZ94, 2) -> 0 | AK29: =ROUND(AV94, 2) -> 0
F30: znížená | L30: 0.23 | W30: =ROUND(BA94, 2) -> 0 | AK30: =ROUND(AW94, 2) -> 0
F31: zákl. prenesená | L31: 0.23 | W31: =ROUND(BB94, 2) -> 0 | AK31: 0
F32: zníž. prenesená | L32: 0.23 | W32: =ROUND(BC94, 2) -> 0 | AK32: 0
F33: nulová | L33: 0 | W33: =ROUND(BD94, 2) -> 0 | AK33: 0
D35: Cena s DPH | T35: v | X35: EUR | AK35: =SUM(AK26:AK33) -> 0
D49: Projektant | AH49: Spracovateľ
D60: Dátum a podpis: | V60: Pečiatka | AH60: Dátum a podpis: | AM60: Pečiatka
D64: Objednávateľ | AH64: Zhotoviteľ
D75: Dátum a podpis: | V75: Pečiatka | AH75: Dátum a podpis: | AM75: Pečiatka
C82: REKAPITULÁCIA OBJEKTOV STAVBY
C84: Kód: | L84: =K5 -> 08
C85: Stavba: | L85: =K6 -> Miloslavov III/1054
C87: Miesto: | L87: =IF(K8="","",K8) | AI87: Dátum: | AM87: =IF(AN8= "","",AN8) -> 27. 7. 2026
C89: Objednávateľ: | L89: =IF(E11= "","",E11) | AI89: Projektant: | AM89: =IF(E17="","",E17) | AS89: Informatívne údaje z listov zákaziek
C90: Zhotoviteľ: | L90: =IF(E14= "Vyplň údaj","",E14) | AI90: Spracovateľ: | AM90: =IF(E20="","",E20)
...

Sheet 08 - Miloslavov III-1054
AT2: {59c69e72-4e55-4667-be36-daa19aa24476}
AT3: 0
D4: KRYCÍ LIST ROZPOČTU | M4: v --- nižšie sa nachádzajú doplnkové a pomocné údaje k zostavám --- v | AT4: False
D6: Stavba:
E7: Miloslavov III/1054
D9: JKSO: | I9: ČS:
D10: Miesto: | I10: Dátum: | J10: ='Rekapitulácia stavby'!AN8 -> 27. 7. 2026
D12: Objednávateľ: | I12: IČO: | J12: =IF('Rekapitulácia stavby'!AN10="","",'Rekapitulácia stavby'!AN10)
E13: =IF('Rekapitulácia stavby'!E11="","",'Rekapitulácia stavby'!E11) | I13: IČ DPH: | J13: =IF('Rekapitulácia stavby'!AN11="","",'Rekapitulácia stavby'!AN11)
D15: Zhotoviteľ: | I15: IČO: | J15: ='Rekapitulácia stavby'!AN13 -> Vyplň údaj
E16: ='Rekapitulácia stavby'!E14 -> Vyplň údaj | I16: IČ DPH: | J16: ='Rekapitulácia stavby'!AN14 -> Vyplň údaj
D18: Projektant: | I18: IČO: | J18: =IF('Rekapitulácia stavby'!AN16="","",'Rekapitulácia stavby'!AN16)
E19: =IF('Rekapitulácia stavby'!E17="","",'Rekapitulácia stavby'!E17) | I19: IČ DPH: | J19: =IF('Rekapitulácia stavby'!AN17="","",'Rekapitulácia stavby'!AN17)
D21: Spracovateľ: | I21: IČO: | J21: =IF('Rekapitulácia stavby'!AN19="","",'Rekapitulácia stavby'!AN19)
E22: =IF('Rekapitulácia stavby'!E20="","",'Rekapitulácia stavby'!E20) | I22: IČ DPH: | J22: =IF('Rekapitulácia stavby'!AN20="","",'Rekapitulácia stavby'!AN20)
D24: Poznámka:
E25: do rozpočtu boli vložené 2 položky - geomreža, ale nebol opravený presun hmôt, ten ostal z pôvodnej verzie
D28: Cena bez DPH | J28: =ROUND(J119, 2) -> 0
F30: Základ dane | I30: Sadzba dane | J30: Výška dane
D31: DPH | E31: základná | F31: =ROUND((SUM(BE119:BE218)), 2) -> 0 | I31: 0.23 | J31: =ROUND(((SUM(BE119:BE218))*I31), 2) -> 0
E32: znížená | F32: =ROUND((SUM(BF119:BF218)), 2) -> 0 | I32: 0.23 | J32: =ROUND(((SUM(BF119:BF218))*I32), 2) -> 0
E33: zákl. prenesená | F33: =ROUND((SUM(BG119:BG218)), 2) -> 0 | I33: 0.23 | J33: =0 -> 0
E34: zníž. prenesená | F34: =ROUND((SUM(BH119:BH218)), 2) -> 0 | I34: 0.23 | J34: =0 -> 0
E35: nulová | F35: =ROUND((SUM(BI119:BI218)), 2) -> 0 | I35: 0 | J35: =0 -> 0
D37: Cena s DPH | G37: v | H37: EUR | J37: =SUM(J28:J35) -> 0
D50: Projektant | G50: Spracovateľ
D61: Dátum a podpis: | F61: Pečiatka | G61: Dátum a podpis: | J61: Pečiatka
D65: Objednávateľ | G65: Zhotoviteľ
D76: Dátum a podpis: | F76: Pečiatka | G76: Dátum a podpis: | J76: Pečiatka
C82: REKAPITULÁCIA ROZPOČTU
C84: Stavba:
E85: =E7 -> Miloslavov III/1054
C87: Miesto: | F87: =F10 | I87: Dátum: | J87: =IF(J10="","",J10) -> 27. 7. 2026
C89: Objednávateľ: | F89: =E13 | I89: Projektant: | J89: =E19
C90: Zhotoviteľ: | F90: =IF(E16="","",E16) -> Vyplň údaj | I90: Spracovateľ: | J90: =E22
C92: Kód dielu - Popis | J92: Cena celkom [EUR]
C94: Náklady z rozpočtu | J94: =J119 -> 0 | AU94: -1
D95: HSV - Práce a dodávky HSV | J95: =J120 -> 0
D96: 1 - Zemné práce | J96: =J121 -> 0
D97: 2 - Zakladanie | J97: =J143 -> 0
...
