Workbook

Sheet Rekapitulácia stavby
A1: Export Komplet | BA1: 2.0 | BT1: False | BU1: False | BV1: {fe8a082c-5d02-4d4f-a338-8ebbb7009e58}
AR2: >> skryté stĺpce << | BS2: 0,01 | BT2: 23
BS3: 0,01 | BT3: 23
D4: REKAPITULÁCIA STAVBY | AS4: v --- nižšie sa nachádzajú doplnkové a pomocné údaje k zostavám --- v | BE4: Návod na vyplnenie | BS4: 0,001
D5: Kód: | K5: 000Cd-Rev2 | BE5: Meniť je možné iba bunky so žltým podfarbením!_x000D_ _x000D_ 1) na prvom liste Rekapitulácie stavby vyplňte v zostave_x000D_ _x000D_ a) Rekapitulácia stavby_x000D_ - údaje o Zhotoviteľovi_x000D_ (prenesú sa do ostatných zostáv aj v iných listoch)_x000D_ _x000D_ b) Rekapitulácia objektov stavby_x000D_ - potrebné Ostatné náklady_x000D_ _x000D_ 2) na vybraných listoch vyplňte v zostave_x000D_ _x000D_ a) Krycí list_x000D_ - údaje o Zhotoviteľovi, pokiaľ sa líšia od údajov o Zhotoviteľovi na Rekapitulácii stavby_x000D_ (údaje se prenesú do ostatných zostav v danom liste)_x000D_ _x000D_ b) Rekapitulácia rozpočtu_x000D_ - potrebné Ostatné náklady_x000D_ _x000D_ c) Celkové náklady za stavbu_x000D_ - ceny na položkách_x000D_ - množstvo, pokiaľ má žlté podfarbenie_x000D_ - a v prípade potreby poznámku (tá je v skrytom stĺpci) | BS5: 0,01
D6: Stavba: | K6: IP Horná Streda | BS6: 0,01
D7: JKSO: | AK7: ČS: | BS7: 0,01
D8: Miesto: | AK8: Dátum: | AN8: 31. 7. 2026 | BS8: 0,01
BS9: 0,01
D10: Objednávateľ: | AK10: IČO: | BS10: 0,01
AK11: IČ DPH: | BS11: 0,01
BS12: 0,01
D13: Zhotoviteľ: | AK13: IČO: | AN13: Vyplň údaj | BS13: 0,01
E14: Vyplň údaj | AK14: IČ DPH: | AN14: Vyplň údaj | BS14: 0,01
BS15: False
D16: Projektant: | AK16: IČO: | BS16: False
AK17: IČ DPH: | BS17: True
BS18: 0,01
D19: Spracovateľ: | AK19: IČO: | BS19: 0,01
AK20: IČ DPH: | BS20: True
D22: Poznámka:
D26: Cena bez DPH | AK26: =ROUND(AG94,2) -> 0
L28: Sadzba dane | W28: Základ dane | AK28: Výška dane
D29: DPH | F29: základná | L29: 0.23 | W29: =ROUND(AZ94, 2) -> 0 | AK29: =ROUND(AV94, 2) -> 0
F30: znížená | L30: 0.23 | W30: =ROUND(BA94, 2) -> 0 | AK30: =ROUND(AW94, 2) -> 0
F31: zákl. prenesená | L31: 0.23 | W31: =ROUND(BB94, 2) -> 0 | AK31: 0
F32: zníž. prenesená | L32: 0.23 | W32: =ROUND(BC94, 2) -> 0 | AK32: 0
F33: nulová | L33: 0 | W33: =ROUND(BD94, 2) -> 0 | AK33: 0
D35: Cena s DPH | T35: v | X35: EUR | AK35: =SUM(AK26:AK33) -> 0
D49: Projektant | AH49: Spracovateľ
D60: Dátum a podpis: | V60: Pečiatka | AH60: Dátum a podpis: | AM60: Pečiatka
D64: Objednávateľ | AH64: Zhotoviteľ
D75: Dátum a podpis: | V75: Pečiatka | AH75: Dátum a podpis: | AM75: Pečiatka
C82: REKAPITULÁCIA OBJEKTOV STAVBY
C84: Kód: | L84: =K5 -> 000Cd-Rev2
C85: Stavba: | L85: =K6 -> IP Horná Streda
C87: Miesto: | L87: =IF(K8="","",K8) | AI87: Dátum: | AM87: =IF(AN8= "","",AN8) -> 31. 7. 2026
C89: Objednávateľ: | L89: =IF(E11= "","",E11) | AI89: Projektant: | AM89: =IF(E17="","",E17) | AS89: Informatívne údaje z listov zákaziek
C90: Zhotoviteľ: | L90: =IF(E14= "Vyplň údaj","",E14) | AI90: Spracovateľ: | AM90: =IF(E20="","",E20)
C92: Kód | I92: Popis | AG92: Cena bez DPH [EUR] | AN92: Cena s DPH [EUR] | AQ92: Typ | AS92: z toho Ostat._x000D_ náklady [EUR] | AT92: DPH [EUR] | AU92: Normohodiny [h] | AV92: DPH základná [EUR] | AW92: DPH znížená [EUR] | AX92: DPH základná prenesená_x000D_ [EUR] | AY92: DPH znížená prenesená_x000D_ [EUR] | AZ92: Základňa_x000D_ DPH základná | BA92: Základňa_x000D_ DPH znížená | BB92: Základňa_x000D_ DPH zákl. prenesená | BC92: Základňa_x000D_ DPH zníž. prenesená | BD92: Základňa_x000D_ DPH nulová
C94: Náklady z rozpočtov | AG94: =ROUND(AG95+AG96+AG97+SUM(AG102:AG106)+AG111+AG112+AG116+AG117+AG121+AG124+AG128,2) -> 0 | AN94: =SUM(AG94,AT94) -> 0 | AS94: =ROUND(AS95+AS96+AS97+SUM(AS102:AS106)+AS111+AS112+AS116+AS117+AS121+AS124+AS128,2) -> 0 | AT94: =ROUND(SUM(AV94:AW94),2) -> 0 | AU94: =ROUND(AU95+AU96+AU97+SUM(AU102:AU106)+AU111+AU112+AU116+AU117+AU121+AU124+AU128,5) -> 0 | AV94: =ROUND(AZ94*L29,2) -> 0 | AW94: =ROUND(BA94*L30,2) -> 0 | AX94: =ROUND(BB94*L29,2) -> 0 | AY94: =ROUND(BC94*L30,2) -> 0 | AZ94: =ROUND(AZ95+AZ96+AZ97+SUM(AZ102:AZ106)+AZ111+AZ112+AZ116+AZ117+AZ121+AZ124+AZ128,2) -> 0 | BA94: =ROUND(BA95+BA96+BA97+SUM(BA102:BA106)+BA111+BA112+BA116+BA117+BA121+BA124+BA128,2) -> 0 | BB94: =ROUND(BB95+BB96+BB97+SUM(BB102:BB106)+BB111+BB112+BB116+BB117+BB121+BB124+BB128,2) -> 0 | BC94: =ROUND(BC95+BC96+BC97+SUM(BC102:BC106)+BC111+BC112+BC116+BC117+BC121+BC124+BC128,2) -> 0 | BD94: =ROUND(BD95+BD96+BD97+SUM(BD102:BD106)+BD111+BD112+BD116+BD117+BD121+BD124+BD128,2) -> 0 | BS94: D | BT94: 0 | BU94: ###NOIMPORT### | BV94: IMPORT | BW94: {fe8a082c-5d02-4d4f-a338-8ebbb7009e58} | BX94: {00000000-0000-0000-0000-000000000000}
A95: / | D95: SO 000-00 | J95: SO 000-00 Všeobecné položky | AG95: ='SO 000-00 - SO 000-00 Vš...'!J30 -> 0 | AN95: =SUM(AG95,AT95) -> 0 | AQ95: STA | AS95: 0 | AT95: =ROUND(SUM(AV95:AW95),2) -> 0 | AU95: ='SO 000-00 - SO 000-00 Vš...'!P117 -> 0 | AV95: ='SO 000-00 - SO 000-00 Vš...'!J33 -> 0 | AW95: ='SO 000-00 - SO 000-00 Vš...'!J34 -> 0 | AX95: ='SO 000-00 - SO 000-00 Vš...'!J35 -> 0 | AY95: ='SO 000-00 - SO 000-00 Vš...'!J36 -> 0 | AZ95: ='SO 000-00 - SO 000-00 Vš...'!F33 -> 0 | BA95: ='SO 000-00 - SO 000-00 Vš...'!F34 -> 0 | BB95: ='SO 000-00 - SO 000-00 Vš...'!F35 -> 0 | BC95: ='SO 000-00 - SO 000-00 Vš...'!F36 -> 0 | BD95: ='SO 000-00 - SO 000-00 Vš...'!F37 -> 0 | BT95: 1 | BV95: IMPORT | BW95: {94af0eda-808e-40e1-97da-41bbac148e64} | BX95: {fe8a082c-5d02-4d4f-a338-8ebbb7009e58} | CM95: 0
A96: / | D96: SO 2.01 | J96: SO 2.01 Hrubé terénne úpravy a odstránenie stavieb | AG96: ='SO 2.01 - SO 2.01 Hrubé ...'!J30 -> 0 | AN96: =SUM(AG96,AT96) -> 0 | AQ96: STA | AS96: 0 | AT96: =ROUND(SUM(AV96:AW96),2) -> 0 | AU96: ='SO 2.01 - SO 2.01 Hrubé ...'!P122 -> 0 | AV96: ='SO 2.01 - SO 2.01 Hrubé ...'!J33 -> 0 | AW96: ='SO 2.01 - SO 2.01 Hrubé ...'!J34 -> 0 | AX96: ='SO 2.01 - SO 2.01 Hrubé ...'!J35 -> 0 | AY96: ='SO 2.01 - SO 2.01 Hrubé ...'!J36 -> 0 | AZ96: ='SO 2.01 - SO 2.01 Hrubé ...'!F33 -> 0 | BA96: ='SO 2.01 - SO 2.01 Hrubé ...'!F34 -> 0 | BB96: ='SO 2.01 - SO 2.01 Hrubé ...'!F35 -> 0 | BC96: ='SO 2.01 - SO 2.01 Hrubé ...'!F36 -> 0 | BD96: ='SO 2.01 - SO 2.01 Hrubé ...'!F37 -> 0 | BT96: 1 | BV96: IMPORT | BW96: {f3040ef8-e896-4b52-987f-031cc5c241f6} | BX96: {fe8a082c-5d02-4d4f-a338-8ebbb7009e58} | CM96: 0
D97: SO 2.02 | J97: SO 2.02 Dočasné objazdové komunikácie | AG97: =ROUND(SUM(AG98:AG101),2) -> 0 | AN97: =SUM(AG97,AT97) -> 0 | AQ97: STA | AS97: =ROUND(SUM(AS98:AS101),2) -> 0 | AT97: =ROUND(SUM(AV97:AW97),2) -> 0 | AU97: =ROUND(SUM(AU98:AU101),5) -> 0 | AV97: =ROUND(AZ97*L29,2) -> 0 | AW97: =ROUND(BA97*L30,2) -> 0 | AX97: =ROUND(BB97*L29,2) -> 0 | AY97: =ROUND(BC97*L30,2) -> 0 | AZ97: =ROUND(SUM(AZ98:AZ101),2) -> 0 | BA97: =ROUND(SUM(BA98:BA101),2) -> 0 | BB97: =ROUND(SUM(BB98:BB101),2) -> 0 | BC97: =ROUND(SUM(BC98:BC101),2) -> 0 | BD97: =ROUND(SUM(BD98:BD101),2) -> 0 | BS97: D | BT97: 1 | BU97: ###NOIMPORT### | BV97: IMPORT | BW97: {27794c12-f28d-4d6a-9e4e-92ebcb201d7f} | BX97: {fe8a082c-5d02-4d4f-a338-8ebbb7009e58} | CM97: 0
A98: / | E98: SO 2.02.1 | K98: SO 2.02.1 Dočasné objazdové komunikácie - Vetva A | AG98: ='SO 2.02.1 - SO 2.02.1 Do...'!J32 -> 0 | AN98: =SUM(AG98,AT98) -> 0 | AQ98: Časť | AS98: 0 | AT98: =ROUND(SUM(AV98:AW98),2) -> 0 | AU98: ='SO 2.02.1 - SO 2.02.1 Do...'!P127 -> 0 | AV98: ='SO 2.02.1 - SO 2.02.1 Do...'!J35 -> 0 | AW98: ='SO 2.02.1 - SO 2.02.1 Do...'!J36 -> 0 | AX98: ='SO 2.02.1 - SO 2.02.1 Do...'!J37 -> 0 | AY98: ='SO 2.02.1 - SO 2.02.1 Do...'!J38 -> 0 | AZ98: ='SO 2.02.1 - SO 2.02.1 Do...'!F35 -> 0 | BA98: ='SO 2.02.1 - SO 2.02.1 Do...'!F36 -> 0 | BB98: ='SO 2.02.1 - SO 2.02.1 Do...'!F37 -> 0 | BC98: ='SO 2.02.1 - SO 2.02.1 Do...'!F38 -> 0 | BD98: ='SO 2.02.1 - SO 2.02.1 Do...'!F39 -> 0 | BT98: 2 | BV98: IMPORT | BW98: {7c53952e-9f59-49bb-b185-085ef37b8162} | BX98: {27794c12-f28d-4d6a-9e4e-92ebcb201d7f}
A99: / | E99: SO 2.02.2 | K99: SO 2.02.2 Dočasné objazdové komunikácie - Vetva B | AG99: ='SO 2.02.2 - SO 2.02.2 Do...'!J32 -> 0 | AN99: =SUM(AG99,AT99) -> 0 | AQ99: Časť | AS99: 0 | AT99: =ROUND(SUM(AV99:AW99),2) -> 0 | AU99: ='SO 2.02.2 - SO 2.02.2 Do...'!P128 -> 0 | AV99: ='SO 2.02.2 - SO 2.02.2 Do...'!J35 -> 0 | AW99: ='SO 2.02.2 - SO 2.02.2 Do...'!J36 -> 0 | AX99: ='SO 2.02.2 - SO 2.02.2 Do...'!J37 -> 0 | AY99: ='SO 2.02.2 - SO 2.02.2 Do...'!J38 -> 0 | AZ99: ='SO 2.02.2 - SO 2.02.2 Do...'!F35 -> 0 | BA99: ='SO 2.02.2 - SO 2.02.2 Do...'!F36 -> 0 | BB99: ='SO 2.02.2 - SO 2.02.2 Do...'!F37 -> 0 | BC99: ='SO 2.02.2 - SO 2.02.2 Do...'!F38 -> 0 | BD99: ='SO 2.02.2 - SO 2.02.2 Do...'!F39 -> 0 | BT99: 2 | BV99: IMPORT | BW99: {39bf4e2f-0e07-402e-900a-b0a050bf1d38} | BX99: {27794c12-f28d-4d6a-9e4e-92ebcb201d7f}
A100: / | E100: SO 2.02.3 | K100: SO 2.02.3 Dočasné objazdové komunikácie - Vetva C | AG100: ='SO 2.02.3 - SO 2.02.3 Do...'!J32 -> 0 | AN100: =SUM(AG100,AT100) -> 0 | AQ100: Časť | AS100: 0 | AT100: =ROUND(SUM(AV100:AW100),2) -> 0 | AU100: ='SO 2.02.3 - SO 2.02.3 Do...'!P127 -> 0 | AV100: ='SO 2.02.3 - SO 2.02.3 Do...'!J35 -> 0 | AW100: ='SO 2.02.3 - SO 2.02.3 Do...'!J36 -> 0 | AX100: ='SO 2.02.3 - SO 2.02.3 Do...'!J37 -> 0 | AY100: ='SO 2.02.3 - SO 2.02.3 Do...'!J38 -> 0 | AZ100: ='SO 2.02.3 - SO 2.02.3 Do...'!F35 -> 0 | BA100: ='SO 2.02.3 - SO 2.02.3 Do...'!F36 -> 0 | BB100: ='SO 2.02.3 - SO 2.02.3 Do...'!F37 -> 0 | BC100: ='SO 2.02.3 - SO 2.02.3 Do...'!F38 -> 0 | BD100: ='SO 2.02.3 - SO 2.02.3 Do...'!F39 -> 0 | BT100: 2 | BV100: IMPORT | BW100: {c86f4b30-0263-4bff-8e94-1b916a679f0d} | BX100: {27794c12-f28d-4d6a-9e4e-92ebcb201d7f}
A101: / | E101: SO 2.02.4 | K101: SO 2.02.4 Dočasné objazdové komunikácie - Vetvy D a E | AG101: ='SO 2.02.4 - SO 2.02.4 Do...'!J32 -> 0 | AN101: =SUM(AG101,AT101) -> 0 | AQ101: Časť | AS101: 0 | AT101: =ROUND(SUM(AV101:AW101),2) -> 0 | AU101: ='SO 2.02.4 - SO 2.02.4 Do...'!P129 -> 0 | AV101: ='SO 2.02.4 - SO 2.02.4 Do...'!J35 -> 0 | AW101: ='SO 2.02.4 - SO 2.02.4 Do...'!J36 -> 0 | AX101: ='SO 2.02.4 - SO 2.02.4 Do...'!J37 -> 0 | AY101: ='SO 2.02.4 - SO 2.02.4 Do...'!J38 -> 0 | AZ101: ='SO 2.02.4 - SO 2.02.4 Do...'!F35 -> 0 | BA101: ='SO 2.02.4 - SO 2.02.4 Do...'!F36 -> 0 | BB101: ='SO 2.02.4 - SO 2.02.4 Do...'!F37 -> 0 | BC101: ='SO 2.02.4 - SO 2.02.4 Do...'!F38 -> 0 | BD101: ='SO 2.02.4 - SO 2.02.4 Do...'!F39 -> 0 | BT101: 2 | BV101: IMPORT | BW101: {12ecf4a3-1b2f-4848-bd5a-ed7272b4abba} | BX101: {27794c12-f28d-4d6a-9e4e-92ebcb201d7f}
A102: / | D102: SO 2.03 | J102: SO 2.03 Úprava štátnej cesty | AG102: ='SO 2.03 - SO 2.03 Úprava...'!J30 -> 0 | AN102: =SUM(AG102,AT102) -> 0 | AQ102: STA | AS102: 0 | AT102: =ROUND(SUM(AV102:AW102),2) -> 0 | AU102: ='SO 2.03 - SO 2.03 Úprava...'!P129 -> 0 | AV102: ='SO 2.03 - SO 2.03 Úprava...'!J33 -> 0 | AW102: ='SO 2.03 - SO 2.03 Úprava...'!J34 -> 0 | AX102: ='SO 2.03 - SO 2.03 Úprava...'!J35 -> 0 | AY102: ='SO 2.03 - SO 2.03 Úprava...'!J36 -> 0 | AZ102: ='SO 2.03 - SO 2.03 Úprava...'!F33 -> 0 | BA102: ='SO 2.03 - SO 2.03 Úprava...'!F34 -> 0 | BB102: ='SO 2.03 - SO 2.03 Úprava...'!F35 -> 0 | BC102: ='SO 2.03 - SO 2.03 Úprava...'!F36 -> 0 | BD102: ='SO 2.03 - SO 2.03 Úprava...'!F37 -> 0 | BT102: 1 | BV102: IMPORT | BW102: {03e9e7d7-b7c4-4b9e-93c4-38d554057873} | BX102: {fe8a082c-5d02-4d4f-a338-8ebbb7009e58} | CM102: 0
A103: / | D103: SO 2.04 | J103: SO 2.04 Mostný objekt cestného nadjazdu | AG103: ='SO 2.04 - SO 2.04 Mostný...'!J30 -> 0 | AN103: =SUM(AG103,AT103) -> 0 | AQ103: STA | AS103: 0 | AT103: =ROUND(SUM(AV103:AW103),2) -> 0 | AU103: ='SO 2.04 - SO 2.04 Mostný...'!P128 -> 0 | AV103: ='SO 2.04 - SO 2.04 Mostný...'!J33 -> 0 | AW103: ='SO 2.04 - SO 2.04 Mostný...'!J34 -> 0 | AX103: ='SO 2.04 - SO 2.04 Mostný...'!J35 -> 0 | AY103: ='SO 2.04 - SO 2.04 Mostný...'!J36 -> 0 | AZ103: ='SO 2.04 - SO 2.04 Mostný...'!F33 -> 0 | BA103: ='SO 2.04 - SO 2.04 Mostný...'!F34 -> 0 | BB103: ='SO 2.04 - SO 2.04 Mostný...'!F35 -> 0 | BC103: ='SO 2.04 - SO 2.04 Mostný...'!F36 -> 0 | BD103: ='SO 2.04 - SO 2.04 Mostný...'!F37 -> 0 | BT103: 1 | BV103: IMPORT | BW103: {1904f689-7e03-4cc5-8272-dd677a2a45ff} | BX103: {fe8a082c-5d02-4d4f-a338-8ebbb7009e58} | CM103: 0
A104: / | D104: SO 2.05 | J104: SO 2.05 Okružná križovatka štátnej cesty I/61 | AG104: ='SO 2.05 - SO 2.05 Okružn...'!J30 -> 0 | AN104: =SUM(AG104,AT104) -> 0 | AQ104: STA | AS104: 0 | AT104: =ROUND(SUM(AV104:AW104),2) -> 0 | AU104: ='SO 2.05 - SO 2.05 Okružn...'!P127 -> 0 | AV104: ='SO 2.05 - SO 2.05 Okružn...'!J33 -> 0 | AW104: ='SO 2.05 - SO 2.05 Okružn...'!J34 -> 0 | AX104: ='SO 2.05 - SO 2.05 Okružn...'!J35 -> 0 | AY104: ='SO 2.05 - SO 2.05 Okružn...'!J36 -> 0 | AZ104: ='SO 2.05 - SO 2.05 Okružn...'!F33 -> 0 | BA104: ='SO 2.05 - SO 2.05 Okružn...'!F34 -> 0 | BB104: ='SO 2.05 - SO 2.05 Okružn...'!F35 -> 0 | BC104: ='SO 2.05 - SO 2.05 Okružn...'!F36 -> 0 | BD104: ='SO 2.05 - SO 2.05 Okružn...'!F37 -> 0 | BT104: 1 | BV104: IMPORT | BW104: {574f9d75-fd84-4004-8e18-590cf0c886ba} | BX104: {fe8a082c-5d02-4d4f-a338-8ebbb7009e58} | CM104: 0
A105: / | D105: SO 2.07 | J105: SO 2.07 Verejné osvetenie | AG105: ='SO 2.07 - SO 2.07 Verejn...'!J30 -> 0 | AN105: =SUM(AG105,AT105) -> 0 | AQ105: STA | AS105: 0 | AT105: =ROUND(SUM(AV105:AW105),2) -> 0 | AU105: ='SO 2.07 - SO 2.07 Verejn...'!P124 -> 0 | AV105: ='SO 2.07 - SO 2.07 Verejn...'!J33 -> 0 | AW105: ='SO 2.07 - SO 2.07 Verejn...'!J34 -> 0 | AX105: ='SO 2.07 - SO 2.07 Verejn...'!J35 -> 0 | AY105: ='SO 2.07 - SO 2.07 Verejn...'!J36 -> 0 | AZ105: ='SO 2.07 - SO 2.07 Verejn...'!F33 -> 0 | BA105: ='SO 2.07 - SO 2.07 Verejn...'!F34 -> 0 | BB105: ='SO 2.07 - SO 2.07 Verejn...'!F35 -> 0 | BC105: ='SO 2.07 - SO 2.07 Verejn...'!F36 -> 0 | BD105: ='SO 2.07 - SO 2.07 Verejn...'!F37 -> 0 | BT105: 1 | BV105: IMPORT | BW105: {e8ef66a6-672d-44ce-980a-cb0399dc9447} | BX105: {fe8a082c-5d02-4d4f-a338-8ebbb7009e58} | CM105: 0
D106: SO 2.08 | J106: SO 2.08 Odvodnenie komunikácií so vsakovacími a odparovacími priekopami | AG106: =ROUND(SUM(AG107:AG110),2) -> 0 | AN106: =SUM(AG106,AT106) -> 0 | AQ106: STA | AS106: =ROUND(SUM(AS107:AS110),2) -> 0 | AT106: =ROUND(SUM(AV106:AW106),2) -> 0 | AU106: =ROUND(SUM(AU107:AU110),5) -> 0 | AV106: =ROUND(AZ106*L29,2) -> 0 | AW106: =ROUND(BA106*L30,2) -> 0 | AX106: =ROUND(BB106*L29,2) -> 0 | AY106: =ROUND(BC106*L30,2) -> 0 | AZ106: =ROUND(SUM(AZ107:AZ110),2) -> 0 | BA106: =ROUND(SUM(BA107:BA110),2) -> 0 | BB106: =ROUND(SUM(BB107:BB110),2) -> 0 | BC106: =ROUND(SUM(BC107:BC110),2) -> 0 | BD106: =ROUND(SUM(BD107:BD110),2) -> 0 | BS106: D | BT106: 1 | BU106: ###NOIMPORT### | BV106: IMPORT | BW106: {d202a45e-6222-47f0-9fb8-ebb1841f7fc0} | BX106: {fe8a082c-5d02-4d4f-a338-8ebbb7009e58} | CM106: 0
A107: / | E107: SO 2.08.1 | K107: SO 2.08.1 - Odvodnenie komunikácií so vsakovacími a odparovacími priekopami - vetva A | AG107: ='SO 2.08.1 - SO 2.08.1 - O...'!J32 -> 0 | AN107: =SUM(AG107,AT107) -> 0 | AQ107: Časť | AS107: 0 | AT107: =ROUND(SUM(AV107:AW107),2) -> 0 | AU107: ='SO 2.08.1 - SO 2.08.1 - O...'!P124 -> 0 | AV107: ='SO 2.08.1 - SO 2.08.1 - O...'!J35 -> 0 | AW107: ='SO 2.08.1 - SO 2.08.1 - O...'!J36 -> 0 | AX107: ='SO 2.08.1 - SO 2.08.1 - O...'!J37 -> 0 | AY107: ='SO 2.08.1 - SO 2.08.1 - O...'!J38 -> 0 | AZ107: ='SO 2.08.1 - SO 2.08.1 - O...'!F35 -> 0 | BA107: ='SO 2.08.1 - SO 2.08.1 - O...'!F36 -> 0 | BB107: ='SO 2.08.1 - SO 2.08.1 - O...'!F37 -> 0 | BC107: ='SO 2.08.1 - SO 2.08.1 - O...'!F38 -> 0 | BD107: ='SO 2.08.1 - SO 2.08.1 - O...'!F39 -> 0 | BT107: 2 | BV107: IMPORT | BW107: {51d45ba4-085f-471f-8578-39b4c4b2eb56} | BX107: {d202a45e-6222-47f0-9fb8-ebb1841f7fc0}
A108: / | E108: SO 2.08.2 | K108: SO 2.08.2 Odvodnenie komunikácií so vsakovacími a odparovacími priekopami - vetva B | AG108: ='SO 2.08.2 - SO 2.08.2 Od...'!J32 -> 0 | AN108: =SUM(AG108,AT108) -> 0 | AQ108: Časť | AS108: 0 | AT108: =ROUND(SUM(AV108:AW108),2) -> 0 | AU108: ='SO 2.08.2 - SO 2.08.2 Od...'!P124 -> 0 | AV108: ='SO 2.08.2 - SO 2.08.2 Od...'!J35 -> 0 | AW108: ='SO 2.08.2 - SO 2.08.2 Od...'!J36 -> 0 | AX108: ='SO 2.08.2 - SO 2.08.2 Od...'!J37 -> 0 | AY108: ='SO 2.08.2 - SO 2.08.2 Od...'!J38 -> 0 | AZ108: ='SO 2.08.2 - SO 2.08.2 Od...'!F35 -> 0 | BA108: ='SO 2.08.2 - SO 2.08.2 Od...'!F36 -> 0 | BB108: ='SO 2.08.2 - SO 2.08.2 Od...'!F37 -> 0 | BC108: ='SO 2.08.2 - SO 2.08.2 Od...'!F38 -> 0 | BD108: ='SO 2.08.2 - SO 2.08.2 Od...'!F39 -> 0 | BT108: 2 | BV108: IMPORT | BW108: {6f4b6adf-72e3-49eb-8b58-4d14e21602ab} | BX108: {d202a45e-6222-47f0-9fb8-ebb1841f7fc0}
A109: / | E109: SO 2.08.3 | K109: SO 2.08.3 - Odvodnenie komunikácií so vsakovacími a odparovacími priekopami - vetva C | AG109: ='SO 2.08.3 - SO 2.08.3 - O...'!J32 -> 0 | AN109: =SUM(AG109,AT109) -> 0 | AQ109: Časť | AS109: 0 | AT109: =ROUND(SUM(AV109:AW109),2) -> 0 | AU109: ='SO 2.08.3 - SO 2.08.3 - O...'!P124 -> 0 | AV109: ='SO 2.08.3 - SO 2.08.3 - O...'!J35 -> 0 | AW109: ='SO 2.08.3 - SO 2.08.3 - O...'!J36 -> 0 | AX109: ='SO 2.08.3 - SO 2.08.3 - O...'!J37 -> 0 | AY109: ='SO 2.08.3 - SO 2.08.3 - O...'!J38 -> 0 | AZ109: ='SO 2.08.3 - SO 2.08.3 - O...'!F35 -> 0 | BA109: ='SO 2.08.3 - SO 2.08.3 - O...'!F36 -> 0 | BB109: ='SO 2.08.3 - SO 2.08.3 - O...'!F37 -> 0 | BC109: ='SO 2.08.3 - SO 2.08.3 - O...'!F38 -> 0 | BD109: ='SO 2.08.3 - SO 2.08.3 - O...'!F39 -> 0 | BT109: 2 | BV109: IMPORT | BW109: {ab7be6d3-53d5-425c-8b92-8beb401642a7} | BX109: {d202a45e-6222-47f0-9fb8-ebb1841f7fc0}
A110: / | E110: SO 2.08.4 | K110: SO 2.08.4 Odvodnenie komunikácií so vsakovacími a odparovacími priekopami - vetva D a E | AG110: ='SO 2.08.4 - SO 2.08.4 Od...'!J32 -> 0 | AN110: =SUM(AG110,AT110) -> 0 | AQ110: Časť | AS110: 0 | AT110: =ROUND(SUM(AV110:AW110),2) -> 0 | AU110: ='SO 2.08.4 - SO 2.08.4 Od...'!P124 -> 0 | AV110: ='SO 2.08.4 - SO 2.08.4 Od...'!J35 -> 0 | AW110: ='SO 2.08.4 - SO 2.08.4 Od...'!J36 -> 0 | AX110: ='SO 2.08.4 - SO 2.08.4 Od...'!J37 -> 0 | AY110: ='SO 2.08.4 - SO 2.08.4 Od...'!J38 -> 0 | AZ110: ='SO 2.08.4 - SO 2.08.4 Od...'!F35 -> 0 | BA110: ='SO 2.08.4 - SO 2.08.4 Od...'!F36 -> 0 | BB110: ='SO 2.08.4 - SO 2.08.4 Od...'!F37 -> 0 | BC110: ='SO 2.08.4 - SO 2.08.4 Od...'!F38 -> 0 | BD110: ='SO 2.08.4 - SO 2.08.4 Od...'!F39 -> 0 | BT110: 2 | BV110: IMPORT | BW110: {32cc9e64-2751-4de3-a6b3-b30b17558a85} | BX110: {d202a45e-6222-47f0-9fb8-ebb1841f7fc0}
A111: / | D111: SO 2.09 | J111: SO 2.09 Sadové úpravy | AG111: ='SO 2.09 - SO 2.09 Sadové...'!J30 -> 0 | AN111: =SUM(AG111,AT111) -> 0 | AQ111: STA | AS111: 0 | AT111: =ROUND(SUM(AV111:AW111),2) -> 0 | AU111: ='SO 2.09 - SO 2.09 Sadové...'!P121 -> 0 | AV111: ='SO 2.09 - SO 2.09 Sadové...'!J33 -> 0 | AW111: ='SO 2.09 - SO 2.09 Sadové...'!J34 -> 0 | AX111: ='SO 2.09 - SO 2.09 Sadové...'!J35 -> 0 | AY111: ='SO 2.09 - SO 2.09 Sadové...'!J36 -> 0 | AZ111: ='SO 2.09 - SO 2.09 Sadové...'!F33 -> 0 | BA111: ='SO 2.09 - SO 2.09 Sadové...'!F34 -> 0 | BB111: ='SO 2.09 - SO 2.09 Sadové...'!F35 -> 0 | BC111: ='SO 2.09 - SO 2.09 Sadové...'!F36 -> 0 | BD111: ='SO 2.09 - SO 2.09 Sadové...'!F37 -> 0 | BT111: 1 | BV111: IMPORT | BW111: {555c5eab-09b4-409f-a1a7-c23994a0fb8e} | BX111: {fe8a082c-5d02-4d4f-a338-8ebbb7009e58} | CM111: 0
D112: SO 2.10 | J112: SO 2.10 Preložka obecnej komunikácie (I a II. etapa) | AG112: =ROUND(SUM(AG113:AG115),2) -> 0 | AN112: =SUM(AG112,AT112) -> 0 | AQ112: STA | AS112: =ROUND(SUM(AS113:AS115),2) -> 0 | AT112: =ROUND(SUM(AV112:AW112),2) -> 0 | AU112: =ROUND(SUM(AU113:AU115),5) -> 0 | AV112: =ROUND(AZ112*L29,2) -> 0 | AW112: =ROUND(BA112*L30,2) -> 0 | AX112: =ROUND(BB112*L29,2) -> 0 | AY112: =ROUND(BC112*L30,2) -> 0 | AZ112: =ROUND(SUM(AZ113:AZ115),2) -> 0 | BA112: =ROUND(SUM(BA113:BA115),2) -> 0 | BB112: =ROUND(SUM(BB113:BB115),2) -> 0 | BC112: =ROUND(SUM(BC113:BC115),2) -> 0 | BD112: =ROUND(SUM(BD113:BD115),2) -> 0 | BS112: D | BT112: 1 | BU112: ###NOIMPORT### | BV112: IMPORT | BW112: {d2bd6f7b-6127-4921-9f67-2d0679cb45c9} | BX112: {fe8a082c-5d02-4d4f-a338-8ebbb7009e58} | CM112: 0
A113: / | E113: SO 2.10.1 | K113: SO 2.10.1 Miestna cesta MO2 8/40 - I. etapa | AG113: ='SO 2.10.1 - SO 2.10.1 Mi...'!J32 -> 0 | AN113: =SUM(AG113,AT113) -> 0 | AQ113: Časť | AS113: 0 | AT113: =ROUND(SUM(AV113:AW113),2) -> 0 | AU113: ='SO 2.10.1 - SO 2.10.1 Mi...'!P127 -> 0 | AV113: ='SO 2.10.1 - SO 2.10.1 Mi...'!J35 -> 0 | AW113: ='SO 2.10.1 - SO 2.10.1 Mi...'!J36 -> 0 | AX113: ='SO 2.10.1 - SO 2.10.1 Mi...'!J37 -> 0 | AY113: ='SO 2.10.1 - SO 2.10.1 Mi...'!J38 -> 0 | AZ113: ='SO 2.10.1 - SO 2.10.1 Mi...'!F35 -> 0 | BA113: ='SO 2.10.1 - SO 2.10.1 Mi...'!F36 -> 0 | BB113: ='SO 2.10.1 - SO 2.10.1 Mi...'!F37 -> 0 | BC113: ='SO 2.10.1 - SO 2.10.1 Mi...'!F38 -> 0 | BD113: ='SO 2.10.1 - SO 2.10.1 Mi...'!F39 -> 0 | BT113: 2 | BV113: IMPORT | BW113: {b8335775-f492-471b-9f63-3536ea0bc86e} | BX113: {d2bd6f7b-6127-4921-9f67-2d0679cb45c9}
A114: / | E114: SO 2.10.2 | K114: SO 2.10.2 Miestna cesta MO3 8/40 - I. etapa | AG114: ='SO 2.10.2 - SO 2.10.2 Mi...'!J32 -> 0 | AN114: =SUM(AG114,AT114) -> 0 | AQ114: Časť | AS114: 0 | AT114: =ROUND(SUM(AV114:AW114),2) -> 0 | AU114: ='SO 2.10.2 - SO 2.10.2 Mi...'!P127 -> 0 | AV114: ='SO 2.10.2 - SO 2.10.2 Mi...'!J35 -> 0 | AW114: ='SO 2.10.2 - SO 2.10.2 Mi...'!J36 -> 0 | AX114: ='SO 2.10.2 - SO 2.10.2 Mi...'!J37 -> 0 | AY114: ='SO 2.10.2 - SO 2.10.2 Mi...'!J38 -> 0 | AZ114: ='SO 2.10.2 - SO 2.10.2 Mi...'!F35 -> 0 | BA114: ='SO 2.10.2 - SO 2.10.2 Mi...'!F36 -> 0 | BB114: ='SO 2.10.2 - SO 2.10.2 Mi...'!F37 -> 0 | BC114: ='SO 2.10.2 - SO 2.10.2 Mi...'!F38 -> 0 | BD114: ='SO 2.10.2 - SO 2.10.2 Mi...'!F39 -> 0 | BT114: 2 | BV114: IMPORT | BW114: {49431560-5ba5-455e-9195-cef22b0076c5} | BX114: {d2bd6f7b-6127-4921-9f67-2d0679cb45c9}
A115: / | E115: SO 2.10.3 | K115: SO 2.10.3 Miestna cesta MO3 8/40 - II. etapa | AG115: ='SO 2.10.3 - SO 2.10.3 Mi...'!J32 -> 0 | AN115: =SUM(AG115,AT115) -> 0 | AQ115: Časť | AS115: 0 | AT115: =ROUND(SUM(AV115:AW115),2) -> 0 | AU115: ='SO 2.10.3 - SO 2.10.3 Mi...'!P128 -> 0 | AV115: ='SO 2.10.3 - SO 2.10.3 Mi...'!J35 -> 0 | AW115: ='SO 2.10.3 - SO 2.10.3 Mi...'!J36 -> 0 | AX115: ='SO 2.10.3 - SO 2.10.3 Mi...'!J37 -> 0 | AY115: ='SO 2.10.3 - SO 2.10.3 Mi...'!J38 -> 0 | AZ115: ='SO 2.10.3 - SO 2.10.3 Mi...'!F35 -> 0 | BA115: ='SO 2.10.3 - SO 2.10.3 Mi...'!F36 -> 0 | BB115: ='SO 2.10.3 - SO 2.10.3 Mi...'!F37 -> 0 | BC115: ='SO 2.10.3 - SO 2.10.3 Mi...'!F38 -> 0 | BD115: ='SO 2.10.3 - SO 2.10.3 Mi...'!F39 -> 0 | BT115: 2 | BV115: IMPORT | BW115: {f7125fed-dcd5-400f-9b5f-49f5a9ae391a} | BX115: {d2bd6f7b-6127-4921-9f67-2d0679cb45c9}
A116: / | D116: SO 2.11 | J116: SO 2.11 Odstránenie pôvodnej komunikácie | AG116: ='SO 2.11 - SO 2.11 Odstrá...'!J30 -> 0 | AN116: =SUM(AG116,AT116) -> 0 | AQ116: STA | AS116: 0 | AT116: =ROUND(SUM(AV116:AW116),2) -> 0 | AU116: ='SO 2.11 - SO 2.11 Odstrá...'!P120 -> 0 | AV116: ='SO 2.11 - SO 2.11 Odstrá...'!J33 -> 0 | AW116: ='SO 2.11 - SO 2.11 Odstrá...'!J34 -> 0 | AX116: ='SO 2.11 - SO 2.11 Odstrá...'!J35 -> 0 | AY116: ='SO 2.11 - SO 2.11 Odstrá...'!J36 -> 0 | AZ116: ='SO 2.11 - SO 2.11 Odstrá...'!F33 -> 0 | BA116: ='SO 2.11 - SO 2.11 Odstrá...'!F34 -> 0 | BB116: ='SO 2.11 - SO 2.11 Odstrá...'!F35 -> 0 | BC116: ='SO 2.11 - SO 2.11 Odstrá...'!F36 -> 0 | BD116: ='SO 2.11 - SO 2.11 Odstrá...'!F37 -> 0 | BT116: 1 | BV116: IMPORT | BW116: {c5c7a066-70bb-40e4-8171-215f03b03499} | BX116: {fe8a082c-5d02-4d4f-a338-8ebbb7009e58} | CM116: 0
D117: SO 2.12 | J117: SO 2.12 Odvodnenie komunikácií so vsakovacími a odparovacími priekopami | AG117: =ROUND(SUM(AG118:AG120),2) -> 0 | AN117: =SUM(AG117,AT117) -> 0 | AQ117: STA | AS117: =ROUND(SUM(AS118:AS120),2) -> 0 | AT117: =ROUND(SUM(AV117:AW117),2) -> 0 | AU117: =ROUND(SUM(AU118:AU120),5) -> 0 | AV117: =ROUND(AZ117*L29,2) -> 0 | AW117: =ROUND(BA117*L30,2) -> 0 | AX117: =ROUND(BB117*L29,2) -> 0 | AY117: =ROUND(BC117*L30,2) -> 0 | AZ117: =ROUND(SUM(AZ118:AZ120),2) -> 0 | BA117: =ROUND(SUM(BA118:BA120),2) -> 0 | BB117: =ROUND(SUM(BB118:BB120),2) -> 0 | BC117: =ROUND(SUM(BC118:BC120),2) -> 0 | BD117: =ROUND(SUM(BD118:BD120),2) -> 0 | BS117: D | BT117: 1 | BU117: ###NOIMPORT### | BV117: IMPORT | BW117: {8ae54958-d31a-420b-8dbb-9e572cefa830} | BX117: {fe8a082c-5d02-4d4f-a338-8ebbb7009e58} | CM117: 0
A118: / | E118: SO 2.12.1 | K118: SO 2.12.1 Úsek MC MO2 8/40 - I. etapa | AG118: ='SO 2.12.1 - SO 2.12.1 Ús...'!J32 -> 0 | AN118: =SUM(AG118,AT118) -> 0 | AQ118: Časť | AS118: 0 | AT118: =ROUND(SUM(AV118:AW118),2) -> 0 | AU118: ='SO 2.12.1 - SO 2.12.1 Ús...'!P124 -> 0 | AV118: ='SO 2.12.1 - SO 2.12.1 Ús...'!J35 -> 0 | AW118: ='SO 2.12.1 - SO 2.12.1 Ús...'!J36 -> 0 | AX118: ='SO 2.12.1 - SO 2.12.1 Ús...'!J37 -> 0 | AY118: ='SO 2.12.1 - SO 2.12.1 Ús...'!J38 -> 0 | AZ118: ='SO 2.12.1 - SO 2.12.1 Ús...'!F35 -> 0 | BA118: ='SO 2.12.1 - SO 2.12.1 Ús...'!F36 -> 0 | BB118: ='SO 2.12.1 - SO 2.12.1 Ús...'!F37 -> 0 | BC118: ='SO 2.12.1 - SO 2.12.1 Ús...'!F38 -> 0 | BD118: ='SO 2.12.1 - SO 2.12.1 Ús...'!F39 -> 0 | BT118: 2 | BV118: IMPORT | BW118: {ee59b957-1037-48e2-860d-d49abc02e2ce} | BX118: {8ae54958-d31a-420b-8dbb-9e572cefa830}
A119: / | E119: SO 2.12.2 | K119: SO 2.12.2 Úsek MC MO3 8/40 - I. etapa | AG119: ='SO 2.12.2 - SO 2.12.2 Ús...'!J32 -> 0 | AN119: =SUM(AG119,AT119) -> 0 | AQ119: Časť | AS119: 0 | AT119: =ROUND(SUM(AV119:AW119),2) -> 0 | AU119: ='SO 2.12.2 - SO 2.12.2 Ús...'!P124 -> 0 | AV119: ='SO 2.12.2 - SO 2.12.2 Ús...'!J35 -> 0 | AW119: ='SO 2.12.2 - SO 2.12.2 Ús...'!J36 -> 0 | AX119: ='SO 2.12.2 - SO 2.12.2 Ús...'!J37 -> 0 | AY119: ='SO 2.12.2 - SO 2.12.2 Ús...'!J38 -> 0 | AZ119: ='SO 2.12.2 - SO 2.12.2 Ús...'!F35 -> 0 | BA119: ='SO 2.12.2 - SO 2.12.2 Ús...'!F36 -> 0 | BB119: ='SO 2.12.2 - SO 2.12.2 Ús...'!F37 -> 0 | BC119: ='SO 2.12.2 - SO 2.12.2 Ús...'!F38 -> 0 | BD119: ='SO 2.12.2 - SO 2.12.2 Ús...'!F39 -> 0 | BT119: 2 | BV119: IMPORT | BW119: {d92a6bbe-44b3-4b4b-b725-5b1d3dd0cb53} | BX119: {8ae54958-d31a-420b-8dbb-9e572cefa830}
A120: / | E120: SO 2.12.3 | K120: SO 2.12.3 Úsek MC MO3 8/40 - II. etapa | AG120: ='SO 2.12.3 - SO 2.12.3 Ús...'!J32 -> 0 | AN120: =SUM(AG120,AT120) -> 0 | AQ120: Časť | AS120: 0 | AT120: =ROUND(SUM(AV120:AW120),2) -> 0 | AU120: ='SO 2.12.3 - SO 2.12.3 Ús...'!P124 -> 0 | AV120: ='SO 2.12.3 - SO 2.12.3 Ús...'!J35 -> 0 | AW120: ='SO 2.12.3 - SO 2.12.3 Ús...'!J36 -> 0 | AX120: ='SO 2.12.3 - SO 2.12.3 Ús...'!J37 -> 0 | AY120: ='SO 2.12.3 - SO 2.12.3 Ús...'!J38 -> 0 | AZ120: ='SO 2.12.3 - SO 2.12.3 Ús...'!F35 -> 0 | BA120: ='SO 2.12.3 - SO 2.12.3 Ús...'!F36 -> 0 | BB120: ='SO 2.12.3 - SO 2.12.3 Ús...'!F37 -> 0 | BC120: ='SO 2.12.3 - SO 2.12.3 Ús...'!F38 -> 0 | BD120: ='SO 2.12.3 - SO 2.12.3 Ús...'!F39 -> 0 | BT120: 2 | BV120: IMPORT | BW120: {d126b91f-24ff-41f8-90fc-df5d891dcf75} | BX120: {8ae54958-d31a-420b-8dbb-9e572cefa830}
D121: SO 2.13 | J121: SO 2.13 Sadové úpravy | AG121: =ROUND(SUM(AG122:AG123),2) -> 0 | AN121: =SUM(AG121,AT121) -> 0 | AQ121: STA | AS121: =ROUND(SUM(AS122:AS123),2) -> 0 | AT121: =ROUND(SUM(AV121:AW121),2) -> 0 | AU121: =ROUND(SUM(AU122:AU123),5) -> 0 | AV121: =ROUND(AZ121*L29,2) -> 0 | AW121: =ROUND(BA121*L30,2) -> 0 | AX121: =ROUND(BB121*L29,2) -> 0 | AY121: =ROUND(BC121*L30,2) -> 0 | AZ121: =ROUND(SUM(AZ122:AZ123),2) -> 0 | BA121: =ROUND(SUM(BA122:BA123),2) -> 0 | BB121: =ROUND(SUM(BB122:BB123),2) -> 0 | BC121: =ROUND(SUM(BC122:BC123),2) -> 0 | BD121: =ROUND(SUM(BD122:BD123),2) -> 0 | BS121: D | BT121: 1 | BU121: ###NOIMPORT### | BV121: IMPORT | BW121: {80a90f7e-a310-42ab-947a-ba8a88d760ba} | BX121: {fe8a082c-5d02-4d4f-a338-8ebbb7009e58} | CM121: 0
A122: / | E122: SO 2.13 - I. | K122: SO 2.13 Sadové úpravy - 1. etapa | AG122: ='SO 2.13 - I. - SO 2.13 S...'!J32 -> 0 | AN122: =SUM(AG122,AT122) -> 0 | AQ122: Časť | AS122: 0 | AT122: =ROUND(SUM(AV122:AW122),2) -> 0 | AU122: ='SO 2.13 - I. - SO 2.13 S...'!P126 -> 0 | AV122: ='SO 2.13 - I. - SO 2.13 S...'!J35 -> 0 | AW122: ='SO 2.13 - I. - SO 2.13 S...'!J36 -> 0 | AX122: ='SO 2.13 - I. - SO 2.13 S...'!J37 -> 0 | AY122: ='SO 2.13 - I. - SO 2.13 S...'!J38 -> 0 | AZ122: ='SO 2.13 - I. - SO 2.13 S...'!F35 -> 0 | BA122: ='SO 2.13 - I. - SO 2.13 S...'!F36 -> 0 | BB122: ='SO 2.13 - I. - SO 2.13 S...'!F37 -> 0 | BC122: ='SO 2.13 - I. - SO 2.13 S...'!F38 -> 0 | BD122: ='SO 2.13 - I. - SO 2.13 S...'!F39 -> 0 | BT122: 2 | BV122: IMPORT | BW122: {8d6e9611-243c-4ad5-a341-465d0d6340e3} | BX122: {80a90f7e-a310-42ab-947a-ba8a88d760ba}
A123: / | E123: SO 2.13 - II. | K123: SO 2.13 Sadové úpravy - 2. etapa | AG123: ='SO 2.13 - II. - SO 2.13 ...'!J32 -> 0 | AN123: =SUM(AG123,AT123) -> 0 | AQ123: Časť | AS123: 0 | AT123: =ROUND(SUM(AV123:AW123),2) -> 0 | AU123: ='SO 2.13 - II. - SO 2.13 ...'!P126 -> 0 | AV123: ='SO 2.13 - II. - SO 2.13 ...'!J35 -> 0 | AW123: ='SO 2.13 - II. - SO 2.13 ...'!J36 -> 0 | AX123: ='SO 2.13 - II. - SO 2.13 ...'!J37 -> 0 | AY123: ='SO 2.13 - II. - SO 2.13 ...'!J38 -> 0 | AZ123: ='SO 2.13 - II. - SO 2.13 ...'!F35 -> 0 | BA123: ='SO 2.13 - II. - SO 2.13 ...'!F36 -> 0 | BB123: ='SO 2.13 - II. - SO 2.13 ...'!F37 -> 0 | BC123: ='SO 2.13 - II. - SO 2.13 ...'!F38 -> 0 | BD123: ='SO 2.13 - II. - SO 2.13 ...'!F39 -> 0 | BT123: 2 | BV123: IMPORT | BW123: {fb82898d-66d7-4eed-b00f-da6cfbacaf19} | BX123: {80a90f7e-a310-42ab-947a-ba8a88d760ba}
D124: SO 2.14 | J124: SO 2.14 Jednostranný chodník pre peších | AG124: =ROUND(SUM(AG125:AG127),2) -> 0 | AN124: =SUM(AG124,AT124) -> 0 | AQ124: STA | AS124: =ROUND(SUM(AS125:AS127),2) -> 0 | AT124: =ROUND(SUM(AV124:AW124),2) -> 0 | AU124: =ROUND(SUM(AU125:AU127),5) -> 0 | AV124: =ROUND(AZ124*L29,2) -> 0 | AW124: =ROUND(BA124*L30,2) -> 0 | AX124: =ROUND(BB124*L29,2) -> 0 | AY124: =ROUND(BC124*L30,2) -> 0 | AZ124: =ROUND(SUM(AZ125:AZ127),2) -> 0 | BA124: =ROUND(SUM(BA125:BA127),2) -> 0 | BB124: =ROUND(SUM(BB125:BB127),2) -> 0 | BC124: =ROUND(SUM(BC125:BC127),2) -> 0 | BD124: =ROUND(SUM(BD125:BD127),2) -> 0 | BS124: D | BT124: 1 | BU124: ###NOIMPORT### | BV124: IMPORT | BW124: {16387e64-c679-4f78-b120-57565d7cb1a1} | BX124: {fe8a082c-5d02-4d4f-a338-8ebbb7009e58} | CM124: 0
A125: / | E125: SO 2.14.1 | K125: SO 2.14.1 Úsek - MC M02 8/40 - I. etapa | AG125: ='SO 2.14.1 - SO 2.14.1 Ús...'!J32 -> 0 | AN125: =SUM(AG125,AT125) -> 0 | AQ125: Časť | AS125: 0 | AT125: =ROUND(SUM(AV125:AW125),2) -> 0 | AU125: ='SO 2.14.1 - SO 2.14.1 Ús...'!P126 -> 0 | AV125: ='SO 2.14.1 - SO 2.14.1 Ús...'!J35 -> 0 | AW125: ='SO 2.14.1 - SO 2.14.1 Ús...'!J36 -> 0 | AX125: ='SO 2.14.1 - SO 2.14.1 Ús...'!J37 -> 0 | AY125: ='SO 2.14.1 - SO 2.14.1 Ús...'!J38 -> 0 | AZ125: ='SO 2.14.1 - SO 2.14.1 Ús...'!F35 -> 0 | BA125: ='SO 2.14.1 - SO 2.14.1 Ús...'!F36 -> 0 | BB125: ='SO 2.14.1 - SO 2.14.1 Ús...'!F37 -> 0 | BC125: ='SO 2.14.1 - SO 2.14.1 Ús...'!F38 -> 0 | BD125: ='SO 2.14.1 - SO 2.14.1 Ús...'!F39 -> 0 | BT125: 2 | BV125: IMPORT | BW125: {c33a1d43-ee7a-4e38-b62b-7727cb84b21e} | BX125: {16387e64-c679-4f78-b120-57565d7cb1a1}
A126: / | E126: SO 2.14.2 | K126: SO 2.14.2 Úsek - MC MO3 8/40 - I. etapa | AG126: ='SO 2.14.2 - SO 2.14.2 Ús...'!J32 -> 0 | AN126: =SUM(AG126,AT126) -> 0 | AQ126: Časť | AS126: 0 | AT126: =ROUND(SUM(AV126:AW126),2) -> 0 | AU126: ='SO 2.14.2 - SO 2.14.2 Ús...'!P126 -> 0 | AV126: ='SO 2.14.2 - SO 2.14.2 Ús...'!J35 -> 0 | AW126: ='SO 2.14.2 - SO 2.14.2 Ús...'!J36 -> 0 | AX126: ='SO 2.14.2 - SO 2.14.2 Ús...'!J37 -> 0 | AY126: ='SO 2.14.2 - SO 2.14.2 Ús...'!J38 -> 0 | AZ126: ='SO 2.14.2 - SO 2.14.2 Ús...'!F35 -> 0 | BA126: ='SO 2.14.2 - SO 2.14.2 Ús...'!F36 -> 0 | BB126: ='SO 2.14.2 - SO 2.14.2 Ús...'!F37 -> 0 | BC126: ='SO 2.14.2 - SO 2.14.2 Ús...'!F38 -> 0 | BD126: ='SO 2.14.2 - SO 2.14.2 Ús...'!F39 -> 0 | BT126: 2 | BV126: IMPORT | BW126: {9180cf74-4942-4298-832b-779f740c227d} | BX126: {16387e64-c679-4f78-b120-57565d7cb1a1}
A127: / | E127: SO 2.14.3 | K127: SO 2.14.3 Úsek - MC MO3 8/40 - II. etapa | AG127: ='SO 2.14.3 - SO 2.14.3 Ús...'!J32 -> 0 | AN127: =SUM(AG127,AT127) -> 0 | AQ127: Časť | AS127: 0 | AT127: =ROUND(SUM(AV127:AW127),2) -> 0 | AU127: ='SO 2.14.3 - SO 2.14.3 Ús...'!P126 -> 0 | AV127: ='SO 2.14.3 - SO 2.14.3 Ús...'!J35 -> 0 | AW127: ='SO 2.14.3 - SO 2.14.3 Ús...'!J36 -> 0 | AX127: ='SO 2.14.3 - SO 2.14.3 Ús...'!J37 -> 0 | AY127: ='SO 2.14.3 - SO 2.14.3 Ús...'!J38 -> 0 | AZ127: ='SO 2.14.3 - SO 2.14.3 Ús...'!F35 -> 0 | BA127: ='SO 2.14.3 - SO 2.14.3 Ús...'!F36 -> 0 | BB127: ='SO 2.14.3 - SO 2.14.3 Ús...'!F37 -> 0 | BC127: ='SO 2.14.3 - SO 2.14.3 Ús...'!F38 -> 0 | BD127: ='SO 2.14.3 - SO 2.14.3 Ús...'!F39 -> 0 | BT127: 2 | BV127: IMPORT | BW127: {4475419f-bd53-4bbb-96b9-f99cbe7a3ad0} | BX127: {16387e64-c679-4f78-b120-57565d7cb1a1}
A128: / | D128: SO 2.15 | J128: SO 2.15 Verejné osvetlenie | AG128: ='SO 2.15 - SO 2.15 Verejn...'!J30 -> 0 | AN128: =SUM(AG128,AT128) -> 0 | AQ128: STA | AS128: 0 | AT128: =ROUND(SUM(AV128:AW128),2) -> 0 | AU128: ='SO 2.15 - SO 2.15 Verejn...'!P124 -> 0 | AV128: ='SO 2.15 - SO 2.15 Verejn...'!J33 -> 0 | AW128: ='SO 2.15 - SO 2.15 Verejn...'!J34 -> 0 | AX128: ='SO 2.15 - SO 2.15 Verejn...'!J35 -> 0 | AY128: ='SO 2.15 - SO 2.15 Verejn...'!J36 -> 0 | AZ128: ='SO 2.15 - SO 2.15 Verejn...'!F33 -> 0 | BA128: ='SO 2.15 - SO 2.15 Verejn...'!F34 -> 0 | BB128: ='SO 2.15 - SO 2.15 Verejn...'!F35 -> 0 | BC128: ='SO 2.15 - SO 2.15 Verejn...'!F36 -> 0 | BD128: ='SO 2.15 - SO 2.15 Verejn...'!F37 -> 0 | BT128: 1 | BV128: IMPORT | BW128: {e68d1054-251b-4c0d-ada8-bd4fac6b6030} | BX128: {fe8a082c-5d02-4d4f-a338-8ebbb7009e58} | CM128: 0

Sheet SO 000-00 - SO 000-00  Vš...
L2: >> skryté stĺpce << | AT2: {94af0eda-808e-40e1-97da-41bbac148e64}
AT3: 0
D4: KRYCÍ LIST ROZPOČTU | M4: v --- nižšie sa nachádzajú doplnkové a pomocné údaje k zostavám --- v | AT4: False
D6: Stavba:
E7: ='Rekapitulácia stavby'!K6 -> IP Horná Streda
D8: Objekt:
E9: SO 000-00 - SO 000-00 Všeobecné položky
D11: JKSO: | I11: ČS:
D12: Miesto: | I12: Dátum: | J12: ='Rekapitulácia stavby'!AN8 -> 31. 7. 2026
D14: Objednávateľ: | I14: IČO: | J14: =IF('Rekapitulácia stavby'!AN10="","",'Rekapitulácia stavby'!AN10)
E15: =IF('Rekapitulácia stavby'!E11="","",'Rekapitulácia stavby'!E11) | I15: IČ DPH: | J15: =IF('Rekapitulácia stavby'!AN11="","",'Rekapitulácia stavby'!AN11)
D17: Zhotoviteľ: | I17: IČO: | J17: ='Rekapitulácia stavby'!AN13 -> Vyplň údaj
E18: ='Rekapitulácia stavby'!E14 -> Vyplň údaj | I18: IČ DPH: | J18: ='Rekapitulácia stavby'!AN14 -> Vyplň údaj
D20: Projektant: | I20: IČO: | J20: =IF('Rekapitulácia stavby'!AN16="","",'Rekapitulácia stavby'!AN16)
E21: =IF('Rekapitulácia stavby'!E17="","",'Rekapitulácia stavby'!E17) | I21: IČ DPH: | J21: =IF('Rekapitulácia stavby'!AN17="","",'Rekapitulácia stavby'!AN17)
D23: Spracovateľ: | I23: IČO: | J23: =IF('Rekapitulácia stavby'!AN19="","",'Rekapitulácia stavby'!AN19)
E24: =IF('Rekapitulácia stavby'!E20="","",'Rekapitulácia stavby'!E20) | I24: IČ DPH: | J24: =IF('Rekapitulácia stavby'!AN20="","",'Rekapitulácia stavby'!AN20)
D26: Poznámka:
D30: Cena bez DPH | J30: =ROUND(J117, 2) -> 0
F32: Základ dane | I32: Sadzba dane | J32: Výška dane
D33: DPH | E33: základná | F33: =ROUND((SUM(BE117:BE123)), 2) -> 0 | I33: 0.23 | J33: =ROUND(((SUM(BE117:BE123))*I33), 2) -> 0
E34: znížená | F34: =ROUND((SUM(BF117:BF123)), 2) -> 0 | I34: 0.23 | J34: =ROUND(((SUM(BF117:BF123))*I34), 2) -> 0
E35: zákl. prenesená | F35: =ROUND((SUM(BG117:BG123)), 2) -> 0 | I35: 0.23 | J35: =0 -> 0
E36: zníž. prenesená | F36: =ROUND((SUM(BH117:BH123)), 2) -> 0 | I36: 0.23 | J36: =0 -> 0
E37: nulová | F37: =ROUND((SUM(BI117:BI123)), 2) -> 0 | I37: 0 | J37: =0 -> 0
D39: Cena s DPH | G39: v | H39: EUR | J39: =SUM(J30:J37) -> 0
D50: Projektant | G50: Spracovateľ
D61: Dátum a podpis: | F61: Pečiatka | G61: Dátum a podpis: | J61: Pečiatka
D65: Objednávateľ | G65: Zhotoviteľ
D76: Dátum a podpis: | F76: Pečiatka | G76: Dátum a podpis: | J76: Pečiatka
C82: REKAPITULÁCIA ROZPOČTU
C84: Stavba:
E85: =E7 -> IP Horná Streda
C86: Objekt:
E87: =E9 -> SO 000-00 - SO 000-00 Všeobecné položky
C89: Miesto: | F89: =F12 | I89: Dátum: | J89: =IF(J12="","",J12) -> 31. 7. 2026
C91: Objednávateľ: | F91: =E15 | I91: Projektant: | J91: =E21
C92: Zhotoviteľ: | F92: =IF(E18="","",E18) -> Vyplň údaj | I92: Spracovateľ: | J92: =E24
C94: Kód dielu - Popis | J94: Cena celkom [EUR]
C96: Náklady z rozpočtu | J96: =J117 -> 0 | AU96: -1
D97: VRN - Investičné náklady neobsiahnuté v cenách | J97: =J118 -> 0
C104: ROZPOČET
C106: Stavba:
E107: =E7 -> IP Horná Streda
C108: Objekt:
E109: =E9 -> SO 000-00 - SO 000-00 Všeobecné položky
C111: Miesto: | F111: =F12 | I111: Dátum: | J111: =IF(J12="","",J12) -> 31. 7. 2026
C113: Objednávateľ: | F113: =E15 | I113: Projektant: | J113: =E21
C114: Zhotoviteľ: | F114: =IF(E18="","",E18) -> Vyplň údaj | I114: Spracovateľ: | J114: =E24
C116: PČ | D116: Typ | E116: Kód | F116: Popis | G116: MJ | H116: Množstvo | I116: J.cena [EUR] | J116: Cena celkom [EUR] | K116: Cenová sústava | N116: DPH | O116: J. Nh [h] | P116: Nh celkom [h] | Q116: J. hmotnosť [t] | R116: Hmotnosť celkom [t] | S116: J. suť [t] | T116: Suť Celkom [t]
C117: Náklady z rozpočtu | J117: =BK117 -> 0 | P117: =P118 -> 0 | R117: =R118 -> 0 | T117: =T118 -> 0 | AT117: D | AU117: -1 | BK117: =BK118 -> 0
D118: D | E118: VRN | F118: Investičné náklady neobsiahnuté v cenách | J118: =BK118 -> 0 | P118: =SUM(P119:P123) -> 0 | R118: =SUM(R119:R123) -> 0 | T118: =SUM(T119:T123) -> 0 | AR118: 5 | AT118: D | AU118: 0 | AY118: ROZPOCET | BK118: =SUM(BK119:BK123) -> 0
C119: 1 | D119: K | E119: 000400041.S | F119: Projektové práce - náklady na inžiniersko technickú pomoc bez rozlíšenia | G119: kpl | H119: 1 | J119: =ROUND(I119*H119,2) -> 0 | N119: znížená | P119: =O119*H119 -> 0 | Q119: 0 | R119: =Q119*H119 -> 0 | S119: 0 | T119: =S119*H119 -> 0 | AR119: 1024 | AT119: K | AU119: 1 | AY119: ROZPOCET | BE119: =IF(N119="základná",J119,0) -> 0 | BF119: =IF(N119="znížená",J119,0) -> 0 | BG119: =IF(N119="zákl. prenesená",J119,0) -> 0 | BH119: =IF(N119="zníž. prenesená",J119,0) -> 0 | BI119: =IF(N119="nulová",J119,0) -> 0 | BJ119: 2 | BK119: =ROUND(I119*H119,2) -> 0 | BL119: 1024 | BM119: 1688724735
D120: VV | F120: 1,0 "projekt dočasného dopravného značenia počas výstavby" | H120: 1 | AT120: VV | AU120: 1 | AV120: 2 | AW120: True | AX120: 1 | AY120: ROZPOCET
C121: 2 | D121: K | E121: 000600026.S | F121: Zariadenie staveniska | G121: mesiac | H121: 24 | J121: =ROUND(I121*H121,2) -> 0 | N121: znížená | P121: =O121*H121 -> 0 | Q121: 0 | R121: =Q121*H121 -> 0 | S121: 0 | T121: =S121*H121 -> 0 | AR121: 1024 | AT121: K | AU121: 1 | AY121: ROZPOCET | BE121: =IF(N121="základná",J121,0) -> 0 | BF121: =IF(N121="znížená",J121,0) -> 0 | BG121: =IF(N121="zákl. prenesená",J121,0) -> 0 | BH121: =IF(N121="zníž. prenesená",J121,0) -> 0 | BI121: =IF(N121="nulová",J121,0) -> 0 | BJ121: 2 | BK121: =ROUND(I121*H121,2) -> 0 | BL121: 1024 | BM121: 1826692091
D122: P | F122: Poznámka k položke:_x000D_ - obsahuje náklady na :_x000D_ - zriadenie, prevádzku počas doby výstavby, odstránenie_x000D_ - dočasné vnútrostaveniskové komunikácie a zariadenia na dopravu, spevnené plochy, skladovacie plochy materiálov a manipulácia s ním, rozvod vody a elektriny, dočasné oplotenie, strážna služba_x000D_ - sociálne a administrtívne zariadenia - unimobunky pre pracovníkov, kancelárie pre stavbyvedúcich, hygienické objekty, WC_x000D_ _x000D_ | AT122: P | AU122: 1
D123: VV | F123: 24,0 "doba výstavby" | H123: 24 | AT123: VV | AU123: 1 | AV123: 2 | AW123: True | AX123: 1 | AY123: ROZPOCET

Sheet SO 2.01 - SO 2.01  Hrubé ...
L2: >> skryté stĺpce << | AT2: {f3040ef8-e896-4b52-987f-031cc5c241f6}
AT3: 0
D4: KRYCÍ LIST ROZPOČTU | M4: v --- nižšie sa nachádzajú doplnkové a pomocné údaje k zostavám --- v | AT4: False
D6: Stavba:
E7: ='Rekapitulácia stavby'!K6 -> IP Horná Streda
D8: Objekt:
E9: SO 2.01 - SO 2.01 Hrubé terénne úpravy a odstránenie stavieb
D11: JKSO: | I11: ČS:
D12: Miesto: | I12: Dátum: | J12: ='Rekapitulácia stavby'!AN8 -> 31. 7. 2026
D14: Objednávateľ: | I14: IČO: | J14: =IF('Rekapitulácia stavby'!AN10="","",'Rekapitulácia stavby'!AN10)
E15: =IF('Rekapitulácia stavby'!E11="","",'Rekapitulácia stavby'!E11) | I15: IČ DPH: | J15: =IF('Rekapitulácia stavby'!AN11="","",'Rekapitulácia stavby'!AN11)
D17: Zhotoviteľ: | I17: IČO: | J17: ='Rekapitulácia stavby'!AN13 -> Vyplň údaj
E18: ='Rekapitulácia stavby'!E14 -> Vyplň údaj | I18: IČ DPH: | J18: ='Rekapitulácia stavby'!AN14 -> Vyplň údaj
D20: Projektant: | I20: IČO: | J20: =IF('Rekapitulácia stavby'!AN16="","",'Rekapitulácia stavby'!AN16)
E21: =IF('Rekapitulácia stavby'!E17="","",'Rekapitulácia stavby'!E17) | I21: IČ DPH: | J21: =IF('Rekapitulácia stavby'!AN17="","",'Rekapitulácia stavby'!AN17)
D23: Spracovateľ: | I23: IČO: | J23: =IF('Rekapitulácia stavby'!AN19="","",'Rekapitulácia stavby'!AN19)
E24: =IF('Rekapitulácia stavby'!E20="","",'Rekapitulácia stavby'!E20) | I24: IČ DPH: | J24: =IF('Rekapitulácia stavby'!AN20="","",'Rekapitulácia stavby'!AN20)
D26: Poznámka:
D30: Cena bez DPH | J30: =ROUND(J122, 2) -> 0
F32: Základ dane | I32: Sadzba dane | J32: Výška dane
D33: DPH | E33: základná | F33: =ROUND((SUM(BE122:BE406)), 2) -> 0 | I33: 0.23 | J33: =ROUND(((SUM(BE122:BE406))*I33), 2) -> 0
E34: znížená | F34: =ROUND((SUM(BF122:BF406)), 2) -> 0 | I34: 0.23 | J34: =ROUND(((SUM(BF122:BF406))*I34), 2) -> 0
E35: zákl. prenesená | F35: =ROUND((SUM(BG122:BG406)), 2) -> 0 | I35: 0.23 | J35: =0 -> 0
E36: zníž. prenesená | F36: =ROUND((SUM(BH122:BH406)), 2) -> 0 | I36: 0.23 | J36: =0 -> 0
E37: nulová | F37: =ROUND((SUM(BI122:BI406)), 2) -> 0 | I37: 0 | J37: =0 -> 0
D39: Cena s DPH | G39: v | H39: EUR | J39: =SUM(J30:J37) -> 0
D50: Projektant | G50: Spracovateľ
D61: Dátum a podpis: | F61: Pečiatka | G61: Dátum a podpis: | J61: Pečiatka
D65: Objednávateľ | G65: Zhotoviteľ
D76: Dátum a podpis: | F76: Pečiatka | G76: Dátum a podpis: | J76: Pečiatka
C82: REKAPITULÁCIA ROZPOČTU
C84: Stavba:
E85: =E7 -> IP Horná Streda
C86: Objekt:
E87: =E9 -> SO 2.01 - SO 2.01 Hrubé terénne úpravy a odstránenie stavieb
C89: Miesto: | F89: =F12 | I89: Dátum: | J89: =IF(J12="","",J12) -> 31. 7. 2026
C91: Objednávateľ: | F91: =E15 | I91: Projektant: | J91: =E21
C92: Zhotoviteľ: | F92: =IF(E18="","",E18) -> Vyplň údaj | I92: Spracovateľ: | J92: =E24
C94: Kód dielu - Popis | J94: Cena celkom [EUR]
C96: Náklady z rozpočtu | J96: =J122 -> 0 | AU96: -1
D97: HSV - Práce a dodávky HSV | J97: =J123 -> 0
D98: 1 - Zemné práce | J98: =J124 -> 0
D99: 9 - Ostatné konštrukcie a práce-búranie | J99: =J298 -> 0
D100: PSV - Práce a dodávky PSV | J100: =J378 -> 0
D101: 767 - Konštrukcie doplnkové kovové | J101: =J379 -> 0
D102: VRN - Investičné náklady neobsiahnuté v cenách | J102: =J405 -> 0
C109: ROZPOČET
C111: Stavba:
E112: =E7 -> IP Horná Streda
C113: Objekt:
E114: =E9 -> SO 2.01 - SO 2.01 Hrubé terénne úpravy a odstránenie stavieb
C116: Miesto: | F116: =F12 | I116: Dátum: | J116: =IF(J12="","",J12) -> 31. 7. 2026
C118: Objednávateľ: | F118: =E15 | I118: Projektant: | J118: =E21
C119: Zhotoviteľ: | F119: =IF(E18="","",E18) -> Vyplň údaj | I119: Spracovateľ: | J119: =E24
C121: PČ | D121: Typ | E121: Kód | F121: Popis | G121: MJ | H121: Množstvo | I121: J.cena [EUR] | J121: Cena celkom [EUR] | K121: Cenová sústava | N121: DPH | O121: J. Nh [h] | P121: Nh celkom [h] | Q121: J. hmotnosť [t] | R121: Hmotnosť celkom [t] | S121: J. suť [t] | T121: Suť Celkom [t]
C122: Náklady z rozpočtu | J122: =BK122 -> 0 | P122: =P123+P378+P405 -> 0 | R122: =R123+R378+R405 -> 0.06551 | T122: =T123+T378+T405 -> 11135.119 | AT122: D | AU122: -1 | BK122: =BK123+BK378+BK405 -> 0
D123: D | E123: HSV | F123: Práce a dodávky HSV | J123: =BK123 -> 0 | P123: =P124+P298 -> 0 | R123: =R124+R298 -> 0.04531 | T123: =T124+T298 -> 11134.453 | AR123: 1 | AT123: D | AU123: 0 | AY123: ROZPOCET | BK123: =BK124+BK298 -> 0
D124: D | E124: 1 | F124: Zemné práce | J124: =BK124 -> 0 | P124: =SUM(P125:P297) -> 0 | R124: =SUM(R125:R297) -> 0.00036 | T124: =SUM(T125:T297) -> 11002.58 | AR124: 1 | AT124: D | AU124: 1 | AY124: ROZPOCET | BK124: =SUM(BK125:BK297) -> 0
C125: 62 | D125: K | E125: 111201102.S | F125: Odstránenie krovín a stromov s koreňom s priemerom kmeňa do 100 mm, nad 1000 do 10000 m2 | G125: m2 | H125: 5461 | J125: =ROUND(I125*H125,2) -> 0 | N125: znížená | P125: =O125*H125 -> 0 | Q125: 0 | R125: =Q125*H125 -> 0 | S125: 0 | T125: =S125*H125 -> 0 | AR125: 4 | AT125: K | AU125: 2 | AY125: ROZPOCET | BE125: =IF(N125="základná",J125,0) -> 0 | BF125: =IF(N125="znížená",J125,0) -> 0 | BG125: =IF(N125="zákl. prenesená",J125,0) -> 0 | BH125: =IF(N125="zníž. prenesená",J125,0) -> 0 | BI125: =IF(N125="nulová",J125,0) -> 0 | BJ125: 2 | BK125: =ROUND(I125*H125,2) -> 0 | BL125: 4 | BM125: 95381676
D126: P | F126: Poznámka k položke:_x000D_ - vrátane koreňovej sústavy | AT126: P | AU126: 2
D127: VV | F127: - výrub drevín | AT127: VV | AU127: 2 | AV127: 1 | AW127: True | AX127: 0 | AY127: ROZPOCET
D128: VV | F128: 4918,00 "krovitá vegetácia podľa rozhodnutia OÚ-NM-OSZP-2026/001765-006 zo dňa 27.1.2026" | H128: 4918 | AT128: VV | AU128: 2 | AV128: 2 | AW128: True | AX128: 0 | AY128: ROZPOCET
D129: VV | F129: 250,00 "plocha K7 - podľa rozhodnutia OÚ-NM-OSZP-2026/001750-006 zo dňa 11.2.2026" | H129: 250 | AT129: VV | AU129: 2 | AV129: 2 | AW129: True | AX129: 0 | AY129: ROZPOCET
D130: VV | F130: 293,00 "plocha K8 - podľa rozhodnutia OÚ-NM-OSZP-2026/001750-006 zo dňa 11.2.2026" | H130: 293 | AT130: VV | AU130: 2 | AV130: 2 | AW130: True | AX130: 0 | AY130: ROZPOCET
D131: VV | F131: Súčet | H131: 5461 | AT131: VV | AU131: 2 | AV131: 4 | AW131: True | AX131: 1 | AY131: ROZPOCET
C132: 63 | D132: K | E132: 112101100.S | F132: Odstránenie listnatých stromov do priemeru 100 mm, motorovou pílou | G132: ks | H132: 2 | J132: =ROUND(I132*H132,2) -> 0 | N132: znížená | P132: =O132*H132 -> 0 | Q132: 0 | R132: =Q132*H132 -> 0 | S132: 0 | T132: =S132*H132 -> 0 | AR132: 4 | AT132: K | AU132: 2 | AY132: ROZPOCET | BE132: =IF(N132="základná",J132,0) -> 0 | BF132: =IF(N132="znížená",J132,0) -> 0 | BG132: =IF(N132="zákl. prenesená",J132,0) -> 0 | BH132: =IF(N132="zníž. prenesená",J132,0) -> 0 | BI132: =IF(N132="nulová",J132,0) -> 0 | BJ132: 2 | BK132: =ROUND(I132*H132,2) -> 0 | BL132: 4 | BM132: -639242973
D133: VV | F133: - výrub stromov | AT133: VV | AU133: 2 | AV133: 1 | AW133: True | AX133: 0 | AY133: ROZPOCET
D134: VV | F134: 2,0 " topoľ kanadský - podľa rozhodnutia OÚ-NM-OSZP-2026/001765-006 zo dňa 27.1.2026" | H134: 2 | AT134: VV | AU134: 2 | AV134: 2 | AW134: True | AX134: 1 | AY134: ROZPOCET
C135: 64 | D135: K | E135: 112101101.S | F135: Odstránenie listnatých stromov do priemeru 300 mm, motorovou pílou | G135: ks | H135: 16 | J135: =ROUND(I135*H135,2) -> 0 | N135: znížená | P135: =O135*H135 -> 0 | Q135: 0 | R135: =Q135*H135 -> 0 | S135: 0 | T135: =S135*H135 -> 0 | AR135: 4 | AT135: K | AU135: 2 | AY135: ROZPOCET | BE135: =IF(N135="základná",J135,0) -> 0 | BF135: =IF(N135="znížená",J135,0) -> 0 | BG135: =IF(N135="zákl. prenesená",J135,0) -> 0 | BH135: =IF(N135="zníž. prenesená",J135,0) -> 0 | BI135: =IF(N135="nulová",J135,0) -> 0 | BJ135: 2 | BK135: =ROUND(I135*H135,2) -> 0 | BL135: 4 | BM135: 1322673767
D136: VV | F136: - výrub stromov | AT136: VV | AU136: 2 | AV136: 1 | AW136: True | AX136: 0 | AY136: ROZPOCET
D137: VV | F137: 4,0 "topoľ kanadský 3ks a topoľ sivý 1ks - podľa rozhodnutia OÚ-NM-OSZP-2026/001765-006 zo dňa 27.1.2026" | H137: 4 | AT137: VV | AU137: 2 | AV137: 2 | AW137: True | AX137: 0 | AY137: ROZPOCET
D138: VV | F138: 12,0 "topoľ kanadský 3ks, hruška planá 3ks, orech kráľovský 4ks a čerešňa vtáčia 2ks - podľa rozhodnutia OÚ-NM-OSZP-2026/001750-006 zo dňa 11.2.2026" | H138: 12 | AT138: VV | AU138: 2 | AV138: 2 | AW138: True | AX138: 0 | AY138: ROZPOCET
D139: VV | F139: Súčet | H139: 16 | AT139: VV | AU139: 2 | AV139: 4 | AW139: True | AX139: 1 | AY139: ROZPOCET
C140: 65 | D140: K | E140: 112201100.S | F140: Odstránenie pňov na vzdial. 50 m priemeru do 100 mm | G140: ks | H140: 2 | J140: =ROUND(I140*H140,2) -> 0 | N140: znížená | P140: =O140*H140 -> 0 | Q140: 2e-05 | R140: =Q140*H140 -> 4e-05 | S140: 0 | T140: =S140*H140 -> 0 | AR140: 4 | AT140: K | AU140: 2 | AY140: ROZPOCET | BE140: =IF(N140="základná",J140,0) -> 0 | BF140: =IF(N140="znížená",J140,0) -> 0 | BG140: =IF(N140="zákl. prenesená",J140,0) -> 0 | BH140: =IF(N140="zníž. prenesená",J140,0) -> 0 | BI140: =IF(N140="nulová",J140,0) -> 0 | BJ140: 2 | BK140: =ROUND(I140*H140,2) -> 0 | BL140: 4 | BM140: -1797859533
D141: P | F141: Poznámka k položke:_x000D_ - vrátane koreňove sústavy | AT141: P | AU141: 2
D142: VV | F142: - výrub stromov | AT142: VV | AU142: 2 | AV142: 1 | AW142: True | AX142: 0 | AY142: ROZPOCET
D143: VV | F143: 2,0 " topoľ kanadský - podľa rozhodnutia OÚ-NM-OSZP-2026/001765-006 zo dňa 27.1.2026" | H143: 2 | AT143: VV | AU143: 2 | AV143: 2 | AW143: True | AX143: 1 | AY143: ROZPOCET
C144: 66 | D144: K | E144: 112201101.S | F144: Odstránenie pňov na vzdial. 50 m priemeru nad 100 do 300 mm | G144: ks | H144: 16 | J144: =ROUND(I144*H144,2) -> 0 | N144: znížená | P144: =O144*H144 -> 0 | Q144: 2e-05 | R144: =Q144*H144 -> 0.00032 | S144: 0 | T144: =S144*H144 -> 0 | AR144: 4 | AT144: K | AU144: 2 | AY144: ROZPOCET | BE144: =IF(N144="základná",J144,0) -> 0 | BF144: =IF(N144="znížená",J144,0) -> 0 | BG144: =IF(N144="zákl. prenesená",J144,0) -> 0 | BH144: =IF(N144="zníž. prenesená",J144,0) -> 0 | BI144: =IF(N144="nulová",J144,0) -> 0 | BJ144: 2 | BK144: =ROUND(I144*H144,2) -> 0 | BL144: 4 | BM144: -872364955
D145: P | F145: Poznámka k položke:_x000D_ - vrátane koreňove sústavy | AT145: P | AU145: 2
D146: VV | F146: - výrub stromov | AT146: VV | AU146: 2 | AV146: 1 | AW146: True | AX146: 0 | AY146: ROZPOCET
D147: VV | F147: 4,0 "topoľ kanadský 3ks a topoľ sivý 1ks - podľa rozhodnutia OÚ-NM-OSZP-2026/001765-006 zo dňa 27.1.2026" | H147: 4 | AT147: VV | AU147: 2 | AV147: 2 | AW147: True | AX147: 0 | AY147: ROZPOCET
D148: VV | F148: 12,0 "topoľ kanadský 3ks, hruška planá 3ks, orech kráľovský 4ks a čerešňa vtáčia 2ks - podľa rozhodnutia OÚ-NM-OSZP-2026/001750-006 zo dňa 11.2.2026" | H148: 12 | AT148: VV | AU148: 2 | AV148: 2 | AW148: True | AX148: 0 | AY148: ROZPOCET
D149: VV | F149: Súčet | H149: 16 | AT149: VV | AU149: 2 | AV149: 4 | AW149: True | AX149: 1 | AY149: ROZPOCET
C150: 67 | D150: K | E150: 112201209.S | F150: Štiepkovanie drevnej hmoty | G150: m3 | H150: 2970.3 | J150: =ROUND(I150*H150,2) -> 0 | N150: znížená | P150: =O150*H150 -> 0 | Q150: 0 | R150: =Q150*H150 -> 0 | S150: 0 | T150: =S150*H150 -> 0 | AR150: 4 | AT150: K | AU150: 2 | AY150: ROZPOCET | BE150: =IF(N150="základná",J150,0) -> 0 | BF150: =IF(N150="znížená",J150,0) -> 0 | BG150: =IF(N150="zákl. prenesená",J150,0) -> 0 | BH150: =IF(N150="zníž. prenesená",J150,0) -> 0 | BI150: =IF(N150="nulová",J150,0) -> 0 | BJ150: 2 | BK150: =ROUND(I150*H150,2) -> 0 | BL150: 4 | BM150: -2075207140
D151: P | F151: Poznámka k položke:_x000D_ - výmera drevnej hmoty určená odhadom - bude sa štiekovať podľa skutočnosti | AT151: P | AU151: 2
D152: VV | F152: - výrub stromov | AT152: VV | AU152: 2 | AV152: 1 | AW152: True | AX152: 0 | AY152: ROZPOCET
D153: VV | F153: kroviny 0,5m3/m2 | AT153: VV | AU153: 2 | AV153: 1 | AW153: True | AX153: 0 | AY153: ROZPOCET
D154: VV | F154: (4918,00+250,00+293,00)*0,5 | H154: 2730.5 | AT154: VV | AU154: 2 | AV154: 2 | AW154: True | AX154: 0 | AY154: ROZPOCET
D155: VV | F155: Medzisúčet - kroviny | H155: 2730.5 | AT155: VV | AU155: 2 | AV155: 3 | AW155: True | AX155: 0 | AY155: ROZPOCET
D156: VV | F156: stromy do 100cm (konáre+kmene+pne): (3,4+6,0+2,5)m3/ks - odhad | AT156: VV | AU156: 2 | AV156: 1 | AW156: True | AX156: 0 | AY156: ROZPOCET
D157: VV | F157: (3,4+6,0+2,5)*2 | H157: 23.8 | AT157: VV | AU157: 2 | AV157: 2 | AW157: True | AX157: 0 | AY157: ROZPOCET
D158: VV | F158: stromy od 100-300mm (konáre+kmene+pne): (3,5+7,0+3,0)m3/ks - odhad | AT158: VV | AU158: 2 | AV158: 1 | AW158: True | AX158: 0 | AY158: ROZPOCET
D159: VV | F159: (3,5+7,0+3,0)*16 | H159: 216 | AT159: VV | AU159: 2 | AV159: 2 | AW159: True | AX159: 0 | AY159: ROZPOCET
D160: VV | F160: Medzisúčet - stromy | H160: 239.8 | AT160: VV | AU160: 2 | AV160: 3 | AW160: True | AX160: 0 | AY160: ROZPOCET
D161: VV | F161: Súčet | H161: 2970.3 | AT161: VV | AU161: 2 | AV161: 4 | AW161: True | AX161: 1 | AY161: ROZPOCET
C162: 68 | D162: K | E162: 162301503.S | F162: Odvoz a ekologická likvidácia štiepky | G162: m3 | H162: 2970.3 | J162: =ROUND(I162*H162,2) -> 0 | N162: znížená | P162: =O162*H162 -> 0 | Q162: 0 | R162: =Q162*H162 -> 0 | S162: 0 | T162: =S162*H162 -> 0 | AR162: 4 | AT162: K | AU162: 2 | AY162: ROZPOCET | BE162: =IF(N162="základná",J162,0) -> 0 | BF162: =IF(N162="znížená",J162,0) -> 0 | BG162: =IF(N162="zákl. prenesená",J162,0) -> 0 | BH162: =IF(N162="zníž. prenesená",J162,0) -> 0 | BI162: =IF(N162="nulová",J162,0) -> 0 | BJ162: 2 | BK162: =ROUND(I162*H162,2) -> 0 | BL162: 4 | BM162: -436034304
D163: VV | F163: - výrub stromov | AT163: VV | AU163: 2 | AV163: 1 | AW163: True | AX163: 0 | AY163: ROZPOCET
D164: VV | F164: 2970,30 "štiepka z krovín a stromov" | H164: 2970.3 | AT164: VV | AU164: 2 | AV164: 2 | AW164: True | AX164: 1 | AY164: ROZPOCET
C165: 69 | D165: K | E165: 182001130.S | F165: Vyčistenie plochy po výrube a plošná úprava terénu v rovine alebo na svahu do 1:5 | G165: m2 | H165: 5461 | J165: =ROUND(I165*H165,2) -> 0 | N165: znížená | P165: =O165*H165 -> 0 | Q165: 0 | R165: =Q165*H165 -> 0 | S165: 0 | T165: =S165*H165 -> 0 | AR165: 4 | AT165: K | AU165: 2 | AY165: ROZPOCET | BE165: =IF(N165="základná",J165,0) -> 0 | BF165: =IF(N165="znížená",J165,0) -> 0 | BG165: =IF(N165="zákl. prenesená",J165,0) -> 0 | BH165: =IF(N165="zníž. prenesená",J165,0) -> 0 | BI165: =IF(N165="nulová",J165,0) -> 0 | BJ165: 2 | BK165: =ROUND(I165*H165,2) -> 0 | BL165: 4 | BM165: 2058547615
D166: VV | F166: - výrub drevín | AT166: VV | AU166: 2 | AV166: 1 | AW166: True | AX166: 0 | AY166: ROZPOCET
...

Sheet SO 2.02.1 - SO 2.02.1  Do...
L2: >> skryté stĺpce << | AT2: {7c53952e-9f59-49bb-b185-085ef37b8162}
AT3: 0
D4: KRYCÍ LIST ROZPOČTU | M4: v --- nižšie sa nachádzajú doplnkové a pomocné údaje k zostavám --- v | AT4: False
D6: Stavba:
E7: ='Rekapitulácia stavby'!K6 -> IP Horná Streda
D8: Objekt:
E9: SO 2.02 - SO 2.02 Dočasné objazdové komunikácie
D10: Časť:
E11: SO 2.02.1 - SO 2.02.1 Dočasné objazdové komunikácie - Vetva A
D13: JKSO: | I13: ČS:
D14: Miesto: | I14: Dátum: | J14: ='Rekapitulácia stavby'!AN8 -> 31. 7. 2026
D16: Objednávateľ: | I16: IČO: | J16: =IF('Rekapitulácia stavby'!AN10="","",'Rekapitulácia stavby'!AN10)
E17: =IF('Rekapitulácia stavby'!E11="","",'Rekapitulácia stavby'!E11) | I17: IČ DPH: | J17: =IF('Rekapitulácia stavby'!AN11="","",'Rekapitulácia stavby'!AN11)
D19: Zhotoviteľ: | I19: IČO: | J19: ='Rekapitulácia stavby'!AN13 -> Vyplň údaj
E20: ='Rekapitulácia stavby'!E14 -> Vyplň údaj | I20: IČ DPH: | J20: ='Rekapitulácia stavby'!AN14 -> Vyplň údaj
D22: Projektant: | I22: IČO: | J22: =IF('Rekapitulácia stavby'!AN16="","",'Rekapitulácia stavby'!AN16)
E23: =IF('Rekapitulácia stavby'!E17="","",'Rekapitulácia stavby'!E17) | I23: IČ DPH: | J23: =IF('Rekapitulácia stavby'!AN17="","",'Rekapitulácia stavby'!AN17)
D25: Spracovateľ: | I25: IČO: | J25: =IF('Rekapitulácia stavby'!AN19="","",'Rekapitulácia stavby'!AN19)
E26: =IF('Rekapitulácia stavby'!E20="","",'Rekapitulácia stavby'!E20) | I26: IČ DPH: | J26: =IF('Rekapitulácia stavby'!AN20="","",'Rekapitulácia stavby'!AN20)
D28: Poznámka:
E29: Trvalé dopravné značenie vykázané v tomto SO platí pre celý SO 2.02 Dočasné objazdové komunikácie.
D32: Cena bez DPH | J32: =ROUND(J127, 2) -> 0
F34: Základ dane | I34: Sadzba dane | J34: Výška dane
D35: DPH | E35: základná | F35: =ROUND((SUM(BE127:BE364)), 2) -> 0 | I35: 0.23 | J35: =ROUND(((SUM(BE127:BE364))*I35), 2) -> 0
E36: znížená | F36: =ROUND((SUM(BF127:BF364)), 2) -> 0 | I36: 0.23 | J36: =ROUND(((SUM(BF127:BF364))*I36), 2) -> 0
E37: zákl. prenesená | F37: =ROUND((SUM(BG127:BG364)), 2) -> 0 | I37: 0.23 | J37: =0 -> 0
E38: zníž. prenesená | F38: =ROUND((SUM(BH127:BH364)), 2) -> 0 | I38: 0.23 | J38: =0 -> 0
E39: nulová | F39: =ROUND((SUM(BI127:BI364)), 2) -> 0 | I39: 0 | J39: =0 -> 0
D41: Cena s DPH | G41: v | H41: EUR | J41: =SUM(J32:J39) -> 0
D50: Projektant | G50: Spracovateľ
D61: Dátum a podpis: | F61: Pečiatka | G61: Dátum a podpis: | J61: Pečiatka
D65: Objednávateľ | G65: Zhotoviteľ
D76: Dátum a podpis: | F76: Pečiatka | G76: Dátum a podpis: | J76: Pečiatka
C82: REKAPITULÁCIA ROZPOČTU
C84: Stavba:
E85: =E7 -> IP Horná Streda
C86: Objekt:
E87: SO 2.02 - SO 2.02 Dočasné objazdové komunikácie
C88: Časť:
E89: =E11 -> SO 2.02.1 - SO 2.02.1 Dočasné objazdové komunikácie - Vetva A
C91: Miesto: | F91: =F14 | I91: Dátum: | J91: =IF(J14="","",J14) -> 31. 7. 2026
C93: Objednávateľ: | F93: =E17 | I93: Projektant: | J93: =E23
C94: Zhotoviteľ: | F94: =IF(E20="","",E20) -> Vyplň údaj | I94: Spracovateľ: | J94: =E26
C96: Kód dielu - Popis | J96: Cena celkom [EUR]
C98: Náklady z rozpočtu | J98: =J127 -> 0 | AU98: -1
D99: HSV - Práce a dodávky HSV | J99: =J128 -> 0
D100: 1 - Zemné práce | J100: =J129 -> 0
D101: 2 - Zakladanie | J101: =J274 -> 0
D102: 3 - Zvislé a kompletné konštrukcie | J102: =J282 -> 0
D103: 5 - Komunikácie | J103: =J292 -> 0
D104: 9 - Ostatné konštrukcie a práce-búranie | J104: =J315 -> 0
D105: VRN - Investičné náklady neobsiahnuté v cenách | J105: =J362 -> 0
C112: ROZPOČET
C114: Stavba:
E115: =E7 -> IP Horná Streda
C116: Objekt:
E117: SO 2.02 - SO 2.02 Dočasné objazdové komunikácie
C118: Časť:
E119: =E11 -> SO 2.02.1 - SO 2.02.1 Dočasné objazdové komunikácie - Vetva A
C121: Miesto: | F121: =F14 | I121: Dátum: | J121: =IF(J14="","",J14) -> 31. 7. 2026
C123: Objednávateľ: | F123: =E17 | I123: Projektant: | J123: =E23
C124: Zhotoviteľ: | F124: =IF(E20="","",E20) -> Vyplň údaj | I124: Spracovateľ: | J124: =E26
C126: PČ | D126: Typ | E126: Kód | F126: Popis | G126: MJ | H126: Množstvo | I126: J.cena [EUR] | J126: Cena celkom [EUR] | K126: Cenová sústava | N126: DPH | O126: J. Nh [h] | P126: Nh celkom [h] | Q126: J. hmotnosť [t] | R126: Hmotnosť celkom [t] | S126: J. suť [t] | T126: Suť Celkom [t]
C127: Náklady z rozpočtu | J127: =BK127 -> 0 | P127: =P128+P362 -> 0 | R127: =R128+R362 -> 16838.631 | T127: =T128+T362 -> 14955.413 | AT127: D | AU127: -1 | BK127: =BK128+BK362 -> 0
D128: D | E128: HSV | F128: Práce a dodávky HSV | J128: =BK128 -> 0 | P128: =P129+P274+P282+P292+P315 -> 0 | R128: =R129+R274+R282+R292+R315 -> 16838.631 | T128: =T129+T274+T282+T292+T315 -> 14955.413 | AR128: 1 | AT128: D | AU128: 0 | AY128: ROZPOCET | BK128: =BK129+BK274+BK282+BK292+BK315 -> 0
D129: D | E129: 1 | F129: Zemné práce | J129: =BK129 -> 0 | P129: =SUM(P130:P273) -> 0 | R129: =SUM(R130:R273) -> 7933.0382 | T129: =SUM(T130:T273) -> 14955.413 | AR129: 1 | AT129: D | AU129: 1 | AY129: ROZPOCET | BK129: =SUM(BK130:BK273) -> 0
C130: 1 | D130: K | E130: 111101101.S | F130: Oddrnenie trávnatej plochy s príp. premiestnením a uložením na hromady do 50 m, pri celkovej ploche do 1000m2 | G130: m2 | H130: 273.5 | J130: =ROUND(I130*H130,2) -> 0 | N130: znížená | P130: =O130*H130 -> 0 | Q130: 0 | R130: =Q130*H130 -> 0 | S130: 0 | T130: =S130*H130 -> 0 | AR130: 4 | AT130: K | AU130: 2 | AY130: ROZPOCET | BE130: =IF(N130="základná",J130,0) -> 0 | BF130: =IF(N130="znížená",J130,0) -> 0 | BG130: =IF(N130="zákl. prenesená",J130,0) -> 0 | BH130: =IF(N130="zníž. prenesená",J130,0) -> 0 | BI130: =IF(N130="nulová",J130,0) -> 0 | BJ130: 2 | BK130: =ROUND(I130*H130,2) -> 0 | BL130: 4 | BM130: 908971006
D131: VV | F131: 273,50 "trávnatá plocha hr. 0,20m" | H131: 273.5 | AT131: VV | AU131: 2 | AV131: 2 | AW131: True | AX131: 1 | AY131: ROZPOCET
C132: 2 | D132: K | E132: 162303101.S | F132: Vodorovné premiestnenie výkopku pre cesty po spevnenej ceste z horniny tr.1-4 do 1000 m3 na vzdialenosť do 500 m | G132: m3 | H132: 54.7 | J132: =ROUND(I132*H132,2) -> 0 | N132: znížená | P132: =O132*H132 -> 0 | Q132: 0 | R132: =Q132*H132 -> 0 | S132: 0 | T132: =S132*H132 -> 0 | AR132: 4 | AT132: K | AU132: 2 | AY132: ROZPOCET | BE132: =IF(N132="základná",J132,0) -> 0 | BF132: =IF(N132="znížená",J132,0) -> 0 | BG132: =IF(N132="zákl. prenesená",J132,0) -> 0 | BH132: =IF(N132="zníž. prenesená",J132,0) -> 0 | BI132: =IF(N132="nulová",J132,0) -> 0 | BJ132: 2 | BK132: =ROUND(I132*H132,2) -> 0 | BL132: 4 | BM132: -390208166
D133: P | F133: Poznámka k položke:_x000D_ - nevhodná zemina na skládku | AT133: P | AU133: 2
D134: VV | F134: 273,50*0,2 "zemina z oddrnenia"" | H134: 54.7 | AT134: VV | AU134: 2 | AV134: 2 | AW134: True | AX134: 1 | AY134: ROZPOCET
C135: 3 | D135: K | E135: 162503102.S | F135: Vodorovné premiestnenie výkopku pre cesty po spevnenej ceste z horniny tr.1-4 do 1000 m3 na vzdialenosť do 3000 m | G135: m3 | H135: 54.7 | J135: =ROUND(I135*H135,2) -> 0 | N135: znížená | P135: =O135*H135 -> 0 | Q135: 0 | R135: =Q135*H135 -> 0 | S135: 0 | T135: =S135*H135 -> 0 | AR135: 4 | AT135: K | AU135: 2 | AY135: ROZPOCET | BE135: =IF(N135="základná",J135,0) -> 0 | BF135: =IF(N135="znížená",J135,0) -> 0 | BG135: =IF(N135="zákl. prenesená",J135,0) -> 0 | BH135: =IF(N135="zníž. prenesená",J135,0) -> 0 | BI135: =IF(N135="nulová",J135,0) -> 0 | BJ135: 2 | BK135: =ROUND(I135*H135,2) -> 0 | BL135: 4 | BM135: 467992002
D136: P | F136: Poznámka k položke:_x000D_ - nevhodná zemina na skládku | AT136: P | AU136: 2
D137: VV | F137: 273,50*0,2 "zemina z oddrnenia"" | H137: 54.7 | AT137: VV | AU137: 2 | AV137: 2 | AW137: True | AX137: 1 | AY137: ROZPOCET
C138: 4 | D138: K | E138: 162503103.S | F138: Vodorovné premiestnenie výkopku pre cesty po spevnenej ceste z horniny tr.1-4 do 1000 m3, príplatok k cene za každých ďalšich a začatých 1000 m | G138: m3 | H138: 1203.4 | J138: =ROUND(I138*H138,2) -> 0 | N138: znížená | P138: =O138*H138 -> 0 | Q138: 0 | R138: =Q138*H138 -> 0 | S138: 0 | T138: =S138*H138 -> 0 | AR138: 4 | AT138: K | AU138: 2 | AY138: ROZPOCET | BE138: =IF(N138="základná",J138,0) -> 0 | BF138: =IF(N138="znížená",J138,0) -> 0 | BG138: =IF(N138="zákl. prenesená",J138,0) -> 0 | BH138: =IF(N138="zníž. prenesená",J138,0) -> 0 | BI138: =IF(N138="nulová",J138,0) -> 0 | BJ138: 2 | BK138: =ROUND(I138*H138,2) -> 0 | BL138: 4 | BM138: -613567103
D139: P | F139: Poznámka k položke:_x000D_ - nevhodná zemina na skládku do 25 km | AT139: P | AU139: 2
D140: VV | F140: 273,50*0,2*(25-3) "zemina z oddrnenia"" | H140: 1203.4 | AT140: VV | AU140: 2 | AV140: 2 | AW140: True | AX140: 1 | AY140: ROZPOCET
C141: 5 | D141: K | E141: 167101101.S | F141: Nakladanie neuľahnutého výkopku z hornín tr.1-4 do 100 m3 | G141: m3 | H141: 54.7 | J141: =ROUND(I141*H141,2) -> 0 | N141: znížená | P141: =O141*H141 -> 0 | Q141: 0 | R141: =Q141*H141 -> 0 | S141: 0 | T141: =S141*H141 -> 0 | AR141: 4 | AT141: K | AU141: 2 | AY141: ROZPOCET | BE141: =IF(N141="základná",J141,0) -> 0 | BF141: =IF(N141="znížená",J141,0) -> 0 | BG141: =IF(N141="zákl. prenesená",J141,0) -> 0 | BH141: =IF(N141="zníž. prenesená",J141,0) -> 0 | BI141: =IF(N141="nulová",J141,0) -> 0 | BJ141: 2 | BK141: =ROUND(I141*H141,2) -> 0 | BL141: 4 | BM141: -50457887
D142: P | F142: Poznámka k položke:_x000D_ - nevhodná zemina na skládku | AT142: P | AU142: 2
D143: VV | F143: 273,50*0,2 "zemina z oddrnenia"" | H143: 54.7 | AT143: VV | AU143: 2 | AV143: 2 | AW143: True | AX143: 1 | AY143: ROZPOCET
C144: 6 | D144: K | E144: 113157341.S | F144: Odstránenie podkladu alebo krytu asfaltového v ploche nad 200 m2 strojne, hr. vrstvy do 50 mm, -0,11000t | G144: m2 | H144: 5762.9 | J144: =ROUND(I144*H144,2) -> 0 | N144: znížená | P144: =O144*H144 -> 0 | Q144: 0 | R144: =Q144*H144 -> 0 | S144: 0.11 | T144: =S144*H144 -> 633.919 | AR144: 4 | AT144: K | AU144: 2 | AY144: ROZPOCET | BE144: =IF(N144="základná",J144,0) -> 0 | BF144: =IF(N144="znížená",J144,0) -> 0 | BG144: =IF(N144="zákl. prenesená",J144,0) -> 0 | BH144: =IF(N144="zníž. prenesená",J144,0) -> 0 | BI144: =IF(N144="nulová",J144,0) -> 0 | BJ144: 2 | BK144: =ROUND(I144*H144,2) -> 0 | BL144: 4 | BM144: 727410427
D145: VV | F145: 5762,90 "konštrukcia asfaltovej vozovky hr. 40 mm - AC 11 O - vetva A" | H145: 5762.9 | AT145: VV | AU145: 2 | AV145: 2 | AW145: True | AX145: 1 | AY145: ROZPOCET
C146: 79 | D146: K | E146: 113157342.S | F146: Odstránenie podkladu alebo krytu asfaltového v ploche nad 200 m2 strojne, hr. vrstvy nad 50 do 100 mm, -0,22000t | G146: m2 | H146: 5762.9 | J146: =ROUND(I146*H146,2) -> 0 | N146: znížená | P146: =O146*H146 -> 0 | Q146: 0 | R146: =Q146*H146 -> 0 | S146: 0.22 | T146: =S146*H146 -> 1267.838 | AR146: 4 | AT146: K | AU146: 2 | AY146: ROZPOCET | BE146: =IF(N146="základná",J146,0) -> 0 | BF146: =IF(N146="znížená",J146,0) -> 0 | BG146: =IF(N146="zákl. prenesená",J146,0) -> 0 | BH146: =IF(N146="zníž. prenesená",J146,0) -> 0 | BI146: =IF(N146="nulová",J146,0) -> 0 | BJ146: 2 | BK146: =ROUND(I146*H146,2) -> 0 | BL146: 4 | BM146: -534586834
D147: VV | F147: 5762,90 "konštrukcia asfaltovej vozovky hr. 60 mm - AC 16 L - vetva A" | H147: 5762.9 | AT147: VV | AU147: 2 | AV147: 2 | AW147: True | AX147: 1 | AY147: ROZPOCET
C148: 7 | D148: K | E148: 113157322.S | F148: Odstránenie podkladu alebo krytu z kameniva hrubého drveného v ploche nad 200 m2 strojne, hr. vrstvy nad 100 do 200 mm, -0,23500t | G148: m2 | H148: 6223.932 | J148: =ROUND(I148*H148,2) -> 0 | N148: znížená | P148: =O148*H148 -> 0 | Q148: 0 | R148: =Q148*H148 -> 0 | S148: 0.235 | T148: =S148*H148 -> 1462.624 | AR148: 4 | AT148: K | AU148: 2 | AY148: ROZPOCET | BE148: =IF(N148="základná",J148,0) -> 0 | BF148: =IF(N148="znížená",J148,0) -> 0 | BG148: =IF(N148="zákl. prenesená",J148,0) -> 0 | BH148: =IF(N148="zníž. prenesená",J148,0) -> 0 | BI148: =IF(N148="nulová",J148,0) -> 0 | BJ148: 2 | BK148: =ROUND(I148*H148,2) -> 0 | BL148: 4 | BM148: 724772693
D149: VV | F149: 5762,90 "konštrukcia asfaltovej vozovky - cementom stmelená vrstva hr. 200mm - vetva A" | H149: 5762.9 | AT149: VV | AU149: 2 | AV149: 2 | AW149: True | AX149: 1 | AY149: ROZPOCET
D150: VV | F150: 5762,9*1,08 'Prepočítané koeficientom množstva | H150: 6223.932 | AT150: VV | AU150: 2 | AV150: 2 | AW150: False | AX150: 1 | AY150: ROZPOCET
C151: 8 | D151: K | E151: 113157322.S | F151: Odstránenie podkladu alebo krytu z kameniva hrubého drveného v ploche nad 200 m2 strojne, hr. vrstvy nad 100 do 200 mm, -0,23500t | G151: m2 | H151: 1149.6 | J151: =ROUND(I151*H151,2) -> 0 | N151: znížená | P151: =O151*H151 -> 0 | Q151: 0 | R151: =Q151*H151 -> 0 | S151: 0.235 | T151: =S151*H151 -> 270.156 | AR151: 4 | AT151: K | AU151: 2 | AY151: ROZPOCET | BE151: =IF(N151="základná",J151,0) -> 0 | BF151: =IF(N151="znížená",J151,0) -> 0 | BG151: =IF(N151="zákl. prenesená",J151,0) -> 0 | BH151: =IF(N151="zníž. prenesená",J151,0) -> 0 | BI151: =IF(N151="nulová",J151,0) -> 0 | BJ151: 2 | BK151: =ROUND(I151*H151,2) -> 0 | BL151: 4 | BM151: 2068473428
D152: VV | F152: - vetva A | AT152: VV | AU152: 2 | AV152: 1 | AW152: True | AX152: 0 | AY152: ROZPOCET
D153: VV | F153: 1149,60 "zhutnená krajnica hr 150mm" | H153: 1149.6 | AT153: VV | AU153: 2 | AV153: 2 | AW153: True | AX153: 1 | AY153: ROZPOCET
C154: 9 | D154: K | E154: 113157327.S | F154: Odstránenie podkladu alebo krytu z kam. hrubého v ploche nad 200 m2 | G154: m3 | H154: 4718.9 | J154: =ROUND(I154*H154,2) -> 0 | N154: znížená | P154: =O154*H154 -> 0 | Q154: 0 | R154: =Q154*H154 -> 0 | S154: 1.8 | T154: =S154*H154 -> 8494.02 | AR154: 4 | AT154: K | AU154: 2 | AY154: ROZPOCET | BE154: =IF(N154="základná",J154,0) -> 0 | BF154: =IF(N154="znížená",J154,0) -> 0 | BG154: =IF(N154="zákl. prenesená",J154,0) -> 0 | BH154: =IF(N154="zníž. prenesená",J154,0) -> 0 | BI154: =IF(N154="nulová",J154,0) -> 0 | BJ154: 2 | BK154: =ROUND(I154*H154,2) -> 0 | BL154: 4 | BM154: 1246253563
D155: VV | F155: - vetva A | AT155: VV | AU155: 2 | AV155: 1 | AW155: True | AX155: 0 | AY155: ROZPOCET
D156: VV | F156: 362,60 "dosypávka nespevnenej krajnice" | H156: 362.6 | AT156: VV | AU156: 2 | AV156: 2 | AW156: True | AX156: 0 | AY156: ROZPOCET
D157: VV | F157: 4356,30 "materiál z aktívnej zóny" | H157: 4356.3 | AT157: VV | AU157: 2 | AV157: 2 | AW157: True | AX157: 0 | AY157: ROZPOCET
D158: VV | F158: Súčet | H158: 4718.9 | AT158: VV | AU158: 2 | AV158: 4 | AW158: True | AX158: 1 | AY158: ROZPOCET
C159: 10 | D159: K | E159: 113307222.S | F159: Odstránenie podkladu v ploche nad 200 m2 z kameniva hrubého drveného, hr.100 do 200 mm, -0,23500t | G159: m2 | H159: 6627.335 | J159: =ROUND(I159*H159,2) -> 0 | N159: znížená | P159: =O159*H159 -> 0 | Q159: 0 | R159: =Q159*H159 -> 0 | S159: 0.235 | T159: =S159*H159 -> 1557.4237 | AR159: 4 | AT159: K | AU159: 2 | AY159: ROZPOCET | BE159: =IF(N159="základná",J159,0) -> 0 | BF159: =IF(N159="znížená",J159,0) -> 0 | BG159: =IF(N159="zákl. prenesená",J159,0) -> 0 | BH159: =IF(N159="zníž. prenesená",J159,0) -> 0 | BI159: =IF(N159="nulová",J159,0) -> 0 | BJ159: 2 | BK159: =ROUND(I159*H159,2) -> 0 | BL159: 4 | BM159: -293394191
D160: VV | F160: 5762,90 "konštrukcia asfaltovej vozovky -ŠD hr. 200mm - vetva A" | H160: 5762.9 | AT160: VV | AU160: 2 | AV160: 2 | AW160: True | AX160: 1 | AY160: ROZPOCET
D161: VV | F161: 5762,9*1,15 'Prepočítané koeficientom množstva | H161: 6627.335 | AT161: VV | AU161: 2 | AV161: 2 | AW161: False | AX161: 1 | AY161: ROZPOCET
C162: 11 | D162: K | E162: 113157342.S | F162: Odstránenie podkladu alebo krytu asfaltového v ploche nad 200 m2 strojne, hr. vrstvy nad 50 do 100 mm, -0,22000t | G162: m2 | H162: 5762.9 | J162: =ROUND(I162*H162,2) -> 0 | N162: znížená | P162: =O162*H162 -> 0 | Q162: 0 | R162: =Q162*H162 -> 0 | S162: 0.22 | T162: =S162*H162 -> 1267.838 | AR162: 4 | AT162: K | AU162: 2 | AY162: ROZPOCET | BE162: =IF(N162="základná",J162,0) -> 0 | BF162: =IF(N162="znížená",J162,0) -> 0 | BG162: =IF(N162="zákl. prenesená",J162,0) -> 0 | BH162: =IF(N162="zníž. prenesená",J162,0) -> 0 | BI162: =IF(N162="nulová",J162,0) -> 0 | BJ162: 2 | BK162: =ROUND(I162*H162,2) -> 0 | BL162: 4 | BM162: 1468976318
D163: VV | F163: 5762,90 "konštrukcia asfaltovej vozovky - AC 22 P hr. 70mm - vetva A" | H163: 5762.9 | AT163: VV | AU163: 2 | AV163: 2 | AW163: True | AX163: 1 | AY163: ROZPOCET
...

Sheet SO 2.02.2 - SO 2.02.2  Do...
L2: >> skryté stĺpce << | AT2: {39bf4e2f-0e07-402e-900a-b0a050bf1d38}
AT3: 0
D4: KRYCÍ LIST ROZPOČTU | M4: v --- nižšie sa nachádzajú doplnkové a pomocné údaje k zostavám --- v | AT4: False
D6: Stavba:
E7: ='Rekapitulácia stavby'!K6 -> IP Horná Streda
D8: Objekt:
E9: SO 2.02 - SO 2.02 Dočasné objazdové komunikácie
D10: Časť:
E11: SO 2.02.2 - SO 2.02.2 Dočasné objazdové komunikácie - Vetva B
D13: JKSO: | I13: ČS:
D14: Miesto: | I14: Dátum: | J14: ='Rekapitulácia stavby'!AN8 -> 31. 7. 2026
D16: Objednávateľ: | I16: IČO: | J16: =IF('Rekapitulácia stavby'!AN10="","",'Rekapitulácia stavby'!AN10)
E17: =IF('Rekapitulácia stavby'!E11="","",'Rekapitulácia stavby'!E11) | I17: IČ DPH: | J17: =IF('Rekapitulácia stavby'!AN11="","",'Rekapitulácia stavby'!AN11)
D19: Zhotoviteľ: | I19: IČO: | J19: ='Rekapitulácia stavby'!AN13 -> Vyplň údaj
E20: ='Rekapitulácia stavby'!E14 -> Vyplň údaj | I20: IČ DPH: | J20: ='Rekapitulácia stavby'!AN14 -> Vyplň údaj
D22: Projektant: | I22: IČO: | J22: =IF('Rekapitulácia stavby'!AN16="","",'Rekapitulácia stavby'!AN16)
E23: =IF('Rekapitulácia stavby'!E17="","",'Rekapitulácia stavby'!E17) | I23: IČ DPH: | J23: =IF('Rekapitulácia stavby'!AN17="","",'Rekapitulácia stavby'!AN17)
D25: Spracovateľ: | I25: IČO: | J25: =IF('Rekapitulácia stavby'!AN19="","",'Rekapitulácia stavby'!AN19)
E26: =IF('Rekapitulácia stavby'!E20="","",'Rekapitulácia stavby'!E20) | I26: IČ DPH: | J26: =IF('Rekapitulácia stavby'!AN20="","",'Rekapitulácia stavby'!AN20)
D28: Poznámka:
E29: Trvalé dopravné značenie pre celý SO 2.02 dočasné objazdové komunikácie je vykázaný SO 2.02.1 Dočasné objazdové komunikácie - Vetva A.
D32: Cena bez DPH | J32: =ROUND(J128, 2) -> 0
F34: Základ dane | I34: Sadzba dane | J34: Výška dane
D35: DPH | E35: základná | F35: =ROUND((SUM(BE128:BE253)), 2) -> 0 | I35: 0.23 | J35: =ROUND(((SUM(BE128:BE253))*I35), 2) -> 0
E36: znížená | F36: =ROUND((SUM(BF128:BF253)), 2) -> 0 | I36: 0.23 | J36: =ROUND(((SUM(BF128:BF253))*I36), 2) -> 0
E37: zákl. prenesená | F37: =ROUND((SUM(BG128:BG253)), 2) -> 0 | I37: 0.23 | J37: =0 -> 0
E38: zníž. prenesená | F38: =ROUND((SUM(BH128:BH253)), 2) -> 0 | I38: 0.23 | J38: =0 -> 0
E39: nulová | F39: =ROUND((SUM(BI128:BI253)), 2) -> 0 | I39: 0 | J39: =0 -> 0
D41: Cena s DPH | G41: v | H41: EUR | J41: =SUM(J32:J39) -> 0
D50: Projektant | G50: Spracovateľ
D61: Dátum a podpis: | F61: Pečiatka | G61: Dátum a podpis: | J61: Pečiatka
D65: Objednávateľ | G65: Zhotoviteľ
D76: Dátum a podpis: | F76: Pečiatka | G76: Dátum a podpis: | J76: Pečiatka
C82: REKAPITULÁCIA ROZPOČTU
C84: Stavba:
E85: =E7 -> IP Horná Streda
C86: Objekt:
E87: SO 2.02 - SO 2.02 Dočasné objazdové komunikácie
C88: Časť:
E89: =E11 -> SO 2.02.2 - SO 2.02.2 Dočasné objazdové komunikácie - Vetva B
C91: Miesto: | F91: =F14 | I91: Dátum: | J91: =IF(J14="","",J14) -> 31. 7. 2026
C93: Objednávateľ: | F93: =E17 | I93: Projektant: | J93: =E23
C94: Zhotoviteľ: | F94: =IF(E20="","",E20) -> Vyplň údaj | I94: Spracovateľ: | J94: =E26
C96: Kód dielu - Popis | J96: Cena celkom [EUR]
C98: Náklady z rozpočtu | J98: =J128 -> 0 | AU98: -1
D99: HSV - Práce a dodávky HSV | J99: =J129 -> 0
D100: 1 - Zemné práce | J100: =J130 -> 0
D101: 2 - Zakladanie | J101: =J192 -> 0
D102: 3 - Zvislé a kompletné konštrukcie | J102: =J202 -> 0
D103: 4 - Vodorovné konštrukcie | J103: =J218 -> 0
D104: 5 - Komunikácie | J104: =J222 -> 0
D105: 9 - Ostatné konštrukcie a práce-búranie | J105: =J239 -> 0
D106: VRN - Investičné náklady neobsiahnuté v cenách | J106: =J251 -> 0
C113: ROZPOČET
C115: Stavba:
E116: =E7 -> IP Horná Streda
C117: Objekt:
E118: SO 2.02 - SO 2.02 Dočasné objazdové komunikácie
C119: Časť:
E120: =E11 -> SO 2.02.2 - SO 2.02.2 Dočasné objazdové komunikácie - Vetva B
C122: Miesto: | F122: =F14 | I122: Dátum: | J122: =IF(J14="","",J14) -> 31. 7. 2026
C124: Objednávateľ: | F124: =E17 | I124: Projektant: | J124: =E23
C125: Zhotoviteľ: | F125: =IF(E20="","",E20) -> Vyplň údaj | I125: Spracovateľ: | J125: =E26
C127: PČ | D127: Typ | E127: Kód | F127: Popis | G127: MJ | H127: Množstvo | I127: J.cena [EUR] | J127: Cena celkom [EUR] | K127: Cenová sústava | N127: DPH | O127: J. Nh [h] | P127: Nh celkom [h] | Q127: J. hmotnosť [t] | R127: Hmotnosť celkom [t] | S127: J. suť [t] | T127: Suť Celkom [t]
C128: Náklady z rozpočtu | J128: =BK128 -> 0 | P128: =P129+P251 -> 0 | R128: =R129+R251 -> 13861.57 | T128: =T129+T251 -> 0 | AT128: D | AU128: -1 | BK128: =BK129+BK251 -> 0
D129: D | E129: HSV | F129: Práce a dodávky HSV | J129: =BK129 -> 0 | P129: =P130+P192+P202+P218+P222+P239 -> 0 | R129: =R130+R192+R202+R218+R222+R239 -> 13861.57 | T129: =T130+T192+T202+T218+T222+T239 -> 0 | AR129: 1 | AT129: D | AU129: 0 | AY129: ROZPOCET | BK129: =BK130+BK192+BK202+BK218+BK222+BK239 -> 0
D130: D | E130: 1 | F130: Zemné práce | J130: =BK130 -> 0 | P130: =SUM(P131:P191) -> 0 | R130: =SUM(R131:R191) -> 6154.0912 | T130: =SUM(T131:T191) -> 0 | AR130: 1 | AT130: D | AU130: 1 | AY130: ROZPOCET | BK130: =SUM(BK131:BK191) -> 0
C131: 1 | D131: K | E131: 111101101.S | F131: Oddrnenie trávnatej plochy s príp. premiestnením a uložením na hromady do 50 m, pri celkovej ploche do 1000m2 | G131: m2 | H131: 288 | J131: =ROUND(I131*H131,2) -> 0 | N131: znížená | P131: =O131*H131 -> 0 | Q131: 0 | R131: =Q131*H131 -> 0 | S131: 0 | T131: =S131*H131 -> 0 | AR131: 4 | AT131: K | AU131: 2 | AY131: ROZPOCET | BE131: =IF(N131="základná",J131,0) -> 0 | BF131: =IF(N131="znížená",J131,0) -> 0 | BG131: =IF(N131="zákl. prenesená",J131,0) -> 0 | BH131: =IF(N131="zníž. prenesená",J131,0) -> 0 | BI131: =IF(N131="nulová",J131,0) -> 0 | BJ131: 2 | BK131: =ROUND(I131*H131,2) -> 0 | BL131: 4 | BM131: 150786940
D132: VV | F132: 288,00 "trávnatá plocha hr. 0,20m" | H132: 288 | AT132: VV | AU132: 2 | AV132: 2 | AW132: True | AX132: 1 | AY132: ROZPOCET
C133: 2 | D133: K | E133: 162303101.S | F133: Vodorovné premiestnenie výkopku pre cesty po spevnenej ceste z horniny tr.1-4 do 1000 m3 na vzdialenosť do 500 m | G133: m3 | H133: 57.6 | J133: =ROUND(I133*H133,2) -> 0 | N133: znížená | P133: =O133*H133 -> 0 | Q133: 0 | R133: =Q133*H133 -> 0 | S133: 0 | T133: =S133*H133 -> 0 | AR133: 4 | AT133: K | AU133: 2 | AY133: ROZPOCET | BE133: =IF(N133="základná",J133,0) -> 0 | BF133: =IF(N133="znížená",J133,0) -> 0 | BG133: =IF(N133="zákl. prenesená",J133,0) -> 0 | BH133: =IF(N133="zníž. prenesená",J133,0) -> 0 | BI133: =IF(N133="nulová",J133,0) -> 0 | BJ133: 2 | BK133: =ROUND(I133*H133,2) -> 0 | BL133: 4 | BM133: -1048734652
D134: P | F134: Poznámka k položke:_x000D_ - nevhodná zemina na skládku | AT134: P | AU134: 2
D135: VV | F135: 288,00*0,2 "zemina z oddrnenia"" | H135: 57.6 | AT135: VV | AU135: 2 | AV135: 2 | AW135: True | AX135: 1 | AY135: ROZPOCET
C136: 3 | D136: K | E136: 162503102.S | F136: Vodorovné premiestnenie výkopku pre cesty po spevnenej ceste z horniny tr.1-4 do 1000 m3 na vzdialenosť do 3000 m | G136: m3 | H136: 57.6 | J136: =ROUND(I136*H136,2) -> 0 | N136: znížená | P136: =O136*H136 -> 0 | Q136: 0 | R136: =Q136*H136 -> 0 | S136: 0 | T136: =S136*H136 -> 0 | AR136: 4 | AT136: K | AU136: 2 | AY136: ROZPOCET | BE136: =IF(N136="základná",J136,0) -> 0 | BF136: =IF(N136="znížená",J136,0) -> 0 | BG136: =IF(N136="zákl. prenesená",J136,0) -> 0 | BH136: =IF(N136="zníž. prenesená",J136,0) -> 0 | BI136: =IF(N136="nulová",J136,0) -> 0 | BJ136: 2 | BK136: =ROUND(I136*H136,2) -> 0 | BL136: 4 | BM136: 510129671
D137: P | F137: Poznámka k položke:_x000D_ - nevhodná zemina na skládku | AT137: P | AU137: 2
D138: VV | F138: 288,00*0,2 "zemina z oddrnenia"" | H138: 57.6 | AT138: VV | AU138: 2 | AV138: 2 | AW138: True | AX138: 1 | AY138: ROZPOCET
C139: 4 | D139: K | E139: 162503103.S | F139: Vodorovné premiestnenie výkopku pre cesty po spevnenej ceste z horniny tr.1-4 do 1000 m3, príplatok k cene za každých ďalšich a začatých 1000 m | G139: m3 | H139: 1267.2 | J139: =ROUND(I139*H139,2) -> 0 | N139: znížená | P139: =O139*H139 -> 0 | Q139: 0 | R139: =Q139*H139 -> 0 | S139: 0 | T139: =S139*H139 -> 0 | AR139: 4 | AT139: K | AU139: 2 | AY139: ROZPOCET | BE139: =IF(N139="základná",J139,0) -> 0 | BF139: =IF(N139="znížená",J139,0) -> 0 | BG139: =IF(N139="zákl. prenesená",J139,0) -> 0 | BH139: =IF(N139="zníž. prenesená",J139,0) -> 0 | BI139: =IF(N139="nulová",J139,0) -> 0 | BJ139: 2 | BK139: =ROUND(I139*H139,2) -> 0 | BL139: 4 | BM139: -2134880352
D140: P | F140: Poznámka k položke:_x000D_ - nevhodná zemina na skládku do 25 km | AT140: P | AU140: 2
D141: VV | F141: 288,00*0,2*(25-3) "zemina z oddrnenia"" | H141: 1267.2 | AT141: VV | AU141: 2 | AV141: 2 | AW141: True | AX141: 1 | AY141: ROZPOCET
C142: 5 | D142: K | E142: 167101101.S | F142: Nakladanie neuľahnutého výkopku z hornín tr.1-4 do 100 m3 | G142: m3 | H142: 57.6 | J142: =ROUND(I142*H142,2) -> 0 | N142: znížená | P142: =O142*H142 -> 0 | Q142: 0 | R142: =Q142*H142 -> 0 | S142: 0 | T142: =S142*H142 -> 0 | AR142: 4 | AT142: K | AU142: 2 | AY142: ROZPOCET | BE142: =IF(N142="základná",J142,0) -> 0 | BF142: =IF(N142="znížená",J142,0) -> 0 | BG142: =IF(N142="zákl. prenesená",J142,0) -> 0 | BH142: =IF(N142="zníž. prenesená",J142,0) -> 0 | BI142: =IF(N142="nulová",J142,0) -> 0 | BJ142: 2 | BK142: =ROUND(I142*H142,2) -> 0 | BL142: 4 | BM142: -791123792
D143: P | F143: Poznámka k položke:_x000D_ - nevhodná zemina na skládku | AT143: P | AU143: 2
D144: VV | F144: 288,00*0,2 "zemina z oddrnenia"" | H144: 57.6 | AT144: VV | AU144: 2 | AV144: 2 | AW144: True | AX144: 1 | AY144: ROZPOCET
C145: 6 | D145: K | E145: 121101113.S | F145: Odstránenie ornice s premiestn. na hromady, so zložením na vzdialenosť do 100 m a do 10000 m3 | G145: m3 | H145: 2401.9 | J145: =ROUND(I145*H145,2) -> 0 | N145: znížená | P145: =O145*H145 -> 0 | Q145: 0 | R145: =Q145*H145 -> 0 | S145: 0 | T145: =S145*H145 -> 0 | AR145: 4 | AT145: K | AU145: 2 | AY145: ROZPOCET | BE145: =IF(N145="základná",J145,0) -> 0 | BF145: =IF(N145="znížená",J145,0) -> 0 | BG145: =IF(N145="zákl. prenesená",J145,0) -> 0 | BH145: =IF(N145="zníž. prenesená",J145,0) -> 0 | BI145: =IF(N145="nulová",J145,0) -> 0 | BJ145: 2 | BK145: =ROUND(I145*H145,2) -> 0 | BL145: 4 | BM145: -815902730
D146: VV | F146: 2401,90 "odhumusovanie hr 0,50m" | H146: 2401.9 | AT146: VV | AU146: 2 | AV146: 2 | AW146: True | AX146: 1 | AY146: ROZPOCET
C147: 7 | D147: K | E147: 162501143.S | F147: Vodorovné premiestnenie výkopku po spevnenej ceste z horniny tr.1-4, nad 1000 do 10000 m3, príplatok k cene za každých ďalšich a začatých 1000 m | G147: m3 | H147: 16813.3 | J147: =ROUND(I147*H147,2) -> 0 | N147: znížená | P147: =O147*H147 -> 0 | Q147: 0 | R147: =Q147*H147 -> 0 | S147: 0 | T147: =S147*H147 -> 0 | AR147: 4 | AT147: K | AU147: 2 | AY147: ROZPOCET | BE147: =IF(N147="základná",J147,0) -> 0 | BF147: =IF(N147="znížená",J147,0) -> 0 | BG147: =IF(N147="zákl. prenesená",J147,0) -> 0 | BH147: =IF(N147="zníž. prenesená",J147,0) -> 0 | BI147: =IF(N147="nulová",J147,0) -> 0 | BJ147: 2 | BK147: =ROUND(I147*H147,2) -> 0 | BL147: 4 | BM147: 1613283109
D148: P | F148: Poznámka k položke:_x000D_ - odvoz v rámci katastrálneho územia do 10 km | AT148: P | AU148: 2
D149: VV | F149: 2401,90*(10-3) "prebytočná zemina z odhumusovania" | H149: 16813.3 | AT149: VV | AU149: 2 | AV149: 2 | AW149: True | AX149: 1 | AY149: ROZPOCET
C150: 8 | D150: K | E150: 122301103.S | F150: Odkopávka a prekopávka v hornine 4, nad 1000 do 10000 m3 | G150: m3 | H150: 2861.3 | J150: =ROUND(I150*H150,2) -> 0 | N150: znížená | P150: =O150*H150 -> 0 | Q150: 0 | R150: =Q150*H150 -> 0 | S150: 0 | T150: =S150*H150 -> 0 | AR150: 4 | AT150: K | AU150: 2 | AY150: ROZPOCET | BE150: =IF(N150="základná",J150,0) -> 0 | BF150: =IF(N150="znížená",J150,0) -> 0 | BG150: =IF(N150="zákl. prenesená",J150,0) -> 0 | BH150: =IF(N150="zníž. prenesená",J150,0) -> 0 | BI150: =IF(N150="nulová",J150,0) -> 0 | BJ150: 2 | BK150: =ROUND(I150*H150,2) -> 0 | BL150: 4 | BM150: -241647999
D151: VV | F151: 2723,50 "výkop pre betónovú vozovku - vetva B" | H151: 2723.5 | AT151: VV | AU151: 2 | AV151: 2 | AW151: True | AX151: 0 | AY151: ROZPOCET
D152: VV | F152: 137,80 "výkop pre chráničky - vetva B" | H152: 137.8 | AT152: VV | AU152: 2 | AV152: 2 | AW152: True | AX152: 0 | AY152: ROZPOCET
D153: VV | F153: Súčet | H153: 2861.3 | AT153: VV | AU153: 2 | AV153: 4 | AW153: True | AX153: 1 | AY153: ROZPOCET
C154: 9 | D154: K | E154: 122301109.S | F154: Odkopávky a prekopávky nezapažené. Príplatok za lepivosť horniny 4 | G154: m3 | H154: 953.767 | J154: =ROUND(I154*H154,2) -> 0 | N154: znížená | P154: =O154*H154 -> 0 | Q154: 0 | R154: =Q154*H154 -> 0 | S154: 0 | T154: =S154*H154 -> 0 | AR154: 4 | AT154: K | AU154: 2 | AY154: ROZPOCET | BE154: =IF(N154="základná",J154,0) -> 0 | BF154: =IF(N154="znížená",J154,0) -> 0 | BG154: =IF(N154="zákl. prenesená",J154,0) -> 0 | BH154: =IF(N154="zníž. prenesená",J154,0) -> 0 | BI154: =IF(N154="nulová",J154,0) -> 0 | BJ154: 2 | BK154: =ROUND(I154*H154,2) -> 0 | BL154: 4 | BM154: -175702562
D155: VV | F155: 2861,30/3 "výkop pre asfaltovú vozovku+chráničky - vetva B" | H155: 953.767 | AT155: VV | AU155: 2 | AV155: 2 | AW155: True | AX155: 1 | AY155: ROZPOCET
C156: 10 | D156: K | E156: 162303121.S | F156: Vodorovné premiestnenie výkopku pre cesty po spevnenej ceste z horniny tr.1-4 nad 1000 do 10000 m3 na vzdialenosť do 500 m | G156: m3 | H156: 2861.3 | J156: =ROUND(I156*H156,2) -> 0 | N156: znížená | P156: =O156*H156 -> 0 | Q156: 0 | R156: =Q156*H156 -> 0 | S156: 0 | T156: =S156*H156 -> 0 | AR156: 4 | AT156: K | AU156: 2 | AY156: ROZPOCET | BE156: =IF(N156="základná",J156,0) -> 0 | BF156: =IF(N156="znížená",J156,0) -> 0 | BG156: =IF(N156="zákl. prenesená",J156,0) -> 0 | BH156: =IF(N156="zníž. prenesená",J156,0) -> 0 | BI156: =IF(N156="nulová",J156,0) -> 0 | BJ156: 2 | BK156: =ROUND(I156*H156,2) -> 0 | BL156: 4 | BM156: 450599566
D157: P | F157: Poznámka k položke:_x000D_ - nevhodná zemina na skládku | AT157: P | AU157: 2
D158: VV | F158: 2861,30 "výkopová zemina betónová vozovka+chráničky - vetva B" | H158: 2861.3 | AT158: VV | AU158: 2 | AV158: 2 | AW158: True | AX158: 1 | AY158: ROZPOCET
C159: 11 | D159: K | E159: 162503122.S | F159: Vodorovné premiestnenie výkopku pre cesty po spevnenej ceste z horniny tr.1-4 nad 1000 do 10000 m3 na vzdialenosť do 3000 m | G159: m3 | H159: 2861.3 | J159: =ROUND(I159*H159,2) -> 0 | N159: znížená | P159: =O159*H159 -> 0 | Q159: 0 | R159: =Q159*H159 -> 0 | S159: 0 | T159: =S159*H159 -> 0 | AR159: 4 | AT159: K | AU159: 2 | AY159: ROZPOCET | BE159: =IF(N159="základná",J159,0) -> 0 | BF159: =IF(N159="znížená",J159,0) -> 0 | BG159: =IF(N159="zákl. prenesená",J159,0) -> 0 | BH159: =IF(N159="zníž. prenesená",J159,0) -> 0 | BI159: =IF(N159="nulová",J159,0) -> 0 | BJ159: 2 | BK159: =ROUND(I159*H159,2) -> 0 | BL159: 4 | BM159: 1838427637
D160: P | F160: Poznámka k položke:_x000D_ - nevhodná zemina na skládku | AT160: P | AU160: 2
D161: VV | F161: 2861,30 "výkopová zemina betónová vozovka+chráničky - vetva B" | H161: 2861.3 | AT161: VV | AU161: 2 | AV161: 2 | AW161: True | AX161: 1 | AY161: ROZPOCET
C162: 12 | D162: K | E162: 162503123.S | F162: Vodorovné premiestnenie výkopku pre cesty po spevnenej ceste z horniny tr.1-4 nad 1000 do 10000 m3, príplatok k cene za každých ďalšich a začatých 1000 m | G162: m3 | H162: 62948.6 | J162: =ROUND(I162*H162,2) -> 0 | N162: znížená | P162: =O162*H162 -> 0 | Q162: 0 | R162: =Q162*H162 -> 0 | S162: 0 | T162: =S162*H162 -> 0 | AR162: 4 | AT162: K | AU162: 2 | AY162: ROZPOCET | BE162: =IF(N162="základná",J162,0) -> 0 | BF162: =IF(N162="znížená",J162,0) -> 0 | BG162: =IF(N162="zákl. prenesená",J162,0) -> 0 | BH162: =IF(N162="zníž. prenesená",J162,0) -> 0 | BI162: =IF(N162="nulová",J162,0) -> 0 | BJ162: 2 | BK162: =ROUND(I162*H162,2) -> 0 | BL162: 4 | BM162: 472623543
D163: P | F163: Poznámka k položke:_x000D_ - nevhodná zemina na skládku do 25km | AT163: P | AU163: 2
...

Sheet SO 2.02.3 - SO 2.02.3  Do...
L2: >> skryté stĺpce << | AT2: {c86f4b30-0263-4bff-8e94-1b916a679f0d}
AT3: 0
D4: KRYCÍ LIST ROZPOČTU | M4: v --- nižšie sa nachádzajú doplnkové a pomocné údaje k zostavám --- v | AT4: False
D6: Stavba:
E7: ='Rekapitulácia stavby'!K6 -> IP Horná Streda
D8: Objekt:
E9: SO 2.02 - SO 2.02 Dočasné objazdové komunikácie
D10: Časť:
E11: SO 2.02.3 - SO 2.02.3 Dočasné objazdové komunikácie - Vetva C
D13: JKSO: | I13: ČS:
D14: Miesto: | I14: Dátum: | J14: ='Rekapitulácia stavby'!AN8 -> 31. 7. 2026
D16: Objednávateľ: | I16: IČO: | J16: =IF('Rekapitulácia stavby'!AN10="","",'Rekapitulácia stavby'!AN10)
E17: =IF('Rekapitulácia stavby'!E11="","",'Rekapitulácia stavby'!E11) | I17: IČ DPH: | J17: =IF('Rekapitulácia stavby'!AN11="","",'Rekapitulácia stavby'!AN11)
D19: Zhotoviteľ: | I19: IČO: | J19: ='Rekapitulácia stavby'!AN13 -> Vyplň údaj
E20: ='Rekapitulácia stavby'!E14 -> Vyplň údaj | I20: IČ DPH: | J20: ='Rekapitulácia stavby'!AN14 -> Vyplň údaj
D22: Projektant: | I22: IČO: | J22: =IF('Rekapitulácia stavby'!AN16="","",'Rekapitulácia stavby'!AN16)
E23: =IF('Rekapitulácia stavby'!E17="","",'Rekapitulácia stavby'!E17) | I23: IČ DPH: | J23: =IF('Rekapitulácia stavby'!AN17="","",'Rekapitulácia stavby'!AN17)
D25: Spracovateľ: | I25: IČO: | J25: =IF('Rekapitulácia stavby'!AN19="","",'Rekapitulácia stavby'!AN19)
E26: =IF('Rekapitulácia stavby'!E20="","",'Rekapitulácia stavby'!E20) | I26: IČ DPH: | J26: =IF('Rekapitulácia stavby'!AN20="","",'Rekapitulácia stavby'!AN20)
D28: Poznámka:
E29: Trvalé dopravné značenie pre celý SO 2.02 dočasné objazdové komunikácie je vykázaný SO 2.02.1 Dočasné objazdové komunikácie - Vetva A.
D32: Cena bez DPH | J32: =ROUND(J127, 2) -> 0
F34: Základ dane | I34: Sadzba dane | J34: Výška dane
D35: DPH | E35: základná | F35: =ROUND((SUM(BE127:BE348)), 2) -> 0 | I35: 0.23 | J35: =ROUND(((SUM(BE127:BE348))*I35), 2) -> 0
E36: znížená | F36: =ROUND((SUM(BF127:BF348)), 2) -> 0 | I36: 0.23 | J36: =ROUND(((SUM(BF127:BF348))*I36), 2) -> 0
E37: zákl. prenesená | F37: =ROUND((SUM(BG127:BG348)), 2) -> 0 | I37: 0.23 | J37: =0 -> 0
E38: zníž. prenesená | F38: =ROUND((SUM(BH127:BH348)), 2) -> 0 | I38: 0.23 | J38: =0 -> 0
E39: nulová | F39: =ROUND((SUM(BI127:BI348)), 2) -> 0 | I39: 0 | J39: =0 -> 0
D41: Cena s DPH | G41: v | H41: EUR | J41: =SUM(J32:J39) -> 0
D50: Projektant | G50: Spracovateľ
D61: Dátum a podpis: | F61: Pečiatka | G61: Dátum a podpis: | J61: Pečiatka
D65: Objednávateľ | G65: Zhotoviteľ
D76: Dátum a podpis: | F76: Pečiatka | G76: Dátum a podpis: | J76: Pečiatka
C82: REKAPITULÁCIA ROZPOČTU
C84: Stavba:
E85: =E7 -> IP Horná Streda
C86: Objekt:
E87: SO 2.02 - SO 2.02 Dočasné objazdové komunikácie
C88: Časť:
E89: =E11 -> SO 2.02.3 - SO 2.02.3 Dočasné objazdové komunikácie - Vetva C
C91: Miesto: | F91: =F14 | I91: Dátum: | J91: =IF(J14="","",J14) -> 31. 7. 2026
C93: Objednávateľ: | F93: =E17 | I93: Projektant: | J93: =E23
C94: Zhotoviteľ: | F94: =IF(E20="","",E20) -> Vyplň údaj | I94: Spracovateľ: | J94: =E26
C96: Kód dielu - Popis | J96: Cena celkom [EUR]
C98: Náklady z rozpočtu | J98: =J127 -> 0 | AU98: -1
D99: HSV - Práce a dodávky HSV | J99: =J128 -> 0
D100: 1 - Zemné práce | J100: =J129 -> 0
D101: 2 - Zakladanie | J101: =J274 -> 0
D102: 3 - Zvislé a kompletné konštrukcie | J102: =J284 -> 0
D103: 5 - Komunikácie | J103: =J295 -> 0
D104: 9 - Ostatné konštrukcie a práce-búranie | J104: =J318 -> 0
D105: VRN - Investičné náklady neobsiahnuté v cenách | J105: =J346 -> 0
C112: ROZPOČET
C114: Stavba:
E115: =E7 -> IP Horná Streda
C116: Objekt:
E117: SO 2.02 - SO 2.02 Dočasné objazdové komunikácie
C118: Časť:
E119: =E11 -> SO 2.02.3 - SO 2.02.3 Dočasné objazdové komunikácie - Vetva C
C121: Miesto: | F121: =F14 | I121: Dátum: | J121: =IF(J14="","",J14) -> 31. 7. 2026
C123: Objednávateľ: | F123: =E17 | I123: Projektant: | J123: =E23
C124: Zhotoviteľ: | F124: =IF(E20="","",E20) -> Vyplň údaj | I124: Spracovateľ: | J124: =E26
C126: PČ | D126: Typ | E126: Kód | F126: Popis | G126: MJ | H126: Množstvo | I126: J.cena [EUR] | J126: Cena celkom [EUR] | K126: Cenová sústava | N126: DPH | O126: J. Nh [h] | P126: Nh celkom [h] | Q126: J. hmotnosť [t] | R126: Hmotnosť celkom [t] | S126: J. suť [t] | T126: Suť Celkom [t]
C127: Náklady z rozpočtu | J127: =BK127 -> 0 | P127: =P128+P346 -> 0 | R127: =R128+R346 -> 5708.4022 | T127: =T128+T346 -> 4888.7022 | AT127: D | AU127: -1 | BK127: =BK128+BK346 -> 0
D128: D | E128: HSV | F128: Práce a dodávky HSV | J128: =BK128 -> 0 | P128: =P129+P274+P284+P295+P318 -> 0 | R128: =R129+R274+R284+R295+R318 -> 5708.4022 | T128: =T129+T274+T284+T295+T318 -> 4888.7022 | AR128: 1 | AT128: D | AU128: 0 | AY128: ROZPOCET | BK128: =BK129+BK274+BK284+BK295+BK318 -> 0
D129: D | E129: 1 | F129: Zemné práce | J129: =BK129 -> 0 | P129: =SUM(P130:P273) -> 0 | R129: =SUM(R130:R273) -> 2515.8778 | T129: =SUM(T130:T273) -> 4888.7022 | AR129: 1 | AT129: D | AU129: 1 | AY129: ROZPOCET | BK129: =SUM(BK130:BK273) -> 0
C130: 1 | D130: K | E130: 111101101.S | F130: Oddrnenie trávnatej plochy s príp. premiestnením a uložením na hromady do 50 m, pri celkovej ploche do 1000m2 | G130: m2 | H130: 256.5 | J130: =ROUND(I130*H130,2) -> 0 | N130: znížená | P130: =O130*H130 -> 0 | Q130: 0 | R130: =Q130*H130 -> 0 | S130: 0 | T130: =S130*H130 -> 0 | AR130: 4 | AT130: K | AU130: 2 | AY130: ROZPOCET | BE130: =IF(N130="základná",J130,0) -> 0 | BF130: =IF(N130="znížená",J130,0) -> 0 | BG130: =IF(N130="zákl. prenesená",J130,0) -> 0 | BH130: =IF(N130="zníž. prenesená",J130,0) -> 0 | BI130: =IF(N130="nulová",J130,0) -> 0 | BJ130: 2 | BK130: =ROUND(I130*H130,2) -> 0 | BL130: 4 | BM130: 1180968447
D131: VV | F131: 256,50 "trávnatá plocha hr. 0,20m" | H131: 256.5 | AT131: VV | AU131: 2 | AV131: 2 | AW131: True | AX131: 1 | AY131: ROZPOCET
C132: 2 | D132: K | E132: 162303101.S | F132: Vodorovné premiestnenie výkopku pre cesty po spevnenej ceste z horniny tr.1-4 do 1000 m3 na vzdialenosť do 500 m | G132: m3 | H132: 51.3 | J132: =ROUND(I132*H132,2) -> 0 | N132: znížená | P132: =O132*H132 -> 0 | Q132: 0 | R132: =Q132*H132 -> 0 | S132: 0 | T132: =S132*H132 -> 0 | AR132: 4 | AT132: K | AU132: 2 | AY132: ROZPOCET | BE132: =IF(N132="základná",J132,0) -> 0 | BF132: =IF(N132="znížená",J132,0) -> 0 | BG132: =IF(N132="zákl. prenesená",J132,0) -> 0 | BH132: =IF(N132="zníž. prenesená",J132,0) -> 0 | BI132: =IF(N132="nulová",J132,0) -> 0 | BJ132: 2 | BK132: =ROUND(I132*H132,2) -> 0 | BL132: 4 | BM132: 1279037764
D133: P | F133: Poznámka k položke:_x000D_ - nevhodná zemina na skládku | AT133: P | AU133: 2
D134: VV | F134: 256,50*0,2 "zemina z oddrnenia"" | H134: 51.3 | AT134: VV | AU134: 2 | AV134: 2 | AW134: True | AX134: 1 | AY134: ROZPOCET
C135: 3 | D135: K | E135: 162503102.S | F135: Vodorovné premiestnenie výkopku pre cesty po spevnenej ceste z horniny tr.1-4 do 1000 m3 na vzdialenosť do 3000 m | G135: m3 | H135: 51.3 | J135: =ROUND(I135*H135,2) -> 0 | N135: znížená | P135: =O135*H135 -> 0 | Q135: 0 | R135: =Q135*H135 -> 0 | S135: 0 | T135: =S135*H135 -> 0 | AR135: 4 | AT135: K | AU135: 2 | AY135: ROZPOCET | BE135: =IF(N135="základná",J135,0) -> 0 | BF135: =IF(N135="znížená",J135,0) -> 0 | BG135: =IF(N135="zákl. prenesená",J135,0) -> 0 | BH135: =IF(N135="zníž. prenesená",J135,0) -> 0 | BI135: =IF(N135="nulová",J135,0) -> 0 | BJ135: 2 | BK135: =ROUND(I135*H135,2) -> 0 | BL135: 4 | BM135: 176121940
D136: P | F136: Poznámka k položke:_x000D_ - nevhodná zemina na skládku | AT136: P | AU136: 2
D137: VV | F137: 256,50*0,2 "zemina z oddrnenia"" | H137: 51.3 | AT137: VV | AU137: 2 | AV137: 2 | AW137: True | AX137: 1 | AY137: ROZPOCET
C138: 4 | D138: K | E138: 162503103.S | F138: Vodorovné premiestnenie výkopku pre cesty po spevnenej ceste z horniny tr.1-4 do 1000 m3, príplatok k cene za každých ďalšich a začatých 1000 m | G138: m3 | H138: 1128.6 | J138: =ROUND(I138*H138,2) -> 0 | N138: znížená | P138: =O138*H138 -> 0 | Q138: 0 | R138: =Q138*H138 -> 0 | S138: 0 | T138: =S138*H138 -> 0 | AR138: 4 | AT138: K | AU138: 2 | AY138: ROZPOCET | BE138: =IF(N138="základná",J138,0) -> 0 | BF138: =IF(N138="znížená",J138,0) -> 0 | BG138: =IF(N138="zákl. prenesená",J138,0) -> 0 | BH138: =IF(N138="zníž. prenesená",J138,0) -> 0 | BI138: =IF(N138="nulová",J138,0) -> 0 | BJ138: 2 | BK138: =ROUND(I138*H138,2) -> 0 | BL138: 4 | BM138: 1743950673
D139: P | F139: Poznámka k položke:_x000D_ - nevhodná zemina na skládku do 25 km | AT139: P | AU139: 2
D140: VV | F140: 256,50*0,2*(25-3) "zemina z oddrnenia"" | H140: 1128.6 | AT140: VV | AU140: 2 | AV140: 2 | AW140: True | AX140: 1 | AY140: ROZPOCET
C141: 5 | D141: K | E141: 167101101.S | F141: Nakladanie neuľahnutého výkopku z hornín tr.1-4 do 100 m3 | G141: m3 | H141: 51.3 | J141: =ROUND(I141*H141,2) -> 0 | N141: znížená | P141: =O141*H141 -> 0 | Q141: 0 | R141: =Q141*H141 -> 0 | S141: 0 | T141: =S141*H141 -> 0 | AR141: 4 | AT141: K | AU141: 2 | AY141: ROZPOCET | BE141: =IF(N141="základná",J141,0) -> 0 | BF141: =IF(N141="znížená",J141,0) -> 0 | BG141: =IF(N141="zákl. prenesená",J141,0) -> 0 | BH141: =IF(N141="zníž. prenesená",J141,0) -> 0 | BI141: =IF(N141="nulová",J141,0) -> 0 | BJ141: 2 | BK141: =ROUND(I141*H141,2) -> 0 | BL141: 4 | BM141: -999906117
D142: P | F142: Poznámka k položke:_x000D_ - nevhodná zemina na skládku | AT142: P | AU142: 2
D143: VV | F143: 256,50*0,2 "zemina z oddrnenia"" | H143: 51.3 | AT143: VV | AU143: 2 | AV143: 2 | AW143: True | AX143: 1 | AY143: ROZPOCET
C144: 6 | D144: K | E144: 113157341.S | F144: Odstránenie podkladu alebo krytu asfaltového v ploche nad 200 m2 strojne, hr. vrstvy do 50 mm, -0,11000t | G144: m2 | H144: 2090.4 | J144: =ROUND(I144*H144,2) -> 0 | N144: znížená | P144: =O144*H144 -> 0 | Q144: 0 | R144: =Q144*H144 -> 0 | S144: 0.11 | T144: =S144*H144 -> 229.944 | AR144: 4 | AT144: K | AU144: 2 | AY144: ROZPOCET | BE144: =IF(N144="základná",J144,0) -> 0 | BF144: =IF(N144="znížená",J144,0) -> 0 | BG144: =IF(N144="zákl. prenesená",J144,0) -> 0 | BH144: =IF(N144="zníž. prenesená",J144,0) -> 0 | BI144: =IF(N144="nulová",J144,0) -> 0 | BJ144: 2 | BK144: =ROUND(I144*H144,2) -> 0 | BL144: 4 | BM144: -1571073417
D145: VV | F145: 2090,40 "konštrukcia asfaltovej vozovky hr. 40 mm - AC 11 O - vetva C" | H145: 2090.4 | AT145: VV | AU145: 2 | AV145: 2 | AW145: True | AX145: 1 | AY145: ROZPOCET
C146: 65 | D146: K | E146: 113157342.S | F146: Odstránenie podkladu alebo krytu asfaltového v ploche nad 200 m2 strojne, hr. vrstvy nad 50 do 100 mm, -0,22000t | G146: m2 | H146: 2090.4 | J146: =ROUND(I146*H146,2) -> 0 | N146: znížená | P146: =O146*H146 -> 0 | Q146: 0 | R146: =Q146*H146 -> 0 | S146: 0.22 | T146: =S146*H146 -> 459.888 | AR146: 4 | AT146: K | AU146: 2 | AY146: ROZPOCET | BE146: =IF(N146="základná",J146,0) -> 0 | BF146: =IF(N146="znížená",J146,0) -> 0 | BG146: =IF(N146="zákl. prenesená",J146,0) -> 0 | BH146: =IF(N146="zníž. prenesená",J146,0) -> 0 | BI146: =IF(N146="nulová",J146,0) -> 0 | BJ146: 2 | BK146: =ROUND(I146*H146,2) -> 0 | BL146: 4 | BM146: -681880392
D147: VV | F147: 2090,40 "konštrukcia asfaltovej vozovky hr. 60 mm - AC 16 L - vetva C" | H147: 2090.4 | AT147: VV | AU147: 2 | AV147: 2 | AW147: True | AX147: 1 | AY147: ROZPOCET
C148: 7 | D148: K | E148: 113157322.S | F148: Odstránenie podkladu alebo krytu z kameniva hrubého drveného v ploche nad 200 m2 strojne, hr. vrstvy nad 100 do 200 mm, -0,23500t | G148: m2 | H148: 2257.632 | J148: =ROUND(I148*H148,2) -> 0 | N148: znížená | P148: =O148*H148 -> 0 | Q148: 0 | R148: =Q148*H148 -> 0 | S148: 0.235 | T148: =S148*H148 -> 530.54352 | AR148: 4 | AT148: K | AU148: 2 | AY148: ROZPOCET | BE148: =IF(N148="základná",J148,0) -> 0 | BF148: =IF(N148="znížená",J148,0) -> 0 | BG148: =IF(N148="zákl. prenesená",J148,0) -> 0 | BH148: =IF(N148="zníž. prenesená",J148,0) -> 0 | BI148: =IF(N148="nulová",J148,0) -> 0 | BJ148: 2 | BK148: =ROUND(I148*H148,2) -> 0 | BL148: 4 | BM148: -363879277
D149: VV | F149: 2090,40 "konštrukcia asfaltovej vozovky - cementom stmelená vrstva hr. 200mm - vetva C" | H149: 2090.4 | AT149: VV | AU149: 2 | AV149: 2 | AW149: True | AX149: 1 | AY149: ROZPOCET
D150: VV | F150: 2090,4*1,08 'Prepočítané koeficientom množstva | H150: 2257.632 | AT150: VV | AU150: 2 | AV150: 2 | AW150: False | AX150: 1 | AY150: ROZPOCET
C151: 8 | D151: K | E151: 113157322.S | F151: Odstránenie podkladu alebo krytu z kameniva hrubého drveného v ploche nad 200 m2 strojne, hr. vrstvy nad 100 do 200 mm, -0,23500t | G151: m2 | H151: 294 | J151: =ROUND(I151*H151,2) -> 0 | N151: znížená | P151: =O151*H151 -> 0 | Q151: 0 | R151: =Q151*H151 -> 0 | S151: 0.235 | T151: =S151*H151 -> 69.09 | AR151: 4 | AT151: K | AU151: 2 | AY151: ROZPOCET | BE151: =IF(N151="základná",J151,0) -> 0 | BF151: =IF(N151="znížená",J151,0) -> 0 | BG151: =IF(N151="zákl. prenesená",J151,0) -> 0 | BH151: =IF(N151="zníž. prenesená",J151,0) -> 0 | BI151: =IF(N151="nulová",J151,0) -> 0 | BJ151: 2 | BK151: =ROUND(I151*H151,2) -> 0 | BL151: 4 | BM151: -18233069
D152: VV | F152: - vetva C | AT152: VV | AU152: 2 | AV152: 1 | AW152: True | AX152: 0 | AY152: ROZPOCET
D153: VV | F153: 294,00 "zhutnená krajnica hr 150mm" | H153: 294 | AT153: VV | AU153: 2 | AV153: 2 | AW153: True | AX153: 1 | AY153: ROZPOCET
C154: 9 | D154: K | E154: 113157327.S | F154: Odstránenie podkladu alebo krytu z kam. hrubého v ploche nad 200 m2 | G154: m3 | H154: 1430 | J154: =ROUND(I154*H154,2) -> 0 | N154: znížená | P154: =O154*H154 -> 0 | Q154: 0 | R154: =Q154*H154 -> 0 | S154: 1.8 | T154: =S154*H154 -> 2574 | AR154: 4 | AT154: K | AU154: 2 | AY154: ROZPOCET | BE154: =IF(N154="základná",J154,0) -> 0 | BF154: =IF(N154="znížená",J154,0) -> 0 | BG154: =IF(N154="zákl. prenesená",J154,0) -> 0 | BH154: =IF(N154="zníž. prenesená",J154,0) -> 0 | BI154: =IF(N154="nulová",J154,0) -> 0 | BJ154: 2 | BK154: =ROUND(I154*H154,2) -> 0 | BL154: 4 | BM154: 651145879
D155: VV | F155: - vetva C | AT155: VV | AU155: 2 | AV155: 1 | AW155: True | AX155: 0 | AY155: ROZPOCET
D156: VV | F156: 95,20 "dosypávka nespevnenej krajnice" | H156: 95.2 | AT156: VV | AU156: 2 | AV156: 2 | AW156: True | AX156: 0 | AY156: ROZPOCET
D157: VV | F157: 1334,80 "materiál z aktívnej zóny" | H157: 1334.8 | AT157: VV | AU157: 2 | AV157: 2 | AW157: True | AX157: 0 | AY157: ROZPOCET
D158: VV | F158: Súčet | H158: 1430 | AT158: VV | AU158: 2 | AV158: 4 | AW158: True | AX158: 1 | AY158: ROZPOCET
C159: 10 | D159: K | E159: 113307222.S | F159: Odstránenie podkladu v ploche nad 200 m2 z kameniva hrubého drveného, hr.100 do 200 mm, -0,23500t | G159: m2 | H159: 2403.96 | J159: =ROUND(I159*H159,2) -> 0 | N159: znížená | P159: =O159*H159 -> 0 | Q159: 0 | R159: =Q159*H159 -> 0 | S159: 0.235 | T159: =S159*H159 -> 564.9306 | AR159: 4 | AT159: K | AU159: 2 | AY159: ROZPOCET | BE159: =IF(N159="základná",J159,0) -> 0 | BF159: =IF(N159="znížená",J159,0) -> 0 | BG159: =IF(N159="zákl. prenesená",J159,0) -> 0 | BH159: =IF(N159="zníž. prenesená",J159,0) -> 0 | BI159: =IF(N159="nulová",J159,0) -> 0 | BJ159: 2 | BK159: =ROUND(I159*H159,2) -> 0 | BL159: 4 | BM159: 1250323854
D160: VV | F160: 2090,40 "konštrukcia asfaltovej vozovky -ŠD hr. 200mm - vetva C" | H160: 2090.4 | AT160: VV | AU160: 2 | AV160: 2 | AW160: True | AX160: 1 | AY160: ROZPOCET
D161: VV | F161: 2090,4*1,15 'Prepočítané koeficientom množstva | H161: 2403.96 | AT161: VV | AU161: 2 | AV161: 2 | AW161: False | AX161: 1 | AY161: ROZPOCET
C162: 11 | D162: K | E162: 113157342.S | F162: Odstránenie podkladu alebo krytu asfaltového v ploche nad 200 m2 strojne, hr. vrstvy nad 50 do 100 mm, -0,22000t | G162: m2 | H162: 2090.4 | J162: =ROUND(I162*H162,2) -> 0 | N162: znížená | P162: =O162*H162 -> 0 | Q162: 0 | R162: =Q162*H162 -> 0 | S162: 0.22 | T162: =S162*H162 -> 459.888 | AR162: 4 | AT162: K | AU162: 2 | AY162: ROZPOCET | BE162: =IF(N162="základná",J162,0) -> 0 | BF162: =IF(N162="znížená",J162,0) -> 0 | BG162: =IF(N162="zákl. prenesená",J162,0) -> 0 | BH162: =IF(N162="zníž. prenesená",J162,0) -> 0 | BI162: =IF(N162="nulová",J162,0) -> 0 | BJ162: 2 | BK162: =ROUND(I162*H162,2) -> 0 | BL162: 4 | BM162: -1847548336
D163: VV | F163: 2090,40 "konštrukcia asfaltovej vozovky - AC 22 P hr. 70mm - vetva C" | H163: 2090.4 | AT163: VV | AU163: 2 | AV163: 2 | AW163: True | AX163: 1 | AY163: ROZPOCET
...

Sheet SO 2.02.4 - SO 2.02.4  Do...
L2: >> skryté stĺpce << | AT2: {12ecf4a3-1b2f-4848-bd5a-ed7272b4abba}
AT3: 0
D4: KRYCÍ LIST ROZPOČTU | M4: v --- nižšie sa nachádzajú doplnkové a pomocné údaje k zostavám --- v | AT4: False
D6: Stavba:
E7: ='Rekapitulácia stavby'!K6 -> IP Horná Streda
D8: Objekt:
E9: SO 2.02 - SO 2.02 Dočasné objazdové komunikácie
D10: Časť:
E11: SO 2.02.4 - SO 2.02.4 Dočasné objazdové komunikácie - Vetvy D a E
D13: JKSO: | I13: ČS:
D14: Miesto: | I14: Dátum: | J14: ='Rekapitulácia stavby'!AN8 -> 31. 7. 2026
D16: Objednávateľ: | I16: IČO: | J16: =IF('Rekapitulácia stavby'!AN10="","",'Rekapitulácia stavby'!AN10)
E17: =IF('Rekapitulácia stavby'!E11="","",'Rekapitulácia stavby'!E11) | I17: IČ DPH: | J17: =IF('Rekapitulácia stavby'!AN11="","",'Rekapitulácia stavby'!AN11)
D19: Zhotoviteľ: | I19: IČO: | J19: ='Rekapitulácia stavby'!AN13 -> Vyplň údaj
E20: ='Rekapitulácia stavby'!E14 -> Vyplň údaj | I20: IČ DPH: | J20: ='Rekapitulácia stavby'!AN14 -> Vyplň údaj
D22: Projektant: | I22: IČO: | J22: =IF('Rekapitulácia stavby'!AN16="","",'Rekapitulácia stavby'!AN16)
E23: =IF('Rekapitulácia stavby'!E17="","",'Rekapitulácia stavby'!E17) | I23: IČ DPH: | J23: =IF('Rekapitulácia stavby'!AN17="","",'Rekapitulácia stavby'!AN17)
D25: Spracovateľ: | I25: IČO: | J25: =IF('Rekapitulácia stavby'!AN19="","",'Rekapitulácia stavby'!AN19)
E26: =IF('Rekapitulácia stavby'!E20="","",'Rekapitulácia stavby'!E20) | I26: IČ DPH: | J26: =IF('Rekapitulácia stavby'!AN20="","",'Rekapitulácia stavby'!AN20)
D28: Poznámka:
E29: Trvalé dopravné značenie pre celý SO 2.02 dočasné objazdové komunikácie je vykázaný SO 2.02.1 Dočasné objazdové komunikácie - Vetva A.
D32: Cena bez DPH | J32: =ROUND(J129, 2) -> 0
F34: Základ dane | I34: Sadzba dane | J34: Výška dane
D35: DPH | E35: základná | F35: =ROUND((SUM(BE129:BE341)), 2) -> 0 | I35: 0.23 | J35: =ROUND(((SUM(BE129:BE341))*I35), 2) -> 0
E36: znížená | F36: =ROUND((SUM(BF129:BF341)), 2) -> 0 | I36: 0.23 | J36: =ROUND(((SUM(BF129:BF341))*I36), 2) -> 0
E37: zákl. prenesená | F37: =ROUND((SUM(BG129:BG341)), 2) -> 0 | I37: 0.23 | J37: =0 -> 0
E38: zníž. prenesená | F38: =ROUND((SUM(BH129:BH341)), 2) -> 0 | I38: 0.23 | J38: =0 -> 0
E39: nulová | F39: =ROUND((SUM(BI129:BI341)), 2) -> 0 | I39: 0 | J39: =0 -> 0
D41: Cena s DPH | G41: v | H41: EUR | J41: =SUM(J32:J39) -> 0
D50: Projektant | G50: Spracovateľ
D61: Dátum a podpis: | F61: Pečiatka | G61: Dátum a podpis: | J61: Pečiatka
D65: Objednávateľ | G65: Zhotoviteľ
D76: Dátum a podpis: | F76: Pečiatka | G76: Dátum a podpis: | J76: Pečiatka
C82: REKAPITULÁCIA ROZPOČTU
C84: Stavba:
E85: =E7 -> IP Horná Streda
C86: Objekt:
E87: SO 2.02 - SO 2.02 Dočasné objazdové komunikácie
C88: Časť:
E89: =E11 -> SO 2.02.4 - SO 2.02.4 Dočasné objazdové komunikácie - Vetvy D a E
C91: Miesto: | F91: =F14 | I91: Dátum: | J91: =IF(J14="","",J14) -> 31. 7. 2026
C93: Objednávateľ: | F93: =E17 | I93: Projektant: | J93: =E23
C94: Zhotoviteľ: | F94: =IF(E20="","",E20) -> Vyplň údaj | I94: Spracovateľ: | J94: =E26
C96: Kód dielu - Popis | J96: Cena celkom [EUR]
C98: Náklady z rozpočtu | J98: =J129 -> 0 | AU98: -1
D99: HSV - Práce a dodávky HSV | J99: =J130 -> 0
D100: 1 - Zemné práce | J100: =J131 -> 0
D101: 2 - Zakladanie | J101: =J220 -> 0
D102: 3 - Zvislé a kompletné konštrukcie | J102: =J225 -> 0
D103: 5 - Komunikácie | J103: =J245 -> 0
D104: 9 - Ostatné konštrukcie a práce-búranie | J104: =J274 -> 0
D105: PSV - Práce a dodávky PSV | J105: =J334 -> 0
D106: 783 - Nátery | J106: =J335 -> 0
D107: VRN - Investičné náklady neobsiahnuté v cenách | J107: =J339 -> 0
C114: ROZPOČET
C116: Stavba:
E117: =E7 -> IP Horná Streda
C118: Objekt:
E119: SO 2.02 - SO 2.02 Dočasné objazdové komunikácie
C120: Časť:
E121: =E11 -> SO 2.02.4 - SO 2.02.4 Dočasné objazdové komunikácie - Vetvy D a E
C123: Miesto: | F123: =F14 | I123: Dátum: | J123: =IF(J14="","",J14) -> 31. 7. 2026
C125: Objednávateľ: | F125: =E17 | I125: Projektant: | J125: =E23
C126: Zhotoviteľ: | F126: =IF(E20="","",E20) -> Vyplň údaj | I126: Spracovateľ: | J126: =E26
C128: PČ | D128: Typ | E128: Kód | F128: Popis | G128: MJ | H128: Množstvo | I128: J.cena [EUR] | J128: Cena celkom [EUR] | K128: Cenová sústava | N128: DPH | O128: J. Nh [h] | P128: Nh celkom [h] | Q128: J. hmotnosť [t] | R128: Hmotnosť celkom [t] | S128: J. suť [t] | T128: Suť Celkom [t]
C129: Náklady z rozpočtu | J129: =BK129 -> 0 | P129: =P130+P334+P339 -> 0 | R129: =R130+R334+R339 -> 6921.8323 | T129: =T130+T334+T339 -> 0 | AT129: D | AU129: -1 | BK129: =BK130+BK334+BK339 -> 0
D130: D | E130: HSV | F130: Práce a dodávky HSV | J130: =BK130 -> 0 | P130: =P131+P220+P225+P245+P274 -> 0 | R130: =R131+R220+R225+R245+R274 -> 6921.8293 | T130: =T131+T220+T225+T245+T274 -> 0 | AR130: 1 | AT130: D | AU130: 0 | AY130: ROZPOCET | BK130: =BK131+BK220+BK225+BK245+BK274 -> 0
D131: D | E131: 1 | F131: Zemné práce | J131: =BK131 -> 0 | P131: =SUM(P132:P219) -> 0 | R131: =SUM(R132:R219) -> 2544.9648 | T131: =SUM(T132:T219) -> 0 | AR131: 1 | AT131: D | AU131: 1 | AY131: ROZPOCET | BK131: =SUM(BK132:BK219) -> 0
C132: 1 | D132: K | E132: 111101101.S | F132: Oddrnenie trávnatej plochy s príp. premiestnením a uložením na hromady do 50 m, pri celkovej ploche do 1000m2 | G132: m2 | H132: 154.5 | J132: =ROUND(I132*H132,2) -> 0 | N132: znížená | P132: =O132*H132 -> 0 | Q132: 0 | R132: =Q132*H132 -> 0 | S132: 0 | T132: =S132*H132 -> 0 | AR132: 4 | AT132: K | AU132: 2 | AY132: ROZPOCET | BE132: =IF(N132="základná",J132,0) -> 0 | BF132: =IF(N132="znížená",J132,0) -> 0 | BG132: =IF(N132="zákl. prenesená",J132,0) -> 0 | BH132: =IF(N132="zníž. prenesená",J132,0) -> 0 | BI132: =IF(N132="nulová",J132,0) -> 0 | BJ132: 2 | BK132: =ROUND(I132*H132,2) -> 0 | BL132: 4 | BM132: -1272824470
D133: VV | F133: 154,50 " trávnatá plocha hr. 0,20m" | H133: 154.5 | AT133: VV | AU133: 2 | AV133: 2 | AW133: True | AX133: 1 | AY133: ROZPOCET
C134: 2 | D134: K | E134: 162301101.S | F134: Vodorovné premiestnenie výkopku po spevnenej ceste z horniny tr.1-4, do 100 m3 na vzdialenosť do 500 m | G134: m3 | H134: 30.9 | J134: =ROUND(I134*H134,2) -> 0 | N134: znížená | P134: =O134*H134 -> 0 | Q134: 0 | R134: =Q134*H134 -> 0 | S134: 0 | T134: =S134*H134 -> 0 | AR134: 4 | AT134: K | AU134: 2 | AY134: ROZPOCET | BE134: =IF(N134="základná",J134,0) -> 0 | BF134: =IF(N134="znížená",J134,0) -> 0 | BG134: =IF(N134="zákl. prenesená",J134,0) -> 0 | BH134: =IF(N134="zníž. prenesená",J134,0) -> 0 | BI134: =IF(N134="nulová",J134,0) -> 0 | BJ134: 2 | BK134: =ROUND(I134*H134,2) -> 0 | BL134: 4 | BM134: 1358478684
D135: P | F135: Poznámka k položke:_x000D_ - nevhodná zemina na skládku | AT135: P | AU135: 2
D136: VV | F136: 154,50*0,2 "zemina z oddrnenia" | H136: 30.9 | AT136: VV | AU136: 2 | AV136: 2 | AW136: True | AX136: 1 | AY136: ROZPOCET
C137: 3 | D137: K | E137: 162501102.S | F137: Vodorovné premiestnenie výkopku po spevnenej ceste z horniny tr.1-4, do 100 m3 na vzdialenosť do 3000 m | G137: m3 | H137: 30.9 | J137: =ROUND(I137*H137,2) -> 0 | N137: znížená | P137: =O137*H137 -> 0 | Q137: 0 | R137: =Q137*H137 -> 0 | S137: 0 | T137: =S137*H137 -> 0 | AR137: 4 | AT137: K | AU137: 2 | AY137: ROZPOCET | BE137: =IF(N137="základná",J137,0) -> 0 | BF137: =IF(N137="znížená",J137,0) -> 0 | BG137: =IF(N137="zákl. prenesená",J137,0) -> 0 | BH137: =IF(N137="zníž. prenesená",J137,0) -> 0 | BI137: =IF(N137="nulová",J137,0) -> 0 | BJ137: 2 | BK137: =ROUND(I137*H137,2) -> 0 | BL137: 4 | BM137: 1520760374
D138: P | F138: Poznámka k položke:_x000D_ - nevhodná zemina na skládku | AT138: P | AU138: 2
D139: VV | F139: 30,90 "zemina z oddrnenia" | H139: 30.9 | AT139: VV | AU139: 2 | AV139: 2 | AW139: True | AX139: 1 | AY139: ROZPOCET
C140: 4 | D140: K | E140: 162501105.S | F140: Vodorovné premiestnenie výkopku po spevnenej ceste z horniny tr.1-4, do 100 m3, príplatok k cene za každých ďalšich a začatých 1000 m | G140: m3 | H140: 679.8 | J140: =ROUND(I140*H140,2) -> 0 | N140: znížená | P140: =O140*H140 -> 0 | Q140: 0 | R140: =Q140*H140 -> 0 | S140: 0 | T140: =S140*H140 -> 0 | AR140: 4 | AT140: K | AU140: 2 | AY140: ROZPOCET | BE140: =IF(N140="základná",J140,0) -> 0 | BF140: =IF(N140="znížená",J140,0) -> 0 | BG140: =IF(N140="zákl. prenesená",J140,0) -> 0 | BH140: =IF(N140="zníž. prenesená",J140,0) -> 0 | BI140: =IF(N140="nulová",J140,0) -> 0 | BJ140: 2 | BK140: =ROUND(I140*H140,2) -> 0 | BL140: 4 | BM140: 464333236
D141: P | F141: Poznámka k položke:_x000D_ - nevhodná zemina na skládku do 25 km | AT141: P | AU141: 2
D142: VV | F142: 30,90*(25-3) "zemina z oddrnenia" | H142: 679.8 | AT142: VV | AU142: 2 | AV142: 2 | AW142: True | AX142: 1 | AY142: ROZPOCET
C143: 5 | D143: K | E143: 167101102.S | F143: Nakladanie neuľahnutého výkopku z hornín tr.1-4 nad 100 do 1000 m3 | G143: m3 | H143: 30.9 | J143: =ROUND(I143*H143,2) -> 0 | N143: znížená | P143: =O143*H143 -> 0 | Q143: 0 | R143: =Q143*H143 -> 0 | S143: 0 | T143: =S143*H143 -> 0 | AR143: 4 | AT143: K | AU143: 2 | AY143: ROZPOCET | BE143: =IF(N143="základná",J143,0) -> 0 | BF143: =IF(N143="znížená",J143,0) -> 0 | BG143: =IF(N143="zákl. prenesená",J143,0) -> 0 | BH143: =IF(N143="zníž. prenesená",J143,0) -> 0 | BI143: =IF(N143="nulová",J143,0) -> 0 | BJ143: 2 | BK143: =ROUND(I143*H143,2) -> 0 | BL143: 4 | BM143: 397076747
D144: P | F144: Poznámka k položke:_x000D_ - nevhodná zemina na skládku | AT144: P | AU144: 2
D145: VV | F145: 30,90 "zemina z oddrnenia" | H145: 30.9 | AT145: VV | AU145: 2 | AV145: 2 | AW145: True | AX145: 1 | AY145: ROZPOCET
C146: 6 | D146: K | E146: 121101113.S | F146: Odstránenie ornice s premiestn. na hromady, so zložením na vzdialenosť do 100 m a do 10000 m3 | G146: m3 | H146: 1422.1 | J146: =ROUND(I146*H146,2) -> 0 | N146: znížená | P146: =O146*H146 -> 0 | Q146: 0 | R146: =Q146*H146 -> 0 | S146: 0 | T146: =S146*H146 -> 0 | AR146: 4 | AT146: K | AU146: 2 | AY146: ROZPOCET | BE146: =IF(N146="základná",J146,0) -> 0 | BF146: =IF(N146="znížená",J146,0) -> 0 | BG146: =IF(N146="zákl. prenesená",J146,0) -> 0 | BH146: =IF(N146="zníž. prenesená",J146,0) -> 0 | BI146: =IF(N146="nulová",J146,0) -> 0 | BJ146: 2 | BK146: =ROUND(I146*H146,2) -> 0 | BL146: 4 | BM146: -2038288422
D147: VV | F147: 1422,10 "odhumusovanie hr 0,50m" | H147: 1422.1 | AT147: VV | AU147: 2 | AV147: 2 | AW147: True | AX147: 1 | AY147: ROZPOCET
C148: 7 | D148: K | E148: 162501172.S | F148: Vodorovné premiestnenie výkopku po spevnenej ceste z horniny tr.1-4, nad 10000 m3 na vzdialenosť do 3000 m | G148: m3 | H148: 1367.4 | J148: =ROUND(I148*H148,2) -> 0 | N148: znížená | P148: =O148*H148 -> 0 | Q148: 0 | R148: =Q148*H148 -> 0 | S148: 0 | T148: =S148*H148 -> 0 | AR148: 4 | AT148: K | AU148: 2 | AY148: ROZPOCET | BE148: =IF(N148="základná",J148,0) -> 0 | BF148: =IF(N148="znížená",J148,0) -> 0 | BG148: =IF(N148="zákl. prenesená",J148,0) -> 0 | BH148: =IF(N148="zníž. prenesená",J148,0) -> 0 | BI148: =IF(N148="nulová",J148,0) -> 0 | BJ148: 2 | BK148: =ROUND(I148*H148,2) -> 0 | BL148: 4 | BM148: -1313822063
D149: P | F149: Poznámka k položke:_x000D_ - odvoz v rámci katastrálneho územia | AT149: P | AU149: 2
D150: VV | F150: 1422,10 "zemina z odhumusovania" | H150: 1422.1 | AT150: VV | AU150: 2 | AV150: 2 | AW150: True | AX150: 0 | AY150: ROZPOCET
D151: VV | F151: -54,7 "zemina na spätné zahumusovanie v SO 2.02" | H151: -54.7 | AT151: VV | AU151: 2 | AV151: 2 | AW151: True | AX151: 0 | AY151: ROZPOCET
D152: VV | F152: Súčet - prebytočná zemina z odhumusovania | H152: 1367.4 | AT152: VV | AU152: 2 | AV152: 4 | AW152: True | AX152: 1 | AY152: ROZPOCET
C153: 8 | D153: K | E153: 162501143.S | F153: Vodorovné premiestnenie výkopku po spevnenej ceste z horniny tr.1-4, nad 1000 do 10000 m3, príplatok k cene za každých ďalšich a začatých 1000 m | G153: m3 | H153: 9571.8 | J153: =ROUND(I153*H153,2) -> 0 | N153: znížená | P153: =O153*H153 -> 0 | Q153: 0 | R153: =Q153*H153 -> 0 | S153: 0 | T153: =S153*H153 -> 0 | AR153: 4 | AT153: K | AU153: 2 | AY153: ROZPOCET | BE153: =IF(N153="základná",J153,0) -> 0 | BF153: =IF(N153="znížená",J153,0) -> 0 | BG153: =IF(N153="zákl. prenesená",J153,0) -> 0 | BH153: =IF(N153="zníž. prenesená",J153,0) -> 0 | BI153: =IF(N153="nulová",J153,0) -> 0 | BJ153: 2 | BK153: =ROUND(I153*H153,2) -> 0 | BL153: 4 | BM153: 2135097762
D154: P | F154: Poznámka k položke:_x000D_ - odvoz v rámci katastrálneho územia do 10 km | AT154: P | AU154: 2
D155: VV | F155: 1367,40*(10-3) "prebytočná zemina z odhumusovania" | H155: 9571.8 | AT155: VV | AU155: 2 | AV155: 2 | AW155: True | AX155: 1 | AY155: ROZPOCET
C156: 9 | D156: K | E156: 167102121.S | F156: Nakladanie a prekladanie výkopku na spätné použitie | G156: m3 | H156: 54.7 | J156: =ROUND(I156*H156,2) -> 0 | N156: znížená | P156: =O156*H156 -> 0 | Q156: 0 | R156: =Q156*H156 -> 0 | S156: 0 | T156: =S156*H156 -> 0 | AR156: 4 | AT156: K | AU156: 2 | AY156: ROZPOCET | BE156: =IF(N156="základná",J156,0) -> 0 | BF156: =IF(N156="znížená",J156,0) -> 0 | BG156: =IF(N156="zákl. prenesená",J156,0) -> 0 | BH156: =IF(N156="zníž. prenesená",J156,0) -> 0 | BI156: =IF(N156="nulová",J156,0) -> 0 | BJ156: 2 | BK156: =ROUND(I156*H156,2) -> 0 | BL156: 4 | BM156: 932802052
D157: P | F157: Poznámka k položke:_x000D_ - uloženie ma medziskládku do 5km, spätné naloženie a odvoz na miesto použitia | AT157: P | AU157: 2
D158: VV | F158: 54,70 "zemina na spätné zahumusovanie v SO 2.02" | H158: 54.7 | AT158: VV | AU158: 2 | AV158: 2 | AW158: True | AX158: 1 | AY158: ROZPOCET
C159: 10 | D159: K | E159: 122301103.S | F159: Odkopávka a prekopávka v hornine 4, nad 1000 do 10000 m3 | G159: m3 | H159: 1540.46 | J159: =ROUND(I159*H159,2) -> 0 | N159: znížená | P159: =O159*H159 -> 0 | Q159: 0 | R159: =Q159*H159 -> 0 | S159: 0 | T159: =S159*H159 -> 0 | AR159: 4 | AT159: K | AU159: 2 | AY159: ROZPOCET | BE159: =IF(N159="základná",J159,0) -> 0 | BF159: =IF(N159="znížená",J159,0) -> 0 | BG159: =IF(N159="zákl. prenesená",J159,0) -> 0 | BH159: =IF(N159="zníž. prenesená",J159,0) -> 0 | BI159: =IF(N159="nulová",J159,0) -> 0 | BJ159: 2 | BK159: =ROUND(I159*H159,2) -> 0 | BL159: 4 | BM159: -1020786231
D160: P | F160: Poznámka k položke:_x000D_ - výkop pre priekopu a lôžko vsakovacej priekopy (642,90+301,70 m3) je v SO 2.08.4 | AT160: P | AU160: 2
D161: VV | F161: 1391,0 "výkop - cestné teleso" | H161: 1391 | AT161: VV | AU161: 2 | AV161: 2 | AW161: True | AX161: 0 | AY161: ROZPOCET
D162: VV | F162: 149,46 "výkop chráničky" | H162: 149.46 | AT162: VV | AU162: 2 | AV162: 2 | AW162: True | AX162: 0 | AY162: ROZPOCET
D163: VV | F163: Súčet | H163: 1540.46 | AT163: VV | AU163: 2 | AV163: 4 | AW163: True | AX163: 1 | AY163: ROZPOCET
...

Sheet SO 2.03 - SO 2.03  Úprava...
L2: >> skryté stĺpce << | AT2: {03e9e7d7-b7c4-4b9e-93c4-38d554057873}
AT3: 0
D4: KRYCÍ LIST ROZPOČTU | M4: v --- nižšie sa nachádzajú doplnkové a pomocné údaje k zostavám --- v | AT4: False
D6: Stavba:
E7: ='Rekapitulácia stavby'!K6 -> IP Horná Streda
D8: Objekt:
E9: SO 2.03 - SO 2.03 Úprava štátnej cesty
D11: JKSO: | I11: ČS:
D12: Miesto: | I12: Dátum: | J12: ='Rekapitulácia stavby'!AN8 -> 31. 7. 2026
D14: Objednávateľ: | I14: IČO: | J14: =IF('Rekapitulácia stavby'!AN10="","",'Rekapitulácia stavby'!AN10)
E15: =IF('Rekapitulácia stavby'!E11="","",'Rekapitulácia stavby'!E11) | I15: IČ DPH: | J15: =IF('Rekapitulácia stavby'!AN11="","",'Rekapitulácia stavby'!AN11)
D17: Zhotoviteľ: | I17: IČO: | J17: ='Rekapitulácia stavby'!AN13 -> Vyplň údaj
E18: ='Rekapitulácia stavby'!E14 -> Vyplň údaj | I18: IČ DPH: | J18: ='Rekapitulácia stavby'!AN14 -> Vyplň údaj
D20: Projektant: | I20: IČO: | J20: =IF('Rekapitulácia stavby'!AN16="","",'Rekapitulácia stavby'!AN16)
E21: =IF('Rekapitulácia stavby'!E17="","",'Rekapitulácia stavby'!E17) | I21: IČ DPH: | J21: =IF('Rekapitulácia stavby'!AN17="","",'Rekapitulácia stavby'!AN17)
D23: Spracovateľ: | I23: IČO: | J23: =IF('Rekapitulácia stavby'!AN19="","",'Rekapitulácia stavby'!AN19)
E24: =IF('Rekapitulácia stavby'!E20="","",'Rekapitulácia stavby'!E20) | I24: IČ DPH: | J24: =IF('Rekapitulácia stavby'!AN20="","",'Rekapitulácia stavby'!AN20)
D26: Poznámka:
D30: Cena bez DPH | J30: =ROUND(J129, 2) -> 0
F32: Základ dane | I32: Sadzba dane | J32: Výška dane
D33: DPH | E33: základná | F33: =ROUND((SUM(BE129:BE495)), 2) -> 0 | I33: 0.23 | J33: =ROUND(((SUM(BE129:BE495))*I33), 2) -> 0
E34: znížená | F34: =ROUND((SUM(BF129:BF495)), 2) -> 0 | I34: 0.23 | J34: =ROUND(((SUM(BF129:BF495))*I34), 2) -> 0
E35: zákl. prenesená | F35: =ROUND((SUM(BG129:BG495)), 2) -> 0 | I35: 0.23 | J35: =0 -> 0
E36: zníž. prenesená | F36: =ROUND((SUM(BH129:BH495)), 2) -> 0 | I36: 0.23 | J36: =0 -> 0
E37: nulová | F37: =ROUND((SUM(BI129:BI495)), 2) -> 0 | I37: 0 | J37: =0 -> 0
D39: Cena s DPH | G39: v | H39: EUR | J39: =SUM(J30:J37) -> 0
D50: Projektant | G50: Spracovateľ
D61: Dátum a podpis: | F61: Pečiatka | G61: Dátum a podpis: | J61: Pečiatka
D65: Objednávateľ | G65: Zhotoviteľ
D76: Dátum a podpis: | F76: Pečiatka | G76: Dátum a podpis: | J76: Pečiatka
C82: REKAPITULÁCIA ROZPOČTU
C84: Stavba:
E85: =E7 -> IP Horná Streda
C86: Objekt:
E87: =E9 -> SO 2.03 - SO 2.03 Úprava štátnej cesty
C89: Miesto: | F89: =F12 | I89: Dátum: | J89: =IF(J12="","",J12) -> 31. 7. 2026
C91: Objednávateľ: | F91: =E15 | I91: Projektant: | J91: =E21
C92: Zhotoviteľ: | F92: =IF(E18="","",E18) -> Vyplň údaj | I92: Spracovateľ: | J92: =E24
C94: Kód dielu - Popis | J94: Cena celkom [EUR]
C96: Náklady z rozpočtu | J96: =J129 -> 0 | AU96: -1
D97: HSV - Práce a dodávky HSV | J97: =J130 -> 0
D98: 1 - Zemné práce | J98: =J131 -> 0
D99: 2 - Zakladanie | J99: =J284 -> 0
D100: 3 - Zvislé a kompletné konštrukcie | J100: =J298 -> 0
D101: 4 - Vodorovné konštrukcie | J101: =J319 -> 0
D102: 5 - Komunikácie | J102: =J324 -> 0
D103: 9 - Ostatné konštrukcie a práce-búranie | J103: =J373 -> 0
D104: 99 - Presun hmôt HSV | J104: =J481 -> 0
D105: PSV - Práce a dodávky PSV | J105: =J483 -> 0
D106: 783 - Nátery | J106: =J484 -> 0
D107: M - Práce a dodávky M | J107: =J488 -> 0
D108: 21-M - Elektromontáže | J108: =J489 -> 0
D109: VRN - Investičné náklady neobsiahnuté v cenách | J109: =J493 -> 0
C116: ROZPOČET
C118: Stavba:
E119: =E7 -> IP Horná Streda
C120: Objekt:
E121: =E9 -> SO 2.03 - SO 2.03 Úprava štátnej cesty
C123: Miesto: | F123: =F12 | I123: Dátum: | J123: =IF(J12="","",J12) -> 31. 7. 2026
C125: Objednávateľ: | F125: =E15 | I125: Projektant: | J125: =E21
C126: Zhotoviteľ: | F126: =IF(E18="","",E18) -> Vyplň údaj | I126: Spracovateľ: | J126: =E24
C128: PČ | D128: Typ | E128: Kód | F128: Popis | G128: MJ | H128: Množstvo | I128: J.cena [EUR] | J128: Cena celkom [EUR] | K128: Cenová sústava | N128: DPH | O128: J. Nh [h] | P128: Nh celkom [h] | Q128: J. hmotnosť [t] | R128: Hmotnosť celkom [t] | S128: J. suť [t] | T128: Suť Celkom [t]
C129: Náklady z rozpočtu | J129: =BK129 -> 0 | P129: =P130+P483+P488+P493 -> 0 | R129: =R130+R483+R488+R493 -> 152904.69 | T129: =T130+T483+T488+T493 -> 1242.8356 | AT129: D | AU129: -1 | BK129: =BK130+BK483+BK488+BK493 -> 0
D130: D | E130: HSV | F130: Práce a dodávky HSV | J130: =BK130 -> 0 | P130: =P131+P284+P298+P319+P324+P373+P481 -> 0 | R130: =R131+R284+R298+R319+R324+R373+R481 -> 152904.68 | T130: =T131+T284+T298+T319+T324+T373+T481 -> 1242.8356 | AR130: 1 | AT130: D | AU130: 0 | AY130: ROZPOCET | BK130: =BK131+BK284+BK298+BK319+BK324+BK373+BK481 -> 0
D131: D | E131: 1 | F131: Zemné práce | J131: =BK131 -> 0 | P131: =SUM(P132:P283) -> 0 | R131: =SUM(R132:R283) -> 132371.19 | T131: =SUM(T132:T283) -> 1242.8316 | AR131: 1 | AT131: D | AU131: 1 | AY131: ROZPOCET | BK131: =SUM(BK132:BK283) -> 0
C132: 1 | D132: K | E132: 111101102.S | F132: Oddrnenie trávnatej plochy s príp. premiestnením a uložením na hromady do 50 m, pri celk. ploche nad 1000 do 10000m2 | G132: m2 | H132: 5198.5 | J132: =ROUND(I132*H132,2) -> 0 | N132: znížená | P132: =O132*H132 -> 0 | Q132: 0 | R132: =Q132*H132 -> 0 | S132: 0 | T132: =S132*H132 -> 0 | AR132: 4 | AT132: K | AU132: 2 | AY132: ROZPOCET | BE132: =IF(N132="základná",J132,0) -> 0 | BF132: =IF(N132="znížená",J132,0) -> 0 | BG132: =IF(N132="zákl. prenesená",J132,0) -> 0 | BH132: =IF(N132="zníž. prenesená",J132,0) -> 0 | BI132: =IF(N132="nulová",J132,0) -> 0 | BJ132: 2 | BK132: =ROUND(I132*H132,2) -> 0 | BL132: 4 | BM132: 1709203172
D133: VV | F133: 5198,50 " trávnatá plocha hr. 0,20m" | H133: 5198.5 | AT133: VV | AU133: 2 | AV133: 2 | AW133: True | AX133: 1 | AY133: ROZPOCET
C134: 2 | D134: K | E134: 113152120.S | F134: Frézovanie asf. podkladu alebo krytu bez prek., plochy do 500 m2, pruh š. do 0,5 m, hr. 40 mm 0,100 t | G134: m2 | H134: 55.3 | J134: =ROUND(I134*H134,2) -> 0 | N134: znížená | P134: =O134*H134 -> 0 | Q134: 7e-05 | R134: =Q134*H134 -> 0.003871 | S134: 0.1 | T134: =S134*H134 -> 5.53 | AR134: 4 | AT134: K | AU134: 2 | AY134: ROZPOCET | BE134: =IF(N134="základná",J134,0) -> 0 | BF134: =IF(N134="znížená",J134,0) -> 0 | BG134: =IF(N134="zákl. prenesená",J134,0) -> 0 | BH134: =IF(N134="zníž. prenesená",J134,0) -> 0 | BI134: =IF(N134="nulová",J134,0) -> 0 | BJ134: 2 | BK134: =ROUND(I134*H134,2) -> 0 | BL134: 4 | BM134: -582464458
D135: VV | F135: 55,30 "asfaltová obrusná vrstva hr 0,04m - preplátovanie vozovky" | H135: 55.3 | AT135: VV | AU135: 2 | AV135: 2 | AW135: True | AX135: 1 | AY135: ROZPOCET
C136: 3 | D136: K | E136: 113152131.S | F136: Frézovanie asf. podkladu alebo krytu bez prek., plochy do 500 m2, pruh š. do 0,5 m, hr. 60 mm 0,152 t | G136: m2 | H136: 55.3 | J136: =ROUND(I136*H136,2) -> 0 | N136: znížená | P136: =O136*H136 -> 0 | Q136: 0.00017 | R136: =Q136*H136 -> 0.009401 | S136: 0.152 | T136: =S136*H136 -> 8.4056 | AR136: 4 | AT136: K | AU136: 2 | AY136: ROZPOCET | BE136: =IF(N136="základná",J136,0) -> 0 | BF136: =IF(N136="znížená",J136,0) -> 0 | BG136: =IF(N136="zákl. prenesená",J136,0) -> 0 | BH136: =IF(N136="zníž. prenesená",J136,0) -> 0 | BI136: =IF(N136="nulová",J136,0) -> 0 | BJ136: 2 | BK136: =ROUND(I136*H136,2) -> 0 | BL136: 4 | BM136: 1724666060
D137: VV | F137: 55,30 "asfaltová ložná vrstva hr 0,06m - preplátovanie vozovky" | H137: 55.3 | AT137: VV | AU137: 2 | AV137: 2 | AW137: True | AX137: 1 | AY137: ROZPOCET
C138: 4 | D138: K | E138: 113157325.S | F138: Odstránenie podkladu alebo krytu z kameniva hrubého drveného v ploche nad 200 m2 strojne, hr. vrstvy nad 400 do 500 mm, -0,72000t | G138: m2 | H138: 1706.8 | J138: =ROUND(I138*H138,2) -> 0 | N138: znížená | P138: =O138*H138 -> 0 | Q138: 0 | R138: =Q138*H138 -> 0 | S138: 0.72 | T138: =S138*H138 -> 1228.896 | AR138: 4 | AT138: K | AU138: 2 | AY138: ROZPOCET | BE138: =IF(N138="základná",J138,0) -> 0 | BF138: =IF(N138="znížená",J138,0) -> 0 | BG138: =IF(N138="zákl. prenesená",J138,0) -> 0 | BH138: =IF(N138="zníž. prenesená",J138,0) -> 0 | BI138: =IF(N138="nulová",J138,0) -> 0 | BJ138: 2 | BK138: =ROUND(I138*H138,2) -> 0 | BL138: 4 | BM138: -284767714
D139: VV | F139: 1706,80 "konštrukcia plochy stavebného dvora - ŠD hr 500mm" | H139: 1706.8 | AT139: VV | AU139: 2 | AV139: 2 | AW139: True | AX139: 1 | AY139: ROZPOCET
C140: 5 | D140: K | E140: 121101113.S | F140: Odstránenie ornice s premiestn. na hromady, so zložením na vzdialenosť do 100 m a do 10000 m3 | G140: m3 | H140: 6298.1 | J140: =ROUND(I140*H140,2) -> 0 | N140: znížená | P140: =O140*H140 -> 0 | Q140: 0 | R140: =Q140*H140 -> 0 | S140: 0 | T140: =S140*H140 -> 0 | AR140: 4 | AT140: K | AU140: 2 | AY140: ROZPOCET | BE140: =IF(N140="základná",J140,0) -> 0 | BF140: =IF(N140="znížená",J140,0) -> 0 | BG140: =IF(N140="zákl. prenesená",J140,0) -> 0 | BH140: =IF(N140="zníž. prenesená",J140,0) -> 0 | BI140: =IF(N140="nulová",J140,0) -> 0 | BJ140: 2 | BK140: =ROUND(I140*H140,2) -> 0 | BL140: 4 | BM140: 1141530213
D141: VV | F141: 6298,10 "odhumusovanie hr 0,50m" | H141: 6298.1 | AT141: VV | AU141: 2 | AV141: 2 | AW141: True | AX141: 1 | AY141: ROZPOCET
C142: 6 | D142: K | E142: 162501142.S | F142: Vodorovné premiestnenie výkopku po spevnenej ceste z horniny tr.1-4, nad 1000 do 10000 m3 na vzdialenosť do 3000 m | G142: m3 | H142: 2781.5 | J142: =ROUND(I142*H142,2) -> 0 | N142: znížená | P142: =O142*H142 -> 0 | Q142: 0 | R142: =Q142*H142 -> 0 | S142: 0 | T142: =S142*H142 -> 0 | AR142: 4 | AT142: K | AU142: 2 | AY142: ROZPOCET | BE142: =IF(N142="základná",J142,0) -> 0 | BF142: =IF(N142="znížená",J142,0) -> 0 | BG142: =IF(N142="zákl. prenesená",J142,0) -> 0 | BH142: =IF(N142="zníž. prenesená",J142,0) -> 0 | BI142: =IF(N142="nulová",J142,0) -> 0 | BJ142: 2 | BK142: =ROUND(I142*H142,2) -> 0 | BL142: 4 | BM142: -1704424437
D143: P | F143: Poznámka k položke:_x000D_ - odvoz v rámci katastrálného územia | AT143: P | AU143: 2
D144: VV | F144: 6298,10 "zemina z odhumusovania" | H144: 6298.1 | AT144: VV | AU144: 2 | AV144: 2 | AW144: True | AX144: 0 | AY144: ROZPOCET
D145: VV | F145: -3516,60 "zemina na spätné zahumusovanie v SO 2.03" | H145: -3516.6 | AT145: VV | AU145: 2 | AV145: 2 | AW145: True | AX145: 0 | AY145: ROZPOCET
D146: VV | F146: Súčet - prebytočná zemina z odhumusovania | H146: 2781.5 | AT146: VV | AU146: 2 | AV146: 4 | AW146: True | AX146: 1 | AY146: ROZPOCET
C147: 7 | D147: K | E147: 162501143.S | F147: Vodorovné premiestnenie výkopku po spevnenej ceste z horniny tr.1-4, nad 1000 do 10000 m3, príplatok k cene za každých ďalšich a začatých 1000 m | G147: m3 | H147: 19470.5 | J147: =ROUND(I147*H147,2) -> 0 | N147: znížená | P147: =O147*H147 -> 0 | Q147: 0 | R147: =Q147*H147 -> 0 | S147: 0 | T147: =S147*H147 -> 0 | AR147: 4 | AT147: K | AU147: 2 | AY147: ROZPOCET | BE147: =IF(N147="základná",J147,0) -> 0 | BF147: =IF(N147="znížená",J147,0) -> 0 | BG147: =IF(N147="zákl. prenesená",J147,0) -> 0 | BH147: =IF(N147="zníž. prenesená",J147,0) -> 0 | BI147: =IF(N147="nulová",J147,0) -> 0 | BJ147: 2 | BK147: =ROUND(I147*H147,2) -> 0 | BL147: 4 | BM147: -1762490985
D148: P | F148: Poznámka k položke:_x000D_ - odvoz v rámci katastrálného územia do 10 km | AT148: P | AU148: 2
D149: VV | F149: 2781,50*(10-3) "prebytočná zemina z odhumusovania" | H149: 19470.5 | AT149: VV | AU149: 2 | AV149: 2 | AW149: True | AX149: 1 | AY149: ROZPOCET
C150: 8 | D150: K | E150: 121101113.S | F150: Odstránenie ornice s premiestn. na hromady, so zložením na vzdialenosť do 100 m a do 10000 m3 | G150: m3 | H150: 3120.6 | J150: =ROUND(I150*H150,2) -> 0 | N150: znížená | P150: =O150*H150 -> 0 | Q150: 0 | R150: =Q150*H150 -> 0 | S150: 0 | T150: =S150*H150 -> 0 | AR150: 4 | AT150: K | AU150: 2 | AY150: ROZPOCET | BE150: =IF(N150="základná",J150,0) -> 0 | BF150: =IF(N150="znížená",J150,0) -> 0 | BG150: =IF(N150="zákl. prenesená",J150,0) -> 0 | BH150: =IF(N150="zníž. prenesená",J150,0) -> 0 | BI150: =IF(N150="nulová",J150,0) -> 0 | BJ150: 2 | BK150: =ROUND(I150*H150,2) -> 0 | BL150: 4 | BM150: 1397581346
D151: VV | F151: 853,40 "stavebný dvor - odhumusovanie hr 0,50m" | H151: 853.4 | AT151: VV | AU151: 2 | AV151: 2 | AW151: True | AX151: 0 | AY151: ROZPOCET
D152: VV | F152: 2267,20 "skládka humusu - odhumusovanie hr 0,50m" | H152: 2267.2 | AT152: VV | AU152: 2 | AV152: 2 | AW152: True | AX152: 0 | AY152: ROZPOCET
D153: VV | F153: Súčet | H153: 3120.6 | AT153: VV | AU153: 2 | AV153: 4 | AW153: True | AX153: 1 | AY153: ROZPOCET
C154: 9 | D154: K | E154: 162301141.S | F154: Vodorovné premiestnenie výkopku po spevnenej ceste z horniny tr.1-4, nad 1000 do 10000 m3 na vzdialenosť nad 50 do 500 m | G154: m3 | H154: 3120.6 | J154: =ROUND(I154*H154,2) -> 0 | N154: znížená | P154: =O154*H154 -> 0 | Q154: 0 | R154: =Q154*H154 -> 0 | S154: 0 | T154: =S154*H154 -> 0 | AR154: 4 | AT154: K | AU154: 2 | AY154: ROZPOCET | BE154: =IF(N154="základná",J154,0) -> 0 | BF154: =IF(N154="znížená",J154,0) -> 0 | BG154: =IF(N154="zákl. prenesená",J154,0) -> 0 | BH154: =IF(N154="zníž. prenesená",J154,0) -> 0 | BI154: =IF(N154="nulová",J154,0) -> 0 | BJ154: 2 | BK154: =ROUND(I154*H154,2) -> 0 | BL154: 4 | BM154: 1465956502
D155: P | F155: Poznámka k položke:_x000D_ - uloženie na medziskládku - spätné zahumusovanie v SO 2.03 | AT155: P | AU155: 2
D156: VV | F156: 3120,60 " zemina z odhumusovania - stavebný dvor+skládka humusu" | H156: 3120.6 | AT156: VV | AU156: 2 | AV156: 2 | AW156: True | AX156: 1 | AY156: ROZPOCET
C157: 10 | D157: K | E157: 167102121.S | F157: Nakladanie a prekladanie výkopku na spätné použitie | G157: m3 | H157: 3120.6 | J157: =ROUND(I157*H157,2) -> 0 | N157: znížená | P157: =O157*H157 -> 0 | Q157: 0 | R157: =Q157*H157 -> 0 | S157: 0 | T157: =S157*H157 -> 0 | AR157: 4 | AT157: K | AU157: 2 | AY157: ROZPOCET | BE157: =IF(N157="základná",J157,0) -> 0 | BF157: =IF(N157="znížená",J157,0) -> 0 | BG157: =IF(N157="zákl. prenesená",J157,0) -> 0 | BH157: =IF(N157="zníž. prenesená",J157,0) -> 0 | BI157: =IF(N157="nulová",J157,0) -> 0 | BJ157: 2 | BK157: =ROUND(I157*H157,2) -> 0 | BL157: 4 | BM157: -428213585
D158: P | F158: Poznámka k položke:_x000D_ - uloženie na medziskládku do 5 km, spätné naloženie a odvoz na miesto použitia | AT158: P | AU158: 2
D159: VV | F159: 3120,60 "zemina z odhumusovania - stavebný dvor+skládka humusu" | H159: 3120.6 | AT159: VV | AU159: 2 | AV159: 2 | AW159: True | AX159: 1 | AY159: ROZPOCET
C160: 11 | D160: K | E160: 122301102.S | F160: Odkopávka a prekopávka nezapažená v hornine 4, nad 100 do 1000 m3 | G160: m3 | H160: 271.79 | J160: =ROUND(I160*H160,2) -> 0 | N160: znížená | P160: =O160*H160 -> 0 | Q160: 0 | R160: =Q160*H160 -> 0 | S160: 0 | T160: =S160*H160 -> 0 | AR160: 4 | AT160: K | AU160: 2 | AY160: ROZPOCET | BE160: =IF(N160="základná",J160,0) -> 0 | BF160: =IF(N160="znížená",J160,0) -> 0 | BG160: =IF(N160="zákl. prenesená",J160,0) -> 0 | BH160: =IF(N160="zníž. prenesená",J160,0) -> 0 | BI160: =IF(N160="nulová",J160,0) -> 0 | BJ160: 2 | BK160: =ROUND(I160*H160,2) -> 0 | BL160: 4 | BM160: -458477446
D161: VV | F161: 156,94 "výkop pre chráničky - vetva A" | H161: 156.94 | AT161: VV | AU161: 2 | AV161: 2 | AW161: True | AX161: 0 | AY161: ROZPOCET
D162: VV | F162: 114,85 "výkop pre chráničky - vetva C" | H162: 114.85 | AT162: VV | AU162: 2 | AV162: 2 | AW162: True | AX162: 0 | AY162: ROZPOCET
D163: VV | F163: Súčet | H163: 271.79 | AT163: VV | AU163: 2 | AV163: 4 | AW163: True | AX163: 1 | AY163: ROZPOCET
C164: 12 | D164: K | E164: 122301109.S | F164: Odkopávky a prekopávky nezapažené. Príplatok za lepivosť horniny 4 | G164: m3 | H164: 90.633 | J164: =ROUND(I164*H164,2) -> 0 | N164: znížená | P164: =O164*H164 -> 0 | Q164: 0 | R164: =Q164*H164 -> 0 | S164: 0 | T164: =S164*H164 -> 0 | AR164: 4 | AT164: K | AU164: 2 | AY164: ROZPOCET | BE164: =IF(N164="základná",J164,0) -> 0 | BF164: =IF(N164="znížená",J164,0) -> 0 | BG164: =IF(N164="zákl. prenesená",J164,0) -> 0 | BH164: =IF(N164="zníž. prenesená",J164,0) -> 0 | BI164: =IF(N164="nulová",J164,0) -> 0 | BJ164: 2 | BK164: =ROUND(I164*H164,2) -> 0 | BL164: 4 | BM164: -1273203176
D165: VV | F165: 271,9/3 "výkop pre chráničky - vetva A a C" | H165: 90.633 | AT165: VV | AU165: 2 | AV165: 2 | AW165: True | AX165: 1 | AY165: ROZPOCET
C166: 13 | D166: K | E166: 122301102.S | F166: Odkopávka a prekopávka nezapažená v hornine 4, nad 100 do 1000 m3 | G166: m3 | H166: 7636.1 | J166: =ROUND(I166*H166,2) -> 0 | N166: znížená | P166: =O166*H166 -> 0 | Q166: 0 | R166: =Q166*H166 -> 0 | S166: 0 | T166: =S166*H166 -> 0 | AR166: 4 | AT166: K | AU166: 2 | AY166: ROZPOCET | BE166: =IF(N166="základná",J166,0) -> 0 | BF166: =IF(N166="znížená",J166,0) -> 0 | BG166: =IF(N166="zákl. prenesená",J166,0) -> 0 | BH166: =IF(N166="zníž. prenesená",J166,0) -> 0 | BI166: =IF(N166="nulová",J166,0) -> 0 | BJ166: 2 | BK166: =ROUND(I166*H166,2) -> 0 | BL166: 4 | BM166: -1929058183
...

Sheet SO 2.04 - SO 2.04  Mostný...
L2: >> skryté stĺpce << | AT2: {1904f689-7e03-4cc5-8272-dd677a2a45ff}
AT3: 0
D4: KRYCÍ LIST ROZPOČTU | M4: v --- nižšie sa nachádzajú doplnkové a pomocné údaje k zostavám --- v | AT4: False
D6: Stavba:
E7: ='Rekapitulácia stavby'!K6 -> IP Horná Streda
D8: Objekt:
E9: SO 2.04 - SO 2.04 Mostný objekt cestného nadjazdu
D11: JKSO: | I11: ČS:
D12: Miesto: | I12: Dátum: | J12: ='Rekapitulácia stavby'!AN8 -> 31. 7. 2026
D14: Objednávateľ: | I14: IČO: | J14: =IF('Rekapitulácia stavby'!AN10="","",'Rekapitulácia stavby'!AN10)
E15: =IF('Rekapitulácia stavby'!E11="","",'Rekapitulácia stavby'!E11) | I15: IČ DPH: | J15: =IF('Rekapitulácia stavby'!AN11="","",'Rekapitulácia stavby'!AN11)
D17: Zhotoviteľ: | I17: IČO: | J17: ='Rekapitulácia stavby'!AN13 -> Vyplň údaj
E18: ='Rekapitulácia stavby'!E14 -> Vyplň údaj | I18: IČ DPH: | J18: ='Rekapitulácia stavby'!AN14 -> Vyplň údaj
D20: Projektant: | I20: IČO: | J20: =IF('Rekapitulácia stavby'!AN16="","",'Rekapitulácia stavby'!AN16)
E21: =IF('Rekapitulácia stavby'!E17="","",'Rekapitulácia stavby'!E17) | I21: IČ DPH: | J21: =IF('Rekapitulácia stavby'!AN17="","",'Rekapitulácia stavby'!AN17)
D23: Spracovateľ: | I23: IČO: | J23: =IF('Rekapitulácia stavby'!AN19="","",'Rekapitulácia stavby'!AN19)
E24: =IF('Rekapitulácia stavby'!E20="","",'Rekapitulácia stavby'!E20) | I24: IČ DPH: | J24: =IF('Rekapitulácia stavby'!AN20="","",'Rekapitulácia stavby'!AN20)
D26: Poznámka:
D30: Cena bez DPH | J30: =ROUND(J128, 2) -> 0
F32: Základ dane | I32: Sadzba dane | J32: Výška dane
D33: DPH | E33: základná | F33: =ROUND((SUM(BE128:BE482)), 2) -> 0 | I33: 0.23 | J33: =ROUND(((SUM(BE128:BE482))*I33), 2) -> 0
E34: znížená | F34: =ROUND((SUM(BF128:BF482)), 2) -> 0 | I34: 0.23 | J34: =ROUND(((SUM(BF128:BF482))*I34), 2) -> 0
E35: zákl. prenesená | F35: =ROUND((SUM(BG128:BG482)), 2) -> 0 | I35: 0.23 | J35: =0 -> 0
E36: zníž. prenesená | F36: =ROUND((SUM(BH128:BH482)), 2) -> 0 | I36: 0.23 | J36: =0 -> 0
E37: nulová | F37: =ROUND((SUM(BI128:BI482)), 2) -> 0 | I37: 0 | J37: =0 -> 0
D39: Cena s DPH | G39: v | H39: EUR | J39: =SUM(J30:J37) -> 0
D50: Projektant | G50: Spracovateľ
D61: Dátum a podpis: | F61: Pečiatka | G61: Dátum a podpis: | J61: Pečiatka
D65: Objednávateľ | G65: Zhotoviteľ
D76: Dátum a podpis: | F76: Pečiatka | G76: Dátum a podpis: | J76: Pečiatka
C82: REKAPITULÁCIA ROZPOČTU
C84: Stavba:
E85: =E7 -> IP Horná Streda
C86: Objekt:
E87: =E9 -> SO 2.04 - SO 2.04 Mostný objekt cestného nadjazdu
C89: Miesto: | F89: =F12 | I89: Dátum: | J89: =IF(J12="","",J12) -> 31. 7. 2026
C91: Objednávateľ: | F91: =E15 | I91: Projektant: | J91: =E21
C92: Zhotoviteľ: | F92: =IF(E18="","",E18) -> Vyplň údaj | I92: Spracovateľ: | J92: =E24
C94: Kód dielu - Popis | J94: Cena celkom [EUR]
C96: Náklady z rozpočtu | J96: =J128 -> 0 | AU96: -1
D97: HSV - Práce a dodávky HSV | J97: =J129 -> 0
D98: 1 - Zemné práce | J98: =J130 -> 0
D99: 2 - Zakladanie | J99: =J180 -> 0
D100: 3 - Zvislé a kompletné konštrukcie | J100: =J233 -> 0
D101: 4 - Vodorovné konštrukcie | J101: =J292 -> 0
D102: 5 - Komunikácie | J102: =J353 -> 0
D103: 6 - Úpravy povrchov, podlahy, osadenie | J103: =J375 -> 0
D104: 9 - Ostatné konštrukcie a práce-búranie | J104: =J380 -> 0
D105: PSV - Práce a dodávky PSV | J105: =J441 -> 0
D106: 711 - Izolácie proti vode a vlhkosti | J106: =J442 -> 0
D107: 767 - Konštrukcie doplnkové kovové | J107: =J465 -> 0
D108: VRN - Investičné náklady neobsiahnuté v cenách | J108: =J480 -> 0
C115: ROZPOČET
C117: Stavba:
E118: =E7 -> IP Horná Streda
C119: Objekt:
E120: =E9 -> SO 2.04 - SO 2.04 Mostný objekt cestného nadjazdu
C122: Miesto: | F122: =F12 | I122: Dátum: | J122: =IF(J12="","",J12) -> 31. 7. 2026
C124: Objednávateľ: | F124: =E15 | I124: Projektant: | J124: =E21
C125: Zhotoviteľ: | F125: =IF(E18="","",E18) -> Vyplň údaj | I125: Spracovateľ: | J125: =E24
C127: PČ | D127: Typ | E127: Kód | F127: Popis | G127: MJ | H127: Množstvo | I127: J.cena [EUR] | J127: Cena celkom [EUR] | K127: Cenová sústava | N127: DPH | O127: J. Nh [h] | P127: Nh celkom [h] | Q127: J. hmotnosť [t] | R127: Hmotnosť celkom [t] | S127: J. suť [t] | T127: Suť Celkom [t]
C128: Náklady z rozpočtu | J128: =BK128 -> 0 | P128: =P129+P441+P480 -> 0 | R128: =R129+R441+R480 -> 11212.227 | T128: =T129+T441+T480 -> 0 | AT128: D | AU128: -1 | BK128: =BK129+BK441+BK480 -> 0
D129: D | E129: HSV | F129: Práce a dodávky HSV | J129: =BK129 -> 0 | P129: =P130+P180+P233+P292+P353+P375+P380 -> 0 | R129: =R130+R180+R233+R292+R353+R375+R380 -> 11211.208 | T129: =T130+T180+T233+T292+T353+T375+T380 -> 0 | AR129: 1 | AT129: D | AU129: 0 | AY129: ROZPOCET | BK129: =BK130+BK180+BK233+BK292+BK353+BK375+BK380 -> 0
D130: D | E130: 1 | F130: Zemné práce | J130: =BK130 -> 0 | P130: =SUM(P131:P179) -> 0 | R130: =SUM(R131:R179) -> 6977.289 | T130: =SUM(T131:T179) -> 0 | AR130: 1 | AT130: D | AU130: 1 | AY130: ROZPOCET | BK130: =SUM(BK131:BK179) -> 0
C131: 1 | D131: K | E131: 115101202.S | F131: Čerpanie vody na dopravnú výšku do 10 m s priemerným prítokom litrov za minútu nad 500 l do 1000 l | G131: hod | H131: 3240 | J131: =ROUND(I131*H131,2) -> 0 | N131: znížená | P131: =O131*H131 -> 0 | Q131: 0 | R131: =Q131*H131 -> 0 | S131: 0 | T131: =S131*H131 -> 0 | AR131: 4 | AT131: K | AU131: 2 | AY131: ROZPOCET | BE131: =IF(N131="základná",J131,0) -> 0 | BF131: =IF(N131="znížená",J131,0) -> 0 | BG131: =IF(N131="zákl. prenesená",J131,0) -> 0 | BH131: =IF(N131="zníž. prenesená",J131,0) -> 0 | BI131: =IF(N131="nulová",J131,0) -> 0 | BJ131: 2 | BK131: =ROUND(I131*H131,2) -> 0 | BL131: 4 | BM131: -497310304
D132: VV | F132: 45*24*1 "Opora 1 =45dní*24hod*1čerpadlo" | H132: 1080 | AT132: VV | AU132: 2 | AV132: 2 | AW132: True | AX132: 0 | AY132: ROZPOCET
D133: VV | F133: 45*24*1 "Pilier P2 =45dní*24hod*1čerpadlo" | H133: 1080 | AT133: VV | AU133: 2 | AV133: 2 | AW133: True | AX133: 0 | AY133: ROZPOCET
D134: VV | F134: 45*24*1 "Opora 3 =45dní*24hod*1čerpadlo" | H134: 1080 | AT134: VV | AU134: 2 | AV134: 2 | AW134: True | AX134: 0 | AY134: ROZPOCET
D135: VV | F135: Súčet | H135: 3240 | AT135: VV | AU135: 2 | AV135: 4 | AW135: True | AX135: 1 | AY135: ROZPOCET
C136: 2 | D136: K | E136: 131301103.S | F136: Výkop nezapaženej jamy v hornine 4, nad 1000 do 10000 m3 | G136: m3 | H136: 1072.86 | J136: =ROUND(I136*H136,2) -> 0 | N136: znížená | P136: =O136*H136 -> 0 | Q136: 0 | R136: =Q136*H136 -> 0 | S136: 0 | T136: =S136*H136 -> 0 | AR136: 4 | AT136: K | AU136: 2 | AY136: ROZPOCET | BE136: =IF(N136="základná",J136,0) -> 0 | BF136: =IF(N136="znížená",J136,0) -> 0 | BG136: =IF(N136="zákl. prenesená",J136,0) -> 0 | BH136: =IF(N136="zníž. prenesená",J136,0) -> 0 | BI136: =IF(N136="nulová",J136,0) -> 0 | BJ136: 2 | BK136: =ROUND(I136*H136,2) -> 0 | BL136: 4 | BM136: 1252185378
D137: VV | F137: (16,35*18,71)+(16,17*18,7) "výkopy O1 a O3" | H137: 608.288 | AT137: VV | AU137: 2 | AV137: 2 | AW137: True | AX137: 0 | AY137: ROZPOCET
D138: VV | F138: 24,91*18,65 "výkopy P2" | H138: 464.572 | AT138: VV | AU138: 2 | AV138: 2 | AW138: True | AX138: 0 | AY138: ROZPOCET
D139: VV | F139: Súčet | H139: 1072.86 | AT139: VV | AU139: 2 | AV139: 4 | AW139: True | AX139: 1 | AY139: ROZPOCET
C140: 3 | D140: K | E140: 131301109.S | F140: Hĺbenie nezapažených jám a zárezov. Príplatok za lepivosť horniny 4 | G140: m3 | H140: 357.62 | J140: =ROUND(I140*H140,2) -> 0 | N140: znížená | P140: =O140*H140 -> 0 | Q140: 0 | R140: =Q140*H140 -> 0 | S140: 0 | T140: =S140*H140 -> 0 | AR140: 4 | AT140: K | AU140: 2 | AY140: ROZPOCET | BE140: =IF(N140="základná",J140,0) -> 0 | BF140: =IF(N140="znížená",J140,0) -> 0 | BG140: =IF(N140="zákl. prenesená",J140,0) -> 0 | BH140: =IF(N140="zníž. prenesená",J140,0) -> 0 | BI140: =IF(N140="nulová",J140,0) -> 0 | BJ140: 2 | BK140: =ROUND(I140*H140,2) -> 0 | BL140: 4 | BM140: 2131826967
D141: VV | F141: 1072,860/3 | H141: 357.62 | AT141: VV | AU141: 2 | AV141: 2 | AW141: True | AX141: 1 | AY141: ROZPOCET
C142: 4 | D142: K | E142: 162501132.S | F142: Vodorovné premiestnenie výkopku po nespevnenej ceste z horniny tr.1-4, nad 100 do 1000 m3 na vzdialenosť do 3000 m | G142: m3 | H142: 1072.86 | J142: =ROUND(I142*H142,2) -> 0 | N142: znížená | P142: =O142*H142 -> 0 | Q142: 0 | R142: =Q142*H142 -> 0 | S142: 0 | T142: =S142*H142 -> 0 | AR142: 4 | AT142: K | AU142: 2 | AY142: ROZPOCET | BE142: =IF(N142="základná",J142,0) -> 0 | BF142: =IF(N142="znížená",J142,0) -> 0 | BG142: =IF(N142="zákl. prenesená",J142,0) -> 0 | BH142: =IF(N142="zníž. prenesená",J142,0) -> 0 | BI142: =IF(N142="nulová",J142,0) -> 0 | BJ142: 2 | BK142: =ROUND(I142*H142,2) -> 0 | BL142: 4 | BM142: -1131970927
D143: P | F143: Poznámka k položke:_x000D_ - odvoz na skládku | AT143: P | AU143: 2
D144: VV | F144: 1072,86 "výkopová zemina" | H144: 1072.86 | AT144: VV | AU144: 2 | AV144: 2 | AW144: True | AX144: 1 | AY144: ROZPOCET
C145: 5 | D145: K | E145: 162501133.S | F145: Vodorovné premiestnenie výkopku po nespevnenej ceste z horniny tr.1-4, nad 100 do 1000 m3, príplatok k cene za každých ďalšich a začatých 1000 m | G145: m3 | H145: 23602.92 | J145: =ROUND(I145*H145,2) -> 0 | N145: znížená | P145: =O145*H145 -> 0 | Q145: 0 | R145: =Q145*H145 -> 0 | S145: 0 | T145: =S145*H145 -> 0 | AR145: 4 | AT145: K | AU145: 2 | AY145: ROZPOCET | BE145: =IF(N145="základná",J145,0) -> 0 | BF145: =IF(N145="znížená",J145,0) -> 0 | BG145: =IF(N145="zákl. prenesená",J145,0) -> 0 | BH145: =IF(N145="zníž. prenesená",J145,0) -> 0 | BI145: =IF(N145="nulová",J145,0) -> 0 | BJ145: 2 | BK145: =ROUND(I145*H145,2) -> 0 | BL145: 4 | BM145: 992930978
D146: P | F146: Poznámka k položke:_x000D_ - skládka do 25km | AT146: P | AU146: 2
D147: VV | F147: 1072,86*(25-3) "výkopová zemina" | H147: 23602.92 | AT147: VV | AU147: 2 | AV147: 2 | AW147: True | AX147: 1 | AY147: ROZPOCET
C148: 6 | D148: K | E148: 167102102.S | F148: Nakladanie neuľahnutého výkopku z hornín tr.1-4 nad 1000 do 10000 m3 | G148: m3 | H148: 1072.86 | J148: =ROUND(I148*H148,2) -> 0 | N148: znížená | P148: =O148*H148 -> 0 | Q148: 0 | R148: =Q148*H148 -> 0 | S148: 0 | T148: =S148*H148 -> 0 | AR148: 4 | AT148: K | AU148: 2 | AY148: ROZPOCET | BE148: =IF(N148="základná",J148,0) -> 0 | BF148: =IF(N148="znížená",J148,0) -> 0 | BG148: =IF(N148="zákl. prenesená",J148,0) -> 0 | BH148: =IF(N148="zníž. prenesená",J148,0) -> 0 | BI148: =IF(N148="nulová",J148,0) -> 0 | BJ148: 2 | BK148: =ROUND(I148*H148,2) -> 0 | BL148: 4 | BM148: 1181693974
D149: P | F149: Poznámka k položke:_x000D_ - odvoz na skládku | AT149: P | AU149: 2
D150: VV | F150: 1072,86 "výkopová zemina" | H150: 1072.86 | AT150: VV | AU150: 2 | AV150: 2 | AW150: True | AX150: 1 | AY150: ROZPOCET
C151: 7 | D151: K | E151: 132301101.S | F151: Výkop ryhy do šírky 600 mm v horn.4 do 100 m3 | G151: m3 | H151: 30.816 | J151: =ROUND(I151*H151,2) -> 0 | N151: znížená | P151: =O151*H151 -> 0 | Q151: 0 | R151: =Q151*H151 -> 0 | S151: 0 | T151: =S151*H151 -> 0 | AR151: 4 | AT151: K | AU151: 2 | AY151: ROZPOCET | BE151: =IF(N151="základná",J151,0) -> 0 | BF151: =IF(N151="znížená",J151,0) -> 0 | BG151: =IF(N151="zákl. prenesená",J151,0) -> 0 | BH151: =IF(N151="zníž. prenesená",J151,0) -> 0 | BI151: =IF(N151="nulová",J151,0) -> 0 | BJ151: 2 | BK151: =ROUND(I151*H151,2) -> 0 | BL151: 4 | BM151: 2096794024
D152: VV | F152: 0,5*0,8*(19,7+19,7+18,6+19,04) "výkopy pre prahy spevnenia" | H152: 30.816 | AT152: VV | AU152: 2 | AV152: 2 | AW152: True | AX152: 1 | AY152: ROZPOCET
C153: 8 | D153: K | E153: 132301109.S | F153: Príplatok za lepivosť pri hĺbení rýh šírky do 600 mm zapažených i nezapažených s urovnaním dna v hornine 4 | G153: m3 | H153: 10.062 | J153: =ROUND(I153*H153,2) -> 0 | N153: znížená | P153: =O153*H153 -> 0 | Q153: 0 | R153: =Q153*H153 -> 0 | S153: 0 | T153: =S153*H153 -> 0 | AR153: 4 | AT153: K | AU153: 2 | AY153: ROZPOCET | BE153: =IF(N153="základná",J153,0) -> 0 | BF153: =IF(N153="znížená",J153,0) -> 0 | BG153: =IF(N153="zákl. prenesená",J153,0) -> 0 | BH153: =IF(N153="zníž. prenesená",J153,0) -> 0 | BI153: =IF(N153="nulová",J153,0) -> 0 | BJ153: 2 | BK153: =ROUND(I153*H153,2) -> 0 | BL153: 4 | BM153: -345460469
D154: VV | F154: 30,186/3 | H154: 10.062 | AT154: VV | AU154: 2 | AV154: 2 | AW154: True | AX154: 1 | AY154: ROZPOCET
C155: 9 | D155: K | E155: 162501102.S | F155: Vodorovné premiestnenie výkopku po spevnenej ceste z horniny tr.1-4, do 100 m3 na vzdialenosť do 3000 m | G155: m3 | H155: 30.186 | J155: =ROUND(I155*H155,2) -> 0 | N155: znížená | P155: =O155*H155 -> 0 | Q155: 0 | R155: =Q155*H155 -> 0 | S155: 0 | T155: =S155*H155 -> 0 | AR155: 4 | AT155: K | AU155: 2 | AY155: ROZPOCET | BE155: =IF(N155="základná",J155,0) -> 0 | BF155: =IF(N155="znížená",J155,0) -> 0 | BG155: =IF(N155="zákl. prenesená",J155,0) -> 0 | BH155: =IF(N155="zníž. prenesená",J155,0) -> 0 | BI155: =IF(N155="nulová",J155,0) -> 0 | BJ155: 2 | BK155: =ROUND(I155*H155,2) -> 0 | BL155: 4 | BM155: -537318311
D156: P | F156: Poznámka k položke:_x000D_ - odvoz na skládku | AT156: P | AU156: 2
D157: VV | F157: 30,186 "výkopová zemina" | H157: 30.186 | AT157: VV | AU157: 2 | AV157: 2 | AW157: True | AX157: 1 | AY157: ROZPOCET
C158: 10 | D158: K | E158: 162501105.S | F158: Vodorovné premiestnenie výkopku po spevnenej ceste z horniny tr.1-4, do 100 m3, príplatok k cene za každých ďalšich a začatých 1000 m | G158: m3 | H158: 664.092 | J158: =ROUND(I158*H158,2) -> 0 | N158: znížená | P158: =O158*H158 -> 0 | Q158: 0 | R158: =Q158*H158 -> 0 | S158: 0 | T158: =S158*H158 -> 0 | AR158: 4 | AT158: K | AU158: 2 | AY158: ROZPOCET | BE158: =IF(N158="základná",J158,0) -> 0 | BF158: =IF(N158="znížená",J158,0) -> 0 | BG158: =IF(N158="zákl. prenesená",J158,0) -> 0 | BH158: =IF(N158="zníž. prenesená",J158,0) -> 0 | BI158: =IF(N158="nulová",J158,0) -> 0 | BJ158: 2 | BK158: =ROUND(I158*H158,2) -> 0 | BL158: 4 | BM158: 1261554360
D159: P | F159: Poznámka k položke:_x000D_ - skládka do 25km | AT159: P | AU159: 2
D160: VV | F160: 30,186*(25-3) "výkopová zemina" | H160: 664.092 | AT160: VV | AU160: 2 | AV160: 2 | AW160: True | AX160: 1 | AY160: ROZPOCET
C161: 11 | D161: K | E161: 167101101.S | F161: Nakladanie neuľahnutého výkopku z hornín tr.1-4 do 100 m3 | G161: m3 | H161: 30.186 | J161: =ROUND(I161*H161,2) -> 0 | N161: znížená | P161: =O161*H161 -> 0 | Q161: 0 | R161: =Q161*H161 -> 0 | S161: 0 | T161: =S161*H161 -> 0 | AR161: 4 | AT161: K | AU161: 2 | AY161: ROZPOCET | BE161: =IF(N161="základná",J161,0) -> 0 | BF161: =IF(N161="znížená",J161,0) -> 0 | BG161: =IF(N161="zákl. prenesená",J161,0) -> 0 | BH161: =IF(N161="zníž. prenesená",J161,0) -> 0 | BI161: =IF(N161="nulová",J161,0) -> 0 | BJ161: 2 | BK161: =ROUND(I161*H161,2) -> 0 | BL161: 4 | BM161: -1227146869
D162: P | F162: Poznámka k položke:_x000D_ - odvoz na skládku | AT162: P | AU162: 2
D163: VV | F163: 30,186 "výkopová zemina" | H163: 30.186 | AT163: VV | AU163: 2 | AV163: 2 | AW163: True | AX163: 1 | AY163: ROZPOCET
C164: 12 | D164: K | E164: 171209002.S | F164: Poplatok za skládku - zemina a kamenivo (17 05), ostatné | G164: t | H164: 1985.483 | J164: =ROUND(I164*H164,2) -> 0 | N164: znížená | P164: =O164*H164 -> 0 | Q164: 0 | R164: =Q164*H164 -> 0 | S164: 0 | T164: =S164*H164 -> 0 | AR164: 4 | AT164: K | AU164: 2 | AY164: ROZPOCET | BE164: =IF(N164="základná",J164,0) -> 0 | BF164: =IF(N164="znížená",J164,0) -> 0 | BG164: =IF(N164="zákl. prenesená",J164,0) -> 0 | BH164: =IF(N164="zníž. prenesená",J164,0) -> 0 | BI164: =IF(N164="nulová",J164,0) -> 0 | BJ164: 2 | BK164: =ROUND(I164*H164,2) -> 0 | BL164: 4 | BM164: -1929840099
D165: VV | F165: (1072,86+30,186)*1,8 "výkopová zemina" | H165: 1985.483 | AT165: VV | AU165: 2 | AV165: 2 | AW165: True | AX165: 1 | AY165: ROZPOCET
C166: 13 | D166: K | E166: 174101003.S | F166: Zásyp sypaninou so zhutnením jám, šachiet, rýh, zárezov alebo okolo objektov nad 1000 do 10000 m3 | G166: m3 | H166: 2409.784 | J166: =ROUND(I166*H166,2) -> 0 | N166: znížená | P166: =O166*H166 -> 0 | Q166: 0 | R166: =Q166*H166 -> 0 | S166: 0 | T166: =S166*H166 -> 0 | AR166: 4 | AT166: K | AU166: 2 | AY166: ROZPOCET | BE166: =IF(N166="základná",J166,0) -> 0 | BF166: =IF(N166="znížená",J166,0) -> 0 | BG166: =IF(N166="zákl. prenesená",J166,0) -> 0 | BH166: =IF(N166="zníž. prenesená",J166,0) -> 0 | BI166: =IF(N166="nulová",J166,0) -> 0 | BJ166: 2 | BK166: =ROUND(I166*H166,2) -> 0 | BL166: 4 | BM166: -1848577920
...

Sheet SO 2.05 - SO 2.05  Okružn...
L2: >> skryté stĺpce << | AT2: {574f9d75-fd84-4004-8e18-590cf0c886ba}
AT3: 0
D4: KRYCÍ LIST ROZPOČTU | M4: v --- nižšie sa nachádzajú doplnkové a pomocné údaje k zostavám --- v | AT4: False
D6: Stavba:
E7: ='Rekapitulácia stavby'!K6 -> IP Horná Streda
D8: Objekt:
E9: SO 2.05 - SO 2.05 Okružná križovatka štátnej cesty I/61
D11: JKSO: | I11: ČS:
D12: Miesto: | I12: Dátum: | J12: ='Rekapitulácia stavby'!AN8 -> 31. 7. 2026
D14: Objednávateľ: | I14: IČO: | J14: =IF('Rekapitulácia stavby'!AN10="","",'Rekapitulácia stavby'!AN10)
E15: =IF('Rekapitulácia stavby'!E11="","",'Rekapitulácia stavby'!E11) | I15: IČ DPH: | J15: =IF('Rekapitulácia stavby'!AN11="","",'Rekapitulácia stavby'!AN11)
D17: Zhotoviteľ: | I17: IČO: | J17: ='Rekapitulácia stavby'!AN13 -> Vyplň údaj
E18: ='Rekapitulácia stavby'!E14 -> Vyplň údaj | I18: IČ DPH: | J18: ='Rekapitulácia stavby'!AN14 -> Vyplň údaj
D20: Projektant: | I20: IČO: | J20: =IF('Rekapitulácia stavby'!AN16="","",'Rekapitulácia stavby'!AN16)
E21: =IF('Rekapitulácia stavby'!E17="","",'Rekapitulácia stavby'!E17) | I21: IČ DPH: | J21: =IF('Rekapitulácia stavby'!AN17="","",'Rekapitulácia stavby'!AN17)
D23: Spracovateľ: | I23: IČO: | J23: =IF('Rekapitulácia stavby'!AN19="","",'Rekapitulácia stavby'!AN19)
E24: =IF('Rekapitulácia stavby'!E20="","",'Rekapitulácia stavby'!E20) | I24: IČ DPH: | J24: =IF('Rekapitulácia stavby'!AN20="","",'Rekapitulácia stavby'!AN20)
D26: Poznámka:
D30: Cena bez DPH | J30: =ROUND(J127, 2) -> 0
F32: Základ dane | I32: Sadzba dane | J32: Výška dane
D33: DPH | E33: základná | F33: =ROUND((SUM(BE127:BE360)), 2) -> 0 | I33: 0.23 | J33: =ROUND(((SUM(BE127:BE360))*I33), 2) -> 0
E34: znížená | F34: =ROUND((SUM(BF127:BF360)), 2) -> 0 | I34: 0.23 | J34: =ROUND(((SUM(BF127:BF360))*I34), 2) -> 0
E35: zákl. prenesená | F35: =ROUND((SUM(BG127:BG360)), 2) -> 0 | I35: 0.23 | J35: =0 -> 0
E36: zníž. prenesená | F36: =ROUND((SUM(BH127:BH360)), 2) -> 0 | I36: 0.23 | J36: =0 -> 0
E37: nulová | F37: =ROUND((SUM(BI127:BI360)), 2) -> 0 | I37: 0 | J37: =0 -> 0
D39: Cena s DPH | G39: v | H39: EUR | J39: =SUM(J30:J37) -> 0
D50: Projektant | G50: Spracovateľ
D61: Dátum a podpis: | F61: Pečiatka | G61: Dátum a podpis: | J61: Pečiatka
D65: Objednávateľ | G65: Zhotoviteľ
D76: Dátum a podpis: | F76: Pečiatka | G76: Dátum a podpis: | J76: Pečiatka
C82: REKAPITULÁCIA ROZPOČTU
C84: Stavba:
E85: =E7 -> IP Horná Streda
C86: Objekt:
E87: =E9 -> SO 2.05 - SO 2.05 Okružná križovatka štátnej cesty I/61
C89: Miesto: | F89: =F12 | I89: Dátum: | J89: =IF(J12="","",J12) -> 31. 7. 2026
C91: Objednávateľ: | F91: =E15 | I91: Projektant: | J91: =E21
C92: Zhotoviteľ: | F92: =IF(E18="","",E18) -> Vyplň údaj | I92: Spracovateľ: | J92: =E24
C94: Kód dielu - Popis | J94: Cena celkom [EUR]
C96: Náklady z rozpočtu | J96: =J127 -> 0 | AU96: -1
D97: HSV - Práce a dodávky HSV | J97: =J128 -> 0
D98: 1 - Zemné práce | J98: =J129 -> 0
D99: 2 - Zakladanie | J99: =J234 -> 0
D100: 3 - Zvislé a kompletné konštrukcie | J100: =J245 -> 0
D101: 4 - Vodorovné konštrukcie | J101: =J250 -> 0
D102: 5 - Komunikácie | J102: =J255 -> 0
D103: 9 - Ostatné konštrukcie a práce-búranie | J103: =J284 -> 0
D104: 99 - Presun hmôt HSV | J104: =J349 -> 0
D105: PSV - Práce a dodávky PSV | J105: =J351 -> 0
D106: 783 - Nátery | J106: =J352 -> 0
D107: VRN - Investičné náklady neobsiahnuté v cenách | J107: =J358 -> 0
C114: ROZPOČET
C116: Stavba:
E117: =E7 -> IP Horná Streda
C118: Objekt:
E119: =E9 -> SO 2.05 - SO 2.05 Okružná križovatka štátnej cesty I/61
C121: Miesto: | F121: =F12 | I121: Dátum: | J121: =IF(J12="","",J12) -> 31. 7. 2026
C123: Objednávateľ: | F123: =E15 | I123: Projektant: | J123: =E21
C124: Zhotoviteľ: | F124: =IF(E18="","",E18) -> Vyplň údaj | I124: Spracovateľ: | J124: =E24
C126: PČ | D126: Typ | E126: Kód | F126: Popis | G126: MJ | H126: Množstvo | I126: J.cena [EUR] | J126: Cena celkom [EUR] | K126: Cenová sústava | N126: DPH | O126: J. Nh [h] | P126: Nh celkom [h] | Q126: J. hmotnosť [t] | R126: Hmotnosť celkom [t] | S126: J. suť [t] | T126: Suť Celkom [t]
C127: Náklady z rozpočtu | J127: =BK127 -> 0 | P127: =P128+P351+P358 -> 0 | R127: =R128+R351+R358 -> 8452.4841 | T127: =T128+T351+T358 -> 0 | AT127: D | AU127: -1 | BK127: =BK128+BK351+BK358 -> 0
D128: D | E128: HSV | F128: Práce a dodávky HSV | J128: =BK128 -> 0 | P128: =P129+P234+P245+P250+P255+P284+P349 -> 0 | R128: =R129+R234+R245+R250+R255+R284+R349 -> 8452.4748 | T128: =T129+T234+T245+T250+T255+T284+T349 -> 0 | AR128: 1 | AT128: D | AU128: 0 | AY128: ROZPOCET | BK128: =BK129+BK234+BK245+BK250+BK255+BK284+BK349 -> 0
D129: D | E129: 1 | F129: Zemné práce | J129: =BK129 -> 0 | P129: =SUM(P130:P233) -> 0 | R129: =SUM(R130:R233) -> 3870.7233 | T129: =SUM(T130:T233) -> 0 | AR129: 1 | AT129: D | AU129: 1 | AY129: ROZPOCET | BK129: =SUM(BK130:BK233) -> 0
C130: 1 | D130: K | E130: 111101101.S | F130: Oddrnenie trávnatej plochy s príp. premiestnením a uložením na hromady do 50 m, pri celkovej ploche do 1000m2 | G130: m2 | H130: 441.5 | J130: =ROUND(I130*H130,2) -> 0 | N130: znížená | P130: =O130*H130 -> 0 | Q130: 0 | R130: =Q130*H130 -> 0 | S130: 0 | T130: =S130*H130 -> 0 | AR130: 4 | AT130: K | AU130: 2 | AY130: ROZPOCET | BE130: =IF(N130="základná",J130,0) -> 0 | BF130: =IF(N130="znížená",J130,0) -> 0 | BG130: =IF(N130="zákl. prenesená",J130,0) -> 0 | BH130: =IF(N130="zníž. prenesená",J130,0) -> 0 | BI130: =IF(N130="nulová",J130,0) -> 0 | BJ130: 2 | BK130: =ROUND(I130*H130,2) -> 0 | BL130: 4 | BM130: -1437939691
D131: VV | F131: 441,50 "trávnatá plocha hr. 0,20m" | H131: 441.5 | AT131: VV | AU131: 2 | AV131: 2 | AW131: True | AX131: 1 | AY131: ROZPOCET
C132: 2 | D132: K | E132: 121101113.S | F132: Odstránenie ornice s premiestn. na hromady, so zložením na vzdialenosť do 100 m a do 10000 m3 | G132: m3 | H132: 914 | J132: =ROUND(I132*H132,2) -> 0 | N132: znížená | P132: =O132*H132 -> 0 | Q132: 0 | R132: =Q132*H132 -> 0 | S132: 0 | T132: =S132*H132 -> 0 | AR132: 4 | AT132: K | AU132: 2 | AY132: ROZPOCET | BE132: =IF(N132="základná",J132,0) -> 0 | BF132: =IF(N132="znížená",J132,0) -> 0 | BG132: =IF(N132="zákl. prenesená",J132,0) -> 0 | BH132: =IF(N132="zníž. prenesená",J132,0) -> 0 | BI132: =IF(N132="nulová",J132,0) -> 0 | BJ132: 2 | BK132: =ROUND(I132*H132,2) -> 0 | BL132: 4 | BM132: 1296127210
D133: VV | F133: 914,00 "odhumusovanie hr 0,50m" | H133: 914 | AT133: VV | AU133: 2 | AV133: 2 | AW133: True | AX133: 1 | AY133: ROZPOCET
C134: 3 | D134: K | E134: 162501122.S | F134: Vodorovné premiestnenie výkopku po spevnenej ceste z horniny tr.1-4, nad 100 do 1000 m3 na vzdialenosť do 3000 m | G134: m3 | H134: 633.5 | J134: =ROUND(I134*H134,2) -> 0 | N134: znížená | P134: =O134*H134 -> 0 | Q134: 0 | R134: =Q134*H134 -> 0 | S134: 0 | T134: =S134*H134 -> 0 | AR134: 4 | AT134: K | AU134: 2 | AY134: ROZPOCET | BE134: =IF(N134="základná",J134,0) -> 0 | BF134: =IF(N134="znížená",J134,0) -> 0 | BG134: =IF(N134="zákl. prenesená",J134,0) -> 0 | BH134: =IF(N134="zníž. prenesená",J134,0) -> 0 | BI134: =IF(N134="nulová",J134,0) -> 0 | BJ134: 2 | BK134: =ROUND(I134*H134,2) -> 0 | BL134: 4 | BM134: 343687193
D135: P | F135: Poznámka k položke:_x000D_ - odvoz v rámci katastrálného územia | AT135: P | AU135: 2
D136: VV | F136: 914,00 "zemina z odhumusovania" | H136: 914 | AT136: VV | AU136: 2 | AV136: 2 | AW136: True | AX136: 0 | AY136: ROZPOCET
D137: VV | F137: -280,50 "zemina na spätné zahumusovanie v SO 2.05" | H137: -280.5 | AT137: VV | AU137: 2 | AV137: 2 | AW137: True | AX137: 0 | AY137: ROZPOCET
D138: VV | F138: Súčet - prebytočná zemina z odhumusovania | H138: 633.5 | AT138: VV | AU138: 2 | AV138: 4 | AW138: True | AX138: 1 | AY138: ROZPOCET
C139: 4 | D139: K | E139: 162501123.S | F139: Vodorovné premiestnenie výkopku po spevnenej ceste z horniny tr.1-4, nad 100 do 1000 m3, príplatok k cene za každých ďalšich a začatých 1000 m | G139: m3 | H139: 4434.5 | J139: =ROUND(I139*H139,2) -> 0 | N139: znížená | P139: =O139*H139 -> 0 | Q139: 0 | R139: =Q139*H139 -> 0 | S139: 0 | T139: =S139*H139 -> 0 | AR139: 4 | AT139: K | AU139: 2 | AY139: ROZPOCET | BE139: =IF(N139="základná",J139,0) -> 0 | BF139: =IF(N139="znížená",J139,0) -> 0 | BG139: =IF(N139="zákl. prenesená",J139,0) -> 0 | BH139: =IF(N139="zníž. prenesená",J139,0) -> 0 | BI139: =IF(N139="nulová",J139,0) -> 0 | BJ139: 2 | BK139: =ROUND(I139*H139,2) -> 0 | BL139: 4 | BM139: 1974595237
D140: P | F140: Poznámka k položke:_x000D_ - odvoz v rámci katastrálného územia do 10 km | AT140: P | AU140: 2
D141: VV | F141: 633,50*(10-3) "prebytočná zemina z odhumusovania" | H141: 4434.5 | AT141: VV | AU141: 2 | AV141: 2 | AW141: True | AX141: 1 | AY141: ROZPOCET
C142: 5 | D142: K | E142: 122301101.S | F142: Odkopávka a prekopávka nezapažená v hornine 4, do 100 m3 | G142: m3 | H142: 45.6 | J142: =ROUND(I142*H142,2) -> 0 | N142: znížená | P142: =O142*H142 -> 0 | Q142: 0 | R142: =Q142*H142 -> 0 | S142: 0 | T142: =S142*H142 -> 0 | AR142: 4 | AT142: K | AU142: 2 | AY142: ROZPOCET | BE142: =IF(N142="základná",J142,0) -> 0 | BF142: =IF(N142="znížená",J142,0) -> 0 | BG142: =IF(N142="zákl. prenesená",J142,0) -> 0 | BH142: =IF(N142="zníž. prenesená",J142,0) -> 0 | BI142: =IF(N142="nulová",J142,0) -> 0 | BJ142: 2 | BK142: =ROUND(I142*H142,2) -> 0 | BL142: 4 | BM142: 509551417
D143: VV | F143: 45,6 "výkop pre chráničky" | H143: 45.6 | AT143: VV | AU143: 2 | AV143: 2 | AW143: True | AX143: 1 | AY143: ROZPOCET
C144: 6 | D144: K | E144: 122301109.S | F144: Odkopávky a prekopávky nezapažené. Príplatok za lepivosť horniny 4 | G144: m3 | H144: 15.2 | J144: =ROUND(I144*H144,2) -> 0 | N144: znížená | P144: =O144*H144 -> 0 | Q144: 0 | R144: =Q144*H144 -> 0 | S144: 0 | T144: =S144*H144 -> 0 | AR144: 4 | AT144: K | AU144: 2 | AY144: ROZPOCET | BE144: =IF(N144="základná",J144,0) -> 0 | BF144: =IF(N144="znížená",J144,0) -> 0 | BG144: =IF(N144="zákl. prenesená",J144,0) -> 0 | BH144: =IF(N144="zníž. prenesená",J144,0) -> 0 | BI144: =IF(N144="nulová",J144,0) -> 0 | BJ144: 2 | BK144: =ROUND(I144*H144,2) -> 0 | BL144: 4 | BM144: 741957802
D145: VV | F145: 45,6/3 "výkop pre chráničky" | H145: 15.2 | AT145: VV | AU145: 2 | AV145: 2 | AW145: True | AX145: 1 | AY145: ROZPOCET
C146: 7 | D146: K | E146: 122301102.S | F146: Odkopávka a prekopávka nezapažená v hornine 4, nad 100 do 1000 m3 | G146: m3 | H146: 845.6 | J146: =ROUND(I146*H146,2) -> 0 | N146: znížená | P146: =O146*H146 -> 0 | Q146: 0 | R146: =Q146*H146 -> 0 | S146: 0 | T146: =S146*H146 -> 0 | AR146: 4 | AT146: K | AU146: 2 | AY146: ROZPOCET | BE146: =IF(N146="základná",J146,0) -> 0 | BF146: =IF(N146="znížená",J146,0) -> 0 | BG146: =IF(N146="zákl. prenesená",J146,0) -> 0 | BH146: =IF(N146="zníž. prenesená",J146,0) -> 0 | BI146: =IF(N146="nulová",J146,0) -> 0 | BJ146: 2 | BK146: =ROUND(I146*H146,2) -> 0 | BL146: 4 | BM146: 1337754722
D147: VV | F147: 733,40 "výkop - cestné teleso" | H147: 733.4 | AT147: VV | AU147: 2 | AV147: 2 | AW147: True | AX147: 0 | AY147: ROZPOCET
D148: VV | F148: 112,20 "výkop - lôžko vsakovacej priekopy" | H148: 112.2 | AT148: VV | AU148: 2 | AV148: 2 | AW148: True | AX148: 0 | AY148: ROZPOCET
D149: VV | F149: Súčet | H149: 845.6 | AT149: VV | AU149: 2 | AV149: 4 | AW149: True | AX149: 1 | AY149: ROZPOCET
C150: 8 | D150: K | E150: 122301109.S | F150: Odkopávky a prekopávky nezapažené. Príplatok za lepivosť horniny 4 | G150: m3 | H150: 281.833 | J150: =ROUND(I150*H150,2) -> 0 | N150: znížená | P150: =O150*H150 -> 0 | Q150: 0 | R150: =Q150*H150 -> 0 | S150: 0 | T150: =S150*H150 -> 0 | AR150: 4 | AT150: K | AU150: 2 | AY150: ROZPOCET | BE150: =IF(N150="základná",J150,0) -> 0 | BF150: =IF(N150="znížená",J150,0) -> 0 | BG150: =IF(N150="zákl. prenesená",J150,0) -> 0 | BH150: =IF(N150="zníž. prenesená",J150,0) -> 0 | BI150: =IF(N150="nulová",J150,0) -> 0 | BJ150: 2 | BK150: =ROUND(I150*H150,2) -> 0 | BL150: 4 | BM150: 1667552795
D151: VV | F151: 845,5/3 "výkop pre cestné teleso" | H151: 281.833 | AT151: VV | AU151: 2 | AV151: 2 | AW151: True | AX151: 1 | AY151: ROZPOCET
C152: 9 | D152: K | E152: 162301101.S | F152: Vodorovné premiestnenie výkopku po spevnenej ceste z horniny tr.1-4, do 100 m3 na vzdialenosť do 500 m | G152: m3 | H152: 45.6 | J152: =ROUND(I152*H152,2) -> 0 | N152: znížená | P152: =O152*H152 -> 0 | Q152: 0 | R152: =Q152*H152 -> 0 | S152: 0 | T152: =S152*H152 -> 0 | AR152: 4 | AT152: K | AU152: 2 | AY152: ROZPOCET | BE152: =IF(N152="základná",J152,0) -> 0 | BF152: =IF(N152="znížená",J152,0) -> 0 | BG152: =IF(N152="zákl. prenesená",J152,0) -> 0 | BH152: =IF(N152="zníž. prenesená",J152,0) -> 0 | BI152: =IF(N152="nulová",J152,0) -> 0 | BJ152: 2 | BK152: =ROUND(I152*H152,2) -> 0 | BL152: 4 | BM152: 1452944461
D153: P | F153: Poznámka k položke:_x000D_ - nevhodná zemina na skládku | AT153: P | AU153: 2
D154: VV | F154: 45,6 "výkopová zemina - chráničky" | H154: 45.6 | AT154: VV | AU154: 2 | AV154: 2 | AW154: True | AX154: 1 | AY154: ROZPOCET
C155: 10 | D155: K | E155: 162501102.S | F155: Vodorovné premiestnenie výkopku po spevnenej ceste z horniny tr.1-4, do 100 m3 na vzdialenosť do 3000 m | G155: m3 | H155: 45.6 | J155: =ROUND(I155*H155,2) -> 0 | N155: znížená | P155: =O155*H155 -> 0 | Q155: 0 | R155: =Q155*H155 -> 0 | S155: 0 | T155: =S155*H155 -> 0 | AR155: 4 | AT155: K | AU155: 2 | AY155: ROZPOCET | BE155: =IF(N155="základná",J155,0) -> 0 | BF155: =IF(N155="znížená",J155,0) -> 0 | BG155: =IF(N155="zákl. prenesená",J155,0) -> 0 | BH155: =IF(N155="zníž. prenesená",J155,0) -> 0 | BI155: =IF(N155="nulová",J155,0) -> 0 | BJ155: 2 | BK155: =ROUND(I155*H155,2) -> 0 | BL155: 4 | BM155: 1661400671
D156: P | F156: Poznámka k položke:_x000D_ - nevhodná zemina na skládku | AT156: P | AU156: 2
D157: VV | F157: 45,6 "výkopová zemina - chráničky" | H157: 45.6 | AT157: VV | AU157: 2 | AV157: 2 | AW157: True | AX157: 1 | AY157: ROZPOCET
C158: 11 | D158: K | E158: 162501105.S | F158: Vodorovné premiestnenie výkopku po spevnenej ceste z horniny tr.1-4, do 100 m3, príplatok k cene za každých ďalšich a začatých 1000 m | G158: m3 | H158: 1003.2 | J158: =ROUND(I158*H158,2) -> 0 | N158: znížená | P158: =O158*H158 -> 0 | Q158: 0 | R158: =Q158*H158 -> 0 | S158: 0 | T158: =S158*H158 -> 0 | AR158: 4 | AT158: K | AU158: 2 | AY158: ROZPOCET | BE158: =IF(N158="základná",J158,0) -> 0 | BF158: =IF(N158="znížená",J158,0) -> 0 | BG158: =IF(N158="zákl. prenesená",J158,0) -> 0 | BH158: =IF(N158="zníž. prenesená",J158,0) -> 0 | BI158: =IF(N158="nulová",J158,0) -> 0 | BJ158: 2 | BK158: =ROUND(I158*H158,2) -> 0 | BL158: 4 | BM158: 925156514
D159: P | F159: Poznámka k položke:_x000D_ - nevhodná zemina na skládku do 25km | AT159: P | AU159: 2
D160: VV | F160: 45,6*(25-3) "výkopová zemina - chráničky" | H160: 1003.2 | AT160: VV | AU160: 2 | AV160: 2 | AW160: True | AX160: 1 | AY160: ROZPOCET
C161: 12 | D161: K | E161: 167101101.S | F161: Nakladanie neuľahnutého výkopku z hornín tr.1-4 do 100 m3 | G161: m3 | H161: 45.6 | J161: =ROUND(I161*H161,2) -> 0 | N161: znížená | P161: =O161*H161 -> 0 | Q161: 0 | R161: =Q161*H161 -> 0 | S161: 0 | T161: =S161*H161 -> 0 | AR161: 4 | AT161: K | AU161: 2 | AY161: ROZPOCET | BE161: =IF(N161="základná",J161,0) -> 0 | BF161: =IF(N161="znížená",J161,0) -> 0 | BG161: =IF(N161="zákl. prenesená",J161,0) -> 0 | BH161: =IF(N161="zníž. prenesená",J161,0) -> 0 | BI161: =IF(N161="nulová",J161,0) -> 0 | BJ161: 2 | BK161: =ROUND(I161*H161,2) -> 0 | BL161: 4 | BM161: 989107721
D162: P | F162: Poznámka k položke:_x000D_ - nevhodná zemina na skládku | AT162: P | AU162: 2
D163: VV | F163: 45,6 "výkopová zemina - chráničky" | H163: 45.6 | AT163: VV | AU163: 2 | AV163: 2 | AW163: True | AX163: 1 | AY163: ROZPOCET
C164: 13 | D164: K | E164: 162303101.S | F164: Vodorovné premiestnenie výkopku pre cesty po spevnenej ceste z horniny tr.1-4 do 1000 m3 na vzdialenosť do 500 m | G164: m3 | H164: 933.9 | J164: =ROUND(I164*H164,2) -> 0 | N164: znížená | P164: =O164*H164 -> 0 | Q164: 0 | R164: =Q164*H164 -> 0 | S164: 0 | T164: =S164*H164 -> 0 | AR164: 4 | AT164: K | AU164: 2 | AY164: ROZPOCET | BE164: =IF(N164="základná",J164,0) -> 0 | BF164: =IF(N164="znížená",J164,0) -> 0 | BG164: =IF(N164="zákl. prenesená",J164,0) -> 0 | BH164: =IF(N164="zníž. prenesená",J164,0) -> 0 | BI164: =IF(N164="nulová",J164,0) -> 0 | BJ164: 2 | BK164: =ROUND(I164*H164,2) -> 0 | BL164: 4 | BM164: -1248239820
D165: P | F165: Poznámka k položke:_x000D_ - nevhodná zemina na skládku | AT165: P | AU165: 2
D166: VV | F166: 845,60 "výkopová zemina - cestné teleso" | H166: 845.6 | AT166: VV | AU166: 2 | AV166: 2 | AW166: True | AX166: 0 | AY166: ROZPOCET
...

Sheet SO 2.07 - SO 2.07  Verejn...
L2: >> skryté stĺpce << | AT2: {e8ef66a6-672d-44ce-980a-cb0399dc9447}
AT3: 0
D4: KRYCÍ LIST ROZPOČTU | M4: v --- nižšie sa nachádzajú doplnkové a pomocné údaje k zostavám --- v | AT4: False
D6: Stavba:
E7: ='Rekapitulácia stavby'!K6 -> IP Horná Streda
D8: Objekt:
E9: SO 2.07 - SO 2.07 Verejné osvetenie
D11: JKSO: | I11: ČS:
D12: Miesto: | I12: Dátum: | J12: ='Rekapitulácia stavby'!AN8 -> 31. 7. 2026
D14: Objednávateľ: | I14: IČO: | J14: =IF('Rekapitulácia stavby'!AN10="","",'Rekapitulácia stavby'!AN10)
E15: =IF('Rekapitulácia stavby'!E11="","",'Rekapitulácia stavby'!E11) | I15: IČ DPH: | J15: =IF('Rekapitulácia stavby'!AN11="","",'Rekapitulácia stavby'!AN11)
D17: Zhotoviteľ: | I17: IČO: | J17: ='Rekapitulácia stavby'!AN13 -> Vyplň údaj
E18: ='Rekapitulácia stavby'!E14 -> Vyplň údaj | I18: IČ DPH: | J18: ='Rekapitulácia stavby'!AN14 -> Vyplň údaj
D20: Projektant: | I20: IČO: | J20: =IF('Rekapitulácia stavby'!AN16="","",'Rekapitulácia stavby'!AN16)
E21: =IF('Rekapitulácia stavby'!E17="","",'Rekapitulácia stavby'!E17) | I21: IČ DPH: | J21: =IF('Rekapitulácia stavby'!AN17="","",'Rekapitulácia stavby'!AN17)
D23: Spracovateľ: | I23: IČO: | J23: =IF('Rekapitulácia stavby'!AN19="","",'Rekapitulácia stavby'!AN19)
E24: =IF('Rekapitulácia stavby'!E20="","",'Rekapitulácia stavby'!E20) | I24: IČ DPH: | J24: =IF('Rekapitulácia stavby'!AN20="","",'Rekapitulácia stavby'!AN20)
D26: Poznámka:
D30: Cena bez DPH | J30: =ROUND(J124, 2) -> 0
F32: Základ dane | I32: Sadzba dane | J32: Výška dane
D33: DPH | E33: základná | F33: =ROUND((SUM(BE124:BE178)), 2) -> 0 | I33: 0.23 | J33: =ROUND(((SUM(BE124:BE178))*I33), 2) -> 0
E34: znížená | F34: =ROUND((SUM(BF124:BF178)), 2) -> 0 | I34: 0.23 | J34: =ROUND(((SUM(BF124:BF178))*I34), 2) -> 0
E35: zákl. prenesená | F35: =ROUND((SUM(BG124:BG178)), 2) -> 0 | I35: 0.23 | J35: =0 -> 0
E36: zníž. prenesená | F36: =ROUND((SUM(BH124:BH178)), 2) -> 0 | I36: 0.23 | J36: =0 -> 0
E37: nulová | F37: =ROUND((SUM(BI124:BI178)), 2) -> 0 | I37: 0 | J37: =0 -> 0
D39: Cena s DPH | G39: v | H39: EUR | J39: =SUM(J30:J37) -> 0
D50: Projektant | G50: Spracovateľ
D61: Dátum a podpis: | F61: Pečiatka | G61: Dátum a podpis: | J61: Pečiatka
D65: Objednávateľ | G65: Zhotoviteľ
D76: Dátum a podpis: | F76: Pečiatka | G76: Dátum a podpis: | J76: Pečiatka
C82: REKAPITULÁCIA ROZPOČTU
C84: Stavba:
E85: =E7 -> IP Horná Streda
C86: Objekt:
E87: =E9 -> SO 2.07 - SO 2.07 Verejné osvetenie
C89: Miesto: | F89: =F12 | I89: Dátum: | J89: =IF(J12="","",J12) -> 31. 7. 2026
C91: Objednávateľ: | F91: =E15 | I91: Projektant: | J91: =E21
C92: Zhotoviteľ: | F92: =IF(E18="","",E18) -> Vyplň údaj | I92: Spracovateľ: | J92: =E24
C94: Kód dielu - Popis | J94: Cena celkom [EUR]
C96: Náklady z rozpočtu | J96: =J124 -> 0 | AU96: -1
D97: HSV - Práce a dodávky HSV | J97: =J125 -> 0
D98: 2 - Zakladanie | J98: =J126 -> 0
D99: M - Práce a dodávky M | J99: =J129 -> 0
D100: 21-M - Elektromontáže | J100: =J130 -> 0
D101: 46-M - Zemné práce vykonávané pri externých montážnych prácach | J101: =J159 -> 0
D102: 96-M - Geodetické a kartografické práce | J102: =J169 -> 0
D103: HZS - Hodinové zúčtovacie sadzby | J103: =J172 -> 0
D104: VRN - Investičné náklady neobsiahnuté v cenách | J104: =J177 -> 0
C111: ROZPOČET
C113: Stavba:
E114: =E7 -> IP Horná Streda
C115: Objekt:
E116: =E9 -> SO 2.07 - SO 2.07 Verejné osvetenie
C118: Miesto: | F118: =F12 | I118: Dátum: | J118: =IF(J12="","",J12) -> 31. 7. 2026
C120: Objednávateľ: | F120: =E15 | I120: Projektant: | J120: =E21
C121: Zhotoviteľ: | F121: =IF(E18="","",E18) -> Vyplň údaj | I121: Spracovateľ: | J121: =E24
C123: PČ | D123: Typ | E123: Kód | F123: Popis | G123: MJ | H123: Množstvo | I123: J.cena [EUR] | J123: Cena celkom [EUR] | K123: Cenová sústava | N123: DPH | O123: J. Nh [h] | P123: Nh celkom [h] | Q123: J. hmotnosť [t] | R123: Hmotnosť celkom [t] | S123: J. suť [t] | T123: Suť Celkom [t]
C124: Náklady z rozpočtu | J124: =BK124 -> 0 | P124: =P125+P129+P172+P177 -> 0 | R124: =R125+R129+R172+R177 -> 0 | T124: =T125+T129+T172+T177 -> 0 | AT124: D | AU124: -1 | BK124: =BK125+BK129+BK172+BK177 -> 0
D125: D | E125: HSV | F125: Práce a dodávky HSV | J125: =BK125 -> 0 | P125: =P126 -> 0 | R125: =R126 -> 0 | T125: =T126 -> 0 | AR125: 1 | AT125: D | AU125: 0 | AY125: ROZPOCET | BK125: =BK126 -> 0
D126: D | E126: 2 | F126: Zakladanie | J126: =BK126 -> 0 | P126: =SUM(P127:P128) -> 0 | R126: =SUM(R127:R128) -> 0 | T126: =SUM(T127:T128) -> 0 | AR126: 1 | AT126: D | AU126: 1 | AY126: ROZPOCET | BK126: =SUM(BK127:BK128) -> 0
C127: 1 | D127: K | E127: 275313621.S | F127: Betón základových pätiek, prostý tr. C 25/20 | G127: m3 | H127: 4 | J127: =ROUND(I127*H127,2) -> 0 | N127: znížená | P127: =O127*H127 -> 0 | Q127: 0 | R127: =Q127*H127 -> 0 | S127: 0 | T127: =S127*H127 -> 0 | AR127: 4 | AT127: K | AU127: 2 | AY127: ROZPOCET | BE127: =IF(N127="základná",J127,0) -> 0 | BF127: =IF(N127="znížená",J127,0) -> 0 | BG127: =IF(N127="zákl. prenesená",J127,0) -> 0 | BH127: =IF(N127="zníž. prenesená",J127,0) -> 0 | BI127: =IF(N127="nulová",J127,0) -> 0 | BJ127: 2 | BK127: =ROUND(I127*H127,2) -> 0 | BL127: 4 | BM127: 2
C128: 2 | D128: K | E128: 275352111.S | F128: Debnenie stien základových pätiek, zabudované | G128: m2 | H128: 33.8 | J128: =ROUND(I128*H128,2) -> 0 | N128: znížená | P128: =O128*H128 -> 0 | Q128: 0 | R128: =Q128*H128 -> 0 | S128: 0 | T128: =S128*H128 -> 0 | AR128: 4 | AT128: K | AU128: 2 | AY128: ROZPOCET | BE128: =IF(N128="základná",J128,0) -> 0 | BF128: =IF(N128="znížená",J128,0) -> 0 | BG128: =IF(N128="zákl. prenesená",J128,0) -> 0 | BH128: =IF(N128="zníž. prenesená",J128,0) -> 0 | BI128: =IF(N128="nulová",J128,0) -> 0 | BJ128: 2 | BK128: =ROUND(I128*H128,2) -> 0 | BL128: 4 | BM128: 4
D129: D | E129: M | F129: Práce a dodávky M | J129: =BK129 -> 0 | P129: =P130+P159+P169 -> 0 | R129: =R130+R159+R169 -> 0 | T129: =T130+T159+T169 -> 0 | AR129: 3 | AT129: D | AU129: 0 | AY129: ROZPOCET | BK129: =BK130+BK159+BK169 -> 0
D130: D | E130: 21-M | F130: Elektromontáže | J130: =BK130 -> 0 | P130: =SUM(P131:P158) -> 0 | R130: =SUM(R131:R158) -> 0 | T130: =SUM(T131:T158) -> 0 | AR130: 3 | AT130: D | AU130: 1 | AY130: ROZPOCET | BK130: =SUM(BK131:BK158) -> 0
C131: 3 | D131: K | E131: 210010091.S | F131: Rúrka ohybná elektroinštalačná z HDPE, D 63 uložená voľne | G131: m | H131: 400 | J131: =ROUND(I131*H131,2) -> 0 | N131: znížená | P131: =O131*H131 -> 0 | Q131: 0 | R131: =Q131*H131 -> 0 | S131: 0 | T131: =S131*H131 -> 0 | AR131: 64 | AT131: K | AU131: 2 | AY131: ROZPOCET | BE131: =IF(N131="základná",J131,0) -> 0 | BF131: =IF(N131="znížená",J131,0) -> 0 | BG131: =IF(N131="zákl. prenesená",J131,0) -> 0 | BH131: =IF(N131="zníž. prenesená",J131,0) -> 0 | BI131: =IF(N131="nulová",J131,0) -> 0 | BJ131: 2 | BK131: =ROUND(I131*H131,2) -> 0 | BL131: 64 | BM131: 6
C132: 4 | D132: M | E132: 345710006230.S | F132: Rúrka ohybná 09063 dvojplášťová korugovaná z HDPE, UV stabilná bezhalogénová, D 63 mm | G132: m | H132: 400 | J132: =ROUND(I132*H132,2) -> 0 | N132: znížená | P132: =O132*H132 -> 0 | Q132: 0 | R132: =Q132*H132 -> 0 | S132: 0 | T132: =S132*H132 -> 0 | AR132: 256 | AT132: M | AU132: 2 | AY132: ROZPOCET | BE132: =IF(N132="základná",J132,0) -> 0 | BF132: =IF(N132="znížená",J132,0) -> 0 | BG132: =IF(N132="zákl. prenesená",J132,0) -> 0 | BH132: =IF(N132="zníž. prenesená",J132,0) -> 0 | BI132: =IF(N132="nulová",J132,0) -> 0 | BJ132: 2 | BK132: =ROUND(I132*H132,2) -> 0 | BL132: 64 | BM132: 8
C133: 5 | D133: K | E133: 210010125.S | F133: Rúrka ochranná z PE, novoduru, do D 100 mm uložená voľne, vnútorná | G133: m | H133: 70 | J133: =ROUND(I133*H133,2) -> 0 | N133: znížená | P133: =O133*H133 -> 0 | Q133: 0 | R133: =Q133*H133 -> 0 | S133: 0 | T133: =S133*H133 -> 0 | AR133: 64 | AT133: K | AU133: 2 | AY133: ROZPOCET | BE133: =IF(N133="základná",J133,0) -> 0 | BF133: =IF(N133="znížená",J133,0) -> 0 | BG133: =IF(N133="zákl. prenesená",J133,0) -> 0 | BH133: =IF(N133="zníž. prenesená",J133,0) -> 0 | BI133: =IF(N133="nulová",J133,0) -> 0 | BJ133: 2 | BK133: =ROUND(I133*H133,2) -> 0 | BL133: 64 | BM133: 10
C134: 6 | D134: M | E134: 286130072900.S | F134: Chránička tuhá dvojplášťová korugovaná DN 110, HDPE | G134: m | H134: 70 | J134: =ROUND(I134*H134,2) -> 0 | N134: znížená | P134: =O134*H134 -> 0 | Q134: 0 | R134: =Q134*H134 -> 0 | S134: 0 | T134: =S134*H134 -> 0 | AR134: 256 | AT134: M | AU134: 2 | AY134: ROZPOCET | BE134: =IF(N134="základná",J134,0) -> 0 | BF134: =IF(N134="znížená",J134,0) -> 0 | BG134: =IF(N134="zákl. prenesená",J134,0) -> 0 | BH134: =IF(N134="zníž. prenesená",J134,0) -> 0 | BI134: =IF(N134="nulová",J134,0) -> 0 | BJ134: 2 | BK134: =ROUND(I134*H134,2) -> 0 | BL134: 64 | BM134: 12
C135: 7 | D135: K | E135: 210100002.S | F135: Ukončenie vodičov v rozvádzač. vrátane zapojenia a vodičovej koncovky do 6 mm2 | G135: ks | H135: 120 | J135: =ROUND(I135*H135,2) -> 0 | N135: znížená | P135: =O135*H135 -> 0 | Q135: 0 | R135: =Q135*H135 -> 0 | S135: 0 | T135: =S135*H135 -> 0 | AR135: 64 | AT135: K | AU135: 2 | AY135: ROZPOCET | BE135: =IF(N135="základná",J135,0) -> 0 | BF135: =IF(N135="znížená",J135,0) -> 0 | BG135: =IF(N135="zákl. prenesená",J135,0) -> 0 | BH135: =IF(N135="zníž. prenesená",J135,0) -> 0 | BI135: =IF(N135="nulová",J135,0) -> 0 | BJ135: 2 | BK135: =ROUND(I135*H135,2) -> 0 | BL135: 64 | BM135: 14
C136: 8 | D136: K | E136: 210120101.S | F136: Poistkový patrón montáž do 63 A, vrátane dotykového krúžku | G136: ks | H136: 13 | J136: =ROUND(I136*H136,2) -> 0 | N136: znížená | P136: =O136*H136 -> 0 | Q136: 0 | R136: =Q136*H136 -> 0 | S136: 0 | T136: =S136*H136 -> 0 | AR136: 64 | AT136: K | AU136: 2 | AY136: ROZPOCET | BE136: =IF(N136="základná",J136,0) -> 0 | BF136: =IF(N136="znížená",J136,0) -> 0 | BG136: =IF(N136="zákl. prenesená",J136,0) -> 0 | BH136: =IF(N136="zníž. prenesená",J136,0) -> 0 | BI136: =IF(N136="nulová",J136,0) -> 0 | BJ136: 2 | BK136: =ROUND(I136*H136,2) -> 0 | BL136: 64 | BM136: 16
C137: 9 | D137: M | E137: 345290008700.S | F137: Patrón poistkový 06A | G137: ks | H137: 13 | J137: =ROUND(I137*H137,2) -> 0 | N137: znížená | P137: =O137*H137 -> 0 | Q137: 0 | R137: =Q137*H137 -> 0 | S137: 0 | T137: =S137*H137 -> 0 | AR137: 256 | AT137: M | AU137: 2 | AY137: ROZPOCET | BE137: =IF(N137="základná",J137,0) -> 0 | BF137: =IF(N137="znížená",J137,0) -> 0 | BG137: =IF(N137="zákl. prenesená",J137,0) -> 0 | BH137: =IF(N137="zníž. prenesená",J137,0) -> 0 | BI137: =IF(N137="nulová",J137,0) -> 0 | BJ137: 2 | BK137: =ROUND(I137*H137,2) -> 0 | BL137: 64 | BM137: 18
C138: 10 | D138: K | E138: 210201772.S | F138: Zapojenie uličného LED svietidla IP66 | G138: ks | H138: 15 | J138: =ROUND(I138*H138,2) -> 0 | N138: znížená | P138: =O138*H138 -> 0 | Q138: 0 | R138: =Q138*H138 -> 0 | S138: 0 | T138: =S138*H138 -> 0 | AR138: 64 | AT138: K | AU138: 2 | AY138: ROZPOCET | BE138: =IF(N138="základná",J138,0) -> 0 | BF138: =IF(N138="znížená",J138,0) -> 0 | BG138: =IF(N138="zákl. prenesená",J138,0) -> 0 | BH138: =IF(N138="zníž. prenesená",J138,0) -> 0 | BI138: =IF(N138="nulová",J138,0) -> 0 | BJ138: 2 | BK138: =ROUND(I138*H138,2) -> 0 | BL138: 64 | BM138: 20
C139: 11 | D139: M | E139: 348370001651.S | F139: LED svietidlo uličné, 8500lm, 4000K, IP66 | G139: ks | H139: 15 | J139: =ROUND(I139*H139,2) -> 0 | N139: znížená | P139: =O139*H139 -> 0 | Q139: 0 | R139: =Q139*H139 -> 0 | S139: 0 | T139: =S139*H139 -> 0 | AR139: 256 | AT139: M | AU139: 2 | AY139: ROZPOCET | BE139: =IF(N139="základná",J139,0) -> 0 | BF139: =IF(N139="znížená",J139,0) -> 0 | BG139: =IF(N139="zákl. prenesená",J139,0) -> 0 | BH139: =IF(N139="zníž. prenesená",J139,0) -> 0 | BI139: =IF(N139="nulová",J139,0) -> 0 | BJ139: 2 | BK139: =ROUND(I139*H139,2) -> 0 | BL139: 64 | BM139: 22
C140: 12 | D140: K | E140: 210201855.S | F140: Montáž stožiara oceľového výšky 8 m so zemným koncom pre uličné svietidlá | G140: ks | H140: 13 | J140: =ROUND(I140*H140,2) -> 0 | N140: znížená | P140: =O140*H140 -> 0 | Q140: 0 | R140: =Q140*H140 -> 0 | S140: 0 | T140: =S140*H140 -> 0 | AR140: 64 | AT140: K | AU140: 2 | AY140: ROZPOCET | BE140: =IF(N140="základná",J140,0) -> 0 | BF140: =IF(N140="znížená",J140,0) -> 0 | BG140: =IF(N140="zákl. prenesená",J140,0) -> 0 | BH140: =IF(N140="zníž. prenesená",J140,0) -> 0 | BI140: =IF(N140="nulová",J140,0) -> 0 | BJ140: 2 | BK140: =ROUND(I140*H140,2) -> 0 | BL140: 64 | BM140: 24
C141: 13 | D141: M | E141: 348370002610.S | F141: Stožiar sadový bezpäticový trojstupňový so zemným koncom, výšky 8 m, d 114/76/60 mm | G141: ks | H141: 13 | J141: =ROUND(I141*H141,2) -> 0 | N141: znížená | P141: =O141*H141 -> 0 | Q141: 0 | R141: =Q141*H141 -> 0 | S141: 0 | T141: =S141*H141 -> 0 | AR141: 256 | AT141: M | AU141: 2 | AY141: ROZPOCET | BE141: =IF(N141="základná",J141,0) -> 0 | BF141: =IF(N141="znížená",J141,0) -> 0 | BG141: =IF(N141="zákl. prenesená",J141,0) -> 0 | BH141: =IF(N141="zníž. prenesená",J141,0) -> 0 | BI141: =IF(N141="nulová",J141,0) -> 0 | BJ141: 2 | BK141: =ROUND(I141*H141,2) -> 0 | BL141: 64 | BM141: 26
C142: 14 | D142: K | E142: 210201880.S | F142: Montáž stožiarovej svorkovnice pre 1 poistku | G142: ks | H142: 13 | J142: =ROUND(I142*H142,2) -> 0 | N142: znížená | P142: =O142*H142 -> 0 | Q142: 0 | R142: =Q142*H142 -> 0 | S142: 0 | T142: =S142*H142 -> 0 | AR142: 64 | AT142: K | AU142: 2 | AY142: ROZPOCET | BE142: =IF(N142="základná",J142,0) -> 0 | BF142: =IF(N142="znížená",J142,0) -> 0 | BG142: =IF(N142="zákl. prenesená",J142,0) -> 0 | BH142: =IF(N142="zníž. prenesená",J142,0) -> 0 | BI142: =IF(N142="nulová",J142,0) -> 0 | BJ142: 2 | BK142: =ROUND(I142*H142,2) -> 0 | BL142: 64 | BM142: 28
... C155: 27 | D155: M | E155: 341110002400.S | F155: Kábel medený CYKY-J 5x16 mm2 | G155: m | H155: 400 | J155: =ROUND(I155*H155,2) -> 0 | N155: znížená | P155: =O155*H155 -> 0 | Q155: 0 | R155: =Q155*H155 -> 0 | S155: 0 | T155: =S155*H155 -> 0 | AR155: 256 | AT155: M | AU155: 2 | AY155: ROZPOCET | BE155: =IF(N155="základná",J155,0) -> 0 | BF155: =IF(N155="znížená",J155,0) -> 0 | BG155: =IF(N155="zákl. prenesená",J155,0) -> 0 | BH155: =IF(N155="zníž. prenesená",J155,0) -> 0 | BI155: =IF(N155="nulová",J155,0) -> 0 | BJ155: 2 | BK155: =ROUND(I155*H155,2) -> 0 | BL155: 64 | BM155: 54
C156: 28 | D156: K | E156: MV | F156: Murárske výpomoci | G156: % | J156: =ROUND(I156*H156,2) -> 0 | N156: znížená | P156: =O156*H156 -> 0 | Q156: 0 | R156: =Q156*H156 -> 0 | S156: 0 | T156: =S156*H156 -> 0 | AR156: 64 | AT156: K | AU156: 2 | AY156: ROZPOCET | BE156: =IF(N156="základná",J156,0) -> 0 | BF156: =IF(N156="znížená",J156,0) -> 0 | BG156: =IF(N156="zákl. prenesená",J156,0) -> 0 | BH156: =IF(N156="zníž. prenesená",J156,0) -> 0 | BI156: =IF(N156="nulová",J156,0) -> 0 | BJ156: 2 | BK156: =ROUND(I156*H156,2) -> 0 | BL156: 64 | BM156: 56
C157: 29 | D157: K | E157: PM | F157: Podružný materiál | G157: % | J157: =ROUND(I157*H157,2) -> 0 | N157: znížená | P157: =O157*H157 -> 0 | Q157: 0 | R157: =Q157*H157 -> 0 | S157: 0 | T157: =S157*H157 -> 0 | AR157: 64 | AT157: K | AU157: 2 | AY157: ROZPOCET | BE157: =IF(N157="základná",J157,0) -> 0 | BF157: =IF(N157="znížená",J157,0) -> 0 | BG157: =IF(N157="zákl. prenesená",J157,0) -> 0 | BH157: =IF(N157="zníž. prenesená",J157,0) -> 0 | BI157: =IF(N157="nulová",J157,0) -> 0 | BJ157: 2 | BK157: =ROUND(I157*H157,2) -> 0 | BL157: 64 | BM157: 58
C158: 30 | D158: K | E158: PPV | F158: Podiel pridružených výkonov | G158: % | J158: =ROUND(I158*H158,2) -> 0 | N158: znížená | P158: =O158*H158 -> 0 | Q158: 0 | R158: =Q158*H158 -> 0 | S158: 0 | T158: =S158*H158 -> 0 | AR158: 64 | AT158: K | AU158: 2 | AY158: ROZPOCET | BE158: =IF(N158="základná",J158,0) -> 0 | BF158: =IF(N158="znížená",J158,0) -> 0 | BG158: =IF(N158="zákl. prenesená",J158,0) -> 0 | BH158: =IF(N158="zníž. prenesená",J158,0) -> 0 | BI158: =IF(N158="nulová",J158,0) -> 0 | BJ158: 2 | BK158: =ROUND(I158*H158,2) -> 0 | BL158: 64 | BM158: 60
D159: D | E159: 46-M | F159: Zemné práce vykonávané pri externých montážnych prácach | J159: =BK159 -> 0 | P159: =SUM(P160:P168) -> 0 | R159: =SUM(R160:R168) -> 0 | T159: =SUM(T160:T168) -> 0 | AR159: 3 | AT159: D | AU159: 1 | AY159: ROZPOCET | BK159: =SUM(BK160:BK168) -> 0
C160: 31 | D160: K | E160: 460050704.S | F160: Výkop jamy pre stožiar verejného osvetlenia do 2 m3 vrátane, ručný výkop v zemina triedy 4 | G160: m3 | H160: 15 | J160: =ROUND(I160*H160,2) -> 0 | N160: znížená | P160: =O160*H160 -> 0 | Q160: 0 | R160: =Q160*H160 -> 0 | S160: 0 | T160: =S160*H160 -> 0 | AR160: 64 | AT160: K | AU160: 2 | AY160: ROZPOCET | BE160: =IF(N160="základná",J160,0) -> 0 | BF160: =IF(N160="znížená",J160,0) -> 0 | BG160: =IF(N160="zákl. prenesená",J160,0) -> 0 | BH160: =IF(N160="zníž. prenesená",J160,0) -> 0 | BI160: =IF(N160="nulová",J160,0) -> 0 | BJ160: 2 | BK160: =ROUND(I160*H160,2) -> 0 | BL160: 64 | BM160: 62
C161: 32 | D161: K | E161: 460200164.S | F161: Hĺbenie káblovej ryhy ručne 35 cm širokej a 80 cm hlbokej, v zemine triedy 4 | G161: m | H161: 240 | J161: =ROUND(I161*H161,2) -> 0 | N161: znížená | P161: =O161*H161 -> 0 | Q161: 0 | R161: =Q161*H161 -> 0 | S161: 0 | T161: =S161*H161 -> 0 | AR161: 64 | AT161: K | AU161: 2 | AY161: ROZPOCET | BE161: =IF(N161="základná",J161,0) -> 0 | BF161: =IF(N161="znížená",J161,0) -> 0 | BG161: =IF(N161="zákl. prenesená",J161,0) -> 0 | BH161: =IF(N161="zníž. prenesená",J161,0) -> 0 | BI161: =IF(N161="nulová",J161,0) -> 0 | BJ161: 2 | BK161: =ROUND(I161*H161,2) -> 0 | BL161: 64 | BM161: 64
C162: 33 | D162: K | E162: 460200304.S | F162: Hĺbenie káblovej ryhy ručne 50 cm širokej a 120 cm hlbokej, v zemine triedy 4 | G162: m | H162: 70 | J162: =ROUND(I162*H162,2) -> 0 | N162: znížená | P162: =O162*H162 -> 0 | Q162: 0 | R162: =Q162*H162 -> 0 | S162: 0 | T162: =S162*H162 -> 0 | AR162: 64 | AT162: K | AU162: 2 | AY162: ROZPOCET | BE162: =IF(N162="základná",J162,0) -> 0 | BF162: =IF(N162="znížená",J162,0) -> 0 | BG162: =IF(N162="zákl. prenesená",J162,0) -> 0 | BH162: =IF(N162="zníž. prenesená",J162,0) -> 0 | BI162: =IF(N162="nulová",J162,0) -> 0 | BJ162: 2 | BK162: =ROUND(I162*H162,2) -> 0 | BL162: 64 | BM162: 66
C163: 34 | D163: K | E163: 460490012.S | F163: Rozvinutie a uloženie výstražnej fólie z PE do ryhy, šírka do 33 cm | G163: m | H163: 310 | J163: =ROUND(I163*H163,2) -> 0 | N163: znížená | P163: =O163*H163 -> 0 | Q163: 0 | R163: =Q163*H163 -> 0 | S163: 0 | T163: =S163*H163 -> 0 | AR163: 64 | AT163: K | AU163: 2 | AY163: ROZPOCET | BE163: =IF(N163="základná",J163,0) -> 0 | BF163: =IF(N163="znížená",J163,0) -> 0 | BG163: =IF(N163="zákl. prenesená",J163,0) -> 0 | BH163: =IF(N163="zníž. prenesená",J163,0) -> 0 | BI163: =IF(N163="nulová",J163,0) -> 0 | BJ163: 2 | BK163: =ROUND(I163*H163,2) -> 0 | BL163: 64 | BM163: 68
C164: 35 | D164: M | E164: 283230008000.S | F164: Výstražná fóla PE, š. 300, farba červená | G164: m | H164: 310 | J164: =ROUND(I164*H164,2) -> 0 | N164: znížená | P164: =O164*H164 -> 0 | Q164: 0 | R164: =Q164*H164 -> 0 | S164: 0 | T164: =S164*H164 -> 0 | AR164: 256 | AT164: M | AU164: 2 | AY164: ROZPOCET | BE164: =IF(N164="základná",J164,0) -> 0 | BF164: =IF(N164="znížená",J164,0) -> 0 | BG164: =IF(N164="zákl. prenesená",J164,0) -> 0 | BH164: =IF(N164="zníž. prenesená",J164,0) -> 0 | BI164: =IF(N164="nulová",J164,0) -> 0 | BJ164: 2 | BK164: =ROUND(I164*H164,2) -> 0 | BL164: 64 | BM164: 70
C165: 36 | D165: K | E165: 460560164.S | F165: Ručný zásyp nezap. káblovej ryhy bez zhutn. zeminy, 35 cm širokej, 80 cm hlbokej v zemine tr. 4 | G165: m | H165: 240 | J165: =ROUND(I165*H165,2) -> 0 | N165: znížená | P165: =O165*H165 -> 0 | Q165: 0 | R165: =Q165*H165 -> 0 | S165: 0 | T165: =S165*H165 -> 0 | AR165: 64 | AT165: K | AU165: 2 | AY165: ROZPOCET | BE165: =IF(N165="základná",J165,0) -> 0 | BF165: =IF(N165="znížená",J165,0) -> 0 | BG165: =IF(N165="zákl. prenesená",J165,0) -> 0 | BH165: =IF(N165="zníž. prenesená",J165,0) -> 0 | BI165: =IF(N165="nulová",J165,0) -> 0 | BJ165: 2 | BK165: =ROUND(I165*H165,2) -> 0 | BL165: 64 | BM165: 72
C166: 37 | D166: K | E166: 460560304.S | F166: Ručný zásyp nezap. káblovej ryhy bez zhutn. zeminy, 50 cm širokej, 120 cm hlbokej v zemine tr. 4 | G166: m | H166: 70 | J166: =ROUND(I166*H166,2) -> 0 | N166: znížená | P166: =O166*H166 -> 0 | Q166: 0 | R166: =Q166*H166 -> 0 | S166: 0 | T166: =S166*H166 -> 0 | AR166: 64 | AT166: K | AU166: 2 | AY166: ROZPOCET | BE166: =IF(N166="základná",J166,0) -> 0 | BF166: =IF(N166="znížená",J166,0) -> 0 | BG166: =IF(N166="zákl. prenesená",J166,0) -> 0 | BH166: =IF(N166="zníž. prenesená",J166,0) -> 0 | BI166: =IF(N166="nulová",J166,0) -> 0 | BJ166: 2 | BK166: =ROUND(I166*H166,2) -> 0 | BL166: 64 | BM166: 74
C167: 38 | D167: K | E167: 460620014.S | F167: Proviz. úprava terénu v zemine tr. 4, aby nerovnosti terénu neboli väčšie ako 2 cm od vodor.hladiny | G167: m2 | H167: 310 | J167: =ROUND(I167*H167,2) -> 0 | N167: znížená | P167: =O167*H167 -> 0 | Q167: 0 | R167: =Q167*H167 -> 0 | S167: 0 | T167: =S167*H167 -> 0 | AR167: 64 | AT167: K | AU167: 2 | AY167: ROZPOCET | BE167: =IF(N167="základná",J167,0) -> 0 | BF167: =IF(N167="znížená",J167,0) -> 0 | BG167: =IF(N167="zákl. prenesená",J167,0) -> 0 | BH167: =IF(N167="zníž. prenesená",J167,0) -> 0 | BI167: =IF(N167="nulová",J167,0) -> 0 | BJ167: 2 | BK167: =ROUND(I167*H167,2) -> 0 | BL167: 64 | BM167: 76
C168: 39 | D168: K | E168: PPV | F168: Podiel pridružených výkonov | G168: % | J168: =ROUND(I168*H168,2) -> 0 | N168: znížená | P168: =O168*H168 -> 0 | Q168: 0 | R168: =Q168*H168 -> 0 | S168: 0 | T168: =S168*H168 -> 0 | AR168: 64 | AT168: K | AU168: 2 | AY168: ROZPOCET | BE168: =IF(N168="základná",J168,0) -> 0 | BF168: =IF(N168="znížená",J168,0) -> 0 | BG168: =IF(N168="zákl. prenesená",J168,0) -> 0 | BH168: =IF(N168="zníž. prenesená",J168,0) -> 0 | BI168: =IF(N168="nulová",J168,0) -> 0 | BJ168: 2 | BK168: =ROUND(I168*H168,2) -> 0 | BL168: 64 | BM168: 78
D169: D | E169: 96-M | F169: Geodetické a kartografické práce | J169: =BK169 -> 0 | P169: =SUM(P170:P171) -> 0 | R169: =SUM(R170:R171) -> 0 | T169: =SUM(T170:T171) -> 0 | AR169: 1 | AT169: D | AU169: 1 | AY169: ROZPOCET | BK169: =SUM(BK170:BK171) -> 0
C170: 40 | D170: K | E170: 960101002.S | F170: Vytýčenie priestorovej polohy objektu alebo stavby - stavebné objekty líniové – cestné, železničné, vodné toky, inžinierske siete | G170: bod | H170: 31 | J170: =ROUND(I170*H170,2) -> 0 | N170: znížená | P170: =O170*H170 -> 0 | Q170: 0 | R170: =Q170*H170 -> 0 | S170: 0 | T170: =S170*H170 -> 0 | AR170: 4 | AT170: K | AU170: 2 | AY170: ROZPOCET | BE170: =IF(N170="základná",J170,0) -> 0 | BF170: =IF(N170="znížená",J170,0) -> 0 | BG170: =IF(N170="zákl. prenesená",J170,0) -> 0 | BH170: =IF(N170="zníž. prenesená",J170,0) -> 0 | BI170: =IF(N170="nulová",J170,0) -> 0 | BJ170: 2 | BK170: =ROUND(I170*H170,2) -> 0 | BL170: 4 | BM170: 80
C171: 41 | D171: K | E171: 960151002.S | F171: Kontrolné meranie a meranie skutočného vyhotovenia - stavebné objekty líniové – cestné, železničné, vodné toky, inžinierske siete | G171: bod | H171: 50 | J171: =ROUND(I171*H171,2) -> 0 | N171: znížená | P171: =O171*H171 -> 0 | Q171: 0 | R171: =Q171*H171 -> 0 | S171: 0 | T171: =S171*H171 -> 0 | AR171: 4 | AT171: K | AU171: 2 | AY171: ROZPOCET | BE171: =IF(N171="základná",J171,0) -> 0 | BF171: =IF(N171="znížená",J171,0) -> 0 | BG171: =IF(N171="zákl. prenesená",J171,0) -> 0 | BH171: =IF(N171="zníž. prenesená",J171,0) -> 0 | BI171: =IF(N171="nulová",J171,0) -> 0 | BJ171: 2 | BK171: =ROUND(I171*H171,2) -> 0 | BL171: 4 | BM171: 82
D172: D | E172: HZS | F172: Hodinové zúčtovacie sadzby | J172: =BK172 -> 0 | P172: =SUM(P173:P176) -> 0 | R172: =SUM(R173:R176) -> 0 | T172: =SUM(T173:T176) -> 0 | AR172: 4 | AT172: D | AU172: 0 | AY172: ROZPOCET | BK172: =SUM(BK173:BK176) -> 0
C173: 42 | D173: K | E173: HZS000001 | F173: Revízia elektro | G173: hod | H173: 16 | J173: =ROUND(I173*H173,2) -> 0 | N173: znížená | P173: =O173*H173 -> 0 | Q173: 0 | R173: =Q173*H173 -> 0 | S173: 0 | T173: =S173*H173 -> 0 | AR173: 262144 | AT173: K | AU173: 1 | AY173: ROZPOCET | BE173: =IF(N173="základná",J173,0) -> 0 | BF173: =IF(N173="znížená",J173,0) -> 0 | BG173: =IF(N173="zákl. prenesená",J173,0) -> 0 | BH173: =IF(N173="zníž. prenesená",J173,0) -> 0 | BI173: =IF(N173="nulová",J173,0) -> 0 | BJ173: 2 | BK173: =ROUND(I173*H173,2) -> 0 | BL173: 262144 | BM173: 84
C174: 43 | D174: K | E174: HZS000002 | F174: Dokumentácia skutočného vyhotovenia | G174: hod | H174: 16 | J174: =ROUND(I174*H174,2) -> 0 | N174: znížená | P174: =O174*H174 -> 0 | Q174: 0 | R174: =Q174*H174 -> 0 | S174: 0 | T174: =S174*H174 -> 0 | AR174: 262144 | AT174: K | AU174: 1 | AY174: ROZPOCET | BE174: =IF(N174="základná",J174,0) -> 0 | BF174: =IF(N174="znížená",J174,0) -> 0 | BG174: =IF(N174="zákl. prenesená",J174,0) -> 0 | BH174: =IF(N174="zníž. prenesená",J174,0) -> 0 | BI174: =IF(N174="nulová",J174,0) -> 0 | BJ174: 2 | BK174: =ROUND(I174*H174,2) -> 0 | BL174: 262144 | BM174: 86
C175: 44 | D175: K | E175: HZS000004 | F175: Nešpecifikované nepredvídané práce | G175: hod | H175: 20 | J175: =ROUND(I175*H175,2) -> 0 | N175: znížená | P175: =O175*H175 -> 0 | Q175: 0 | R175: =Q175*H175 -> 0 | S175: 0 | T175: =S175*H175 -> 0 | AR175: 262144 | AT175: K | AU175: 1 | AY175: ROZPOCET | BE175: =IF(N175="základná",J175,0) -> 0 | BF175: =IF(N175="znížená",J175,0) -> 0 | BG175: =IF(N175="zákl. prenesená",J175,0) -> 0 | BH175: =IF(N175="zníž. prenesená",J175,0) -> 0 | BI175: =IF(N175="nulová",J175,0) -> 0 | BJ175: 2 | BK175: =ROUND(I175*H175,2) -> 0 | BL175: 262144 | BM175: 88
C176: 45 | D176: K | E176: HZS000006 | F176: Prenájom plošiny | G176: hod | H176: 16 | J176: =ROUND(I176*H176,2) -> 0 | N176: znížená | P176: =O176*H176 -> 0 | Q176: 0 | R176: =Q176*H176 -> 0 | S176: 0 | T176: =S176*H176 -> 0 | AR176: 262144 | AT176: K | AU176: 1 | AY176: ROZPOCET | BE176: =IF(N176="základná",J176,0) -> 0 | BF176: =IF(N176="znížená",J176,0) -> 0 | BG176: =IF(N176="zákl. prenesená",J176,0) -> 0 | BH176: =IF(N176="zníž. prenesená",J176,0) -> 0 | BI176: =IF(N176="nulová",J176,0) -> 0 | BJ176: 2 | BK176: =ROUND(I176*H176,2) -> 0 | BL176: 262144 | BM176: 90
D177: D | E177: VRN | F177: Investičné náklady neobsiahnuté v cenách | J177: =BK177 -> 0 | P177: =P178 -> 0 | R177: =R178 -> 0 | T177: =T178 -> 0 | AR177: 5 | AT177: D | AU177: 0 | AY177: ROZPOCET | BK177: =BK178 -> 0
C178: 46 | D178: K | E178: 000400021.S | F178: Projektové práce - stavebná časť (stavebné objekty vrátane ich technického vybavenia). náklady na vypracovanie výrobno-technickej dokumentácie pre zhotoviteľa | G178: kpl | H178: 1 | J178: =ROUND(I178*H178,2) -> 0 | N178: znížená | P178: =O178*H178 -> 0 | Q178: 0 | R178: =Q178*H178 -> 0 | S178: 0 | T178: =S178*H178 -> 0 | AR178: 1024 | AT178: K | AU178: 1 | AY178: ROZPOCET | BE178: =IF(N178="základná",J178,0) -> 0 | BF178: =IF(N178="znížená",J178,0) -> 0 | BG178: =IF(N178="zákl. prenesená",J178,0) -> 0 | BH178: =IF(N178="zníž. prenesená",J178,0) -> 0 | BI178: =IF(N178="nulová",J178,0) -> 0 | BJ178: 2 | BK178: =ROUND(I178*H178,2) -> 0 | BL178: 1024 | BM178: 1312541108

Sheet SO 2.08.1 - SO 2.08.1 - O...
L2: >> skryté stĺpce << | AT2: {51d45ba4-085f-471f-8578-39b4c4b2eb56}
AT3: 0
D4: KRYCÍ LIST ROZPOČTU | M4: v --- nižšie sa nachádzajú doplnkové a pomocné údaje k zostavám --- v | AT4: False
D6: Stavba:
E7: ='Rekapitulácia stavby'!K6 -> IP Horná Streda
D8: Objekt:
E9: SO 2.08 - SO 2.08 Odvodnenie komunikácií so vsakovacími a odparovacími priekopami
D10: Časť:
E11: SO 2.08.1 - SO 2.08.1 - Odvodnenie komunikácií so vsakovacími a odparovacími priekopami - vetva A
D13: JKSO: | I13: ČS:
D14: Miesto: | I14: Dátum: | J14: ='Rekapitulácia stavby'!AN8 -> 31. 7. 2026
D16: Objednávateľ: | I16: IČO: | J16: =IF('Rekapitulácia stavby'!AN10="","",'Rekapitulácia stavby'!AN10)
E17: =IF('Rekapitulácia stavby'!E11="","",'Rekapitulácia stavby'!E11) | I17: IČ DPH: | J17: =IF('Rekapitulácia stavby'!AN11="","",'Rekapitulácia stavby'!AN11)
D19: Zhotoviteľ: | I19: IČO: | J19: ='Rekapitulácia stavby'!AN13 -> Vyplň údaj
E20: ='Rekapitulácia stavby'!E14 -> Vyplň údaj | I20: IČ DPH: | J20: ='Rekapitulácia stavby'!AN14 -> Vyplň údaj
D22: Projektant: | I22: IČO: | J22: =IF('Rekapitulácia stavby'!AN16="","",'Rekapitulácia stavby'!AN16)
E23: =IF('Rekapitulácia stavby'!E17="","",'Rekapitulácia stavby'!E17) | I23: IČ DPH: | J23: =IF('Rekapitulácia stavby'!AN17="","",'Rekapitulácia stavby'!AN17)
D25: Spracovateľ: | I25: IČO: | J25: =IF('Rekapitulácia stavby'!AN19="","",'Rekapitulácia stavby'!AN19)
E26: =IF('Rekapitulácia stavby'!E20="","",'Rekapitulácia stavby'!E20) | I26: IČ DPH: | J26: =IF('Rekapitulácia stavby'!AN20="","",'Rekapitulácia stavby'!AN20)
D28: Poznámka:
D32: Cena bez DPH | J32: =ROUND(J124, 2) -> 0
F34: Základ dane | I34: Sadzba dane | J34: Výška dane
D35: DPH | E35: základná | F35: =ROUND((SUM(BE124:BE221)), 2) -> 0 | I35: 0.23 | J35: =ROUND(((SUM(BE124:BE221))*I35), 2) -> 0
E36: znížená | F36: =ROUND((SUM(BF124:BF221)), 2) -> 0 | I36: 0.23 | J36: =ROUND(((SUM(BF124:BF221))*I36), 2) -> 0
E37: zákl. prenesená | F37: =ROUND((SUM(BG124:BG221)), 2) -> 0 | I37: 0.23 | J37: =0 -> 0
E38: zníž. prenesená | F38: =ROUND((SUM(BH124:BH221)), 2) -> 0 | I38: 0.23 | J38: =0 -> 0
E39: nulová | F39: =ROUND((SUM(BI124:BI221)), 2) -> 0 | I39: 0 | J39: =0 -> 0
D41: Cena s DPH | G41: v | H41: EUR | J41: =SUM(J32:J39) -> 0
D50: Projektant | G50: Spracovateľ
D61: Dátum a podpis: | F61: Pečiatka | G61: Dátum a podpis: | J61: Pečiatka
D65: Objednávateľ | G65: Zhotoviteľ
D76: Dátum a podpis: | F76: Pečiatka | G76: Dátum a podpis: | J76: Pečiatka
C82: REKAPITULÁCIA ROZPOČTU
C84: Stavba:
E85: =E7 -> IP Horná Streda
C86: Objekt:
E87: SO 2.08 - SO 2.08 Odvodnenie komunikácií so vsakovacími a odparovacími priekopami
C88: Časť:
E89: =E11 -> SO 2.08.1 - SO 2.08.1 - Odvodnenie komunikácií so vsakovacími a odparovacími priekopami - vetva A
C91: Miesto: | F91: =F14 | I91: Dátum: | J91: =IF(J14="","",J14) -> 31. 7. 2026
C93: Objednávateľ: | F93: =E17 | I93: Projektant: | J93: =E23
C94: Zhotoviteľ: | F94: =IF(E20="","",E20) -> Vyplň údaj | I94: Spracovateľ: | J94: =E26
C96: Kód dielu - Popis | J96: Cena celkom [EUR]
C98: Náklady z rozpočtu | J98: =J124 -> 0 | AU98: -1
D99: HSV - Práce a dodávky HSV | J99: =J125 -> 0
D100: 1 - Zemné práce | J100: =J126 -> 0
D101: 4 - Vodorovné konštrukcie | J101: =J213 -> 0
D102: VRN - Investičné náklady neobsiahnuté v cenách | J102: =J219 -> 0
C109: ROZPOČET
C111: Stavba:
E112: =E7 -> IP Horná Streda
C113: Objekt:
E114: SO 2.08 - SO 2.08 Odvodnenie komunikácií so vsakovacími a odparovacími priekopami
C115: Časť:
E116: =E11 -> SO 2.08.1 - SO 2.08.1 - Odvodnenie komunikácií so vsakovacími a odparovacími priekopami - vetva A
C118: Miesto: | F118: =F14 | I118: Dátum: | J118: =IF(J14="","",J14) -> 31. 7. 2026
C120: Objednávateľ: | F120: =E17 | I120: Projektant: | J120: =E23
C121: Zhotoviteľ: | F121: =IF(E20="","",E20) -> Vyplň údaj | I121: Spracovateľ: | J121: =E26
C123: PČ | D123: Typ | E123: Kód | F123: Popis | G123: MJ | H123: Množstvo | I123: J.cena [EUR] | J123: Cena celkom [EUR] | K123: Cenová sústava | N123: DPH | O123: J. Nh [h] | P123: Nh celkom [h] | Q123: J. hmotnosť [t] | R123: Hmotnosť celkom [t] | S123: J. suť [t] | T123: Suť Celkom [t]
C124: Náklady z rozpočtu | J124: =BK124 -> 0 | P124: =P125+P219 -> 0 | R124: =R125+R219 -> 1438.1024 | T124: =T125+T219 -> 0 | AT124: D | AU124: -1 | BK124: =BK125+BK219 -> 0
D125: D | E125: HSV | F125: Práce a dodávky HSV | J125: =BK125 -> 0 | P125: =P126+P213 -> 0 | R125: =R126+R213 -> 1438.1024 | T125: =T126+T213 -> 0 | AR125: 1 | AT125: D | AU125: 0 | AY125: ROZPOCET | BK125: =BK126+BK213 -> 0
D126: D | E126: 1 | F126: Zemné práce | J126: =BK126 -> 0 | P126: =SUM(P127:P212) -> 0 | R126: =SUM(R127:R212) -> 1436.4 | T126: =SUM(T127:T212) -> 0 | AR126: 1 | AT126: D | AU126: 1 | AY126: ROZPOCET | BK126: =SUM(BK127:BK212) -> 0
C127: 1 | D127: K | E127: 121101112.S | F127: Odstránenie ornice s premiestn. na hromady, so zložením na vzdialenosť do 100 m a do 1000 m3 | G127: m3 | H127: 323.7 | J127: =ROUND(I127*H127,2) -> 0 | N127: znížená | P127: =O127*H127 -> 0 | Q127: 0 | R127: =Q127*H127 -> 0 | S127: 0 | T127: =S127*H127 -> 0 | AR127: 4 | AT127: K | AU127: 2 | AY127: ROZPOCET | BE127: =IF(N127="základná",J127,0) -> 0 | BF127: =IF(N127="znížená",J127,0) -> 0 | BG127: =IF(N127="zákl. prenesená",J127,0) -> 0 | BH127: =IF(N127="zníž. prenesená",J127,0) -> 0 | BI127: =IF(N127="nulová",J127,0) -> 0 | BJ127: 2 | BK127: =ROUND(I127*H127,2) -> 0 | BL127: 4 | BM127: -137144086
D128: VV | F128: - vetva A | AT128: VV | AU128: 2 | AV128: 1 | AW128: True | AX128: 0 | AY128: ROZPOCET
D129: VV | F129: 323,70 "odhumusovanie hr 0,50m | H129: 323.7 | AT129: VV | AU129: 2 | AV129: 2 | AW129: True | AX129: 1 | AY129: ROZPOCET
C130: 2 | D130: K | E130: 162301121.S | F130: Vodorovné premiestnenie výkopku po spevnenej ceste z horniny tr.1-4, nad 100 do 1000 m3 na vzdialenosť nad 50 do 500 m | G130: m3 | H130: 323.7 | J130: =ROUND(I130*H130,2) -> 0 | N130: znížená | P130: =O130*H130 -> 0 | Q130: 0 | R130: =Q130*H130 -> 0 | S130: 0 | T130: =S130*H130 -> 0 | AR130: 4 | AT130: K | AU130: 2 | AY130: ROZPOCET | BE130: =IF(N130="základná",J130,0) -> 0 | BF130: =IF(N130="znížená",J130,0) -> 0 | BG130: =IF(N130="zákl. prenesená",J130,0) -> 0 | BH130: =IF(N130="zníž. prenesená",J130,0) -> 0 | BI130: =IF(N130="nulová",J130,0) -> 0 | BJ130: 2 | BK130: =ROUND(I130*H130,2) -> 0 | BL130: 4 | BM130: 1988662641
D131: P | F131: Poznámka k položke:_x000D_ - uloženie na medziskládku - spätné zahumusovanie terénu v SO 2.08.1 | AT131: P | AU131: 2
D132: VV | F132: - vetva A | AT132: VV | AU132: 2 | AV132: 1 | AW132: True | AX132: 0 | AY132: ROZPOCET
D133: VV | F133: 323,70 "zemina z odhumusovania" | H133: 323.7 | AT133: VV | AU133: 2 | AV133: 2 | AW133: True | AX133: 1 | AY133: ROZPOCET
C134: 3 | D134: K | E134: 167102121.S | F134: Nakladanie a prekladanie výkopku na spätné použitie | G134: m3 | H134: 323.7 | J134: =ROUND(I134*H134,2) -> 0 | N134: znížená | P134: =O134*H134 -> 0 | Q134: 0 | R134: =Q134*H134 -> 0 | S134: 0 | T134: =S134*H134 -> 0 | AR134: 4 | AT134: K | AU134: 2 | AY134: ROZPOCET | BE134: =IF(N134="základná",J134,0) -> 0 | BF134: =IF(N134="znížená",J134,0) -> 0 | BG134: =IF(N134="zákl. prenesená",J134,0) -> 0 | BH134: =IF(N134="zníž. prenesená",J134,0) -> 0 | BI134: =IF(N134="nulová",J134,0) -> 0 | BJ134: 2 | BK134: =ROUND(I134*H134,2) -> 0 | BL134: 4 | BM134: -1727544745
D135: P | F135: Poznámka k položke:_x000D_ - uloženie ma medziskládku do 5 km, spätné naloženie a odvoz na miesto použitia | AT135: P | AU135: 2
D136: VV | F136: - vetva A | AT136: VV | AU136: 2 | AV136: 1 | AW136: True | AX136: 0 | AY136: ROZPOCET
D137: VV | F137: 323,70 "zemina na spätné zahumusovanie v SO 2.08" | H137: 323.7 | AT137: VV | AU137: 2 | AV137: 2 | AW137: True | AX137: 1 | AY137: ROZPOCET
