Workbook

Sheet Rekapitulácia stavby
A1: Export Komplet | BA1: 2.0 | BT1: False | BU1: False | BV1: {5a7a195c-32ad-4baa-8cb1-cdfb92953375}
AR2: >> skryté stĺpce << | BS2: 0,01 | BT2: 23
BS3: 0,01 | BT3: 23
D4: REKAPITULÁCIA STAVBY | AS4: v --- nižšie sa nachádzajú doplnkové a pomocné údaje k zostavám --- v | BE4: Návod na vyplnenie | BS4: 0,001
D5: Kód: | K5: 2026-11 | BE5: Meniť je možné iba bunky so žltým podfarbením!_x000D_ _x000D_ 1) na prvom liste Rekapitulácie stavby vyplňte v zostave_x000D_ _x000D_ a) Rekapitulácia stavby_x000D_ - údaje o Zhotoviteľovi_x000D_ (prenesú sa do ostatných zostáv aj v iných listoch)_x000D_ _x000D_ b) Rekapitulácia objektov stavby_x000D_ - potrebné Ostatné náklady_x000D_ _x000D_ 2) na vybraných listoch vyplňte v zostave_x000D_ _x000D_ a) Krycí list_x000D_ - údaje o Zhotoviteľovi, pokiaľ sa líšia od údajov o Zhotoviteľovi na Rekapitulácii stavby_x000D_ (údaje se prenesú do ostatných zostav v danom liste)_x000D_ _x000D_ b) Rekapitulácia rozpočtu_x000D_ - potrebné Ostatné náklady_x000D_ _x000D_ c) Celkové náklady za stavbu_x000D_ - ceny na položkách_x000D_ - množstvo, pokiaľ má žlté podfarbenie_x000D_ - a v prípade potreby poznámku (tá je v skrytom stĺpci) | BS5: 0,01
D6: Stavba: | K6: Rokycany - Infraštruktúra, 100 Zásobovanie vodou | BS6: 0,01
D7: JKSO: | AK7: ČS: | BS7: 0,01
D8: Miesto: | K8: Rokycany | AK8: Dátum: | AN8: Vyplň údaj | BS8: 0,01
BS9: 0,01
D10: Objednávateľ: | AK10: IČO: | BS10: 0,01
AK11: IČ DPH: | BS11: 0,01
BS12: 0,01
D13: Zhotoviteľ: | AK13: IČO: | AN13: Vyplň údaj | BS13: 0,01
E14: Vyplň údaj | AK14: IČ DPH: | AN14: Vyplň údaj | BS14: 0,01
BS15: False
D16: Projektant: | AK16: IČO: | BS16: False
AK17: IČ DPH: | BS17: True
BS18: 0,01
D19: Spracovateľ: | AK19: IČO: | BS19: 0,01
AK20: IČ DPH: | BS20: True
D22: Poznámka:
D26: Cena bez DPH | AK26: =ROUND(AG94,2) -> 0
L28: Sadzba dane | W28: Základ dane | AK28: Výška dane
D29: DPH | F29: základná | L29: 0.23 | W29: =ROUND(AZ94, 2) -> 0 | AK29: =ROUND(AV94, 2) -> 0
F30: znížená | L30: 0.23 | W30: =ROUND(BA94, 2) -> 0 | AK30: =ROUND(AW94, 2) -> 0
F31: zákl. prenesená | L31: 0.23 | W31: =ROUND(BB94, 2) -> 0 | AK31: 0
F32: zníž. prenesená | L32: 0.23 | W32: =ROUND(BC94, 2) -> 0 | AK32: 0
F33: nulová | L33: 0 | W33: =ROUND(BD94, 2) -> 0 | AK33: 0
D35: Cena s DPH | T35: v | X35: EUR | AK35: =SUM(AK26:AK33) -> 0
D49: Projektant | AH49: Spracovateľ
D60: Dátum a podpis: | V60: Pečiatka | AH60: Dátum a podpis: | AM60: Pečiatka
D64: Objednávateľ | AH64: Zhotoviteľ
D75: Dátum a podpis: | V75: Pečiatka | AH75: Podpis: | AM75: Pečiatka
C82: REKAPITULÁCIA OBJEKTOV STAVBY
C84: Kód: | L84: =K5 -> 2026-11
C85: Stavba: | L85: =K6 -> Rokycany - Infraštruktúra, 100 Zásobovanie vodou
C87: Miesto: | L87: =IF(K8="","",K8) -> Rokycany | AI87: Dátum: | AM87: =IF(AN8= "","",AN8) -> Vyplň údaj
C89: Objednávateľ: | L89: =IF(E11= "","",E11) | AI89: Projektant: | AM89: =IF(E17="","",E17) | AS89: Informatívne údaje z listov zákaziek
C90: Zhotoviteľ: | L90: =IF(E14= "Vyplň údaj","",E14) | AI90: Spracovateľ: | AM90: =IF(E20="","",E20)
C92: Kód | I92: Popis | AG92: Cena bez DPH [EUR] | AN92: Cena s DPH [EUR] | AQ92: Typ | AS92: z toho Ostat._x000D_ náklady [EUR] | AT92: DPH [EUR] | AU92: Normohodiny [h] | AV92: DPH základná [EUR] | AW92: DPH znížená [EUR] | AX92: DPH základná prenesená_x000D_ [EUR] | AY92: DPH znížená prenesená_x000D_ [EUR] | AZ92: Základňa_x000D_ DPH základná | BA92: Základňa_x000D_ DPH znížená | BB92: Základňa_x000D_ DPH zákl. prenesená | BC92: Základňa_x000D_ DPH zníž. prenesená | BD92: Základňa_x000D_ DPH nulová
C94: Náklady z rozpočtov | AG94: =ROUND(AG95+SUM(AG103:AG107)+AG122+AG123,2) -> 0 | AN94: =SUM(AG94,AT94) -> 0 | AS94: =ROUND(AS95+SUM(AS103:AS107)+AS122+AS123,2) -> 0 | AT94: =ROUND(SUM(AV94:AW94),2) -> 0 | AU94: =ROUND(AU95+SUM(AU103:AU107)+AU122+AU123,5) -> 0 | AV94: =ROUND(AZ94*L29,2) -> 0 | AW94: =ROUND(BA94*L30,2) -> 0 | AX94: =ROUND(BB94*L29,2) -> 0 | AY94: =ROUND(BC94*L30,2) -> 0 | AZ94: =ROUND(AZ95+SUM(AZ103:AZ107)+AZ122+AZ123,2) -> 0 | BA94: =ROUND(BA95+SUM(BA103:BA107)+BA122+BA123,2) -> 0 | BB94: =ROUND(BB95+SUM(BB103:BB107)+BB122+BB123,2) -> 0 | BC94: =ROUND(BC95+SUM(BC103:BC107)+BC122+BC123,2) -> 0 | BD94: =ROUND(BD95+SUM(BD103:BD107)+BD122+BD123,2) -> 0 | BS94: D | BT94: 0 | BU94: ###NOIMPORT### | BV94: IMPORT | BW94: {5a7a195c-32ad-4baa-8cb1-cdfb92953375} | BX94: {00000000-0000-0000-0000-000000000000}
D95: 1 | J95: SO 111 Vodojem | AG95: =ROUND(SUM(AG96:AG102),2) -> 0 | AN95: =SUM(AG95,AT95) -> 0 | AQ95: STA | AS95: =ROUND(SUM(AS96:AS102),2) -> 0 | AT95: =ROUND(SUM(AV95:AW95),2) -> 0 | AU95: =ROUND(SUM(AU96:AU102),5) -> 0 | AV95: =ROUND(AZ95*L29,2) -> 0 | AW95: =ROUND(BA95*L30,2) -> 0 | AX95: =ROUND(BB95*L29,2) -> 0 | AY95: =ROUND(BC95*L30,2) -> 0 | AZ95: =ROUND(SUM(AZ96:AZ102),2) -> 0 | BA95: =ROUND(SUM(BA96:BA102),2) -> 0 | BB95: =ROUND(SUM(BB96:BB102),2) -> 0 | BC95: =ROUND(SUM(BC96:BC102),2) -> 0 | BD95: =ROUND(SUM(BD96:BD102),2) -> 0 | BS95: D | BT95: 1 | BU95: ###NOIMPORT### | BV95: IMPORT | BW95: {e7c03055-5d9f-446b-88e0-048dfa61f20e} | BX95: {5a7a195c-32ad-4baa-8cb1-cdfb92953375} | CM95: 0
A96: / | E96: 11 | K96: Osadenie vodojemu | AG96: ='11 - Osadenie vodojemu'!J32 -> 0 | AN96: =SUM(AG96,AT96) -> 0 | AQ96: Časť | AS96: 0 | AT96: =ROUND(SUM(AV96:AW96),2) -> 0 | AU96: ='11 - Osadenie vodojemu'!P123 -> 0 | AV96: ='11 - Osadenie vodojemu'!J35 -> 0 | AW96: ='11 - Osadenie vodojemu'!J36 -> 0 | AX96: ='11 - Osadenie vodojemu'!J37 -> 0 | AY96: ='11 - Osadenie vodojemu'!J38 -> 0 | AZ96: ='11 - Osadenie vodojemu'!F35 -> 0 | BA96: ='11 - Osadenie vodojemu'!F36 -> 0 | BB96: ='11 - Osadenie vodojemu'!F37 -> 0 | BC96: ='11 - Osadenie vodojemu'!F38 -> 0 | BD96: ='11 - Osadenie vodojemu'!F39 -> 0 | BT96: 2 | BV96: IMPORT | BW96: {bc13a3e6-a4e1-4fac-b1ca-3a96599d8375} | BX96: {e7c03055-5d9f-446b-88e0-048dfa61f20e}
A97: / | E97: 12 | K97: Nádrž 100 m3 - 2x | AG97: ='12 - Nádrž 100 m3 - 2x'!J32 -> 0 | AN97: =SUM(AG97,AT97) -> 0 | AQ97: Časť | AS97: 0 | AT97: =ROUND(SUM(AV97:AW97),2) -> 0 | AU97: ='12 - Nádrž 100 m3 - 2x'!P135 -> 0 | AV97: ='12 - Nádrž 100 m3 - 2x'!J35 -> 0 | AW97: ='12 - Nádrž 100 m3 - 2x'!J36 -> 0 | AX97: ='12 - Nádrž 100 m3 - 2x'!J37 -> 0 | AY97: ='12 - Nádrž 100 m3 - 2x'!J38 -> 0 | AZ97: ='12 - Nádrž 100 m3 - 2x'!F35 -> 0 | BA97: ='12 - Nádrž 100 m3 - 2x'!F36 -> 0 | BB97: ='12 - Nádrž 100 m3 - 2x'!F37 -> 0 | BC97: ='12 - Nádrž 100 m3 - 2x'!F38 -> 0 | BD97: ='12 - Nádrž 100 m3 - 2x'!F39 -> 0 | BT97: 2 | BV97: IMPORT | BW97: {39c0521f-be02-4e6f-85ac-c7603e6c1b0e} | BX97: {e7c03055-5d9f-446b-88e0-048dfa61f20e}
A98: / | E98: 13 | K98: Manipulačná komora MK 3-2 | AG98: ='13 - Manipulačná komora M...'!J32 -> 0 | AN98: =SUM(AG98,AT98) -> 0 | AQ98: Časť | AS98: 0 | AT98: =ROUND(SUM(AV98:AW98),2) -> 0 | AU98: ='13 - Manipulačná komora M...'!P138 -> 0 | AV98: ='13 - Manipulačná komora M...'!J35 -> 0 | AW98: ='13 - Manipulačná komora M...'!J36 -> 0 | AX98: ='13 - Manipulačná komora M...'!J37 -> 0 | AY98: ='13 - Manipulačná komora M...'!J38 -> 0 | AZ98: ='13 - Manipulačná komora M...'!F35 -> 0 | BA98: ='13 - Manipulačná komora M...'!F36 -> 0 | BB98: ='13 - Manipulačná komora M...'!F37 -> 0 | BC98: ='13 - Manipulačná komora M...'!F38 -> 0 | BD98: ='13 - Manipulačná komora M...'!F39 -> 0 | BT98: 2 | BV98: IMPORT | BW98: {51efa940-d329-48df-b359-d1d538860402} | BX98: {e7c03055-5d9f-446b-88e0-048dfa61f20e}
A99: / | E99: 14 | K99: Úprava armatúr vodojemu | AG99: ='14 - Úprava armatúr vodojemu'!J32 -> 0 | AN99: =SUM(AG99,AT99) -> 0 | AQ99: Časť | AS99: 0 | AT99: =ROUND(SUM(AV99:AW99),2) -> 0 | AU99: ='14 - Úprava armatúr vodojemu'!P127 -> 0 | AV99: ='14 - Úprava armatúr vodojemu'!J35 -> 0 | AW99: ='14 - Úprava armatúr vodojemu'!J36 -> 0 | AX99: ='14 - Úprava armatúr vodojemu'!J37 -> 0 | AY99: ='14 - Úprava armatúr vodojemu'!J38 -> 0 | AZ99: ='14 - Úprava armatúr vodojemu'!F35 -> 0 | BA99: ='14 - Úprava armatúr vodojemu'!F36 -> 0 | BB99: ='14 - Úprava armatúr vodojemu'!F37 -> 0 | BC99: ='14 - Úprava armatúr vodojemu'!F38 -> 0 | BD99: ='14 - Úprava armatúr vodojemu'!F39 -> 0 | BT99: 2 | BV99: IMPORT | BW99: {7c94cf2c-c126-42d3-a971-0fc5d349e2fb} | BX99: {e7c03055-5d9f-446b-88e0-048dfa61f20e}
A100: / | E100: 15 | K100: Elektroinštalácia a bleskozvod | AG100: ='15 - Elektroinštalácia a ...'!J32 -> 0 | AN100: =SUM(AG100,AT100) -> 0 | AQ100: Časť | AS100: 0 | AT100: =ROUND(SUM(AV100:AW100),2) -> 0 | AU100: ='15 - Elektroinštalácia a ...'!P126 -> 0 | AV100: ='15 - Elektroinštalácia a ...'!J35 -> 0 | AW100: ='15 - Elektroinštalácia a ...'!J36 -> 0 | AX100: ='15 - Elektroinštalácia a ...'!J37 -> 0 | AY100: ='15 - Elektroinštalácia a ...'!J38 -> 0 | AZ100: ='15 - Elektroinštalácia a ...'!F35 -> 0 | BA100: ='15 - Elektroinštalácia a ...'!F36 -> 0 | BB100: ='15 - Elektroinštalácia a ...'!F37 -> 0 | BC100: ='15 - Elektroinštalácia a ...'!F38 -> 0 | BD100: ='15 - Elektroinštalácia a ...'!F39 -> 0 | BT100: 2 | BV100: IMPORT | BW100: {dae72c6d-b3c5-43d8-8801-ac98de89f945} | BX100: {e7c03055-5d9f-446b-88e0-048dfa61f20e}
A101: / | E101: 16 | K101: Hygienické zabezpečenie vody | AG101: ='16 - Hygienické zabezpeče...'!J32 -> 0 | AN101: =SUM(AG101,AT101) -> 0 | AQ101: Časť | AS101: 0 | AT101: =ROUND(SUM(AV101:AW101),2) -> 0 | AU101: ='16 - Hygienické zabezpeče...'!P122 -> 0 | AV101: ='16 - Hygienické zabezpeče...'!J35 -> 0 | AW101: ='16 - Hygienické zabezpeče...'!J36 -> 0 | AX101: ='16 - Hygienické zabezpeče...'!J37 -> 0 | AY101: ='16 - Hygienické zabezpeče...'!J38 -> 0 | AZ101: ='16 - Hygienické zabezpeče...'!F35 -> 0 | BA101: ='16 - Hygienické zabezpeče...'!F36 -> 0 | BB101: ='16 - Hygienické zabezpeče...'!F37 -> 0 | BC101: ='16 - Hygienické zabezpeče...'!F38 -> 0 | BD101: ='16 - Hygienické zabezpeče...'!F39 -> 0 | BT101: 2 | BV101: IMPORT | BW101: {a0824c83-9adb-4926-869f-1008eaa3e40c} | BX101: {e7c03055-5d9f-446b-88e0-048dfa61f20e}
A102: / | E102: 17 | K102: Telemetria | AG102: ='17 - Telemetria'!J32 -> 0 | AN102: =SUM(AG102,AT102) -> 0 | AQ102: Časť | AS102: 0 | AT102: =ROUND(SUM(AV102:AW102),2) -> 0 | AU102: ='17 - Telemetria'!P123 -> 0 | AV102: ='17 - Telemetria'!J35 -> 0 | AW102: ='17 - Telemetria'!J36 -> 0 | AX102: ='17 - Telemetria'!J37 -> 0 | AY102: ='17 - Telemetria'!J38 -> 0 | AZ102: ='17 - Telemetria'!F35 -> 0 | BA102: ='17 - Telemetria'!F36 -> 0 | BB102: ='17 - Telemetria'!F37 -> 0 | BC102: ='17 - Telemetria'!F38 -> 0 | BD102: ='17 - Telemetria'!F39 -> 0 | BT102: 2 | BV102: IMPORT | BW102: {9f6b9d66-2a44-4cc8-aa1b-cc50c1f08a4e} | BX102: {e7c03055-5d9f-446b-88e0-048dfa61f20e}
A103: / | D103: 2 | J103: SO 112 Oplotenie vodojemu | AG103: ='2 - SO 112 Oplotenie vodo...'!J30 -> 0 | AN103: =SUM(AG103,AT103) -> 0 | AQ103: STA | AS103: 0 | AT103: =ROUND(SUM(AV103:AW103),2) -> 0 | AU103: ='2 - SO 112 Oplotenie vodo...'!P122 -> 0 | AV103: ='2 - SO 112 Oplotenie vodo...'!J33 -> 0 | AW103: ='2 - SO 112 Oplotenie vodo...'!J34 -> 0 | AX103: ='2 - SO 112 Oplotenie vodo...'!J35 -> 0 | AY103: ='2 - SO 112 Oplotenie vodo...'!J36 -> 0 | AZ103: ='2 - SO 112 Oplotenie vodo...'!F33 -> 0 | BA103: ='2 - SO 112 Oplotenie vodo...'!F34 -> 0 | BB103: ='2 - SO 112 Oplotenie vodo...'!F35 -> 0 | BC103: ='2 - SO 112 Oplotenie vodo...'!F36 -> 0 | BD103: ='2 - SO 112 Oplotenie vodo...'!F37 -> 0 | BT103: 1 | BV103: IMPORT | BW103: {b9408be8-077a-41e1-8843-abe68094a0dc} | BX103: {5a7a195c-32ad-4baa-8cb1-cdfb92953375} | CM103: 0
A104: / | D104: 3 | J104: SO 113 Privádzacie potrubie do vodojemu | AG104: ='3 - SO 113 Privádzacie po...'!J30 -> 0 | AN104: =SUM(AG104,AT104) -> 0 | AQ104: STA | AS104: 0 | AT104: =ROUND(SUM(AV104:AW104),2) -> 0 | AU104: ='3 - SO 113 Privádzacie po...'!P132 -> 0 | AV104: ='3 - SO 113 Privádzacie po...'!J33 -> 0 | AW104: ='3 - SO 113 Privádzacie po...'!J34 -> 0 | AX104: ='3 - SO 113 Privádzacie po...'!J35 -> 0 | AY104: ='3 - SO 113 Privádzacie po...'!J36 -> 0 | AZ104: ='3 - SO 113 Privádzacie po...'!F33 -> 0 | BA104: ='3 - SO 113 Privádzacie po...'!F34 -> 0 | BB104: ='3 - SO 113 Privádzacie po...'!F35 -> 0 | BC104: ='3 - SO 113 Privádzacie po...'!F36 -> 0 | BD104: ='3 - SO 113 Privádzacie po...'!F37 -> 0 | BT104: 1 | BV104: IMPORT | BW104: {dff174bb-6962-4643-bc9d-13f2ba5fbae1} | BX104: {5a7a195c-32ad-4baa-8cb1-cdfb92953375} | CM104: 0
A105: / | D105: 4 | J105: SO 114 Pristupová cesta k vodojemu | AG105: ='4 - SO 114 Pristupová ces...'!J30 -> 0 | AN105: =SUM(AG105,AT105) -> 0 | AQ105: STA | AS105: 0 | AT105: =ROUND(SUM(AV105:AW105),2) -> 0 | AU105: ='4 - SO 114 Pristupová ces...'!P120 -> 0 | AV105: ='4 - SO 114 Pristupová ces...'!J33 -> 0 | AW105: ='4 - SO 114 Pristupová ces...'!J34 -> 0 | AX105: ='4 - SO 114 Pristupová ces...'!J35 -> 0 | AY105: ='4 - SO 114 Pristupová ces...'!J36 -> 0 | AZ105: ='4 - SO 114 Pristupová ces...'!F33 -> 0 | BA105: ='4 - SO 114 Pristupová ces...'!F34 -> 0 | BB105: ='4 - SO 114 Pristupová ces...'!F35 -> 0 | BC105: ='4 - SO 114 Pristupová ces...'!F36 -> 0 | BD105: ='4 - SO 114 Pristupová ces...'!F37 -> 0 | BT105: 1 | BV105: IMPORT | BW105: {c38ff47b-7d04-4dbf-ac44-a1722eb8e5fd} | BX105: {5a7a195c-32ad-4baa-8cb1-cdfb92953375} | CM105: 0
A106: / | D106: 5 | J106: SO 115 Odpadové potrubie z vodojemu | AG106: ='5 - SO 115 Odpadové potru...'!J30 -> 0 | AN106: =SUM(AG106,AT106) -> 0 | AQ106: STA | AS106: 0 | AT106: =ROUND(SUM(AV106:AW106),2) -> 0 | AU106: ='5 - SO 115 Odpadové potru...'!P122 -> 0 | AV106: ='5 - SO 115 Odpadové potru...'!J33 -> 0 | AW106: ='5 - SO 115 Odpadové potru...'!J34 -> 0 | AX106: ='5 - SO 115 Odpadové potru...'!J35 -> 0 | AY106: ='5 - SO 115 Odpadové potru...'!J36 -> 0 | AZ106: ='5 - SO 115 Odpadové potru...'!F33 -> 0 | BA106: ='5 - SO 115 Odpadové potru...'!F34 -> 0 | BB106: ='5 - SO 115 Odpadové potru...'!F35 -> 0 | BC106: ='5 - SO 115 Odpadové potru...'!F36 -> 0 | BD106: ='5 - SO 115 Odpadové potru...'!F37 -> 0 | BT106: 1 | BV106: IMPORT | BW106: {2860b8e8-f352-4f0d-8555-a25bf5b7fb9e} | BX106: {5a7a195c-32ad-4baa-8cb1-cdfb92953375} | CM106: 0
D107: 6 | J107: SO 121 Zásobovacia vodovodná sieť | AG107: =ROUND(SUM(AG108:AG121),2) -> 0 | AN107: =SUM(AG107,AT107) -> 0 | AQ107: STA | AS107: =ROUND(SUM(AS108:AS121),2) -> 0 | AT107: =ROUND(SUM(AV107:AW107),2) -> 0 | AU107: =ROUND(SUM(AU108:AU121),5) -> 0 | AV107: =ROUND(AZ107*L29,2) -> 0 | AW107: =ROUND(BA107*L30,2) -> 0 | AX107: =ROUND(BB107*L29,2) -> 0 | AY107: =ROUND(BC107*L30,2) -> 0 | AZ107: =ROUND(SUM(AZ108:AZ121),2) -> 0 | BA107: =ROUND(SUM(BA108:BA121),2) -> 0 | BB107: =ROUND(SUM(BB108:BB121),2) -> 0 | BC107: =ROUND(SUM(BC108:BC121),2) -> 0 | BD107: =ROUND(SUM(BD108:BD121),2) -> 0 | BS107: D | BT107: 1 | BU107: ###NOIMPORT### | BV107: IMPORT | BW107: {d85b1289-3b42-417e-afd8-b451dd75716d} | BX107: {5a7a195c-32ad-4baa-8cb1-cdfb92953375} | CM107: 0
A108: / | E108: 501 | K108: Privádzacie potrubie | AG108: ='501 - Privádzacie potrubie'!J32 -> 0 | AN108: =SUM(AG108,AT108) -> 0 | AQ108: Časť | AS108: 0 | AT108: =ROUND(SUM(AV108:AW108),2) -> 0 | AU108: ='501 - Privádzacie potrubie'!P129 -> 0 | AV108: ='501 - Privádzacie potrubie'!J35 -> 0 | AW108: ='501 - Privádzacie potrubie'!J36 -> 0 | AX108: ='501 - Privádzacie potrubie'!J37 -> 0 | AY108: ='501 - Privádzacie potrubie'!J38 -> 0 | AZ108: ='501 - Privádzacie potrubie'!F35 -> 0 | BA108: ='501 - Privádzacie potrubie'!F36 -> 0 | BB108: ='501 - Privádzacie potrubie'!F37 -> 0 | BC108: ='501 - Privádzacie potrubie'!F38 -> 0 | BD108: ='501 - Privádzacie potrubie'!F39 -> 0 | BT108: 2 | BV108: IMPORT | BW108: {66bf65b3-2dbb-4416-afb7-9bc56c2c91d2} | BX108: {d85b1289-3b42-417e-afd8-b451dd75716d}
A109: / | E109: 502 | K109: Potrubie A | AG109: ='502 - Potrubie A'!J32 -> 0 | AN109: =SUM(AG109,AT109) -> 0 | AQ109: Časť | AS109: 0 | AT109: =ROUND(SUM(AV109:AW109),2) -> 0 | AU109: ='502 - Potrubie A'!P130 -> 0 | AV109: ='502 - Potrubie A'!J35 -> 0 | AW109: ='502 - Potrubie A'!J36 -> 0 | AX109: ='502 - Potrubie A'!J37 -> 0 | AY109: ='502 - Potrubie A'!J38 -> 0 | AZ109: ='502 - Potrubie A'!F35 -> 0 | BA109: ='502 - Potrubie A'!F36 -> 0 | BB109: ='502 - Potrubie A'!F37 -> 0 | BC109: ='502 - Potrubie A'!F38 -> 0 | BD109: ='502 - Potrubie A'!F39 -> 0 | BT109: 2 | BV109: IMPORT | BW109: {730c88e4-5767-4489-a066-ba2c8810d3d9} | BX109: {d85b1289-3b42-417e-afd8-b451dd75716d}
A110: / | E110: 503 | K110: Potrubie A-1 | AG110: ='503 - Potrubie A-1'!J32 -> 0 | AN110: =SUM(AG110,AT110) -> 0 | AQ110: Časť | AS110: 0 | AT110: =ROUND(SUM(AV110:AW110),2) -> 0 | AU110: ='503 - Potrubie A-1'!P130 -> 0 | AV110: ='503 - Potrubie A-1'!J35 -> 0 | AW110: ='503 - Potrubie A-1'!J36 -> 0 | AX110: ='503 - Potrubie A-1'!J37 -> 0 | AY110: ='503 - Potrubie A-1'!J38 -> 0 | AZ110: ='503 - Potrubie A-1'!F35 -> 0 | BA110: ='503 - Potrubie A-1'!F36 -> 0 | BB110: ='503 - Potrubie A-1'!F37 -> 0 | BC110: ='503 - Potrubie A-1'!F38 -> 0 | BD110: ='503 - Potrubie A-1'!F39 -> 0 | BT110: 2 | BV110: IMPORT | BW110: {31bbb12a-80a8-4822-b691-835fc3622c42} | BX110: {d85b1289-3b42-417e-afd8-b451dd75716d}
A111: / | E111: 504 | K111: Potrubie A-2 | AG111: ='504 - Potrubie A-2'!J32 -> 0 | AN111: =SUM(AG111,AT111) -> 0 | AQ111: Časť | AS111: 0 | AT111: =ROUND(SUM(AV111:AW111),2) -> 0 | AU111: ='504 - Potrubie A-2'!P130 -> 0 | AV111: ='504 - Potrubie A-2'!J35 -> 0 | AW111: ='504 - Potrubie A-2'!J36 -> 0 | AX111: ='504 - Potrubie A-2'!J37 -> 0 | AY111: ='504 - Potrubie A-2'!J38 -> 0 | AZ111: ='504 - Potrubie A-2'!F35 -> 0 | BA111: ='504 - Potrubie A-2'!F36 -> 0 | BB111: ='504 - Potrubie A-2'!F37 -> 0 | BC111: ='504 - Potrubie A-2'!F38 -> 0 | BD111: ='504 - Potrubie A-2'!F39 -> 0 | BT111: 2 | BV111: IMPORT | BW111: {fe40157b-884f-4df4-aa73-0aeb20b64368} | BX111: {d85b1289-3b42-417e-afd8-b451dd75716d}
A112: / | E112: 505 | K112: Potrubie A-2-1 | AG112: ='505 - Potrubie A-2-1'!J32 -> 0 | AN112: =SUM(AG112,AT112) -> 0 | AQ112: Časť | AS112: 0 | AT112: =ROUND(SUM(AV112:AW112),2) -> 0 | AU112: ='505 - Potrubie A-2-1'!P130 -> 0 | AV112: ='505 - Potrubie A-2-1'!J35 -> 0 | AW112: ='505 - Potrubie A-2-1'!J36 -> 0 | AX112: ='505 - Potrubie A-2-1'!J37 -> 0 | AY112: ='505 - Potrubie A-2-1'!J38 -> 0 | AZ112: ='505 - Potrubie A-2-1'!F35 -> 0 | BA112: ='505 - Potrubie A-2-1'!F36 -> 0 | BB112: ='505 - Potrubie A-2-1'!F37 -> 0 | BC112: ='505 - Potrubie A-2-1'!F38 -> 0 | BD112: ='505 - Potrubie A-2-1'!F39 -> 0 | BT112: 2 | BV112: IMPORT | BW112: {21e13a50-1e3a-451b-9235-59d0c4bf14b9} | BX112: {d85b1289-3b42-417e-afd8-b451dd75716d}
A113: / | E113: 506 | K113: Potrubie A-2-1a | AG113: ='506 - Potrubie A-2-1a'!J32 -> 0 | AN113: =SUM(AG113,AT113) -> 0 | AQ113: Časť | AS113: 0 | AT113: =ROUND(SUM(AV113:AW113),2) -> 0 | AU113: ='506 - Potrubie A-2-1a'!P129 -> 0 | AV113: ='506 - Potrubie A-2-1a'!J35 -> 0 | AW113: ='506 - Potrubie A-2-1a'!J36 -> 0 | AX113: ='506 - Potrubie A-2-1a'!J37 -> 0 | AY113: ='506 - Potrubie A-2-1a'!J38 -> 0 | AZ113: ='506 - Potrubie A-2-1a'!F35 -> 0 | BA113: ='506 - Potrubie A-2-1a'!F36 -> 0 | BB113: ='506 - Potrubie A-2-1a'!F37 -> 0 | BC113: ='506 - Potrubie A-2-1a'!F38 -> 0 | BD113: ='506 - Potrubie A-2-1a'!F39 -> 0 | BT113: 2 | BV113: IMPORT | BW113: {1bc488b2-48f5-49f6-bc3c-c0297fd82c63} | BX113: {d85b1289-3b42-417e-afd8-b451dd75716d}
A114: / | E114: 507 | K114: Potrubie A-2-1b | AG114: ='507 - Potrubie A-2-1b'!J32 -> 0 | AN114: =SUM(AG114,AT114) -> 0 | AQ114: Časť | AS114: 0 | AT114: =ROUND(SUM(AV114:AW114),2) -> 0 | AU114: ='507 - Potrubie A-2-1b'!P130 -> 0 | AV114: ='507 - Potrubie A-2-1b'!J35 -> 0 | AW114: ='507 - Potrubie A-2-1b'!J36 -> 0 | AX114: ='507 - Potrubie A-2-1b'!J37 -> 0 | AY114: ='507 - Potrubie A-2-1b'!J38 -> 0 | AZ114: ='507 - Potrubie A-2-1b'!F35 -> 0 | BA114: ='507 - Potrubie A-2-1b'!F36 -> 0 | BB114: ='507 - Potrubie A-2-1b'!F37 -> 0 | BC114: ='507 - Potrubie A-2-1b'!F38 -> 0 | BD114: ='507 - Potrubie A-2-1b'!F39 -> 0 | BT114: 2 | BV114: IMPORT | BW114: {cb87976a-795b-4959-ad66-e05c35d19bf9} | BX114: {d85b1289-3b42-417e-afd8-b451dd75716d}
A115: / | E115: 508 | K115: Potrubie A-2-2 | AG115: ='508 - Potrubie A-2-2'!J32 -> 0 | AN115: =SUM(AG115,AT115) -> 0 | AQ115: Časť | AS115: 0 | AT115: =ROUND(SUM(AV115:AW115),2) -> 0 | AU115: ='508 - Potrubie A-2-2'!P130 -> 0 | AV115: ='508 - Potrubie A-2-2'!J35 -> 0 | AW115: ='508 - Potrubie A-2-2'!J36 -> 0 | AX115: ='508 - Potrubie A-2-2'!J37 -> 0 | AY115: ='508 - Potrubie A-2-2'!J38 -> 0 | AZ115: ='508 - Potrubie A-2-2'!F35 -> 0 | BA115: ='508 - Potrubie A-2-2'!F36 -> 0 | BB115: ='508 - Potrubie A-2-2'!F37 -> 0 | BC115: ='508 - Potrubie A-2-2'!F38 -> 0 | BD115: ='508 - Potrubie A-2-2'!F39 -> 0 | BT115: 2 | BV115: IMPORT | BW115: {297260b1-e2bb-4820-91bc-869e99f552fe} | BX115: {d85b1289-3b42-417e-afd8-b451dd75716d}
A116: / | E116: 509 | K116: Potrubie A-2-2a | AG116: ='509 - Potrubie A-2-2a'!J32 -> 0 | AN116: =SUM(AG116,AT116) -> 0 | AQ116: Časť | AS116: 0 | AT116: =ROUND(SUM(AV116:AW116),2) -> 0 | AU116: ='509 - Potrubie A-2-2a'!P130 -> 0 | AV116: ='509 - Potrubie A-2-2a'!J35 -> 0 | AW116: ='509 - Potrubie A-2-2a'!J36 -> 0 | AX116: ='509 - Potrubie A-2-2a'!J37 -> 0 | AY116: ='509 - Potrubie A-2-2a'!J38 -> 0 | AZ116: ='509 - Potrubie A-2-2a'!F35 -> 0 | BA116: ='509 - Potrubie A-2-2a'!F36 -> 0 | BB116: ='509 - Potrubie A-2-2a'!F37 -> 0 | BC116: ='509 - Potrubie A-2-2a'!F38 -> 0 | BD116: ='509 - Potrubie A-2-2a'!F39 -> 0 | BT116: 2 | BV116: IMPORT | BW116: {5874bd2a-4642-4232-b3c0-f5d05877b401} | BX116: {d85b1289-3b42-417e-afd8-b451dd75716d}
A117: / | E117: 510 | K117: Potrubie A-3 | AG117: ='510 - Potrubie A-3'!J32 -> 0 | AN117: =SUM(AG117,AT117) -> 0 | AQ117: Časť | AS117: 0 | AT117: =ROUND(SUM(AV117:AW117),2) -> 0 | AU117: ='510 - Potrubie A-3'!P130 -> 0 | AV117: ='510 - Potrubie A-3'!J35 -> 0 | AW117: ='510 - Potrubie A-3'!J36 -> 0 | AX117: ='510 - Potrubie A-3'!J37 -> 0 | AY117: ='510 - Potrubie A-3'!J38 -> 0 | AZ117: ='510 - Potrubie A-3'!F35 -> 0 | BA117: ='510 - Potrubie A-3'!F36 -> 0 | BB117: ='510 - Potrubie A-3'!F37 -> 0 | BC117: ='510 - Potrubie A-3'!F38 -> 0 | BD117: ='510 - Potrubie A-3'!F39 -> 0 | BT117: 2 | BV117: IMPORT | BW117: {943a6131-24e5-43a8-85ea-5e12f135eb57} | BX117: {d85b1289-3b42-417e-afd8-b451dd75716d}
A118: / | E118: 511 | K118: Potrubie A-3-1 | AG118: ='511 - Potrubie A-3-1'!J32 -> 0 | AN118: =SUM(AG118,AT118) -> 0 | AQ118: Časť | AS118: 0 | AT118: =ROUND(SUM(AV118:AW118),2) -> 0 | AU118: ='511 - Potrubie A-3-1'!P130 -> 0 | AV118: ='511 - Potrubie A-3-1'!J35 -> 0 | AW118: ='511 - Potrubie A-3-1'!J36 -> 0 | AX118: ='511 - Potrubie A-3-1'!J37 -> 0 | AY118: ='511 - Potrubie A-3-1'!J38 -> 0 | AZ118: ='511 - Potrubie A-3-1'!F35 -> 0 | BA118: ='511 - Potrubie A-3-1'!F36 -> 0 | BB118: ='511 - Potrubie A-3-1'!F37 -> 0 | BC118: ='511 - Potrubie A-3-1'!F38 -> 0 | BD118: ='511 - Potrubie A-3-1'!F39 -> 0 | BT118: 2 | BV118: IMPORT | BW118: {774e57fd-f2ee-45cd-aa22-27ef2e959ca6} | BX118: {d85b1289-3b42-417e-afd8-b451dd75716d}
A119: / | E119: 512 | K119: Potrubie A-4 | AG119: ='512 - Potrubie A-4'!J32 -> 0 | AN119: =SUM(AG119,AT119) -> 0 | AQ119: Časť | AS119: 0 | AT119: =ROUND(SUM(AV119:AW119),2) -> 0 | AU119: ='512 - Potrubie A-4'!P130 -> 0 | AV119: ='512 - Potrubie A-4'!J35 -> 0 | AW119: ='512 - Potrubie A-4'!J36 -> 0 | AX119: ='512 - Potrubie A-4'!J37 -> 0 | AY119: ='512 - Potrubie A-4'!J38 -> 0 | AZ119: ='512 - Potrubie A-4'!F35 -> 0 | BA119: ='512 - Potrubie A-4'!F36 -> 0 | BB119: ='512 - Potrubie A-4'!F37 -> 0 | BC119: ='512 - Potrubie A-4'!F38 -> 0 | BD119: ='512 - Potrubie A-4'!F39 -> 0 | BT119: 2 | BV119: IMPORT | BW119: {40b1d667-a105-4a42-9369-8fc305508f5a} | BX119: {d85b1289-3b42-417e-afd8-b451dd75716d}
A120: / | E120: 513 | K120: Potrubie A-5 | AG120: ='513 - Potrubie A-5'!J32 -> 0 | AN120: =SUM(AG120,AT120) -> 0 | AQ120: Časť | AS120: 0 | AT120: =ROUND(SUM(AV120:AW120),2) -> 0 | AU120: ='513 - Potrubie A-5'!P130 -> 0 | AV120: ='513 - Potrubie A-5'!J35 -> 0 | AW120: ='513 - Potrubie A-5'!J36 -> 0 | AX120: ='513 - Potrubie A-5'!J37 -> 0 | AY120: ='513 - Potrubie A-5'!J38 -> 0 | AZ120: ='513 - Potrubie A-5'!F35 -> 0 | BA120: ='513 - Potrubie A-5'!F36 -> 0 | BB120: ='513 - Potrubie A-5'!F37 -> 0 | BC120: ='513 - Potrubie A-5'!F38 -> 0 | BD120: ='513 - Potrubie A-5'!F39 -> 0 | BT120: 2 | BV120: IMPORT | BW120: {e317fd1b-8457-4a50-9cbb-eb385e1c53d3} | BX120: {d85b1289-3b42-417e-afd8-b451dd75716d}
A121: / | E121: 514 | K121: Potrubie A-6 | AG121: ='514 - Potrubie A-6'!J32 -> 0 | AN121: =SUM(AG121,AT121) -> 0 | AQ121: Časť | AS121: 0 | AT121: =ROUND(SUM(AV121:AW121),2) -> 0 | AU121: ='514 - Potrubie A-6'!P130 -> 0 | AV121: ='514 - Potrubie A-6'!J35 -> 0 | AW121: ='514 - Potrubie A-6'!J36 -> 0 | AX121: ='514 - Potrubie A-6'!J37 -> 0 | AY121: ='514 - Potrubie A-6'!J38 -> 0 | AZ121: ='514 - Potrubie A-6'!F35 -> 0 | BA121: ='514 - Potrubie A-6'!F36 -> 0 | BB121: ='514 - Potrubie A-6'!F37 -> 0 | BC121: ='514 - Potrubie A-6'!F38 -> 0 | BD121: ='514 - Potrubie A-6'!F39 -> 0 | BT121: 2 | BV121: IMPORT | BW121: {ac67fb9c-49a5-4139-8553-9007cb7a0f7d} | BX121: {d85b1289-3b42-417e-afd8-b451dd75716d}
A122: / | D122: 7 | J122: SO 122 Domové vodovodné prípojky | AG122: ='7 - SO 122 Domové vodovod...'!J30 -> 0 | AN122: =SUM(AG122,AT122) -> 0 | AQ122: STA | AS122: 0 | AT122: =ROUND(SUM(AV122:AW122),2) -> 0 | AU122: ='7 - SO 122 Domové vodovod...'!P125 -> 0 | AV122: ='7 - SO 122 Domové vodovod...'!J33 -> 0 | AW122: ='7 - SO 122 Domové vodovod...'!J34 -> 0 | AX122: ='7 - SO 122 Domové vodovod...'!J35 -> 0 | AY122: ='7 - SO 122 Domové vodovod...'!J36 -> 0 | AZ122: ='7 - SO 122 Domové vodovod...'!F33 -> 0 | BA122: ='7 - SO 122 Domové vodovod...'!F34 -> 0 | BB122: ='7 - SO 122 Domové vodovod...'!F35 -> 0 | BC122: ='7 - SO 122 Domové vodovod...'!F36 -> 0 | BD122: ='7 - SO 122 Domové vodovod...'!F37 -> 0 | BT122: 1 | BV122: IMPORT | BW122: {db0bac85-66d7-4f4b-b9ed-e3ebc765b442} | BX122: {5a7a195c-32ad-4baa-8cb1-cdfb92953375} | CM122: 0
A123: / | D123: 8 | J123: SO 404 Elektrická NN prípojka pre vodojem | AG123: ='8 - SO 404 Elektrická NN ...'!J30 -> 0 | AN123: =SUM(AG123,AT123) -> 0 | AQ123: STA | AS123: 0 | AT123: =ROUND(SUM(AV123:AW123),2) -> 0 | AU123: ='8 - SO 404 Elektrická NN ...'!P123 -> 0 | AV123: ='8 - SO 404 Elektrická NN ...'!J33 -> 0 | AW123: ='8 - SO 404 Elektrická NN ...'!J34 -> 0 | AX123: ='8 - SO 404 Elektrická NN ...'!J35 -> 0 | AY123: ='8 - SO 404 Elektrická NN ...'!J36 -> 0 | AZ123: ='8 - SO 404 Elektrická NN ...'!F33 -> 0 | BA123: ='8 - SO 404 Elektrická NN ...'!F34 -> 0 | BB123: ='8 - SO 404 Elektrická NN ...'!F35 -> 0 | BC123: ='8 - SO 404 Elektrická NN ...'!F36 -> 0 | BD123: ='8 - SO 404 Elektrická NN ...'!F37 -> 0 | BT123: 1 | BV123: IMPORT | BW123: {a26f3beb-b871-4ddc-998d-c19f7d900fa0} | BX123: {5a7a195c-32ad-4baa-8cb1-cdfb92953375} | CM123: 0

Sheet 11 - Osadenie vodojemu
L2: >> skryté stĺpce << | AT2: {bc13a3e6-a4e1-4fac-b1ca-3a96599d8375}
AT3: 0
D4: KRYCÍ LIST ROZPOČTU | M4: v --- nižšie sa nachádzajú doplnkové a pomocné údaje k zostavám --- v | AT4: False
D6: Stavba:
E7: ='Rekapitulácia stavby'!K6 -> Rokycany - Infraštruktúra, 100 Zásobovanie vodou
D8: Objekt:
E9: 1 - SO 111 Vodojem
D10: Časť:
E11: 11 - Osadenie vodojemu
D13: JKSO: | I13: ČS:
D14: Miesto: | F14: Rokycany | I14: Dátum: | J14: ='Rekapitulácia stavby'!AN8 -> Vyplň údaj
D16: Objednávateľ: | I16: IČO: | J16: =IF('Rekapitulácia stavby'!AN10="","",'Rekapitulácia stavby'!AN10)
E17: =IF('Rekapitulácia stavby'!E11="","",'Rekapitulácia stavby'!E11) | I17: IČ DPH: | J17: =IF('Rekapitulácia stavby'!AN11="","",'Rekapitulácia stavby'!AN11)
D19: Zhotoviteľ: | I19: IČO: | J19: ='Rekapitulácia stavby'!AN13 -> Vyplň údaj
E20: ='Rekapitulácia stavby'!E14 -> Vyplň údaj | I20: IČ DPH: | J20: ='Rekapitulácia stavby'!AN14 -> Vyplň údaj
D22: Projektant: | I22: IČO: | J22: =IF('Rekapitulácia stavby'!AN16="","",'Rekapitulácia stavby'!AN16)
E23: =IF('Rekapitulácia stavby'!E17="","",'Rekapitulácia stavby'!E17) | I23: IČ DPH: | J23: =IF('Rekapitulácia stavby'!AN17="","",'Rekapitulácia stavby'!AN17)
D25: Spracovateľ: | I25: IČO: | J25: =IF('Rekapitulácia stavby'!AN19="","",'Rekapitulácia stavby'!AN19)
E26: =IF('Rekapitulácia stavby'!E20="","",'Rekapitulácia stavby'!E20) | I26: IČ DPH: | J26: =IF('Rekapitulácia stavby'!AN20="","",'Rekapitulácia stavby'!AN20)
D28: Poznámka:
D32: Cena bez DPH | J32: =ROUND(J123, 2) -> 0
F34: Základ dane | I34: Sadzba dane | J34: Výška dane
D35: DPH | E35: základná | F35: =ROUND((SUM(BE123:BE144)), 2) -> 0 | I35: 0.23 | J35: =ROUND(((SUM(BE123:BE144))*I35), 2) -> 0
E36: znížená | F36: =ROUND((SUM(BF123:BF144)), 2) -> 0 | I36: 0.23 | J36: =ROUND(((SUM(BF123:BF144))*I36), 2) -> 0
E37: zákl. prenesená | F37: =ROUND((SUM(BG123:BG144)), 2) -> 0 | I37: 0.23 | J37: =0 -> 0
E38: zníž. prenesená | F38: =ROUND((SUM(BH123:BH144)), 2) -> 0 | I38: 0.23 | J38: =0 -> 0
E39: nulová | F39: =ROUND((SUM(BI123:BI144)), 2) -> 0 | I39: 0 | J39: =0 -> 0
D41: Cena s DPH | G41: v | H41: EUR | J41: =SUM(J32:J39) -> 0
D50: Projektant | G50: Spracovateľ
D61: Dátum a podpis: | F61: Pečiatka | G61: Dátum a podpis: | J61: Pečiatka
D65: Objednávateľ | G65: Zhotoviteľ
D76: Dátum a podpis: | F76: Pečiatka | G76: Dátum a podpis: | J76: Pečiatka
C82: REKAPITULÁCIA ROZPOČTU
C84: Stavba:
E85: =E7 -> Rokycany - Infraštruktúra, 100 Zásobovanie vodou
C86: Objekt:
E87: 1 - SO 111 Vodojem
C88: Časť:
E89: =E11 -> 11 - Osadenie vodojemu
C91: Miesto: | F91: =F14 -> Rokycany | I91: Dátum: | J91: =IF(J14="","",J14) -> Vyplň údaj
C93: Objednávateľ: | F93: =E17 | I93: Projektant: | J93: =E23
C94: Zhotoviteľ: | F94: =IF(E20="","",E20) -> Vyplň údaj | I94: Spracovateľ: | J94: =E26
C96: Kód dielu - Popis | J96: Cena celkom [EUR]
C98: Náklady z rozpočtu | J98: =J123 -> 0 | AU98: -1
D99: HSV - Práce a dodávky HSV | J99: =J124 -> 0
D100: 1 - Zemné práce | J100: =J125 -> 0
D101: 2 - Zakladanie | J101: =J143 -> 0
C108: ROZPOČET
C110: Stavba:
E111: =E7 -> Rokycany - Infraštruktúra, 100 Zásobovanie vodou
C112: Objekt:
E113: 1 - SO 111 Vodojem
C114: Časť:
E115: =E11 -> 11 - Osadenie vodojemu
C117: Miesto: | F117: =F14 -> Rokycany | I117: Dátum: | J117: =IF(J14="","",J14) -> Vyplň údaj
C119: Objednávateľ: | F119: =E17 | I119: Projektant: | J119: =E23
C120: Zhotoviteľ: | F120: =IF(E20="","",E20) -> Vyplň údaj | I120: Spracovateľ: | J120: =E26
C122: PČ | D122: Typ | E122: Kód | F122: Popis | G122: MJ | H122: Množstvo | I122: J.cena [EUR] | J122: Cena celkom [EUR] | K122: Cenová sústava | N122: DPH | O122: J. Nh [h] | P122: Nh celkom [h] | Q122: J. hmotnosť [t] | R122: Hmotnosť celkom [t] | S122: J. suť [t] | T122: Suť Celkom [t]
C123: Náklady z rozpočtu | J123: =BK123 -> 0 | P123: =P124 -> 0 | R123: =R124 -> 12.567658 | T123: =T124 -> 0 | AT123: D | AU123: -1 | BK123: =BK124 -> 0
D124: D | E124: HSV | F124: Práce a dodávky HSV | J124: =BK124 -> 0 | P124: =P125+P143 -> 0 | R124: =R125+R143 -> 12.567658 | T124: =T125+T143 -> 0 | AR124: 1 | AT124: D | AU124: 0 | AY124: ROZPOCET | BK124: =BK125+BK143 -> 0
D125: D | E125: 1 | F125: Zemné práce | J125: =BK125 -> 0 | P125: =SUM(P126:P142) -> 0 | R125: =SUM(R126:R142) -> 0.2261575 | T125: =SUM(T126:T142) -> 0 | AR125: 1 | AT125: D | AU125: 1 | AY125: ROZPOCET | BK125: =SUM(BK126:BK142) -> 0
C126: 1 | D126: K | E126: 121101112.S | F126: Odstránenie ornice s premiestn. na hromady, so zložením na vzdialenosť do 100 m a do 1000 m3 | G126: m3 | H126: 158.235 | J126: =ROUND(I126*H126,2) -> 0 | N126: znížená | P126: =O126*H126 -> 0 | Q126: 0 | R126: =Q126*H126 -> 0 | S126: 0 | T126: =S126*H126 -> 0 | AR126: 4 | AT126: K | AU126: 2 | AY126: ROZPOCET | BE126: =IF(N126="základná",J126,0) -> 0 | BF126: =IF(N126="znížená",J126,0) -> 0 | BG126: =IF(N126="zákl. prenesená",J126,0) -> 0 | BH126: =IF(N126="zníž. prenesená",J126,0) -> 0 | BI126: =IF(N126="nulová",J126,0) -> 0 | BJ126: 2 | BK126: =ROUND(I126*H126,2) -> 0 | BL126: 4 | BM126: 107671017
C127: 2 | D127: K | E127: 131201102.S | F127: Výkop nezapaženej jamy v hornine 3, nad 100 do 1000 m3 | G127: m3 | H127: 361.345 | J127: =ROUND(I127*H127,2) -> 0 | N127: znížená | P127: =O127*H127 -> 0 | Q127: 0 | R127: =Q127*H127 -> 0 | S127: 0 | T127: =S127*H127 -> 0 | AR127: 4 | AT127: K | AU127: 2 | AY127: ROZPOCET | BE127: =IF(N127="základná",J127,0) -> 0 | BF127: =IF(N127="znížená",J127,0) -> 0 | BG127: =IF(N127="zákl. prenesená",J127,0) -> 0 | BH127: =IF(N127="zníž. prenesená",J127,0) -> 0 | BI127: =IF(N127="nulová",J127,0) -> 0 | BJ127: 2 | BK127: =ROUND(I127*H127,2) -> 0 | BL127: 4 | BM127: 1424046563
C128: 3 | D128: K | E128: 131201109.S | F128: Hĺbenie nezapažených jám a zárezov. Príplatok za lepivosť horniny 3 | G128: m3 | H128: 361.345 | J128: =ROUND(I128*H128,2) -> 0 | N128: znížená | P128: =O128*H128 -> 0 | Q128: 0 | R128: =Q128*H128 -> 0 | S128: 0 | T128: =S128*H128 -> 0 | AR128: 4 | AT128: K | AU128: 2 | AY128: ROZPOCET | BE128: =IF(N128="základná",J128,0) -> 0 | BF128: =IF(N128="znížená",J128,0) -> 0 | BG128: =IF(N128="zákl. prenesená",J128,0) -> 0 | BH128: =IF(N128="zníž. prenesená",J128,0) -> 0 | BI128: =IF(N128="nulová",J128,0) -> 0 | BJ128: 2 | BK128: =ROUND(I128*H128,2) -> 0 | BL128: 4 | BM128: -1847631072
C129: 4 | D129: K | E129: 131301102.S | F129: Výkop nezapaženej jamy v hornine 4, nad 100 do 1000 m3 | G129: m3 | H129: 180.672 | J129: =ROUND(I129*H129,2) -> 0 | N129: znížená | P129: =O129*H129 -> 0 | Q129: 0 | R129: =Q129*H129 -> 0 | S129: 0 | T129: =S129*H129 -> 0 | AR129: 4 | AT129: K | AU129: 2 | AY129: ROZPOCET | BE129: =IF(N129="základná",J129,0) -> 0 | BF129: =IF(N129="znížená",J129,0) -> 0 | BG129: =IF(N129="zákl. prenesená",J129,0) -> 0 | BH129: =IF(N129="zníž. prenesená",J129,0) -> 0 | BI129: =IF(N129="nulová",J129,0) -> 0 | BJ129: 2 | BK129: =ROUND(I129*H129,2) -> 0 | BL129: 4 | BM129: 852167233
C130: 5 | D130: K | E130: 131301109.S | F130: Hĺbenie nezapažených jám a zárezov. Príplatok za lepivosť horniny 4 | G130: m3 | H130: 180.672 | J130: =ROUND(I130*H130,2) -> 0 | N130: znížená | P130: =O130*H130 -> 0 | Q130: 0 | R130: =Q130*H130 -> 0 | S130: 0 | T130: =S130*H130 -> 0 | AR130: 4 | AT130: K | AU130: 2 | AY130: ROZPOCET | BE130: =IF(N130="základná",J130,0) -> 0 | BF130: =IF(N130="znížená",J130,0) -> 0 | BG130: =IF(N130="zákl. prenesená",J130,0) -> 0 | BH130: =IF(N130="zníž. prenesená",J130,0) -> 0 | BI130: =IF(N130="nulová",J130,0) -> 0 | BJ130: 2 | BK130: =ROUND(I130*H130,2) -> 0 | BL130: 4 | BM130: 581452042
C131: 6 | D131: K | E131: 131401101.S | F131: Výkop nezapaženej jamy v hornine 5, do 100 m3 | G131: m3 | H131: 60.224 | J131: =ROUND(I131*H131,2) -> 0 | N131: znížená | P131: =O131*H131 -> 0 | Q131: 0.00350313 | R131: =Q131*H131 -> 0.2109725 | S131: 0 | T131: =S131*H131 -> 0 | AR131: 4 | AT131: K | AU131: 2 | AY131: ROZPOCET | BE131: =IF(N131="základná",J131,0) -> 0 | BF131: =IF(N131="znížená",J131,0) -> 0 | BG131: =IF(N131="zákl. prenesená",J131,0) -> 0 | BH131: =IF(N131="zníž. prenesená",J131,0) -> 0 | BI131: =IF(N131="nulová",J131,0) -> 0 | BJ131: 2 | BK131: =ROUND(I131*H131,2) -> 0 | BL131: 4 | BM131: 394445029
C132: 7 | D132: K | E132: 132201101.S | F132: Výkop ryhy do šírky 600 mm v horn.3 do 100 m3 | G132: m3 | H132: 40 | J132: =ROUND(I132*H132,2) -> 0 | N132: znížená | P132: =O132*H132 -> 0 | Q132: 0 | R132: =Q132*H132 -> 0 | S132: 0 | T132: =S132*H132 -> 0 | AR132: 4 | AT132: K | AU132: 2 | AY132: ROZPOCET | BE132: =IF(N132="základná",J132,0) -> 0 | BF132: =IF(N132="znížená",J132,0) -> 0 | BG132: =IF(N132="zákl. prenesená",J132,0) -> 0 | BH132: =IF(N132="zníž. prenesená",J132,0) -> 0 | BI132: =IF(N132="nulová",J132,0) -> 0 | BJ132: 2 | BK132: =ROUND(I132*H132,2) -> 0 | BL132: 4 | BM132: -1367041223
C133: 8 | D133: K | E133: 162301131.S | F133: Vodorovné premiestnenie výkopku po nespevnenej ceste z horniny tr.1-4, nad 100 do 1000 m3 na vzdialenosť nad 50 do 500 m | G133: m3 | H133: 642.241 | J133: =ROUND(I133*H133,2) -> 0 | N133: znížená | P133: =O133*H133 -> 0 | Q133: 0 | R133: =Q133*H133 -> 0 | S133: 0 | T133: =S133*H133 -> 0 | AR133: 4 | AT133: K | AU133: 2 | AY133: ROZPOCET | BE133: =IF(N133="základná",J133,0) -> 0 | BF133: =IF(N133="znížená",J133,0) -> 0 | BG133: =IF(N133="zákl. prenesená",J133,0) -> 0 | BH133: =IF(N133="zníž. prenesená",J133,0) -> 0 | BI133: =IF(N133="nulová",J133,0) -> 0 | BJ133: 2 | BK133: =ROUND(I133*H133,2) -> 0 | BL133: 4 | BM133: -1266153433
C134: 9 | D134: K | E134: 171101103.S | F134: Uloženie sypaniny do násypu súdržnej horniny s mierou zhutnenia nad 96 do 100 % podľa Proctor-Standard | G134: m3 | H134: 1102.042 | J134: =ROUND(I134*H134,2) -> 0 | N134: znížená | P134: =O134*H134 -> 0 | Q134: 0 | R134: =Q134*H134 -> 0 | S134: 0 | T134: =S134*H134 -> 0 | AR134: 4 | AT134: K | AU134: 2 | AY134: ROZPOCET | BE134: =IF(N134="základná",J134,0) -> 0 | BF134: =IF(N134="znížená",J134,0) -> 0 | BG134: =IF(N134="zákl. prenesená",J134,0) -> 0 | BH134: =IF(N134="zníž. prenesená",J134,0) -> 0 | BI134: =IF(N134="nulová",J134,0) -> 0 | BJ134: 2 | BK134: =ROUND(I134*H134,2) -> 0 | BL134: 4 | BM134: 1881118378
C135: 10 | D135: K | E135: 171201101.S | F135: Uloženie sypaniny do násypov s rozprestretím sypaniny vo vrstvách a s hrubým urovnaním nezhutnených | G135: m3 | H135: 682.241 | J135: =ROUND(I135*H135,2) -> 0 | N135: znížená | P135: =O135*H135 -> 0 | Q135: 0 | R135: =Q135*H135 -> 0 | S135: 0 | T135: =S135*H135 -> 0 | AR135: 4 | AT135: K | AU135: 2 | AY135: ROZPOCET | BE135: =IF(N135="základná",J135,0) -> 0 | BF135: =IF(N135="znížená",J135,0) -> 0 | BG135: =IF(N135="zákl. prenesená",J135,0) -> 0 | BH135: =IF(N135="zníž. prenesená",J135,0) -> 0 | BI135: =IF(N135="nulová",J135,0) -> 0 | BJ135: 2 | BK135: =ROUND(I135*H135,2) -> 0 | BL135: 4 | BM135: 445328609
C136: 11 | D136: K | E136: 174101002.S | F136: Zásyp sypaninou so zhutnením jám, šachiet, rýh, zárezov alebo okolo objektov nad 100 do 1000 m3 | G136: m3 | H136: 325.846 | J136: =ROUND(I136*H136,2) -> 0 | N136: znížená | P136: =O136*H136 -> 0 | Q136: 0 | R136: =Q136*H136 -> 0 | S136: 0 | T136: =S136*H136 -> 0 | AR136: 4 | AT136: K | AU136: 2 | AY136: ROZPOCET | BE136: =IF(N136="základná",J136,0) -> 0 | BF136: =IF(N136="znížená",J136,0) -> 0 | BG136: =IF(N136="zákl. prenesená",J136,0) -> 0 | BH136: =IF(N136="zníž. prenesená",J136,0) -> 0 | BI136: =IF(N136="nulová",J136,0) -> 0 | BJ136: 2 | BK136: =ROUND(I136*H136,2) -> 0 | BL136: 4 | BM136: -1460057475
C137: 12 | D137: K | E137: 180401211.S | F137: Založenie trávnika lúčneho výsevom v rovine alebo na svahu do 1:5 | G137: m2 | H137: 491.438 | J137: =ROUND(I137*H137,2) -> 0 | N137: znížená | P137: =O137*H137 -> 0 | Q137: 0 | R137: =Q137*H137 -> 0 | S137: 0 | T137: =S137*H137 -> 0 | AR137: 4 | AT137: K | AU137: 2 | AY137: ROZPOCET | BE137: =IF(N137="základná",J137,0) -> 0 | BF137: =IF(N137="znížená",J137,0) -> 0 | BG137: =IF(N137="zákl. prenesená",J137,0) -> 0 | BH137: =IF(N137="zníž. prenesená",J137,0) -> 0 | BI137: =IF(N137="nulová",J137,0) -> 0 | BJ137: 2 | BK137: =ROUND(I137*H137,2) -> 0 | BL137: 4 | BM137: 1638355425
... C142: 17 | D142: K | E142: 182301122.S | F142: Rozprestretie ornice na svahu so sklonom nad 1:5, plocha do 500 m2, hr.nad 100 do 150 mm | G142: m2 | H142: 444.162 | J142: =ROUND(I142*H142,2) -> 0 | N142: znížená | P142: =O142*H142 -> 0 | Q142: 0 | R142: =Q142*H142 -> 0 | S142: 0 | T142: =S142*H142 -> 0 | AR142: 4 | AT142: K | AU142: 2 | AY142: ROZPOCET | BE142: =IF(N142="základná",J142,0) -> 0 | BF142: =IF(N142="znížená",J142,0) -> 0 | BG142: =IF(N142="zákl. prenesená",J142,0) -> 0 | BH142: =IF(N142="zníž. prenesená",J142,0) -> 0 | BI142: =IF(N142="nulová",J142,0) -> 0 | BJ142: 2 | BK142: =ROUND(I142*H142,2) -> 0 | BL142: 4 | BM142: -423089316
D143: D | E143: 2 | F143: Zakladanie | J143: =BK143 -> 0 | P143: =P144 -> 0 | R143: =R144 -> 12.3415 | T143: =T144 -> 0 | AR143: 1 | AT143: D | AU143: 1 | AY143: ROZPOCET | BK143: =BK144 -> 0
C144: 18 | D144: K | E144: 212752125.S | F144: Trativody z flexodrenážnych rúr DN 100 | G144: m | H144: 50 | J144: =ROUND(I144*H144,2) -> 0 | N144: znížená | P144: =O144*H144 -> 0 | Q144: 0.24683 | R144: =Q144*H144 -> 12.3415 | S144: 0 | T144: =S144*H144 -> 0 | AR144: 4 | AT144: K | AU144: 2 | AY144: ROZPOCET | BE144: =IF(N144="základná",J144,0) -> 0 | BF144: =IF(N144="znížená",J144,0) -> 0 | BG144: =IF(N144="zákl. prenesená",J144,0) -> 0 | BH144: =IF(N144="zníž. prenesená",J144,0) -> 0 | BI144: =IF(N144="nulová",J144,0) -> 0 | BJ144: 2 | BK144: =ROUND(I144*H144,2) -> 0 | BL144: 4 | BM144: -1121210558

Sheet 12 - Nádrž 100 m3 - 2x
L2: >> skryté stĺpce << | AT2: {39c0521f-be02-4e6f-85ac-c7603e6c1b0e}
AT3: 0
D4: KRYCÍ LIST ROZPOČTU | M4: v --- nižšie sa nachádzajú doplnkové a pomocné údaje k zostavám --- v | AT4: False
D6: Stavba:
E7: ='Rekapitulácia stavby'!K6 -> Rokycany - Infraštruktúra, 100 Zásobovanie vodou
D8: Objekt:
E9: 1 - SO 111 Vodojem
D10: Časť:
E11: 12 - Nádrž 100 m3 - 2x
D13: JKSO: | I13: ČS:
D14: Miesto: | F14: Rokycany | I14: Dátum: | J14: ='Rekapitulácia stavby'!AN8 -> Vyplň údaj
D16: Objednávateľ: | I16: IČO: | J16: =IF('Rekapitulácia stavby'!AN10="","",'Rekapitulácia stavby'!AN10)
E17: =IF('Rekapitulácia stavby'!E11="","",'Rekapitulácia stavby'!E11) | I17: IČ DPH: | J17: =IF('Rekapitulácia stavby'!AN11="","",'Rekapitulácia stavby'!AN11)
D19: Zhotoviteľ: | I19: IČO: | J19: ='Rekapitulácia stavby'!AN13 -> Vyplň údaj
E20: ='Rekapitulácia stavby'!E14 -> Vyplň údaj | I20: IČ DPH: | J20: ='Rekapitulácia stavby'!AN14 -> Vyplň údaj
D22: Projektant: | I22: IČO: | J22: =IF('Rekapitulácia stavby'!AN16="","",'Rekapitulácia stavby'!AN16)
E23: =IF('Rekapitulácia stavby'!E17="","",'Rekapitulácia stavby'!E17) | I23: IČ DPH: | J23: =IF('Rekapitulácia stavby'!AN17="","",'Rekapitulácia stavby'!AN17)
D25: Spracovateľ: | I25: IČO: | J25: =IF('Rekapitulácia stavby'!AN19="","",'Rekapitulácia stavby'!AN19)
E26: =IF('Rekapitulácia stavby'!E20="","",'Rekapitulácia stavby'!E20) | I26: IČ DPH: | J26: =IF('Rekapitulácia stavby'!AN20="","",'Rekapitulácia stavby'!AN20)
D28: Poznámka:
D32: Cena bez DPH | J32: =ROUND(J135, 2) -> 0
F34: Základ dane | I34: Sadzba dane | J34: Výška dane
D35: DPH | E35: základná | F35: =ROUND((SUM(BE135:BE233)), 2) -> 0 | I35: 0.23 | J35: =ROUND(((SUM(BE135:BE233))*I35), 2) -> 0
E36: znížená | F36: =ROUND((SUM(BF135:BF233)), 2) -> 0 | I36: 0.23 | J36: =ROUND(((SUM(BF135:BF233))*I36), 2) -> 0
E37: zákl. prenesená | F37: =ROUND((SUM(BG135:BG233)), 2) -> 0 | I37: 0.23 | J37: =0 -> 0
E38: zníž. prenesená | F38: =ROUND((SUM(BH135:BH233)), 2) -> 0 | I38: 0.23 | J38: =0 -> 0
E39: nulová | F39: =ROUND((SUM(BI135:BI233)), 2) -> 0 | I39: 0 | J39: =0 -> 0
D41: Cena s DPH | G41: v | H41: EUR | J41: =SUM(J32:J39) -> 0
D50: Projektant | G50: Spracovateľ
D61: Dátum a podpis: | F61: Pečiatka | G61: Dátum a podpis: | J61: Pečiatka
D65: Objednávateľ | G65: Zhotoviteľ
D76: Dátum a podpis: | F76: Pečiatka | G76: Dátum a podpis: | J76: Pečiatka
C82: REKAPITULÁCIA ROZPOČTU
C84: Stavba:
E85: =E7 -> Rokycany - Infraštruktúra, 100 Zásobovanie vodou
C86: Objekt:
E87: 1 - SO 111 Vodojem
C88: Časť:
E89: =E11 -> 12 - Nádrž 100 m3 - 2x
C91: Miesto: | F91: =F14 -> Rokycany | I91: Dátum: | J91: =IF(J14="","",J14) -> Vyplň údaj
C93: Objednávateľ: | F93: =E17 | I93: Projektant: | J93: =E23
C94: Zhotoviteľ: | F94: =IF(E20="","",E20) -> Vyplň údaj | I94: Spracovateľ: | J94: =E26
C96: Kód dielu - Popis | J96: Cena celkom [EUR]
C98: Náklady z rozpočtu | J98: =J135 -> 0 | AU98: -1
D99: HSV - Práce a dodávky HSV | J99: =J136 -> 0
D100: 2 - Zakladanie | J100: =J137 -> 0
D101: 3 - Zvislé a kompletné konštrukcie | J101: =J147 -> 0
D102: 4 - Vodorovné konštrukcie | J102: =J162 -> 0
D103: 5 - Komunikácie | J103: =J182 -> 0
D104: 6 - Úpravy povrchov, podlahy, osadenie | J104: =J186 -> 0
D105: 9 - Ostatné konštrukcie a práce-búranie | J105: =J191 -> 0
D106: 99 - Presun hmôt HSV | J106: =J197 -> 0
D107: PSV - Práce a dodávky PSV | J107: =J199 -> 0
D108: 711 - Izolácie proti vode a vlhkosti | J108: =J200 -> 0
D109: 712 - Izolácie striech | J109: =J210 -> 0
D110: 713 - Izolácie tepelné | J110: =J214 -> 0
D111: 715 - Izolácie proti chemickým vplyvom | J111: =J220 -> 0
D112: 764 - Konštrukcie klampiarske | J112: =J223 -> 0
D113: 767 - Konštrukcie doplnkové kovové | J113: =J227 -> 0
C120: ROZPOČET
C122: Stavba:
E123: =E7 -> Rokycany - Infraštruktúra, 100 Zásobovanie vodou
C124: Objekt:
E125: 1 - SO 111 Vodojem
C126: Časť:
E127: =E11 -> 12 - Nádrž 100 m3 - 2x
C129: Miesto: | F129: =F14 -> Rokycany | I129: Dátum: | J129: =IF(J14="","",J14) -> Vyplň údaj
C131: Objednávateľ: | F131: =E17 | I131: Projektant: | J131: =E23
C132: Zhotoviteľ: | F132: =IF(E20="","",E20) -> Vyplň údaj | I132: Spracovateľ: | J132: =E26
C134: PČ | D134: Typ | E134: Kód | F134: Popis | G134: MJ | H134: Množstvo | I134: J.cena [EUR] | J134: Cena celkom [EUR] | K134: Cenová sústava | N134: DPH | O134: J. Nh [h] | P134: Nh celkom [h] | Q134: J. hmotnosť [t] | R134: Hmotnosť celkom [t] | S134: J. suť [t] | T134: Suť Celkom [t]
C135: Náklady z rozpočtu | J135: =BK135 -> 0 | P135: =P136+P199 -> 0 | R135: =R136+R199 -> 246.90025 | T135: =T136+T199 -> 0 | AT135: D | AU135: -1 | BK135: =BK136+BK199 -> 0
D136: D | E136: HSV | F136: Práce a dodávky HSV | J136: =BK136 -> 0 | P136: =P137+P147+P162+P182+P186+P191+P197 -> 0 | R136: =R137+R147+R162+R182+R186+R191+R197 -> 245.93408 | T136: =T137+T147+T162+T182+T186+T191+T197 -> 0 | AR136: 1 | AT136: D | AU136: 0 | AY136: ROZPOCET | BK136: =BK137+BK147+BK162+BK182+BK186+BK191+BK197 -> 0
D137: D | E137: 2 | F137: Zakladanie | J137: =BK137 -> 0 | P137: =SUM(P138:P146) -> 0 | R137: =SUM(R138:R146) -> 169.02338 | T137: =SUM(T138:T146) -> 0 | AR137: 1 | AT137: D | AU137: 1 | AY137: ROZPOCET | BK137: =SUM(BK138:BK146) -> 0
C138: 1 | D138: K | E138: 216451211.S | F138: Spojovacia vrstva na základovej škáre z cementovej malty hr.do 40 mm z 200 kg cementu/m3 piesku | G138: m2 | H138: 0.372 | J138: =ROUND(I138*H138,2) -> 0 | N138: znížená | P138: =O138*H138 -> 0 | Q138: 0.06003 | R138: =Q138*H138 -> 0.02233116 | S138: 0 | T138: =S138*H138 -> 0 | AR138: 4 | AT138: K | AU138: 2 | AY138: ROZPOCET | BE138: =IF(N138="základná",J138,0) -> 0 | BF138: =IF(N138="znížená",J138,0) -> 0 | BG138: =IF(N138="zákl. prenesená",J138,0) -> 0 | BH138: =IF(N138="zníž. prenesená",J138,0) -> 0 | BI138: =IF(N138="nulová",J138,0) -> 0 | BJ138: 2 | BK138: =ROUND(I138*H138,2) -> 0 | BL138: 4 | BM138: -924358956
C139: 2 | D139: K | E139: 271533001.S | F139: Násyp pod základové konštrukcie so zhutnením z kameniva hrubého drveného fr.32-63 mm | G139: m3 | H139: 54.086 | J139: =ROUND(I139*H139,2) -> 0 | N139: znížená | P139: =O139*H139 -> 0 | Q139: 2.07 | R139: =Q139*H139 -> 111.95802 | S139: 0 | T139: =S139*H139 -> 0 | AR139: 4 | AT139: K | AU139: 2 | AY139: ROZPOCET | BE139: =IF(N139="základná",J139,0) -> 0 | BF139: =IF(N139="znížená",J139,0) -> 0 | BG139: =IF(N139="zákl. prenesená",J139,0) -> 0 | BH139: =IF(N139="zníž. prenesená",J139,0) -> 0 | BI139: =IF(N139="nulová",J139,0) -> 0 | BJ139: 2 | BK139: =ROUND(I139*H139,2) -> 0 | BL139: 4 | BM139: -216732625
C140: 3 | D140: K | E140: 273313521.S | F140: Betón základových dosiek, prostý tr. C 12/15 | G140: m3 | H140: 2.504 | J140: =ROUND(I140*H140,2) -> 0 | N140: znížená | P140: =O140*H140 -> 0 | Q140: 2.23543 | R140: =Q140*H140 -> 5.5975167 | S140: 0 | T140: =S140*H140 -> 0 | AR140: 4 | AT140: K | AU140: 2 | AY140: ROZPOCET | BE140: =IF(N140="základná",J140,0) -> 0 | BF140: =IF(N140="znížená",J140,0) -> 0 | BG140: =IF(N140="zákl. prenesená",J140,0) -> 0 | BH140: =IF(N140="zníž. prenesená",J140,0) -> 0 | BI140: =IF(N140="nulová",J140,0) -> 0 | BJ140: 2 | BK140: =ROUND(I140*H140,2) -> 0 | BL140: 4 | BM140: -907326085
C141: 4 | D141: K | E141: 273316281.S | F141: Zhotovenie základovej dosky z betónu vodostavebného prostého | G141: m3 | H141: 22.62 | J141: =ROUND(I141*H141,2) -> 0 | N141: znížená | P141: =O141*H141 -> 0 | Q141: 0.00258 | R141: =Q141*H141 -> 0.0583596 | S141: 0 | T141: =S141*H141 -> 0 | AR141: 4 | AT141: K | AU141: 2 | AY141: ROZPOCET | BE141: =IF(N141="základná",J141,0) -> 0 | BF141: =IF(N141="znížená",J141,0) -> 0 | BG141: =IF(N141="zákl. prenesená",J141,0) -> 0 | BH141: =IF(N141="zníž. prenesená",J141,0) -> 0 | BI141: =IF(N141="nulová",J141,0) -> 0 | BJ141: 2 | BK141: =ROUND(I141*H141,2) -> 0 | BL141: 4 | BM141: -1915109737
C142: 5 | D142: M | E142: 589340000200.S | F142: Betón STN EN 206-1-C25/30-XC3 (SK)-Cl 0,4-Dmax 22 - S2, priesak 50 mm, z cementu troskoportlandského, vodostavebný | G142: m3 | H142: 22.62 | J142: =ROUND(I142*H142,2) -> 0 | N142: znížená | P142: =O142*H142 -> 0 | Q142: 2.2042 | R142: =Q142*H142 -> 49.859004 | S142: 0 | T142: =S142*H142 -> 0 | AR142: 8 | AT142: M | AU142: 2 | AY142: ROZPOCET | BE142: =IF(N142="základná",J142,0) -> 0 | BF142: =IF(N142="znížená",J142,0) -> 0 | BG142: =IF(N142="zákl. prenesená",J142,0) -> 0 | BH142: =IF(N142="zníž. prenesená",J142,0) -> 0 | BI142: =IF(N142="nulová",J142,0) -> 0 | BJ142: 2 | BK142: =ROUND(I142*H142,2) -> 0 | BL142: 4 | BM142: 1657817827
C143: 6 | D143: K | E143: 273356031.S | F143: Debnenie základových dosiek pre plochy zaoblené zhotovenie | G143: m2 | H143: 43.52 | J143: =ROUND(I143*H143,2) -> 0 | N143: znížená | P143: =O143*H143 -> 0 | Q143: 0.00888 | R143: =Q143*H143 -> 0.3864576 | S143: 0 | T143: =S143*H143 -> 0 | AR143: 4 | AT143: K | AU143: 2 | AY143: ROZPOCET | BE143: =IF(N143="základná",J143,0) -> 0 | BF143: =IF(N143="znížená",J143,0) -> 0 | BG143: =IF(N143="zákl. prenesená",J143,0) -> 0 | BH143: =IF(N143="zníž. prenesená",J143,0) -> 0 | BI143: =IF(N143="nulová",J143,0) -> 0 | BJ143: 2 | BK143: =ROUND(I143*H143,2) -> 0 | BL143: 4 | BM143: -1226897445
C144: 7 | D144: K | E144: 273356032.S | F144: Debnenie základových dosiek pre plochy zaoblené odstránenie | G144: m2 | H144: 43.52 | J144: =ROUND(I144*H144,2) -> 0 | N144: znížená | P144: =O144*H144 -> 0 | Q144: 0 | R144: =Q144*H144 -> 0 | S144: 0 | T144: =S144*H144 -> 0 | AR144: 4 | AT144: K | AU144: 2 | AY144: ROZPOCET | BE144: =IF(N144="základná",J144,0) -> 0 | BF144: =IF(N144="znížená",J144,0) -> 0 | BG144: =IF(N144="zákl. prenesená",J144,0) -> 0 | BH144: =IF(N144="zníž. prenesená",J144,0) -> 0 | BI144: =IF(N144="nulová",J144,0) -> 0 | BJ144: 2 | BK144: =ROUND(I144*H144,2) -> 0 | BL144: 4 | BM144: 190021410
C145: 8 | D145: K | E145: 273361821.S | F145: Výstuž základových dosiek z ocele B500 (10505) | G145: t | H145: 1.1 | J145: =ROUND(I145*H145,2) -> 0 | N145: znížená | P145: =O145*H145 -> 0 | Q145: 1.01895 | R145: =Q145*H145 -> 1.120845 | S145: 0 | T145: =S145*H145 -> 0 | AR145: 4 | AT145: K | AU145: 2 | AY145: ROZPOCET | BE145: =IF(N145="základná",J145,0) -> 0 | BF145: =IF(N145="znížená",J145,0) -> 0 | BG145: =IF(N145="zákl. prenesená",J145,0) -> 0 | BH145: =IF(N145="zníž. prenesená",J145,0) -> 0 | BI145: =IF(N145="nulová",J145,0) -> 0 | BJ145: 2 | BK145: =ROUND(I145*H145,2) -> 0 | BL145: 4 | BM145: 711000318
C146: 9 | D146: K | E146: 273361831.S | F146: Zhotovenie výstuže základových dosiek z ocele | G146: t | H146: 1.1 | J146: =ROUND(I146*H146,2) -> 0 | N146: znížená | P146: =O146*H146 -> 0 | Q146: 0.01895 | R146: =Q146*H146 -> 0.020845 | S146: 0 | T146: =S146*H146 -> 0 | AR146: 4 | AT146: K | AU146: 2 | AY146: ROZPOCET | BE146: =IF(N146="základná",J146,0) -> 0 | BF146: =IF(N146="znížená",J146,0) -> 0 | BG146: =IF(N146="zákl. prenesená",J146,0) -> 0 | BH146: =IF(N146="zníž. prenesená",J146,0) -> 0 | BI146: =IF(N146="nulová",J146,0) -> 0 | BJ146: 2 | BK146: =ROUND(I146*H146,2) -> 0 | BL146: 4 | BM146: 515073718
D147: D | E147: 3 | F147: Zvislé a kompletné konštrukcie | J147: =BK147 -> 0 | P147: =SUM(P148:P161) -> 0 | R147: =SUM(R148:R161) -> 28.284575 | T147: =SUM(T148:T161) -> 0 | AR147: 1 | AT147: D | AU147: 1 | AY147: ROZPOCET | BK147: =SUM(BK148:BK161) -> 0
C148: 10 | D148: K | E148: 311101211.S | F148: Vytvorenie prestupov v múroch z betónu a železobetónu vložkami s vonkajšou prierezovou plochou do 0,02 m2 | G148: m | H148: 6 | J148: =ROUND(I148*H148,2) -> 0 | N148: znížená | P148: =O148*H148 -> 0 | Q148: 0 | R148: =Q148*H148 -> 0 | S148: 0 | T148: =S148*H148 -> 0 | AR148: 4 | AT148: K | AU148: 2 | AY148: ROZPOCET | BE148: =IF(N148="základná",J148,0) -> 0 | BF148: =IF(N148="znížená",J148,0) -> 0 | BG148: =IF(N148="zákl. prenesená",J148,0) -> 0 | BH148: =IF(N148="zníž. prenesená",J148,0) -> 0 | BI148: =IF(N148="nulová",J148,0) -> 0 | BJ148: 2 | BK148: =ROUND(I148*H148,2) -> 0 | BL148: 4 | BM148: 649222398
C149: 11 | D149: K | E149: 331361221.S | F149: Výstuž stĺpov, pilierov, stojok hranatých z bet. ocele 10216 | G149: t | H149: 0.215 | J149: =ROUND(I149*H149,2) -> 0 | N149: znížená | P149: =O149*H149 -> 0 | Q149: 1.01953 | R149: =Q149*H149 -> 0.21919895 | S149: 0 | T149: =S149*H149 -> 0 | AR149: 4 | AT149: K | AU149: 2 | AY149: ROZPOCET | BE149: =IF(N149="základná",J149,0) -> 0 | BF149: =IF(N149="znížená",J149,0) -> 0 | BG149: =IF(N149="zákl. prenesená",J149,0) -> 0 | BH149: =IF(N149="zníž. prenesená",J149,0) -> 0 | BI149: =IF(N149="nulová",J149,0) -> 0 | BJ149: 2 | BK149: =ROUND(I149*H149,2) -> 0 | BL149: 4 | BM149: 1602011293
C150: 12 | D150: K | E150: 332351101.S | F150: Debnenie oblých stĺpov (pilierov) výšky do 4 m, zhotovenie-dielce | G150: m2 | H150: 6.594 | J150: =ROUND(I150*H150,2) -> 0 | N150: znížená | P150: =O150*H150 -> 0 | Q150: 0.00292 | R150: =Q150*H150 -> 0.01925448 | S150: 0 | T150: =S150*H150 -> 0 | AR150: 4 | AT150: K | AU150: 2 | AY150: ROZPOCET | BE150: =IF(N150="základná",J150,0) -> 0 | BF150: =IF(N150="znížená",J150,0) -> 0 | BG150: =IF(N150="zákl. prenesená",J150,0) -> 0 | BH150: =IF(N150="zníž. prenesená",J150,0) -> 0 | BI150: =IF(N150="nulová",J150,0) -> 0 | BJ150: 2 | BK150: =ROUND(I150*H150,2) -> 0 | BL150: 4 | BM150: 302530683
C151: 13 | D151: K | E151: 332351102.S | F151: Debnenie oblých stĺpov (pilierov) výšky do 4 m, odstránenie-dielce | G151: m2 | H151: 6.594 | J151: =ROUND(I151*H151,2) -> 0 | N151: znížená | P151: =O151*H151 -> 0 | Q151: 0 | R151: =Q151*H151 -> 0 | S151: 0 | T151: =S151*H151 -> 0 | AR151: 4 | AT151: K | AU151: 2 | AY151: ROZPOCET | BE151: =IF(N151="základná",J151,0) -> 0 | BF151: =IF(N151="znížená",J151,0) -> 0 | BG151: =IF(N151="zákl. prenesená",J151,0) -> 0 | BH151: =IF(N151="zníž. prenesená",J151,0) -> 0 | BI151: =IF(N151="nulová",J151,0) -> 0 | BJ151: 2 | BK151: =ROUND(I151*H151,2) -> 0 | BL151: 4 | BM151: -46184136
C152: 14 | D152: K | E152: 332381322.S | F152: Stĺpy železobetónové z rúr oceľových d nad 250 do 300 mm vrátane betónovej výplne, bez výstuže | G152: m | H152: 7 | J152: =ROUND(I152*H152,2) -> 0 | N152: znížená | P152: =O152*H152 -> 0 | Q152: 0.18223 | R152: =Q152*H152 -> 1.27561 | S152: 0 | T152: =S152*H152 -> 0 | AR152: 4 | AT152: K | AU152: 2 | AY152: ROZPOCET | BE152: =IF(N152="základná",J152,0) -> 0 | BF152: =IF(N152="znížená",J152,0) -> 0 | BG152: =IF(N152="zákl. prenesená",J152,0) -> 0 | BH152: =IF(N152="zníž. prenesená",J152,0) -> 0 | BI152: =IF(N152="nulová",J152,0) -> 0 | BJ152: 2 | BK152: =ROUND(I152*H152,2) -> 0 | BL152: 4 | BM152: 1058834741
C153: 15 | D153: K | E153: 342122011.S | F153: Montáž dielca obvodovej steny výplňovej zo železobetónu hmotnosti do 1,5 t | G153: ks | H153: 32 | J153: =ROUND(I153*H153,2) -> 0 | N153: znížená | P153: =O153*H153 -> 0 | Q153: 0.1844 | R153: =Q153*H153 -> 5.9008 | S153: 0 | T153: =S153*H153 -> 0 | AR153: 4 | AT153: K | AU153: 2 | AY153: ROZPOCET | BE153: =IF(N153="základná",J153,0) -> 0 | BF153: =IF(N153="znížená",J153,0) -> 0 | BG153: =IF(N153="zákl. prenesená",J153,0) -> 0 | BH153: =IF(N153="zníž. prenesená",J153,0) -> 0 | BI153: =IF(N153="nulová",J153,0) -> 0 | BJ153: 2 | BK153: =ROUND(I153*H153,2) -> 0 | BL153: 4 | BM153: 1339863943
C154: 16 | D154: M | E154: 593stenový | F154: Stenový panel nádrže vdj 100 m3 P-10 | G154: ks | H154: 32 | J154: =ROUND(I154*H154,2) -> 0 | N154: znížená | P154: =O154*H154 -> 0 | Q154: 0.272 | R154: =Q154*H154 -> 8.704 | S154: 0 | T154: =S154*H154 -> 0 | AR154: 8 | AT154: M | AU154: 2 | AY154: ROZPOCET | BE154: =IF(N154="základná",J154,0) -> 0 | BF154: =IF(N154="znížená",J154,0) -> 0 | BG154: =IF(N154="zákl. prenesená",J154,0) -> 0 | BH154: =IF(N154="zníž. prenesená",J154,0) -> 0 | BI154: =IF(N154="nulová",J154,0) -> 0 | BJ154: 2 | BK154: =ROUND(I154*H154,2) -> 0 | BL154: 4 | BM154: 1041302011
C155: 17 | D155: K | E155: 380311531.S | F155: Kompletné konštrukcie čistiarní odpadových vôd z betónu prostého tr. C 12/15, hr. 80-150 mm | G155: m3 | H155: 2.399 | J155: =ROUND(I155*H155,2) -> 0 | N155: znížená | P155: =O155*H155 -> 0 | Q155: 2.29571 | R155: =Q155*H155 -> 5.5074083 | S155: 0 | T155: =S155*H155 -> 0 | AR155: 4 | AT155: K | AU155: 2 | AY155: ROZPOCET | BE155: =IF(N155="základná",J155,0) -> 0 | BF155: =IF(N155="znížená",J155,0) -> 0 | BG155: =IF(N155="zákl. prenesená",J155,0) -> 0 | BH155: =IF(N155="zníž. prenesená",J155,0) -> 0 | BI155: =IF(N155="nulová",J155,0) -> 0 | BJ155: 2 | BK155: =ROUND(I155*H155,2) -> 0 | BL155: 4 | BM155: 654230886
C156: 18 | D156: K | E156: 380356211.S | F156: Debnenie kompl. konštrukcií čistiarní odpad. vôd z plôch rovinných zhotovenie | G156: m2 | H156: 15.99 | J156: =ROUND(I156*H156,2) -> 0 | N156: znížená | P156: =O156*H156 -> 0 | Q156: 0.00422 | R156: =Q156*H156 -> 0.0674778 | S156: 0 | T156: =S156*H156 -> 0 | AR156: 4 | AT156: K | AU156: 2 | AY156: ROZPOCET | BE156: =IF(N156="základná",J156,0) -> 0 | BF156: =IF(N156="znížená",J156,0) -> 0 | BG156: =IF(N156="zákl. prenesená",J156,0) -> 0 | BH156: =IF(N156="zníž. prenesená",J156,0) -> 0 | BI156: =IF(N156="nulová",J156,0) -> 0 | BJ156: 2 | BK156: =ROUND(I156*H156,2) -> 0 | BL156: 4 | BM156: -1170335137
C157: 19 | D157: K | E157: 380356212.S | F157: Debnenie kompl. konštrukcií čistiarní odpad. vôd z plôch rovinných odstránenie | G157: m2 | H157: 2.399 | J157: =ROUND(I157*H157,2) -> 0 | N157: znížená | P157: =O157*H157 -> 0 | Q157: 0 | R157: =Q157*H157 -> 0 | S157: 0 | T157: =S157*H157 -> 0 | AR157: 4 | AT157: K | AU157: 2 | AY157: ROZPOCET | BE157: =IF(N157="základná",J157,0) -> 0 | BF157: =IF(N157="znížená",J157,0) -> 0 | BG157: =IF(N157="zákl. prenesená",J157,0) -> 0 | BH157: =IF(N157="zníž. prenesená",J157,0) -> 0 | BI157: =IF(N157="nulová",J157,0) -> 0 | BJ157: 2 | BK157: =ROUND(I157*H157,2) -> 0 | BL157: 4 | BM157: -1448313352
C158: 20 | D158: K | E158: 380356231.S | F158: Debnenie komplet. konštr. čistiarní odpadových vôd neomietaných, plôch rovinných zhotovenie | G158: m2 | H158: 101.736 | J158: =ROUND(I158*H158,2) -> 0 | N158: znížená | P158: =O158*H158 -> 0 | Q158: 0.00915 | R158: =Q158*H158 -> 0.9308844 | S158: 0 | T158: =S158*H158 -> 0 | AR158: 4 | AT158: K | AU158: 2 | AY158: ROZPOCET | BE158: =IF(N158="základná",J158,0) -> 0 | BF158: =IF(N158="znížená",J158,0) -> 0 | BG158: =IF(N158="zákl. prenesená",J158,0) -> 0 | BH158: =IF(N158="zníž. prenesená",J158,0) -> 0 | BI158: =IF(N158="nulová",J158,0) -> 0 | BJ158: 2 | BK158: =ROUND(I158*H158,2) -> 0 | BL158: 4 | BM158: -1581952873
C159: 21 | D159: K | E159: 380356232.S | F159: Debnenie komplet. konštr. čistiarní odpadových vôd neomietaných, plôch rovinných odstránenie | G159: m2 | H159: 101.736 | J159: =ROUND(I159*H159,2) -> 0 | N159: znížená | P159: =O159*H159 -> 0 | Q159: 0 | R159: =Q159*H159 -> 0 | S159: 0 | T159: =S159*H159 -> 0 | AR159: 4 | AT159: K | AU159: 2 | AY159: ROZPOCET | BE159: =IF(N159="základná",J159,0) -> 0 | BF159: =IF(N159="znížená",J159,0) -> 0 | BG159: =IF(N159="zákl. prenesená",J159,0) -> 0 | BH159: =IF(N159="zníž. prenesená",J159,0) -> 0 | BI159: =IF(N159="nulová",J159,0) -> 0 | BJ159: 2 | BK159: =ROUND(I159*H159,2) -> 0 | BL159: 4 | BM159: -2116304420
... C161: 23 | D161: K | E161: 389381001.S | F161: Dobetónovanie prefabrikovaných konštrukcií | G161: m3 | H161: 2.186 | J161: =ROUND(I161*H161,2) -> 0 | N161: znížená | P161: =O161*H161 -> 0 | Q161: 2.46175 | R161: =Q161*H161 -> 5.3813855 | S161: 0 | T161: =S161*H161 -> 0 | AR161: 4 | AT161: K | AU161: 2 | AY161: ROZPOCET | BE161: =IF(N161="základná",J161,0) -> 0 | BF161: =IF(N161="znížená",J161,0) -> 0 | BG161: =IF(N161="zákl. prenesená",J161,0) -> 0 | BH161: =IF(N161="zníž. prenesená",J161,0) -> 0 | BI161: =IF(N161="nulová",J161,0) -> 0 | BJ161: 2 | BK161: =ROUND(I161*H161,2) -> 0 | BL161: 4 | BM161: -184328822
D162: D | E162: 4 | F162: Vodorovné konštrukcie | J162: =BK162 -> 0 | P162: =SUM(P163:P181) -> 0 | R162: =SUM(R163:R181) -> 32.470838 | T162: =SUM(T163:T181) -> 0 | AR162: 1 | AT162: D | AU162: 1 | AY162: ROZPOCET | BK162: =SUM(BK163:BK181) -> 0
C163: 24 | D163: K | E163: 411122011.S | F163: Montáž stropného panelu dĺžky do 6000 mm, hmotnosti do 1,5 t | G163: ks | H163: 32 | J163: =ROUND(I163*H163,2) -> 0 | N163: znížená | P163: =O163*H163 -> 0 | Q163: 0.12241 | R163: =Q163*H163 -> 3.91712 | S163: 0 | T163: =S163*H163 -> 0 | AR163: 4 | AT163: K | AU163: 2 | AY163: ROZPOCET | BE163: =IF(N163="základná",J163,0) -> 0 | BF163: =IF(N163="znížená",J163,0) -> 0 | BG163: =IF(N163="zákl. prenesená",J163,0) -> 0 | BH163: =IF(N163="zníž. prenesená",J163,0) -> 0 | BI163: =IF(N163="nulová",J163,0) -> 0 | BJ163: 2 | BK163: =ROUND(I163*H163,2) -> 0 | BL163: 4 | BM163: -237185730
C164: 25 | D164: M | E164: 593.1stropný | F164: Stropný panel nádrže vdj 100 m3 S-10 | G164: ks | H164: 30 | J164: =ROUND(I164*H164,2) -> 0 | N164: znížená | P164: =O164*H164 -> 0 | Q164: 0.272 | R164: =Q164*H164 -> 8.16 | S164: 0 | T164: =S164*H164 -> 0 | AR164: 8 | AT164: M | AU164: 2 | AY164: ROZPOCET | BE164: =IF(N164="základná",J164,0) -> 0 | BF164: =IF(N164="znížená",J164,0) -> 0 | BG164: =IF(N164="zákl. prenesená",J164,0) -> 0 | BH164: =IF(N164="zníž. prenesená",J164,0) -> 0 | BI164: =IF(N164="nulová",J164,0) -> 0 | BJ164: 2 | BK164: =ROUND(I164*H164,2) -> 0 | BL164: 4 | BM164: 431421553
C165: 26 | D165: M | E165: 593.2 stropný | F165: Stropný panel nádrže vdj 100 m3 S-11 | G165: ks | H165: 2 | J165: =ROUND(I165*H165,2) -> 0 | N165: znížená | P165: =O165*H165 -> 0 | Q165: 0.272 | R165: =Q165*H165 -> 0.544 | S165: 0 | T165: =S165*H165 -> 0 | AR165: 8 | AT165: M | AU165: 2 | AY165: ROZPOCET | BE165: =IF(N165="základná",J165,0) -> 0 | BF165: =IF(N165="znížená",J165,0) -> 0 | BG165: =IF(N165="zákl. prenesená",J165,0) -> 0 | BH165: =IF(N165="zníž. prenesená",J165,0) -> 0 | BI165: =IF(N165="nulová",J165,0) -> 0 | BJ165: 2 | BK165: =ROUND(I165*H165,2) -> 0 | BL165: 4 | BM165: -858128427
...

Sheet 13 - Manipulačná komora M...
L2: >> skryté stĺpce << | AT2: {51efa940-d329-48df-b359-d1d538860402}
AT3: 0
D4: KRYCÍ LIST ROZPOČTU | M4: v --- nižšie sa nachádzajú doplnkové a pomocné údaje k zostavám --- v | AT4: False
D6: Stavba:
E7: ='Rekapitulácia stavby'!K6 -> Rokycany - Infraštruktúra, 100 Zásobovanie vodou
D8: Objekt:
E9: 1 - SO 111 Vodojem
D10: Časť:
E11: 13 - Manipulačná komora MK 3-2
D13: JKSO: | I13: ČS:
D14: Miesto: | F14: Rokycany | I14: Dátum: | J14: ='Rekapitulácia stavby'!AN8 -> Vyplň údaj
D16: Objednávateľ: | I16: IČO: | J16: =IF('Rekapitulácia stavby'!AN10="","",'Rekapitulácia stavby'!AN10)
E17: =IF('Rekapitulácia stavby'!E11="","",'Rekapitulácia stavby'!E11) | I17: IČ DPH: | J17: =IF('Rekapitulácia stavby'!AN11="","",'Rekapitulácia stavby'!AN11)
D19: Zhotoviteľ: | I19: IČO: | J19: ='Rekapitulácia stavby'!AN13 -> Vyplň údaj
E20: ='Rekapitulácia stavby'!E14 -> Vyplň údaj | I20: IČ DPH: | J20: ='Rekapitulácia stavby'!AN14 -> Vyplň údaj
D22: Projektant: | I22: IČO: | J22: =IF('Rekapitulácia stavby'!AN16="","",'Rekapitulácia stavby'!AN16)
E23: =IF('Rekapitulácia stavby'!E17="","",'Rekapitulácia stavby'!E17) | I23: IČ DPH: | J23: =IF('Rekapitulácia stavby'!AN17="","",'Rekapitulácia stavby'!AN17)
D25: Spracovateľ: | I25: IČO: | J25: =IF('Rekapitulácia stavby'!AN19="","",'Rekapitulácia stavby'!AN19)
E26: =IF('Rekapitulácia stavby'!E20="","",'Rekapitulácia stavby'!E20) | I26: IČ DPH: | J26: =IF('Rekapitulácia stavby'!AN20="","",'Rekapitulácia stavby'!AN20)
D28: Poznámka:
D32: Cena bez DPH | J32: =ROUND(J138, 2) -> 0
F34: Základ dane | I34: Sadzba dane | J34: Výška dane
D35: DPH | E35: základná | F35: =ROUND((SUM(BE138:BE273)), 2) -> 0 | I35: 0.23 | J35: =ROUND(((SUM(BE138:BE273))*I35), 2) -> 0
E36: znížená | F36: =ROUND((SUM(BF138:BF273)), 2) -> 0 | I36: 0.23 | J36: =ROUND(((SUM(BF138:BF273))*I36), 2) -> 0
E37: zákl. prenesená | F37: =ROUND((SUM(BG138:BG273)), 2) -> 0 | I37: 0.23 | J37: =0 -> 0
E38: zníž. prenesená | F38: =ROUND((SUM(BH138:BH273)), 2) -> 0 | I38: 0.23 | J38: =0 -> 0
E39: nulová | F39: =ROUND((SUM(BI138:BI273)), 2) -> 0 | I39: 0 | J39: =0 -> 0
D41: Cena s DPH | G41: v | H41: EUR | J41: =SUM(J32:J39) -> 0
D50: Projektant | G50: Spracovateľ
D61: Dátum a podpis: | F61: Pečiatka | G61: Dátum a podpis: | J61: Pečiatka
D65: Objednávateľ | G65: Zhotoviteľ
D76: Dátum a podpis: | F76: Pečiatka | G76: Dátum a podpis: | J76: Pečiatka
C82: REKAPITULÁCIA ROZPOČTU
C84: Stavba:
E85: =E7 -> Rokycany - Infraštruktúra, 100 Zásobovanie vodou
C86: Objekt:
E87: 1 - SO 111 Vodojem
C88: Časť:
E89: =E11 -> 13 - Manipulačná komora MK 3-2
C91: Miesto: | F91: =F14 -> Rokycany | I91: Dátum: | J91: =IF(J14="","",J14) -> Vyplň údaj
C93: Objednávateľ: | F93: =E17 | I93: Projektant: | J93: =E23
C94: Zhotoviteľ: | F94: =IF(E20="","",E20) -> Vyplň údaj | I94: Spracovateľ: | J94: =E26
C96: Kód dielu - Popis | J96: Cena celkom [EUR]
C98: Náklady z rozpočtu | J98: =J138 -> 0 | AU98: -1
D99: HSV - Práce a dodávky HSV | J99: =J139 -> 0
D100: 2 - Zakladanie | J100: =J140 -> 0
D101: 3 - Zvislé a kompletné konštrukcie | J101: =J146 -> 0
D102: 4 - Vodorovné konštrukcie | J102: =J157 -> 0
D103: 6 - Úpravy povrchov, podlahy, osadenie | J103: =J179 -> 0
D104: 8 - Rúrové vedenie | J104: =J189 -> 0
D105: 9 - Ostatné konštrukcie a práce-búranie | J105: =J194 -> 0
D106: 99 - Presun hmôt HSV | J106: =J197 -> 0
D107: PSV - Práce a dodávky PSV | J107: =J199 -> 0
D108: 711 - Izolácie proti vode a vlhkosti | J108: =J200 -> 0
D109: 712 - Izolácie striech, povlakové krytiny | J109: =J209 -> 0
D110: 713 - Izolácie tepelné | J110: =J213 -> 0
D111: 761 - Konštrukcie sklobetónové | J111: =J222 -> 0
D112: 762 - Konštrukcie tesárske | J112: =J225 -> 0
D113: 764 - Konštrukcie klampiarske | J113: =J236 -> 0
D114: 767 - Konštrukcie doplnkové kovové | J114: =J250 -> 0
D115: 781 - Obklady | J115: =J266 -> 0
D116: 783 - Nátery | J116: =J270 -> 0
C123: ROZPOČET
C125: Stavba:
E126: =E7 -> Rokycany - Infraštruktúra, 100 Zásobovanie vodou
C127: Objekt:
E128: 1 - SO 111 Vodojem
C129: Časť:
E130: =E11 -> 13 - Manipulačná komora MK 3-2
C132: Miesto: | F132: =F14 -> Rokycany | I132: Dátum: | J132: =IF(J14="","",J14) -> Vyplň údaj
C134: Objednávateľ: | F134: =E17 | I134: Projektant: | J134: =E23
C135: Zhotoviteľ: | F135: =IF(E20="","",E20) -> Vyplň údaj | I135: Spracovateľ: | J135: =E26
C137: PČ | D137: Typ | E137: Kód | F137: Popis | G137: MJ | H137: Množstvo | I137: J.cena [EUR] | J137: Cena celkom [EUR] | K137: Cenová sústava | N137: DPH | O137: J. Nh [h] | P137: Nh celkom [h] | Q137: J. hmotnosť [t] | R137: Hmotnosť celkom [t] | S137: J. suť [t] | T137: Suť Celkom [t]
C138: Náklady z rozpočtu | J138: =BK138 -> 0 | P138: =P139+P199 -> 0 | R138: =R139+R199 -> 160.97567 | T138: =T139+T199 -> 0.6224 | AT138: D | AU138: -1 | BK138: =BK139+BK199 -> 0
D139: D | E139: HSV | F139: Práce a dodávky HSV | J139: =BK139 -> 0 | P139: =P140+P146+P157+P179+P189+P194+P197 -> 0 | R139: =R140+R146+R157+R179+R189+R194+R197 -> 157.62362 | T139: =T140+T146+T157+T179+T189+T194+T197 -> 0 | AR139: 1 | AT139: D | AU139: 0 | AY139: ROZPOCET | BK139: =BK140+BK146+BK157+BK179+BK189+BK194+BK197 -> 0
D140: D | E140: 2 | F140: Zakladanie | J140: =BK140 -> 0 | P140: =SUM(P141:P145) -> 0 | R140: =SUM(R141:R145) -> 64.002985 | T140: =SUM(T141:T145) -> 0 | AR140: 1 | AT140: D | AU140: 1 | AY140: ROZPOCET | BK140: =SUM(BK141:BK145) -> 0
C141: 1 | D141: K | E141: 271533001.S | F141: Násyp pod základové konštrukcie so zhutnením z kameniva hrubého drveného fr.32-63 mm | G141: m3 | H141: 22.686 | J141: =ROUND(I141*H141,2) -> 0 | N141: znížená | P141: =O141*H141 -> 0 | Q141: 2.07 | R141: =Q141*H141 -> 46.96002 | S141: 0 | T141: =S141*H141 -> 0 | AR141: 4 | AT141: K | AU141: 2 | AY141: ROZPOCET | BE141: =IF(N141="základná",J141,0) -> 0 | BF141: =IF(N141="znížená",J141,0) -> 0 | BG141: =IF(N141="zákl. prenesená",J141,0) -> 0 | BH141: =IF(N141="zníž. prenesená",J141,0) -> 0 | BI141: =IF(N141="nulová",J141,0) -> 0 | BJ141: 2 | BK141: =ROUND(I141*H141,2) -> 0 | BL141: 4 | BM141: -1042870445
C142: 2 | D142: K | E142: 273313612.S | F142: Betón základových dosiek, prostý tr. C 20/25 | G142: m3 | H142: 7.619 | J142: =ROUND(I142*H142,2) -> 0 | N142: znížená | P142: =O142*H142 -> 0 | Q142: 2.21513 | R142: =Q142*H142 -> 16.877075 | S142: 0 | T142: =S142*H142 -> 0 | AR142: 4 | AT142: K | AU142: 2 | AY142: ROZPOCET | BE142: =IF(N142="základná",J142,0) -> 0 | BF142: =IF(N142="znížená",J142,0) -> 0 | BG142: =IF(N142="zákl. prenesená",J142,0) -> 0 | BH142: =IF(N142="zníž. prenesená",J142,0) -> 0 | BI142: =IF(N142="nulová",J142,0) -> 0 | BJ142: 2 | BK142: =ROUND(I142*H142,2) -> 0 | BL142: 4 | BM142: 312552397
C143: 3 | D143: K | E143: 273351217.S | F143: Debnenie stien základových dosiek, zhotovenie-tradičné | G143: m2 | H143: 7.36 | J143: =ROUND(I143*H143,2) -> 0 | N143: znížená | P143: =O143*H143 -> 0 | Q143: 0.00407 | R143: =Q143*H143 -> 0.0299552 | S143: 0 | T143: =S143*H143 -> 0 | AR143: 4 | AT143: K | AU143: 2 | AY143: ROZPOCET | BE143: =IF(N143="základná",J143,0) -> 0 | BF143: =IF(N143="znížená",J143,0) -> 0 | BG143: =IF(N143="zákl. prenesená",J143,0) -> 0 | BH143: =IF(N143="zníž. prenesená",J143,0) -> 0 | BI143: =IF(N143="nulová",J143,0) -> 0 | BJ143: 2 | BK143: =ROUND(I143*H143,2) -> 0 | BL143: 4 | BM143: 948569291
C144: 4 | D144: K | E144: 273351218.S | F144: Debnenie stien základových dosiek, odstránenie-tradičné | G144: m2 | H144: 7.36 | J144: =ROUND(I144*H144,2) -> 0 | N144: znížená | P144: =O144*H144 -> 0 | Q144: 0 | R144: =Q144*H144 -> 0 | S144: 0 | T144: =S144*H144 -> 0 | AR144: 4 | AT144: K | AU144: 2 | AY144: ROZPOCET | BE144: =IF(N144="základná",J144,0) -> 0 | BF144: =IF(N144="znížená",J144,0) -> 0 | BG144: =IF(N144="zákl. prenesená",J144,0) -> 0 | BH144: =IF(N144="zníž. prenesená",J144,0) -> 0 | BI144: =IF(N144="nulová",J144,0) -> 0 | BJ144: 2 | BK144: =ROUND(I144*H144,2) -> 0 | BL144: 4 | BM144: 2067356105
C145: 5 | D145: K | E145: 273362021.S | F145: Výstuž základových dosiek zo zvár. sietí KARI | G145: t | H145: 0.113 | J145: =ROUND(I145*H145,2) -> 0 | N145: znížená | P145: =O145*H145 -> 0 | Q145: 1.20296 | R145: =Q145*H145 -> 0.13593448 | S145: 0 | T145: =S145*H145 -> 0 | AR145: 4 | AT145: K | AU145: 2 | AY145: ROZPOCET | BE145: =IF(N145="základná",J145,0) -> 0 | BF145: =IF(N145="znížená",J145,0) -> 0 | BG145: =IF(N145="zákl. prenesená",J145,0) -> 0 | BH145: =IF(N145="zníž. prenesená",J145,0) -> 0 | BI145: =IF(N145="nulová",J145,0) -> 0 | BJ145: 2 | BK145: =ROUND(I145*H145,2) -> 0 | BL145: 4 | BM145: 669469323
D146: D | E146: 3 | F146: Zvislé a kompletné konštrukcie | J146: =BK146 -> 0 | P146: =SUM(P147:P156) -> 0 | R146: =SUM(R147:R156) -> 49.395861 | T146: =SUM(T147:T156) -> 0 | AR146: 1 | AT146: D | AU146: 1 | AY146: ROZPOCET | BK146: =SUM(BK147:BK156) -> 0
C147: 6 | D147: K | E147: 311101211.S | F147: Vytvorenie prestupov v múroch z betónu a železobetónu vložkami s vonkajšou prierezovou plochou do 0,02 m2 | G147: m | H147: 7.5 | J147: =ROUND(I147*H147,2) -> 0 | N147: znížená | P147: =O147*H147 -> 0 | Q147: 0 | R147: =Q147*H147 -> 0 | S147: 0 | T147: =S147*H147 -> 0 | AR147: 4 | AT147: K | AU147: 2 | AY147: ROZPOCET | BE147: =IF(N147="základná",J147,0) -> 0 | BF147: =IF(N147="znížená",J147,0) -> 0 | BG147: =IF(N147="zákl. prenesená",J147,0) -> 0 | BH147: =IF(N147="zníž. prenesená",J147,0) -> 0 | BI147: =IF(N147="nulová",J147,0) -> 0 | BJ147: 2 | BK147: =ROUND(I147*H147,2) -> 0 | BL147: 4 | BM147: -808717768
C148: 7 | D148: K | E148: 311233041.S | F148: Murivo nosné (m3) z tehál pálených dierovaných nebrúsených na pero a drážku hrúbky 300 mm, na klasickú maltu | G148: m3 | H148: 11.905 | J148: =ROUND(I148*H148,2) -> 0 | N148: znížená | P148: =O148*H148 -> 0 | Q148: 0.93361 | R148: =Q148*H148 -> 11.114627 | S148: 0 | T148: =S148*H148 -> 0 | AR148: 4 | AT148: K | AU148: 2 | AY148: ROZPOCET | BE148: =IF(N148="základná",J148,0) -> 0 | BF148: =IF(N148="znížená",J148,0) -> 0 | BG148: =IF(N148="zákl. prenesená",J148,0) -> 0 | BH148: =IF(N148="zníž. prenesená",J148,0) -> 0 | BI148: =IF(N148="nulová",J148,0) -> 0 | BJ148: 2 | BK148: =ROUND(I148*H148,2) -> 0 | BL148: 4 | BM148: 1379341660
C149: 8 | D149: K | E149: 311321311.S | F149: Betón nadzákladových múrov, železový (bez výstuže) tr. C 16/20 | G149: m3 | H149: 16.632 | J149: =ROUND(I149*H149,2) -> 0 | N149: znížená | P149: =O149*H149 -> 0 | Q149: 2.20099 | R149: =Q149*H149 -> 36.606866 | S149: 0 | T149: =S149*H149 -> 0 | AR149: 4 | AT149: K | AU149: 2 | AY149: ROZPOCET | BE149: =IF(N149="základná",J149,0) -> 0 | BF149: =IF(N149="znížená",J149,0) -> 0 | BG149: =IF(N149="zákl. prenesená",J149,0) -> 0 | BH149: =IF(N149="zníž. prenesená",J149,0) -> 0 | BI149: =IF(N149="nulová",J149,0) -> 0 | BJ149: 2 | BK149: =ROUND(I149*H149,2) -> 0 | BL149: 4 | BM149: -960707557
C150: 9 | D150: K | E150: 311351105.S | F150: Debnenie nadzákladových múrov obojstranné zhotovenie-dielce | G150: m2 | H150: 110.88 | J150: =ROUND(I150*H150,2) -> 0 | N150: znížená | P150: =O150*H150 -> 0 | Q150: 0.00155 | R150: =Q150*H150 -> 0.171864 | S150: 0 | T150: =S150*H150 -> 0 | AR150: 4 | AT150: K | AU150: 2 | AY150: ROZPOCET | BE150: =IF(N150="základná",J150,0) -> 0 | BF150: =IF(N150="znížená",J150,0) -> 0 | BG150: =IF(N150="zákl. prenesená",J150,0) -> 0 | BH150: =IF(N150="zníž. prenesená",J150,0) -> 0 | BI150: =IF(N150="nulová",J150,0) -> 0 | BJ150: 2 | BK150: =ROUND(I150*H150,2) -> 0 | BL150: 4 | BM150: -2042901096
C151: 10 | D151: K | E151: 311351106.S | F151: Debnenie nadzákladových múrov obojstranné odstránenie-dielce | G151: m2 | H151: 110.88 | J151: =ROUND(I151*H151,2) -> 0 | N151: znížená | P151: =O151*H151 -> 0 | Q151: 0 | R151: =Q151*H151 -> 0 | S151: 0 | T151: =S151*H151 -> 0 | AR151: 4 | AT151: K | AU151: 2 | AY151: ROZPOCET | BE151: =IF(N151="základná",J151,0) -> 0 | BF151: =IF(N151="znížená",J151,0) -> 0 | BG151: =IF(N151="zákl. prenesená",J151,0) -> 0 | BH151: =IF(N151="zníž. prenesená",J151,0) -> 0 | BI151: =IF(N151="nulová",J151,0) -> 0 | BJ151: 2 | BK151: =ROUND(I151*H151,2) -> 0 | BL151: 4 | BM151: -720196209
C152: 11 | D152: K | E152: 311361221.S | F152: Výstuž nadzákladových múrov 10216 | G152: t | H152: 0.534 | J152: =ROUND(I152*H152,2) -> 0 | N152: znížená | P152: =O152*H152 -> 0 | Q152: 1.01409 | R152: =Q152*H152 -> 0.54152406 | S152: 0 | T152: =S152*H152 -> 0 | AR152: 4 | AT152: K | AU152: 2 | AY152: ROZPOCET | BE152: =IF(N152="základná",J152,0) -> 0 | BF152: =IF(N152="znížená",J152,0) -> 0 | BG152: =IF(N152="zákl. prenesená",J152,0) -> 0 | BH152: =IF(N152="zníž. prenesená",J152,0) -> 0 | BI152: =IF(N152="nulová",J152,0) -> 0 | BJ152: 2 | BK152: =ROUND(I152*H152,2) -> 0 | BL152: 4 | BM152: -179423327
C153: 12 | D153: K | E153: 317160132.S | F153: Keramický preklad šírky 120 mm, výšky 65 mm, dĺžky 1000 mm | G153: ks | H153: 4 | J153: =ROUND(I153*H153,2) -> 0 | N153: znížená | P153: =O153*H153 -> 0 | Q153: 0.01492 | R153: =Q153*H153 -> 0.05968 | S153: 0 | T153: =S153*H153 -> 0 | AR153: 4 | AT153: K | AU153: 2 | AY153: ROZPOCET | BE153: =IF(N153="základná",J153,0) -> 0 | BF153: =IF(N153="znížená",J153,0) -> 0 | BG153: =IF(N153="zákl. prenesená",J153,0) -> 0 | BH153: =IF(N153="zníž. prenesená",J153,0) -> 0 | BI153: =IF(N153="nulová",J153,0) -> 0 | BJ153: 2 | BK153: =ROUND(I153*H153,2) -> 0 | BL153: 4 | BM153: -304734139
C154: 13 | D154: K | E154: 317160135.S | F154: Keramický preklad šírky 120 mm, výšky 65 mm, dĺžky 1750 mm | G154: ks | H154: 4 | J154: =ROUND(I154*H154,2) -> 0 | N154: znížená | P154: =O154*H154 -> 0 | Q154: 0.02631 | R154: =Q154*H154 -> 0.10524 | S154: 0 | T154: =S154*H154 -> 0 | AR154: 4 | AT154: K | AU154: 2 | AY154: ROZPOCET | BE154: =IF(N154="základná",J154,0) -> 0 | BF154: =IF(N154="znížená",J154,0) -> 0 | BG154: =IF(N154="zákl. prenesená",J154,0) -> 0 | BH154: =IF(N154="zníž. prenesená",J154,0) -> 0 | BI154: =IF(N154="nulová",J154,0) -> 0 | BJ154: 2 | BK154: =ROUND(I154*H154,2) -> 0 | BL154: 4 | BM154: -1132975432
C155: 14 | D155: K | E155: 342141011.S | F155: Priečky z pórobetónových panelov s objemovou hmotnosťou do 600 kg/m3 hrúbky 75 mm | G155: m2 | H155: 2.112 | J155: =ROUND(I155*H155,2) -> 0 | N155: znížená | P155: =O155*H155 -> 0 | Q155: 0.06406 | R155: =Q155*H155 -> 0.13529472 | S155: 0 | T155: =S155*H155 -> 0 | AR155: 4 | AT155: K | AU155: 2 | AY155: ROZPOCET | BE155: =IF(N155="základná",J155,0) -> 0 | BF155: =IF(N155="znížená",J155,0) -> 0 | BG155: =IF(N155="zákl. prenesená",J155,0) -> 0 | BH155: =IF(N155="zníž. prenesená",J155,0) -> 0 | BI155: =IF(N155="nulová",J155,0) -> 0 | BJ155: 2 | BK155: =ROUND(I155*H155,2) -> 0 | BL155: 4 | BM155: 100277496
C156: 15 | D156: K | E156: 342272051.S | F156: Priečky z pórobetónových tvárnic hladkých s objemovou hmotnosťou do 600 kg/m3 hrúbky 150 mm | G156: m2 | H156: 5.94 | J156: =ROUND(I156*H156,2) -> 0 | N156: znížená | P156: =O156*H156 -> 0 | Q156: 0.11124 | R156: =Q156*H156 -> 0.6607656 | S156: 0 | T156: =S156*H156 -> 0 | AR156: 4 | AT156: K | AU156: 2 | AY156: ROZPOCET | BE156: =IF(N156="základná",J156,0) -> 0 | BF156: =IF(N156="znížená",J156,0) -> 0 | BG156: =IF(N156="zákl. prenesená",J156,0) -> 0 | BH156: =IF(N156="zníž. prenesená",J156,0) -> 0 | BI156: =IF(N156="nulová",J156,0) -> 0 | BJ156: 2 | BK156: =ROUND(I156*H156,2) -> 0 | BL156: 4 | BM156: -238527601
D157: D | E157: 4 | F157: Vodorovné konštrukcie | J157: =BK157 -> 0 | P157: =SUM(P158:P178) -> 0 | R157: =SUM(R158:R178) -> 40.686285 | T157: =SUM(T158:T178) -> 0 | AR157: 1 | AT157: D | AU157: 1 | AY157: ROZPOCET | BK157: =SUM(BK158:BK178) -> 0
C158: 16 | D158: K | E158: 411321313.S | F158: Betón stropov doskových a trámových, železový tr. C 16/20 | G158: m3 | H158: 0.117 | J158: =ROUND(I158*H158,2) -> 0 | N158: znížená | P158: =O158*H158 -> 0 | Q158: 2.21292 | R158: =Q158*H158 -> 0.25891164 | S158: 0 | T158: =S158*H158 -> 0 | AR158: 4 | AT158: K | AU158: 2 | AY158: ROZPOCET | BE158: =IF(N158="základná",J158,0) -> 0 | BF158: =IF(N158="znížená",J158,0) -> 0 | BG158: =IF(N158="zákl. prenesená",J158,0) -> 0 | BH158: =IF(N158="zníž. prenesená",J158,0) -> 0 | BI158: =IF(N158="nulová",J158,0) -> 0 | BJ158: 2 | BK158: =ROUND(I158*H158,2) -> 0 | BL158: 4 | BM158: -1161753500
C159: 17 | D159: K | E159: 411321314.S | F159: Betón stropov doskových a trámových, železový tr. C 20/25 | G159: m3 | H159: 5.746 | J159: =ROUND(I159*H159,2) -> 0 | N159: znížená | P159: =O159*H159 -> 0 | Q159: 2.29702 | R159: =Q159*H159 -> 13.198677 | S159: 0 | T159: =S159*H159 -> 0 | AR159: 4 | AT159: K | AU159: 2 | AY159: ROZPOCET | BE159: =IF(N159="základná",J159,0) -> 0 | BF159: =IF(N159="znížená",J159,0) -> 0 | BG159: =IF(N159="zákl. prenesená",J159,0) -> 0 | BH159: =IF(N159="zníž. prenesená",J159,0) -> 0 | BI159: =IF(N159="nulová",J159,0) -> 0 | BJ159: 2 | BK159: =ROUND(I159*H159,2) -> 0 | BL159: 4 | BM159: 390433638
C160: 18 | D160: K | E160: 411321414.S | F160: Betón stropov doskových a trámových, železový tr. C 25/30 | G160: m3 | H160: 2.419 | J160: =ROUND(I160*H160,2) -> 0 | N160: znížená | P160: =O160*H160 -> 0 | Q160: 2.4019 | R160: =Q160*H160 -> 5.8101961 | S160: 0 | T160: =S160*H160 -> 0 | AR160: 4 | AT160: K | AU160: 2 | AY160: ROZPOCET | BE160: =IF(N160="základná",J160,0) -> 0 | BF160: =IF(N160="znížená",J160,0) -> 0 | BG160: =IF(N160="zákl. prenesená",J160,0) -> 0 | BH160: =IF(N160="zníž. prenesená",J160,0) -> 0 | BI160: =IF(N160="nulová",J160,0) -> 0 | BJ160: 2 | BK160: =ROUND(I160*H160,2) -> 0 | BL160: 4 | BM160: -198444431
C161: 19 | D161: K | E161: 411351101.S | F161: Debnenie stropov doskových zhotovenie-dielce | G161: m2 | H161: 30.24 | J161: =ROUND(I161*H161,2) -> 0 | N161: znížená | P161: =O161*H161 -> 0 | Q161: 0.00113 | R161: =Q161*H161 -> 0.0341712 | S161: 0 | T161: =S161*H161 -> 0 | AR161: 4 | AT161: K | AU161: 2 | AY161: ROZPOCET | BE161: =IF(N161="základná",J161,0) -> 0 | BF161: =IF(N161="znížená",J161,0) -> 0 | BG161: =IF(N161="zákl. prenesená",J161,0) -> 0 | BH161: =IF(N161="zníž. prenesená",J161,0) -> 0 | BI161: =IF(N161="nulová",J161,0) -> 0 | BJ161: 2 | BK161: =ROUND(I161*H161,2) -> 0 | BL161: 4 | BM161: -652880522
C162: 20 | D162: K | E162: 411351102.S | F162: Debnenie stropov doskových odstránenie-dielce | G162: m2 | H162: 30.24 | J162: =ROUND(I162*H162,2) -> 0 | N162: znížená | P162: =O162*H162 -> 0 | Q162: 0 | R162: =Q162*H162 -> 0 | S162: 0 | T162: =S162*H162 -> 0 | AR162: 4 | AT162: K | AU162: 2 | AY162: ROZPOCET | BE162: =IF(N162="základná",J162,0) -> 0 | BF162: =IF(N162="znížená",J162,0) -> 0 | BG162: =IF(N162="zákl. prenesená",J162,0) -> 0 | BH162: =IF(N162="zníž. prenesená",J162,0) -> 0 | BI162: =IF(N162="nulová",J162,0) -> 0 | BJ162: 2 | BK162: =ROUND(I162*H162,2) -> 0 | BL162: 4 | BM162: -1094431286
C163: 21 | D163: K | E163: 411351107.S | F163: Debnenie stropov doskových zhotovenie-tradičné | G163: m2 | H163: 1.46 | J163: =ROUND(I163*H163,2) -> 0 | N163: znížená | P163: =O163*H163 -> 0 | Q163: 0.00349 | R163: =Q163*H163 -> 0.0050954 | S163: 0 | T163: =S163*H163 -> 0 | AR163: 4 | AT163: K | AU163: 2 | AY163: ROZPOCET | BE163: =IF(N163="základná",J163,0) -> 0 | BF163: =IF(N163="znížená",J163,0) -> 0 | BG163: =IF(N163="zákl. prenesená",J163,0) -> 0 | BH163: =IF(N163="zníž. prenesená",J163,0) -> 0 | BI163: =IF(N163="nulová",J163,0) -> 0 | BJ163: 2 | BK163: =ROUND(I163*H163,2) -> 0 | BL163: 4 | BM163: 940023630
C164: 22 | D164: K | E164: 411351108.S | F164: Debnenie stropov doskových odstránenie-tradičné | G164: m2 | H164: 1.46 | J164: =ROUND(I164*H164,2) -> 0 | N164: znížená | P164: =O164*H164 -> 0 | Q164: 0 | R164: =Q164*H164 -> 0 | S164: 0 | T164: =S164*H164 -> 0 | AR164: 4 | AT164: K | AU164: 2 | AY164: ROZPOCET | BE164: =IF(N164="základná",J164,0) -> 0 | BF164: =IF(N164="znížená",J164,0) -> 0 | BG164: =IF(N164="zákl. prenesená",J164,0) -> 0 | BH164: =IF(N164="zníž. prenesená",J164,0) -> 0 | BI164: =IF(N164="nulová",J164,0) -> 0 | BJ164: 2 | BK164: =ROUND(I164*H164,2) -> 0 | BL164: 4 | BM164: -311548071
...

Sheet 14 - Úprava armatúr vodojemu
L2: >> skryté stĺpce << | AT2: {7c94cf2c-c126-42d3-a971-0fc5d349e2fb}
AT3: 0
D4: KRYCÍ LIST ROZPOČTU | M4: v --- nižšie sa nachádzajú doplnkové a pomocné údaje k zostavám --- v | AT4: False
D6: Stavba:
E7: ='Rekapitulácia stavby'!K6 -> Rokycany - Infraštruktúra, 100 Zásobovanie vodou
D8: Objekt:
E9: 1 - SO 111 Vodojem
D10: Časť:
E11: 14 - Úprava armatúr vodojemu
D13: JKSO: | I13: ČS:
D14: Miesto: | F14: Rokycany | I14: Dátum: | J14: ='Rekapitulácia stavby'!AN8 -> Vyplň údaj
D16: Objednávateľ: | I16: IČO: | J16: =IF('Rekapitulácia stavby'!AN10="","",'Rekapitulácia stavby'!AN10)
E17: =IF('Rekapitulácia stavby'!E11="","",'Rekapitulácia stavby'!E11) | I17: IČ DPH: | J17: =IF('Rekapitulácia stavby'!AN11="","",'Rekapitulácia stavby'!AN11)
D19: Zhotoviteľ: | I19: IČO: | J19: ='Rekapitulácia stavby'!AN13 -> Vyplň údaj
E20: ='Rekapitulácia stavby'!E14 -> Vyplň údaj | I20: IČ DPH: | J20: ='Rekapitulácia stavby'!AN14 -> Vyplň údaj
D22: Projektant: | I22: IČO: | J22: =IF('Rekapitulácia stavby'!AN16="","",'Rekapitulácia stavby'!AN16)
E23: =IF('Rekapitulácia stavby'!E17="","",'Rekapitulácia stavby'!E17) | I23: IČ DPH: | J23: =IF('Rekapitulácia stavby'!AN17="","",'Rekapitulácia stavby'!AN17)
D25: Spracovateľ: | I25: IČO: | J25: =IF('Rekapitulácia stavby'!AN19="","",'Rekapitulácia stavby'!AN19)
E26: =IF('Rekapitulácia stavby'!E20="","",'Rekapitulácia stavby'!E20) | I26: IČ DPH: | J26: =IF('Rekapitulácia stavby'!AN20="","",'Rekapitulácia stavby'!AN20)
D28: Poznámka:
D32: Cena bez DPH | J32: =ROUND(J127, 2) -> 0
F34: Základ dane | I34: Sadzba dane | J34: Výška dane
D35: DPH | E35: základná | F35: =ROUND((SUM(BE127:BE199)), 2) -> 0 | I35: 0.23 | J35: =ROUND(((SUM(BE127:BE199))*I35), 2) -> 0
E36: znížená | F36: =ROUND((SUM(BF127:BF199)), 2) -> 0 | I36: 0.23 | J36: =ROUND(((SUM(BF127:BF199))*I36), 2) -> 0
E37: zákl. prenesená | F37: =ROUND((SUM(BG127:BG199)), 2) -> 0 | I37: 0.23 | J37: =0 -> 0
E38: zníž. prenesená | F38: =ROUND((SUM(BH127:BH199)), 2) -> 0 | I38: 0.23 | J38: =0 -> 0
E39: nulová | F39: =ROUND((SUM(BI127:BI199)), 2) -> 0 | I39: 0 | J39: =0 -> 0
D41: Cena s DPH | G41: v | H41: EUR | J41: =SUM(J32:J39) -> 0
D50: Projektant | G50: Spracovateľ
D61: Dátum a podpis: | F61: Pečiatka | G61: Dátum a podpis: | J61: Pečiatka
D65: Objednávateľ | G65: Zhotoviteľ
D76: Dátum a podpis: | F76: Pečiatka | G76: Dátum a podpis: | J76: Pečiatka
C82: REKAPITULÁCIA ROZPOČTU
C84: Stavba:
E85: =E7 -> Rokycany - Infraštruktúra, 100 Zásobovanie vodou
C86: Objekt:
E87: 1 - SO 111 Vodojem
C88: Časť:
E89: =E11 -> 14 - Úprava armatúr vodojemu
C91: Miesto: | F91: =F14 -> Rokycany | I91: Dátum: | J91: =IF(J14="","",J14) -> Vyplň údaj
C93: Objednávateľ: | F93: =E17 | I93: Projektant: | J93: =E23
C94: Zhotoviteľ: | F94: =IF(E20="","",E20) -> Vyplň údaj | I94: Spracovateľ: | J94: =E26
C96: Kód dielu - Popis | J96: Cena celkom [EUR]
C98: Náklady z rozpočtu | J98: =J127 -> 0 | AU98: -1
D99: HSV - Práce a dodávky HSV | J99: =J128 -> 0
D100: 8 - Rúrové vedenie | J100: =J129 -> 0
D101: 9 - Ostatné konštrukcie a práce-búranie | J101: =J166 -> 0
D102: PSV - Práce a dodávky PSV | J102: =J170 -> 0
D103: 722 - Zdravotechnika - vnútorný vodovod | J103: =J171 -> 0
D104: M - Práce a dodávky M | J104: =J178 -> 0
D105: 23-M - Montáže potrubia | J105: =J179 -> 0
C112: ROZPOČET
C114: Stavba:
E115: =E7 -> Rokycany - Infraštruktúra, 100 Zásobovanie vodou
C116: Objekt:
E117: 1 - SO 111 Vodojem
C118: Časť:
E119: =E11 -> 14 - Úprava armatúr vodojemu
C121: Miesto: | F121: =F14 -> Rokycany | I121: Dátum: | J121: =IF(J14="","",J14) -> Vyplň údaj
C123: Objednávateľ: | F123: =E17 | I123: Projektant: | J123: =E23
C124: Zhotoviteľ: | F124: =IF(E20="","",E20) -> Vyplň údaj | I124: Spracovateľ: | J124: =E26
C126: PČ | D126: Typ | E126: Kód | F126: Popis | G126: MJ | H126: Množstvo | I126: J.cena [EUR] | J126: Cena celkom [EUR] | K126: Cenová sústava | N126: DPH | O126: J. Nh [h] | P126: Nh celkom [h] | Q126: J. hmotnosť [t] | R126: Hmotnosť celkom [t] | S126: J. suť [t] | T126: Suť Celkom [t]
C127: Náklady z rozpočtu | J127: =BK127 -> 0 | P127: =P128+P170+P178 -> 0 | R127: =R128+R170+R178 -> 3.1844171 | T127: =T128+T170+T178 -> 0 | AT127: D | AU127: -1 | BK127: =BK128+BK170+BK178 -> 0
D128: D | E128: HSV | F128: Práce a dodávky HSV | J128: =BK128 -> 0 | P128: =P129+P166 -> 0 | R128: =R129+R166 -> 2.2641378 | T128: =T129+T166 -> 0 | AR128: 1 | AT128: D | AU128: 0 | AY128: ROZPOCET | BK128: =BK129+BK166 -> 0
D129: D | E129: 8 | F129: Rúrové vedenie | J129: =BK129 -> 0 | P129: =SUM(P130:P165) -> 0 | R129: =SUM(R130:R165) -> 2.1835578 | T129: =SUM(T130:T165) -> 0 | AR129: 1 | AT129: D | AU129: 1 | AY129: ROZPOCET | BK129: =SUM(BK130:BK165) -> 0
C130: 1 | D130: K | E130: 852241121.S | F130: Montáž potrubia z rúr liatinových prírubových tlakových v otvorenom výkope, kanáli,šachte DN 80 | G130: ks | H130: 4 | J130: =ROUND(I130*H130,2) -> 0 | N130: znížená | P130: =O130*H130 -> 0 | Q130: 0.003824 | R130: =Q130*H130 -> 0.015296 | S130: 0 | T130: =S130*H130 -> 0 | AR130: 4 | AT130: K | AU130: 2 | AY130: ROZPOCET | BE130: =IF(N130="základná",J130,0) -> 0 | BF130: =IF(N130="znížená",J130,0) -> 0 | BG130: =IF(N130="zákl. prenesená",J130,0) -> 0 | BH130: =IF(N130="zníž. prenesená",J130,0) -> 0 | BI130: =IF(N130="nulová",J130,0) -> 0 | BJ130: 2 | BK130: =ROUND(I130*H130,2) -> 0 | BL130: 4 | BM130: 464526338
C131: 2 | D131: M | E131: 552520023900.S | F131: Tvarovka FF z tvárnej liatiny, prírubová DN 80, dĺ. 300 mm, PN 16 | G131: ks | H131: 4 | J131: =ROUND(I131*H131,2) -> 0 | N131: znížená | P131: =O131*H131 -> 0 | Q131: 0.0109 | R131: =Q131*H131 -> 0.0436 | S131: 0 | T131: =S131*H131 -> 0 | AR131: 8 | AT131: M | AU131: 2 | AY131: ROZPOCET | BE131: =IF(N131="základná",J131,0) -> 0 | BF131: =IF(N131="znížená",J131,0) -> 0 | BG131: =IF(N131="zákl. prenesená",J131,0) -> 0 | BH131: =IF(N131="zníž. prenesená",J131,0) -> 0 | BI131: =IF(N131="nulová",J131,0) -> 0 | BJ131: 2 | BK131: =ROUND(I131*H131,2) -> 0 | BL131: 4 | BM131: 1556135982
C132: 3 | D132: K | E132: 852261121 | F132: Montáž potrubia z rúr liatinových prírubových tlakových v otvorenom výkope, kanáli,šachte DN 100 | G132: ks | H132: 12 | J132: =ROUND(I132*H132,2) -> 0 | N132: znížená | P132: =O132*H132 -> 0 | Q132: 0.0038 | R132: =Q132*H132 -> 0.0456 | S132: 0 | T132: =S132*H132 -> 0 | AR132: 4 | AT132: K | AU132: 2 | AY132: ROZPOCET | BE132: =IF(N132="základná",J132,0) -> 0 | BF132: =IF(N132="znížená",J132,0) -> 0 | BG132: =IF(N132="zákl. prenesená",J132,0) -> 0 | BH132: =IF(N132="zníž. prenesená",J132,0) -> 0 | BI132: =IF(N132="nulová",J132,0) -> 0 | BJ132: 2 | BK132: =ROUND(I132*H132,2) -> 0 | BL132: 4 | BM132: -435245632
C133: 4 | D133: M | E133: 552520026300.S | F133: Tvarovka FF z tvárnej liatiny, prírubová DN 100, dĺ. 1000 mm, PN 16 | G133: ks | H133: 9 | J133: =ROUND(I133*H133,2) -> 0 | N133: znížená | P133: =O133*H133 -> 0 | Q133: 0.0268 | R133: =Q133*H133 -> 0.2412 | S133: 0 | T133: =S133*H133 -> 0 | AR133: 128 | AT133: M | AU133: 2 | AY133: ROZPOCET | BE133: =IF(N133="základná",J133,0) -> 0 | BF133: =IF(N133="znížená",J133,0) -> 0 | BG133: =IF(N133="zákl. prenesená",J133,0) -> 0 | BH133: =IF(N133="zníž. prenesená",J133,0) -> 0 | BI133: =IF(N133="nulová",J133,0) -> 0 | BJ133: 2 | BK133: =ROUND(I133*H133,2) -> 0 | BL133: 128 | BM133: -1004201949
C134: 5 | D134: M | E134: 552520025600.S | F134: Tvarovka FF z tvárnej liatiny, prírubová DN 100, dĺ. 400 mm, PN 16 | G134: ks | H134: 1 | J134: =ROUND(I134*H134,2) -> 0 | N134: znížená | P134: =O134*H134 -> 0 | Q134: 0.015 | R134: =Q134*H134 -> 0.015 | S134: 0 | T134: =S134*H134 -> 0 | AR134: 128 | AT134: M | AU134: 2 | AY134: ROZPOCET | BE134: =IF(N134="základná",J134,0) -> 0 | BF134: =IF(N134="znížená",J134,0) -> 0 | BG134: =IF(N134="zákl. prenesená",J134,0) -> 0 | BH134: =IF(N134="zníž. prenesená",J134,0) -> 0 | BI134: =IF(N134="nulová",J134,0) -> 0 | BJ134: 2 | BK134: =ROUND(I134*H134,2) -> 0 | BL134: 128 | BM134: -671154771
C135: 6 | D135: M | E135: 319440017000 | F135: Príruba špeciálna S2000 DN 100, PN16, D 110 mm, s istením proti posunu pre PE a PVC potrubia, z liatiny, na vodu, 0400 | G135: ks | H135: 2 | J135: =ROUND(I135*H135,2) -> 0 | N135: znížená | P135: =O135*H135 -> 0 | Q135: 0.0062 | R135: =Q135*H135 -> 0.0124 | S135: 0 | T135: =S135*H135 -> 0 | AR135: 128 | AT135: M | AU135: 2 | AY135: ROZPOCET | BE135: =IF(N135="základná",J135,0) -> 0 | BF135: =IF(N135="znížená",J135,0) -> 0 | BG135: =IF(N135="zákl. prenesená",J135,0) -> 0 | BH135: =IF(N135="zníž. prenesená",J135,0) -> 0 | BI135: =IF(N135="nulová",J135,0) -> 0 | BJ135: 2 | BK135: =ROUND(I135*H135,2) -> 0 | BL135: 128 | BM135: 1128983027
C136: 7 | D136: K | E136: 852311121.S | F136: Montáž potrubia z rúr liatinových prírubových tlakových v otvorenom výkope, kanáli,šachte DN 150 | G136: ks | H136: 10 | J136: =ROUND(I136*H136,2) -> 0 | N136: znížená | P136: =O136*H136 -> 0 | Q136: 0.0087 | R136: =Q136*H136 -> 0.087 | S136: 0 | T136: =S136*H136 -> 0 | AR136: 4 | AT136: K | AU136: 2 | AY136: ROZPOCET | BE136: =IF(N136="základná",J136,0) -> 0 | BF136: =IF(N136="znížená",J136,0) -> 0 | BG136: =IF(N136="zákl. prenesená",J136,0) -> 0 | BH136: =IF(N136="zníž. prenesená",J136,0) -> 0 | BI136: =IF(N136="nulová",J136,0) -> 0 | BJ136: 2 | BK136: =ROUND(I136*H136,2) -> 0 | BL136: 4 | BM136: 145074375
C137: 8 | D137: M | E137: 552520027900.S | F137: Tvarovka FF z tvárnej liatiny, prírubová DN 150, dĺ. 200 mm, PN 16 | G137: ks | H137: 2 | J137: =ROUND(I137*H137,2) -> 0 | N137: znížená | P137: =O137*H137 -> 0 | Q137: 0.0175 | R137: =Q137*H137 -> 0.035 | S137: 0 | T137: =S137*H137 -> 0 | AR137: 8 | AT137: M | AU137: 2 | AY137: ROZPOCET | BE137: =IF(N137="základná",J137,0) -> 0 | BF137: =IF(N137="znížená",J137,0) -> 0 | BG137: =IF(N137="zákl. prenesená",J137,0) -> 0 | BH137: =IF(N137="zníž. prenesená",J137,0) -> 0 | BI137: =IF(N137="nulová",J137,0) -> 0 | BJ137: 2 | BK137: =ROUND(I137*H137,2) -> 0 | BL137: 4 | BM137: 1341802684
C138: 9 | D138: M | E138: 552520029000.S | F138: Tvarovka FF z tvárnej liatiny, prírubová DN 150, dĺ. 1000 mm, PN 16 | G138: ks | H138: 6 | J138: =ROUND(I138*H138,2) -> 0 | N138: znížená | P138: =O138*H138 -> 0 | Q138: 0.0335 | R138: =Q138*H138 -> 0.201 | S138: 0 | T138: =S138*H138 -> 0 | AR138: 8 | AT138: M | AU138: 2 | AY138: ROZPOCET | BE138: =IF(N138="základná",J138,0) -> 0 | BF138: =IF(N138="znížená",J138,0) -> 0 | BG138: =IF(N138="zákl. prenesená",J138,0) -> 0 | BH138: =IF(N138="zníž. prenesená",J138,0) -> 0 | BI138: =IF(N138="nulová",J138,0) -> 0 | BJ138: 2 | BK138: =ROUND(I138*H138,2) -> 0 | BL138: 4 | BM138: -677372671
C139: 10 | D139: M | E139: 552520028600.S | F139: Tvarovka FF z tvárnej liatiny, prírubová DN 150, dĺ. 600 mm, PN 16 | G139: ks | H139: 2 | J139: =ROUND(I139*H139,2) -> 0 | N139: znížená | P139: =O139*H139 -> 0 | Q139: 0.031 | R139: =Q139*H139 -> 0.062 | S139: 0 | T139: =S139*H139 -> 0 | AR139: 8 | AT139: M | AU139: 2 | AY139: ROZPOCET | BE139: =IF(N139="základná",J139,0) -> 0 | BF139: =IF(N139="znížená",J139,0) -> 0 | BG139: =IF(N139="zákl. prenesená",J139,0) -> 0 | BH139: =IF(N139="zníž. prenesená",J139,0) -> 0 | BI139: =IF(N139="nulová",J139,0) -> 0 | BJ139: 2 | BK139: =ROUND(I139*H139,2) -> 0 | BL139: 4 | BM139: -1876293117
C140: 11 | D140: K | E140: 857262121 | F140: Montáž liatinovej tvarovky jednoosovej na potrubí z rúr prírubových DN 100 | G140: ks | H140: 16 | J140: =ROUND(I140*H140,2) -> 0 | N140: znížená | P140: =O140*H140 -> 0 | Q140: 0.0038 | R140: =Q140*H140 -> 0.0608 | S140: 0 | T140: =S140*H140 -> 0 | AR140: 4 | AT140: K | AU140: 2 | AY140: ROZPOCET | BE140: =IF(N140="základná",J140,0) -> 0 | BF140: =IF(N140="znížená",J140,0) -> 0 | BG140: =IF(N140="zákl. prenesená",J140,0) -> 0 | BH140: =IF(N140="zníž. prenesená",J140,0) -> 0 | BI140: =IF(N140="nulová",J140,0) -> 0 | BJ140: 2 | BK140: =ROUND(I140*H140,2) -> 0 | BL140: 4 | BM140: -1933180956
C141: 12 | D141: M | E141: 552520088000.S | F141: Koleno liatinové prírubové DN 100 | G141: ks | H141: 7 | J141: =ROUND(I141*H141,2) -> 0 | N141: znížená | P141: =O141*H141 -> 0 | Q141: 0.017 | R141: =Q141*H141 -> 0.119 | S141: 0 | T141: =S141*H141 -> 0 | AR141: 8 | AT141: M | AU141: 2 | AY141: ROZPOCET | BE141: =IF(N141="základná",J141,0) -> 0 | BF141: =IF(N141="znížená",J141,0) -> 0 | BG141: =IF(N141="zákl. prenesená",J141,0) -> 0 | BH141: =IF(N141="zníž. prenesená",J141,0) -> 0 | BI141: =IF(N141="nulová",J141,0) -> 0 | BJ141: 2 | BK141: =ROUND(I141*H141,2) -> 0 | BL141: 4 | BM141: 380863103
... C165: 36 | D165: M | E165: 551180001400.S | F165: Navrtávaci pás uzáverový DN 100 - 1" na vodu, z tvárnej liatiny pre liatinové a oceľové potrubie | G165: ks | H165: 3 | J165: =ROUND(I165*H165,2) -> 0 | N165: znížená | P165: =O165*H165 -> 0 | Q165: 0.0025 | R165: =Q165*H165 -> 0.0075 | S165: 0 | T165: =S165*H165 -> 0 | AR165: 8 | AT165: M | AU165: 2 | AY165: ROZPOCET | BE165: =IF(N165="základná",J165,0) -> 0 | BF165: =IF(N165="znížená",J165,0) -> 0 | BG165: =IF(N165="zákl. prenesená",J165,0) -> 0 | BH165: =IF(N165="zníž. prenesená",J165,0) -> 0 | BI165: =IF(N165="nulová",J165,0) -> 0 | BJ165: 2 | BK165: =ROUND(I165*H165,2) -> 0 | BL165: 4 | BM165: -540460313
D166: D | E166: 9 | F166: Ostatné konštrukcie a práce-búranie | J166: =BK166 -> 0 | P166: =SUM(P167:P169) -> 0 | R166: =SUM(R167:R169) -> 0.08058 | T166: =SUM(T167:T169) -> 0 | AR166: 1 | AT166: D | AU166: 1 | AY166: ROZPOCET | BK166: =SUM(BK167:BK169) -> 0
C167: 37 | D167: K | E167: 953941721.S | F167: Osadenie objímky alebo držiaka v murive betónovom | G167: ks | H167: 6 | J167: =ROUND(I167*H167,2) -> 0 | N167: znížená | P167: =O167*H167 -> 0 | Q167: 0.004 | R167: =Q167*H167 -> 0.024 | S167: 0 | T167: =S167*H167 -> 0 | AR167: 4 | AT167: K | AU167: 2 | AY167: ROZPOCET | BE167: =IF(N167="základná",J167,0) -> 0 | BF167: =IF(N167="znížená",J167,0) -> 0 | BG167: =IF(N167="zákl. prenesená",J167,0) -> 0 | BH167: =IF(N167="zníž. prenesená",J167,0) -> 0 | BI167: =IF(N167="nulová",J167,0) -> 0 | BJ167: 2 | BK167: =ROUND(I167*H167,2) -> 0 | BL167: 4 | BM167: -1037017494
C168: 38 | D168: M | E168: 423410001800.S | F168: Objímka pre dve skrutky, oceľová D 100 mm | G168: ks | H168: 6 | J168: =ROUND(I168*H168,2) -> 0 | N168: znížená | P168: =O168*H168 -> 0 | Q168: 0.0017 | R168: =Q168*H168 -> 0.0102 | S168: 0 | T168: =S168*H168 -> 0 | AR168: 8 | AT168: M | AU168: 2 | AY168: ROZPOCET | BE168: =IF(N168="základná",J168,0) -> 0 | BF168: =IF(N168="znížená",J168,0) -> 0 | BG168: =IF(N168="zákl. prenesená",J168,0) -> 0 | BH168: =IF(N168="zníž. prenesená",J168,0) -> 0 | BI168: =IF(N168="nulová",J168,0) -> 0 | BJ168: 2 | BK168: =ROUND(I168*H168,2) -> 0 | BL168: 4 | BM168: -300068926
C169: 39 | D169: M | E169: 423410003200.S | F169: Stojan kotviaci D 100 mm | G169: ks | H169: 6 | J169: =ROUND(I169*H169,2) -> 0 | N169: znížená | P169: =O169*H169 -> 0 | Q169: 0.00773 | R169: =Q169*H169 -> 0.04638 | S169: 0 | T169: =S169*H169 -> 0 | AR169: 8 | AT169: M | AU169: 2 | AY169: ROZPOCET | BE169: =IF(N169="základná",J169,0) -> 0 | BF169: =IF(N169="znížená",J169,0) -> 0 | BG169: =IF(N169="zákl. prenesená",J169,0) -> 0 | BH169: =IF(N169="zníž. prenesená",J169,0) -> 0 | BI169: =IF(N169="nulová",J169,0) -> 0 | BJ169: 2 | BK169: =ROUND(I169*H169,2) -> 0 | BL169: 4 | BM169: -2071389056
D170: D | E170: PSV | F170: Práce a dodávky PSV | J170: =BK170 -> 0 | P170: =P171 -> 0 | R170: =R171 -> 0.03674 | T170: =T171 -> 0 | AR170: 2 | AT170: D | AU170: 0 | AY170: ROZPOCET | BK170: =BK171 -> 0
D171: D | E171: 722 | F171: Zdravotechnika - vnútorný vodovod | J171: =BK171 -> 0 | P171: =SUM(P172:P177) -> 0 | R171: =SUM(R172:R177) -> 0.03674 | T171: =SUM(T172:T177) -> 0 | AR171: 2 | AT171: D | AU171: 1 | AY171: ROZPOCET | BK171: =SUM(BK172:BK177) -> 0
C172: 40 | D172: K | E172: 722211130.S | F172: Montáž uzatváracej klapky pre vodu DN 100 | G172: ks | H172: 2 | J172: =ROUND(I172*H172,2) -> 0 | N172: znížená | P172: =O172*H172 -> 0 | Q172: 0.00022 | R172: =Q172*H172 -> 0.00044 | S172: 0 | T172: =S172*H172 -> 0 | AR172: 16 | AT172: K | AU172: 2 | AY172: ROZPOCET | BE172: =IF(N172="základná",J172,0) -> 0 | BF172: =IF(N172="znížená",J172,0) -> 0 | BG172: =IF(N172="zákl. prenesená",J172,0) -> 0 | BH172: =IF(N172="zníž. prenesená",J172,0) -> 0 | BI172: =IF(N172="nulová",J172,0) -> 0 | BJ172: 2 | BK172: =ROUND(I172*H172,2) -> 0 | BL172: 16 | BM172: -490143669
C173: 41 | D173: M | E173: 551480- pc | F173: Plavákový ventil DN 100 | G173: ks | H173: 2 | J173: =ROUND(I173*H173,2) -> 0 | N173: znížená | P173: =O173*H173 -> 0 | Q173: 4e-05 | R173: =Q173*H173 -> 8e-05 | S173: 0 | T173: =S173*H173 -> 0 | AR173: 32 | AT173: M | AU173: 2 | AY173: ROZPOCET | BE173: =IF(N173="základná",J173,0) -> 0 | BF173: =IF(N173="znížená",J173,0) -> 0 | BG173: =IF(N173="zákl. prenesená",J173,0) -> 0 | BH173: =IF(N173="zníž. prenesená",J173,0) -> 0 | BI173: =IF(N173="nulová",J173,0) -> 0 | BJ173: 2 | BK173: =ROUND(I173*H173,2) -> 0 | BL173: 16 | BM173: 1412806344
C174: 42 | D174: K | E174: 722211210.S | F174: Montáž vodovodného filtra prírubového DN 80 | G174: ks | H174: 2 | J174: =ROUND(I174*H174,2) -> 0 | N174: znížená | P174: =O174*H174 -> 0 | Q174: 0.0015 | R174: =Q174*H174 -> 0.003 | S174: 0 | T174: =S174*H174 -> 0 | AR174: 16 | AT174: K | AU174: 2 | AY174: ROZPOCET | BE174: =IF(N174="základná",J174,0) -> 0 | BF174: =IF(N174="znížená",J174,0) -> 0 | BG174: =IF(N174="zákl. prenesená",J174,0) -> 0 | BH174: =IF(N174="zníž. prenesená",J174,0) -> 0 | BI174: =IF(N174="nulová",J174,0) -> 0 | BJ174: 2 | BK174: =ROUND(I174*H174,2) -> 0 | BL174: 16 | BM174: 916295257
C175: 43 | D175: M | E175: 422010001200.S | F175: Prírubový filter na vodu DN 80 | G175: ks | H175: 2 | J175: =ROUND(I175*H175,2) -> 0 | N175: znížená | P175: =O175*H175 -> 0 | Q175: 0.00024 | R175: =Q175*H175 -> 0.00048 | S175: 0 | T175: =S175*H175 -> 0 | AR175: 32 | AT175: M | AU175: 2 | AY175: ROZPOCET | BE175: =IF(N175="základná",J175,0) -> 0 | BF175: =IF(N175="znížená",J175,0) -> 0 | BG175: =IF(N175="zákl. prenesená",J175,0) -> 0 | BH175: =IF(N175="zníž. prenesená",J175,0) -> 0 | BI175: =IF(N175="nulová",J175,0) -> 0 | BJ175: 2 | BK175: =ROUND(I175*H175,2) -> 0 | BL175: 16 | BM175: -928340343
C176: 44 | D176: K | E176: 722262152.S | F176: Montáž vodomeru pre vodu do 30°C prírubového skrutkového DN 80 | G176: ks | H176: 2 | J176: =ROUND(I176*H176,2) -> 0 | N176: znížená | P176: =O176*H176 -> 0 | Q176: 0.00937 | R176: =Q176*H176 -> 0.01874 | S176: 0 | T176: =S176*H176 -> 0 | AR176: 16 | AT176: K | AU176: 2 | AY176: ROZPOCET | BE176: =IF(N176="základná",J176,0) -> 0 | BF176: =IF(N176="znížená",J176,0) -> 0 | BG176: =IF(N176="zákl. prenesená",J176,0) -> 0 | BH176: =IF(N176="zníž. prenesená",J176,0) -> 0 | BI176: =IF(N176="nulová",J176,0) -> 0 | BJ176: 2 | BK176: =ROUND(I176*H176,2) -> 0 | BL176: 16 | BM176: -107901103
C177: 45 | D177: M | E177: 388240000500 | F177: Vodomer prírubový DN 80 | G177: ks | H177: 2 | J177: =ROUND(I177*H177,2) -> 0 | N177: znížená | P177: =O177*H177 -> 0 | Q177: 0.007 | R177: =Q177*H177 -> 0.014 | S177: 0 | T177: =S177*H177 -> 0 | AR177: 32 | AT177: M | AU177: 2 | AY177: ROZPOCET | BE177: =IF(N177="základná",J177,0) -> 0 | BF177: =IF(N177="znížená",J177,0) -> 0 | BG177: =IF(N177="zákl. prenesená",J177,0) -> 0 | BH177: =IF(N177="zníž. prenesená",J177,0) -> 0 | BI177: =IF(N177="nulová",J177,0) -> 0 | BJ177: 2 | BK177: =ROUND(I177*H177,2) -> 0 | BL177: 16 | BM177: -543160404
D178: D | E178: M | F178: Práce a dodávky M | J178: =BK178 -> 0 | P178: =P179 -> 0 | R178: =R179 -> 0.88353939 | T178: =T179 -> 0 | AR178: 3 | AT178: D | AU178: 0 | AY178: ROZPOCET | BK178: =BK179 -> 0
D179: D | E179: 23-M | F179: Montáže potrubia | J179: =BK179 -> 0 | P179: =SUM(P180:P199) -> 0 | R179: =SUM(R180:R199) -> 0.88353939 | T179: =SUM(T180:T199) -> 0 | AR179: 3 | AT179: D | AU179: 1 | AY179: ROZPOCET | BK179: =SUM(BK180:BK199) -> 0
C180: 46 | D180: K | E180: 230011038.S | F180: Montáž potrubia z oceľových rúr trieda 11 - 13, Dxt 57x2,9 mm | G180: m | H180: 12.45 | J180: =ROUND(I180*H180,2) -> 0 | N180: znížená | P180: =O180*H180 -> 0 | Q180: 3.041e-05 | R180: =Q180*H180 -> 0.0003786045 | S180: 0 | T180: =S180*H180 -> 0 | AR180: 64 | AT180: K | AU180: 2 | AY180: ROZPOCET | BE180: =IF(N180="základná",J180,0) -> 0 | BF180: =IF(N180="znížená",J180,0) -> 0 | BG180: =IF(N180="zákl. prenesená",J180,0) -> 0 | BH180: =IF(N180="zníž. prenesená",J180,0) -> 0 | BI180: =IF(N180="nulová",J180,0) -> 0 | BJ180: 2 | BK180: =ROUND(I180*H180,2) -> 0 | BL180: 64 | BM180: -297912678
C181: 47 | D181: M | E181: 141110006500.S | F181: Rúra oceľová bezšvová hladká kruhová d 57 mm, hr. steny 2,9 mm, ozn. 11 353.0. | G181: m | H181: 13.3 | J181: =ROUND(I181*H181,2) -> 0 | N181: znížená | P181: =O181*H181 -> 0 | Q181: 0.00387 | R181: =Q181*H181 -> 0.051471 | S181: 0 | T181: =S181*H181 -> 0 | AR181: 128 | AT181: M | AU181: 2 | AY181: ROZPOCET | BE181: =IF(N181="základná",J181,0) -> 0 | BF181: =IF(N181="znížená",J181,0) -> 0 | BG181: =IF(N181="zákl. prenesená",J181,0) -> 0 | BH181: =IF(N181="zníž. prenesená",J181,0) -> 0 | BI181: =IF(N181="nulová",J181,0) -> 0 | BJ181: 2 | BK181: =ROUND(I181*H181,2) -> 0 | BL181: 128 | BM181: 1048786964
C182: 48 | D182: K | E182: 230011069.S | F182: Montáž potrubia z oceľových rúr trieda 11 - 13, Dxt 108x5 mm | G182: m | H182: 8.9 | J182: =ROUND(I182*H182,2) -> 0 | N182: znížená | P182: =O182*H182 -> 0 | Q182: 6.573e-05 | R182: =Q182*H182 -> 0.000584997 | S182: 0 | T182: =S182*H182 -> 0 | AR182: 64 | AT182: K | AU182: 2 | AY182: ROZPOCET | BE182: =IF(N182="základná",J182,0) -> 0 | BF182: =IF(N182="znížená",J182,0) -> 0 | BG182: =IF(N182="zákl. prenesená",J182,0) -> 0 | BH182: =IF(N182="zníž. prenesená",J182,0) -> 0 | BI182: =IF(N182="nulová",J182,0) -> 0 | BJ182: 2 | BK182: =ROUND(I182*H182,2) -> 0 | BL182: 64 | BM182: 1716584229
C183: 49 | D183: M | E183: 141110010400.S | F183: Rúra oceľová bezšvová hladká kruhová d 108 mm, hr. steny 5,0 mm, ozn. 11 353.0. | G183: m | H183: 8.9 | J183: =ROUND(I183*H183,2) -> 0 | N183: znížená | P183: =O183*H183 -> 0 | Q183: 0.0127 | R183: =Q183*H183 -> 0.11303 | S183: 0 | T183: =S183*H183 -> 0 | AR183: 128 | AT183: M | AU183: 2 | AY183: ROZPOCET | BE183: =IF(N183="základná",J183,0) -> 0 | BF183: =IF(N183="znížená",J183,0) -> 0 | BG183: =IF(N183="zákl. prenesená",J183,0) -> 0 | BH183: =IF(N183="zníž. prenesená",J183,0) -> 0 | BI183: =IF(N183="nulová",J183,0) -> 0 | BJ183: 2 | BK183: =ROUND(I183*H183,2) -> 0 | BL183: 128 | BM183: -1517120115
C184: 50 | D184: K | E184: 230011090.S | F184: Montáž potrubia z oceľových rúr trieda 11 - 13, Dxt 159x7 mm | G184: m | H184: 1.55 | J184: =ROUND(I184*H184,2) -> 0 | N184: znížená | P184: =O184*H184 -> 0 | Q184: 0.00011544 | R184: =Q184*H184 -> 0.000178932 | S184: 0 | T184: =S184*H184 -> 0 | AR184: 64 | AT184: K | AU184: 2 | AY184: ROZPOCET | BE184: =IF(N184="základná",J184,0) -> 0 | BF184: =IF(N184="znížená",J184,0) -> 0 | BG184: =IF(N184="zákl. prenesená",J184,0) -> 0 | BH184: =IF(N184="zníž. prenesená",J184,0) -> 0 | BI184: =IF(N184="nulová",J184,0) -> 0 | BJ184: 2 | BK184: =ROUND(I184*H184,2) -> 0 | BL184: 64 | BM184: 1000356530
C185: 51 | D185: M | E185: 142110002100.S | F185: Rúra oceľová bezšvová hladká kruhová d 159 mm, hr. steny 7,0 mm, ozn.11 353.0 | G185: m | H185: 1.55 | J185: =ROUND(I185*H185,2) -> 0 | N185: znížená | P185: =O185*H185 -> 0 | Q185: 0.02624 | R185: =Q185*H185 -> 0.040672 | S185: 0 | T185: =S185*H185 -> 0 | AR185: 128 | AT185: M | AU185: 2 | AY185: ROZPOCET | BE185: =IF(N185="základná",J185,0) -> 0 | BF185: =IF(N185="znížená",J185,0) -> 0 | BG185: =IF(N185="zákl. prenesená",J185,0) -> 0 | BH185: =IF(N185="zníž. prenesená",J185,0) -> 0 | BI185: =IF(N185="nulová",J185,0) -> 0 | BJ185: 2 | BK185: =ROUND(I185*H185,2) -> 0 | BL185: 128 | BM185: -1425643265
C186: 52 | D186: K | E186: 230011154.S | F186: Montáž potrubia z oceľových rúr trieda 11 - 13, Dxt 426x8 mm | G186: m | H186: 5 | J186: =ROUND(I186*H186,2) -> 0 | N186: znížená | P186: =O186*H186 -> 0 | Q186: 0.00038048 | R186: =Q186*H186 -> 0.0019024 | S186: 0 | T186: =S186*H186 -> 0 | AR186: 64 | AT186: K | AU186: 2 | AY186: ROZPOCET | BE186: =IF(N186="základná",J186,0) -> 0 | BF186: =IF(N186="znížená",J186,0) -> 0 | BG186: =IF(N186="zákl. prenesená",J186,0) -> 0 | BH186: =IF(N186="zníž. prenesená",J186,0) -> 0 | BI186: =IF(N186="nulová",J186,0) -> 0 | BJ186: 2 | BK186: =ROUND(I186*H186,2) -> 0 | BL186: 64 | BM186: -1383365714
C187: 53 | D187: M | E187: 143110000200.S | F187: Rúra oceľová pozdĺžne alebo špirálovite zváraná d 426 mm, hr. steny 8 mm, ozn. 11 343.0 (EN S195T) | G187: m | H187: 5 | J187: =ROUND(I187*H187,2) -> 0 | N187: znížená | P187: =O187*H187 -> 0 | Q187: 0.084 | R187: =Q187*H187 -> 0.42 | S187: 0 | T187: =S187*H187 -> 0 | AR187: 128 | AT187: M | AU187: 2 | AY187: ROZPOCET | BE187: =IF(N187="základná",J187,0) -> 0 | BF187: =IF(N187="znížená",J187,0) -> 0 | BG187: =IF(N187="zákl. prenesená",J187,0) -> 0 | BH187: =IF(N187="zníž. prenesená",J187,0) -> 0 | BI187: =IF(N187="nulová",J187,0) -> 0 | BJ187: 2 | BK187: =ROUND(I187*H187,2) -> 0 | BL187: 128 | BM187: 2008319105
...

Sheet 15 - Elektroinštalácia a ...
L2: >> skryté stĺpce << | AT2: {dae72c6d-b3c5-43d8-8801-ac98de89f945}
AT3: 0
D4: KRYCÍ LIST ROZPOČTU | M4: v --- nižšie sa nachádzajú doplnkové a pomocné údaje k zostavám --- v | AT4: False
D6: Stavba:
E7: ='Rekapitulácia stavby'!K6 -> Rokycany - Infraštruktúra, 100 Zásobovanie vodou
D8: Objekt:
E9: 1 - SO 111 Vodojem
D10: Časť:
E11: 15 - Elektroinštalácia a bleskozvod
D13: JKSO: | I13: ČS:
D14: Miesto: | F14: Rokycany | I14: Dátum: | J14: ='Rekapitulácia stavby'!AN8 -> Vyplň údaj
D16: Objednávateľ: | I16: IČO: | J16: =IF('Rekapitulácia stavby'!AN10="","",'Rekapitulácia stavby'!AN10)
E17: =IF('Rekapitulácia stavby'!E11="","",'Rekapitulácia stavby'!E11) | I17: IČ DPH: | J17: =IF('Rekapitulácia stavby'!AN11="","",'Rekapitulácia stavby'!AN11)
D19: Zhotoviteľ: | I19: IČO: | J19: ='Rekapitulácia stavby'!AN13 -> Vyplň údaj
E20: ='Rekapitulácia stavby'!E14 -> Vyplň údaj | I20: IČ DPH: | J20: ='Rekapitulácia stavby'!AN14 -> Vyplň údaj
D22: Projektant: | I22: IČO: | J22: =IF('Rekapitulácia stavby'!AN16="","",'Rekapitulácia stavby'!AN16)
E23: =IF('Rekapitulácia stavby'!E17="","",'Rekapitulácia stavby'!E17) | I23: IČ DPH: | J23: =IF('Rekapitulácia stavby'!AN17="","",'Rekapitulácia stavby'!AN17)
D25: Spracovateľ: | I25: IČO: | J25: =IF('Rekapitulácia stavby'!AN19="","",'Rekapitulácia stavby'!AN19)
E26: =IF('Rekapitulácia stavby'!E20="","",'Rekapitulácia stavby'!E20) | I26: IČ DPH: | J26: =IF('Rekapitulácia stavby'!AN20="","",'Rekapitulácia stavby'!AN20)
D28: Poznámka:
D32: Cena bez DPH | J32: =ROUND(J126, 2) -> 0
F34: Základ dane | I34: Sadzba dane | J34: Výška dane
D35: DPH | E35: základná | F35: =ROUND((SUM(BE126:BE214)), 2) -> 0 | I35: 0.23 | J35: =ROUND(((SUM(BE126:BE214))*I35), 2) -> 0
E36: znížená | F36: =ROUND((SUM(BF126:BF214)), 2) -> 0 | I36: 0.23 | J36: =ROUND(((SUM(BF126:BF214))*I36), 2) -> 0
E37: zákl. prenesená | F37: =ROUND((SUM(BG126:BG214)), 2) -> 0 | I37: 0.23 | J37: =0 -> 0
E38: zníž. prenesená | F38: =ROUND((SUM(BH126:BH214)), 2) -> 0 | I38: 0.23 | J38: =0 -> 0
E39: nulová | F39: =ROUND((SUM(BI126:BI214)), 2) -> 0 | I39: 0 | J39: =0 -> 0
D41: Cena s DPH | G41: v | H41: EUR | J41: =SUM(J32:J39) -> 0
D50: Projektant | G50: Spracovateľ
D61: Dátum a podpis: | F61: Pečiatka | G61: Dátum a podpis: | J61: Pečiatka
D65: Objednávateľ | G65: Zhotoviteľ
D76: Dátum a podpis: | F76: Pečiatka | G76: Dátum a podpis: | J76: Pečiatka
C82: REKAPITULÁCIA ROZPOČTU
C84: Stavba:
E85: =E7 -> Rokycany - Infraštruktúra, 100 Zásobovanie vodou
C86: Objekt:
E87: 1 - SO 111 Vodojem
C88: Časť:
E89: =E11 -> 15 - Elektroinštalácia a bleskozvod
C91: Miesto: | F91: =F14 -> Rokycany | I91: Dátum: | J91: =IF(J14="","",J14) -> Vyplň údaj
C93: Objednávateľ: | F93: =E17 | I93: Projektant: | J93: =E23
C94: Zhotoviteľ: | F94: =IF(E20="","",E20) -> Vyplň údaj | I94: Spracovateľ: | J94: =E26
C96: Kód dielu - Popis | J96: Cena celkom [EUR]
C98: Náklady z rozpočtu | J98: =J126 -> 0 | AU98: -1
D99: HSV - Práce a dodávky HSV | J99: =J127 -> 0
D100: 9 - Ostatné konštrukcie a práce-búranie | J100: =J128 -> 0
D101: M - Práce a dodávky M | J101: =J130 -> 0
D102: 21-M - Elektromontáže | J102: =J131 -> 0
D103: 46-M - Zemné práce vykonávané pri externých montážnych prácach | J103: =J205 -> 0
D104: HZS - Hodinové zúčtovacie sadzby | J104: =J213 -> 0
C111: ROZPOČET
C113: Stavba:
E114: =E7 -> Rokycany - Infraštruktúra, 100 Zásobovanie vodou
C115: Objekt:
E116: 1 - SO 111 Vodojem
C117: Časť:
E118: =E11 -> 15 - Elektroinštalácia a bleskozvod
C120: Miesto: | F120: =F14 -> Rokycany | I120: Dátum: | J120: =IF(J14="","",J14) -> Vyplň údaj
C122: Objednávateľ: | F122: =E17 | I122: Projektant: | J122: =E23
C123: Zhotoviteľ: | F123: =IF(E20="","",E20) -> Vyplň údaj | I123: Spracovateľ: | J123: =E26
C125: PČ | D125: Typ | E125: Kód | F125: Popis | G125: MJ | H125: Množstvo | I125: J.cena [EUR] | J125: Cena celkom [EUR] | K125: Cenová sústava | N125: DPH | O125: J. Nh [h] | P125: Nh celkom [h] | Q125: J. hmotnosť [t] | R125: Hmotnosť celkom [t] | S125: J. suť [t] | T125: Suť Celkom [t]
C126: Náklady z rozpočtu | J126: =BK126 -> 0 | P126: =P127+P130+P213 -> 0 | R126: =R127+R130+R213 -> 0.09279008 | T126: =T127+T130+T213 -> 2e-05 | AT126: D | AU126: -1 | BK126: =BK127+BK130+BK213 -> 0
D127: D | E127: HSV | F127: Práce a dodávky HSV | J127: =BK127 -> 0 | P127: =P128 -> 0 | R127: =R128 -> 8e-08 | T127: =T128 -> 2e-05 | AR127: 1 | AT127: D | AU127: 0 | AY127: ROZPOCET | BK127: =BK128 -> 0
D128: D | E128: 9 | F128: Ostatné konštrukcie a práce-búranie | J128: =BK128 -> 0 | P128: =P129 -> 0 | R128: =R129 -> 8e-08 | T128: =T129 -> 2e-05 | AR128: 1 | AT128: D | AU128: 1 | AY128: ROZPOCET | BK128: =BK129 -> 0
C129: 1 | D129: K | E129: 971035801.S | F129: Vrty príklepovým vrtákom do D 6 mm do stien alebo smerom dole do tehál -0.00001t | G129: cm | H129: 2 | J129: =ROUND(I129*H129,2) -> 0 | N129: znížená | P129: =O129*H129 -> 0 | Q129: 4e-08 | R129: =Q129*H129 -> 8e-08 | S129: 1e-05 | T129: =S129*H129 -> 2e-05 | AR129: 4 | AT129: K | AU129: 2 | AY129: ROZPOCET | BE129: =IF(N129="základná",J129,0) -> 0 | BF129: =IF(N129="znížená",J129,0) -> 0 | BG129: =IF(N129="zákl. prenesená",J129,0) -> 0 | BH129: =IF(N129="zníž. prenesená",J129,0) -> 0 | BI129: =IF(N129="nulová",J129,0) -> 0 | BJ129: 2 | BK129: =ROUND(I129*H129,2) -> 0 | BL129: 4 | BM129: -1131679704
D130: D | E130: M | F130: Práce a dodávky M | J130: =BK130 -> 0 | P130: =P131+P205 -> 0 | R130: =R131+R205 -> 0.09279 | T130: =T131+T205 -> 0 | AR130: 3 | AT130: D | AU130: 0 | AY130: ROZPOCET | BK130: =BK131+BK205 -> 0
D131: D | E131: 21-M | F131: Elektromontáže | J131: =BK131 -> 0 | P131: =SUM(P132:P204) -> 0 | R131: =SUM(R132:R204) -> 0.09069 | T131: =SUM(T132:T204) -> 0 | AR131: 3 | AT131: D | AU131: 1 | AY131: ROZPOCET | BK131: =SUM(BK132:BK204) -> 0
C132: 2 | D132: K | E132: 210010080.S | F132: Rúrka ohybná elektroinštalačná z HDPE, D 40 uložená voľne | G132: m | H132: 10 | J132: =ROUND(I132*H132,2) -> 0 | N132: znížená | P132: =O132*H132 -> 0 | Q132: 0 | R132: =Q132*H132 -> 0 | S132: 0 | T132: =S132*H132 -> 0 | AR132: 64 | AT132: K | AU132: 2 | AY132: ROZPOCET | BE132: =IF(N132="základná",J132,0) -> 0 | BF132: =IF(N132="znížená",J132,0) -> 0 | BG132: =IF(N132="zákl. prenesená",J132,0) -> 0 | BH132: =IF(N132="zníž. prenesená",J132,0) -> 0 | BI132: =IF(N132="nulová",J132,0) -> 0 | BJ132: 2 | BK132: =ROUND(I132*H132,2) -> 0 | BL132: 64 | BM132: 141415979
C133: 3 | D133: M | E133: 345710005500.S | F133: Rúrka ohybná 09040 dvojplášťová korugovaná z HDPE, bezhalogénová, D 40 mm | G133: m | H133: 10 | J133: =ROUND(I133*H133,2) -> 0 | N133: znížená | P133: =O133*H133 -> 0 | Q133: 0.00011 | R133: =Q133*H133 -> 0.0011 | S133: 0 | T133: =S133*H133 -> 0 | AR133: 128 | AT133: M | AU133: 2 | AY133: ROZPOCET | BE133: =IF(N133="základná",J133,0) -> 0 | BF133: =IF(N133="znížená",J133,0) -> 0 | BG133: =IF(N133="zákl. prenesená",J133,0) -> 0 | BH133: =IF(N133="zníž. prenesená",J133,0) -> 0 | BI133: =IF(N133="nulová",J133,0) -> 0 | BJ133: 2 | BK133: =ROUND(I133*H133,2) -> 0 | BL133: 128 | BM133: 1042348465
C134: 4 | D134: K | E134: 210010351.S | F134: Krabicová rozvodka z lisovaného izolantu vrátane ukončenia káblov a zapojenia vodičov typ 6455-11 do 4 m | G134: ks | H134: 5 | J134: =ROUND(I134*H134,2) -> 0 | N134: znížená | P134: =O134*H134 -> 0 | Q134: 0 | R134: =Q134*H134 -> 0 | S134: 0 | T134: =S134*H134 -> 0 | AR134: 64 | AT134: K | AU134: 2 | AY134: ROZPOCET | BE134: =IF(N134="základná",J134,0) -> 0 | BF134: =IF(N134="znížená",J134,0) -> 0 | BG134: =IF(N134="zákl. prenesená",J134,0) -> 0 | BH134: =IF(N134="zníž. prenesená",J134,0) -> 0 | BI134: =IF(N134="nulová",J134,0) -> 0 | BJ134: 2 | BK134: =ROUND(I134*H134,2) -> 0 | BL134: 64 | BM134: -432233393
C135: 5 | D135: M | E135: 345410013000.S | F135: Krabica rozvodná PVC na stenu 6455-11, IP 66 | G135: ks | H135: 5 | J135: =ROUND(I135*H135,2) -> 0 | N135: znížená | P135: =O135*H135 -> 0 | Q135: 0.00016 | R135: =Q135*H135 -> 0.0008 | S135: 0 | T135: =S135*H135 -> 0 | AR135: 128 | AT135: M | AU135: 2 | AY135: ROZPOCET | BE135: =IF(N135="základná",J135,0) -> 0 | BF135: =IF(N135="znížená",J135,0) -> 0 | BG135: =IF(N135="zákl. prenesená",J135,0) -> 0 | BH135: =IF(N135="zníž. prenesená",J135,0) -> 0 | BI135: =IF(N135="nulová",J135,0) -> 0 | BJ135: 2 | BK135: =ROUND(I135*H135,2) -> 0 | BL135: 128 | BM135: -461085309
C136: 6 | D136: K | E136: 210010581.S | F136: Rúrka tuhá elektroinštalačná z PVC, D 16 uložená pevne | G136: m | H136: 34 | J136: =ROUND(I136*H136,2) -> 0 | N136: znížená | P136: =O136*H136 -> 0 | Q136: 0 | R136: =Q136*H136 -> 0 | S136: 0 | T136: =S136*H136 -> 0 | AR136: 64 | AT136: K | AU136: 2 | AY136: ROZPOCET | BE136: =IF(N136="základná",J136,0) -> 0 | BF136: =IF(N136="znížená",J136,0) -> 0 | BG136: =IF(N136="zákl. prenesená",J136,0) -> 0 | BH136: =IF(N136="zníž. prenesená",J136,0) -> 0 | BI136: =IF(N136="nulová",J136,0) -> 0 | BJ136: 2 | BK136: =ROUND(I136*H136,2) -> 0 | BL136: 64 | BM136: 1456318442
C137: 7 | D137: M | E137: 345710000100.S | F137: Rúrka tuhá hrdlová 1516E s nízkou mechanickou odolnosťou z PVC, samozhášavá, D 16 mm | G137: m | H137: 34 | J137: =ROUND(I137*H137,2) -> 0 | N137: znížená | P137: =O137*H137 -> 0 | Q137: 7e-05 | R137: =Q137*H137 -> 0.00238 | S137: 0 | T137: =S137*H137 -> 0 | AR137: 128 | AT137: M | AU137: 2 | AY137: ROZPOCET | BE137: =IF(N137="základná",J137,0) -> 0 | BF137: =IF(N137="znížená",J137,0) -> 0 | BG137: =IF(N137="zákl. prenesená",J137,0) -> 0 | BH137: =IF(N137="zníž. prenesená",J137,0) -> 0 | BI137: =IF(N137="nulová",J137,0) -> 0 | BJ137: 2 | BK137: =ROUND(I137*H137,2) -> 0 | BL137: 128 | BM137: 1468532550
C138: 8 | D138: K | E138: 210100001.S | F138: Ukončenie vodičov v rozvádzač. vrátane zapojenia a vodičovej koncovky do 2,5 mm2 | G138: ks | H138: 6 | J138: =ROUND(I138*H138,2) -> 0 | N138: znížená | P138: =O138*H138 -> 0 | Q138: 0 | R138: =Q138*H138 -> 0 | S138: 0 | T138: =S138*H138 -> 0 | AR138: 64 | AT138: K | AU138: 2 | AY138: ROZPOCET | BE138: =IF(N138="základná",J138,0) -> 0 | BF138: =IF(N138="znížená",J138,0) -> 0 | BG138: =IF(N138="zákl. prenesená",J138,0) -> 0 | BH138: =IF(N138="zníž. prenesená",J138,0) -> 0 | BI138: =IF(N138="nulová",J138,0) -> 0 | BJ138: 2 | BK138: =ROUND(I138*H138,2) -> 0 | BL138: 64 | BM138: 1694362214
C139: 9 | D139: M | E139: 354310017200.S | F139: Káblové oko medené lisovacie CU 0,75x3 KU-L | G139: ks | H139: 6 | J139: =ROUND(I139*H139,2) -> 0 | N139: znížená | P139: =O139*H139 -> 0 | Q139: 3e-05 | R139: =Q139*H139 -> 0.00018 | S139: 0 | T139: =S139*H139 -> 0 | AR139: 128 | AT139: M | AU139: 2 | AY139: ROZPOCET | BE139: =IF(N139="základná",J139,0) -> 0 | BF139: =IF(N139="znížená",J139,0) -> 0 | BG139: =IF(N139="zákl. prenesená",J139,0) -> 0 | BH139: =IF(N139="zníž. prenesená",J139,0) -> 0 | BI139: =IF(N139="nulová",J139,0) -> 0 | BJ139: 2 | BK139: =ROUND(I139*H139,2) -> 0 | BL139: 128 | BM139: 549431845
C140: 10 | D140: K | E140: 210100002.S | F140: Ukončenie vodičov v rozvádzač. vrátane zapojenia a vodičovej koncovky do 6 mm2 | G140: ks | H140: 6 | J140: =ROUND(I140*H140,2) -> 0 | N140: znížená | P140: =O140*H140 -> 0 | Q140: 0 | R140: =Q140*H140 -> 0 | S140: 0 | T140: =S140*H140 -> 0 | AR140: 64 | AT140: K | AU140: 2 | AY140: ROZPOCET | BE140: =IF(N140="základná",J140,0) -> 0 | BF140: =IF(N140="znížená",J140,0) -> 0 | BG140: =IF(N140="zákl. prenesená",J140,0) -> 0 | BH140: =IF(N140="zníž. prenesená",J140,0) -> 0 | BI140: =IF(N140="nulová",J140,0) -> 0 | BJ140: 2 | BK140: =ROUND(I140*H140,2) -> 0 | BL140: 64 | BM140: -1123964437
C141: 11 | D141: M | E141: 354310017900.S | F141: Káblové oko medené lisovacie CU 4x4 KU-L | G141: ks | H141: 6 | J141: =ROUND(I141*H141,2) -> 0 | N141: znížená | P141: =O141*H141 -> 0 | Q141: 3e-05 | R141: =Q141*H141 -> 0.00018 | S141: 0 | T141: =S141*H141 -> 0 | AR141: 128 | AT141: M | AU141: 2 | AY141: ROZPOCET | BE141: =IF(N141="základná",J141,0) -> 0 | BF141: =IF(N141="znížená",J141,0) -> 0 | BG141: =IF(N141="zákl. prenesená",J141,0) -> 0 | BH141: =IF(N141="zníž. prenesená",J141,0) -> 0 | BI141: =IF(N141="nulová",J141,0) -> 0 | BJ141: 2 | BK141: =ROUND(I141*H141,2) -> 0 | BL141: 128 | BM141: 329711848
C142: 12 | D142: K | E142: 210110001.S | F142: Jednopólový spínač - radenie 1, nástenný IP 44, vrátane zapojenia | G142: ks | H142: 5 | J142: =ROUND(I142*H142,2) -> 0 | N142: znížená | P142: =O142*H142 -> 0 | Q142: 0 | R142: =Q142*H142 -> 0 | S142: 0 | T142: =S142*H142 -> 0 | AR142: 64 | AT142: K | AU142: 2 | AY142: ROZPOCET | BE142: =IF(N142="základná",J142,0) -> 0 | BF142: =IF(N142="znížená",J142,0) -> 0 | BG142: =IF(N142="zákl. prenesená",J142,0) -> 0 | BH142: =IF(N142="zníž. prenesená",J142,0) -> 0 | BI142: =IF(N142="nulová",J142,0) -> 0 | BJ142: 2 | BK142: =ROUND(I142*H142,2) -> 0 | BL142: 64 | BM142: -1217179854
C143: 13 | D143: M | E143: 345340003000.S | F143: Spínač jednopólový nástenný IP 44 | G143: ks | H143: 5 | J143: =ROUND(I143*H143,2) -> 0 | N143: znížená | P143: =O143*H143 -> 0 | Q143: 0.0001 | R143: =Q143*H143 -> 0.0005 | S143: 0 | T143: =S143*H143 -> 0 | AR143: 128 | AT143: M | AU143: 2 | AY143: ROZPOCET | BE143: =IF(N143="základná",J143,0) -> 0 | BF143: =IF(N143="znížená",J143,0) -> 0 | BG143: =IF(N143="zákl. prenesená",J143,0) -> 0 | BH143: =IF(N143="zníž. prenesená",J143,0) -> 0 | BI143: =IF(N143="nulová",J143,0) -> 0 | BJ143: 2 | BK143: =ROUND(I143*H143,2) -> 0 | BL143: 128 | BM143: 330534632
... C204: 74 | D204: M | E204: 354410067600.S | F204: Páska samolepiaca Sl-1 čierna M 16 | G204: ks | H204: 1 | J204: =ROUND(I204*H204,2) -> 0 | N204: znížená | P204: =O204*H204 -> 0 | Q204: 0.0002 | R204: =Q204*H204 -> 0.0002 | S204: 0 | T204: =S204*H204 -> 0 | AR204: 128 | AT204: M | AU204: 2 | AY204: ROZPOCET | BE204: =IF(N204="základná",J204,0) -> 0 | BF204: =IF(N204="znížená",J204,0) -> 0 | BG204: =IF(N204="zákl. prenesená",J204,0) -> 0 | BH204: =IF(N204="zníž. prenesená",J204,0) -> 0 | BI204: =IF(N204="nulová",J204,0) -> 0 | BJ204: 2 | BK204: =ROUND(I204*H204,2) -> 0 | BL204: 128 | BM204: -918902065
D205: D | E205: 46-M | F205: Zemné práce vykonávané pri externých montážnych prácach | J205: =BK205 -> 0 | P205: =SUM(P206:P212) -> 0 | R205: =SUM(R206:R212) -> 0.0021 | T205: =SUM(T206:T212) -> 0 | AR205: 3 | AT205: D | AU205: 1 | AY205: ROZPOCET | BK205: =SUM(BK206:BK212) -> 0
C206: 75 | D206: K | E206: 460200154.S | F206: Hĺbenie káblovej ryhy ručne 35 cm širokej a 70 cm hlbokej, v zemine triedy 4 | G206: m | H206: 44 | J206: =ROUND(I206*H206,2) -> 0 | N206: znížená | P206: =O206*H206 -> 0 | Q206: 0 | R206: =Q206*H206 -> 0 | S206: 0 | T206: =S206*H206 -> 0 | AR206: 64 | AT206: K | AU206: 2 | AY206: ROZPOCET | BE206: =IF(N206="základná",J206,0) -> 0 | BF206: =IF(N206="znížená",J206,0) -> 0 | BG206: =IF(N206="zákl. prenesená",J206,0) -> 0 | BH206: =IF(N206="zníž. prenesená",J206,0) -> 0 | BI206: =IF(N206="nulová",J206,0) -> 0 | BJ206: 2 | BK206: =ROUND(I206*H206,2) -> 0 | BL206: 64 | BM206: -1013800417
C207: 76 | D207: K | E207: 460200164.S | F207: Hĺbenie káblovej ryhy ručne 35 cm širokej a 80 cm hlbokej, v zemine triedy 4 | G207: m | H207: 10 | J207: =ROUND(I207*H207,2) -> 0 | N207: znížená | P207: =O207*H207 -> 0 | Q207: 0 | R207: =Q207*H207 -> 0 | S207: 0 | T207: =S207*H207 -> 0 | AR207: 64 | AT207: K | AU207: 2 | AY207: ROZPOCET | BE207: =IF(N207="základná",J207,0) -> 0 | BF207: =IF(N207="znížená",J207,0) -> 0 | BG207: =IF(N207="zákl. prenesená",J207,0) -> 0 | BH207: =IF(N207="zníž. prenesená",J207,0) -> 0 | BI207: =IF(N207="nulová",J207,0) -> 0 | BJ207: 2 | BK207: =ROUND(I207*H207,2) -> 0 | BL207: 64 | BM207: 1567877504
C208: 77 | D208: K | E208: 460490011.S | F208: Rozvinutie a uloženie výstražnej fólie z PE do ryhy, šírka do 22 cm | G208: m | H208: 10 | J208: =ROUND(I208*H208,2) -> 0 | N208: znížená | P208: =O208*H208 -> 0 | Q208: 0 | R208: =Q208*H208 -> 0 | S208: 0 | T208: =S208*H208 -> 0 | AR208: 64 | AT208: K | AU208: 2 | AY208: ROZPOCET | BE208: =IF(N208="základná",J208,0) -> 0 | BF208: =IF(N208="znížená",J208,0) -> 0 | BG208: =IF(N208="zákl. prenesená",J208,0) -> 0 | BH208: =IF(N208="zníž. prenesená",J208,0) -> 0 | BI208: =IF(N208="nulová",J208,0) -> 0 | BJ208: 2 | BK208: =ROUND(I208*H208,2) -> 0 | BL208: 64 | BM208: -944512181
C209: 78 | D209: M | E209: 283230008000.S | F209: Výstražná fólia PE, š. 300, farba červená | G209: m | H209: 10 | J209: =ROUND(I209*H209,2) -> 0 | N209: znížená | P209: =O209*H209 -> 0 | Q209: 0.00021 | R209: =Q209*H209 -> 0.0021 | S209: 0 | T209: =S209*H209 -> 0 | AR209: 128 | AT209: M | AU209: 2 | AY209: ROZPOCET | BE209: =IF(N209="základná",J209,0) -> 0 | BF209: =IF(N209="znížená",J209,0) -> 0 | BG209: =IF(N209="zákl. prenesená",J209,0) -> 0 | BH209: =IF(N209="zníž. prenesená",J209,0) -> 0 | BI209: =IF(N209="nulová",J209,0) -> 0 | BJ209: 2 | BK209: =ROUND(I209*H209,2) -> 0 | BL209: 128 | BM209: -677571876
C210: 79 | D210: K | E210: 460560154.S | F210: Ručný zásyp nezap. káblovej ryhy bez zhutn. zeminy, 35 cm širokej, 70 cm hlbokej v zemine tr. 4 | G210: m | H210: 22 | J210: =ROUND(I210*H210,2) -> 0 | N210: znížená | P210: =O210*H210 -> 0 | Q210: 0 | R210: =Q210*H210 -> 0 | S210: 0 | T210: =S210*H210 -> 0 | AR210: 64 | AT210: K | AU210: 2 | AY210: ROZPOCET | BE210: =IF(N210="základná",J210,0) -> 0 | BF210: =IF(N210="znížená",J210,0) -> 0 | BG210: =IF(N210="zákl. prenesená",J210,0) -> 0 | BH210: =IF(N210="zníž. prenesená",J210,0) -> 0 | BI210: =IF(N210="nulová",J210,0) -> 0 | BJ210: 2 | BK210: =ROUND(I210*H210,2) -> 0 | BL210: 64 | BM210: 1301340365
C211: 80 | D211: K | E211: 460560164.S | F211: Ručný zásyp nezap. káblovej ryhy bez zhutn. zeminy, 35 cm širokej, 80 cm hlbokej v zemine tr. 4 | G211: m | H211: 10 | J211: =ROUND(I211*H211,2) -> 0 | N211: znížená | P211: =O211*H211 -> 0 | Q211: 0 | R211: =Q211*H211 -> 0 | S211: 0 | T211: =S211*H211 -> 0 | AR211: 64 | AT211: K | AU211: 2 | AY211: ROZPOCET | BE211: =IF(N211="základná",J211,0) -> 0 | BF211: =IF(N211="znížená",J211,0) -> 0 | BG211: =IF(N211="zákl. prenesená",J211,0) -> 0 | BH211: =IF(N211="zníž. prenesená",J211,0) -> 0 | BI211: =IF(N211="nulová",J211,0) -> 0 | BJ211: 2 | BK211: =ROUND(I211*H211,2) -> 0 | BL211: 64 | BM211: -681967422
C212: 81 | D212: K | E212: 460620014.S | F212: Proviz. úprava terénu v zemine tr. 4, aby nerovnosti terénu neboli väčšie ako 2 cm od vodor.hladiny | G212: m2 | H212: 10 | J212: =ROUND(I212*H212,2) -> 0 | N212: znížená | P212: =O212*H212 -> 0 | Q212: 0 | R212: =Q212*H212 -> 0 | S212: 0 | T212: =S212*H212 -> 0 | AR212: 64 | AT212: K | AU212: 2 | AY212: ROZPOCET | BE212: =IF(N212="základná",J212,0) -> 0 | BF212: =IF(N212="znížená",J212,0) -> 0 | BG212: =IF(N212="zákl. prenesená",J212,0) -> 0 | BH212: =IF(N212="zníž. prenesená",J212,0) -> 0 | BI212: =IF(N212="nulová",J212,0) -> 0 | BJ212: 2 | BK212: =ROUND(I212*H212,2) -> 0 | BL212: 64 | BM212: 525413897
D213: D | E213: HZS | F213: Hodinové zúčtovacie sadzby | J213: =BK213 -> 0 | P213: =P214 -> 0 | R213: =R214 -> 0 | T213: =T214 -> 0 | AR213: 4 | AT213: D | AU213: 0 | AY213: ROZPOCET | BK213: =BK214 -> 0
C214: 82 | D214: K | E214: HZS000114.S | F214: Stavebno montážne práce najnáročnejšie na odbornosť - prehliadky pracoviska a revízie (Tr. 4) v rozsahu viac ako 8 hodín | G214: hod | H214: 10 | J214: =ROUND(I214*H214,2) -> 0 | N214: znížená | P214: =O214*H214 -> 0 | Q214: 0 | R214: =Q214*H214 -> 0 | S214: 0 | T214: =S214*H214 -> 0 | AR214: 512 | AT214: K | AU214: 1 | AY214: ROZPOCET | BE214: =IF(N214="základná",J214,0) -> 0 | BF214: =IF(N214="znížená",J214,0) -> 0 | BG214: =IF(N214="zákl. prenesená",J214,0) -> 0 | BH214: =IF(N214="zníž. prenesená",J214,0) -> 0 | BI214: =IF(N214="nulová",J214,0) -> 0 | BJ214: 2 | BK214: =ROUND(I214*H214,2) -> 0 | BL214: 512 | BM214: 1283340665

Sheet 16 - Hygienické zabezpeče...
L2: >> skryté stĺpce << | AT2: {a0824c83-9adb-4926-869f-1008eaa3e40c}
AT3: 0
D4: KRYCÍ LIST ROZPOČTU | M4: v --- nižšie sa nachádzajú doplnkové a pomocné údaje k zostavám --- v | AT4: False
D6: Stavba:
E7: ='Rekapitulácia stavby'!K6 -> Rokycany - Infraštruktúra, 100 Zásobovanie vodou
D8: Objekt:
E9: 1 - SO 111 Vodojem
D10: Časť:
E11: 16 - Hygienické zabezpečenie vody
D13: JKSO: | I13: ČS:
D14: Miesto: | F14: Rokycany | I14: Dátum: | J14: ='Rekapitulácia stavby'!AN8 -> Vyplň údaj
D16: Objednávateľ: | I16: IČO: | J16: =IF('Rekapitulácia stavby'!AN10="","",'Rekapitulácia stavby'!AN10)
E17: =IF('Rekapitulácia stavby'!E11="","",'Rekapitulácia stavby'!E11) | I17: IČ DPH: | J17: =IF('Rekapitulácia stavby'!AN11="","",'Rekapitulácia stavby'!AN11)
D19: Zhotoviteľ: | I19: IČO: | J19: ='Rekapitulácia stavby'!AN13 -> Vyplň údaj
E20: ='Rekapitulácia stavby'!E14 -> Vyplň údaj | I20: IČ DPH: | J20: ='Rekapitulácia stavby'!AN14 -> Vyplň údaj
D22: Projektant: | I22: IČO: | J22: =IF('Rekapitulácia stavby'!AN16="","",'Rekapitulácia stavby'!AN16)
E23: =IF('Rekapitulácia stavby'!E17="","",'Rekapitulácia stavby'!E17) | I23: IČ DPH: | J23: =IF('Rekapitulácia stavby'!AN17="","",'Rekapitulácia stavby'!AN17)
D25: Spracovateľ: | I25: IČO: | J25: =IF('Rekapitulácia stavby'!AN19="","",'Rekapitulácia stavby'!AN19)
E26: =IF('Rekapitulácia stavby'!E20="","",'Rekapitulácia stavby'!E20) | I26: IČ DPH: | J26: =IF('Rekapitulácia stavby'!AN20="","",'Rekapitulácia stavby'!AN20)
D28: Poznámka:
D32: Cena bez DPH | J32: =ROUND(J122, 2) -> 0
F34: Základ dane | I34: Sadzba dane | J34: Výška dane
D35: DPH | E35: základná | F35: =ROUND((SUM(BE122:BE127)), 2) -> 0 | I35: 0.23 | J35: =ROUND(((SUM(BE122:BE127))*I35), 2) -> 0
E36: znížená | F36: =ROUND((SUM(BF122:BF127)), 2) -> 0 | I36: 0.23 | J36: =ROUND(((SUM(BF122:BF127))*I36), 2) -> 0
E37: zákl. prenesená | F37: =ROUND((SUM(BG122:BG127)), 2) -> 0 | I37: 0.23 | J37: =0 -> 0
E38: zníž. prenesená | F38: =ROUND((SUM(BH122:BH127)), 2) -> 0 | I38: 0.23 | J38: =0 -> 0
E39: nulová | F39: =ROUND((SUM(BI122:BI127)), 2) -> 0 | I39: 0 | J39: =0 -> 0
D41: Cena s DPH | G41: v | H41: EUR | J41: =SUM(J32:J39) -> 0
D50: Projektant | G50: Spracovateľ
D61: Dátum a podpis: | F61: Pečiatka | G61: Dátum a podpis: | J61: Pečiatka
D65: Objednávateľ | G65: Zhotoviteľ
D76: Dátum a podpis: | F76: Pečiatka | G76: Dátum a podpis: | J76: Pečiatka
C82: REKAPITULÁCIA ROZPOČTU
C84: Stavba:
E85: =E7 -> Rokycany - Infraštruktúra, 100 Zásobovanie vodou
C86: Objekt:
E87: 1 - SO 111 Vodojem
C88: Časť:
E89: =E11 -> 16 - Hygienické zabezpečenie vody
C91: Miesto: | F91: =F14 -> Rokycany | I91: Dátum: | J91: =IF(J14="","",J14) -> Vyplň údaj
C93: Objednávateľ: | F93: =E17 | I93: Projektant: | J93: =E23
C94: Zhotoviteľ: | F94: =IF(E20="","",E20) -> Vyplň údaj | I94: Spracovateľ: | J94: =E26
C96: Kód dielu - Popis | J96: Cena celkom [EUR]
C98: Náklady z rozpočtu | J98: =J122 -> 0 | AU98: -1
D99: PSV - Práce a dodávky PSV | J99: =J123 -> 0
D100: 724 - Zdravotechnika - strojné vybavenie | J100: =J124 -> 0
C107: ROZPOČET
C109: Stavba:
E110: =E7 -> Rokycany - Infraštruktúra, 100 Zásobovanie vodou
C111: Objekt:
E112: 1 - SO 111 Vodojem
C113: Časť:
E114: =E11 -> 16 - Hygienické zabezpečenie vody
C116: Miesto: | F116: =F14 -> Rokycany | I116: Dátum: | J116: =IF(J14="","",J14) -> Vyplň údaj
C118: Objednávateľ: | F118: =E17 | I118: Projektant: | J118: =E23
C119: Zhotoviteľ: | F119: =IF(E20="","",E20) -> Vyplň údaj | I119: Spracovateľ: | J119: =E26
C121: PČ | D121: Typ | E121: Kód | F121: Popis | G121: MJ | H121: Množstvo | I121: J.cena [EUR] | J121: Cena celkom [EUR] | K121: Cenová sústava | N121: DPH | O121: J. Nh [h] | P121: Nh celkom [h] | Q121: J. hmotnosť [t] | R121: Hmotnosť celkom [t] | S121: J. suť [t] | T121: Suť Celkom [t]
C122: Náklady z rozpočtu | J122: =BK122 -> 0 | P122: =P123 -> 0 | R122: =R123 -> 9e-05 | T122: =T123 -> 0 | AT122: D | AU122: -1 | BK122: =BK123 -> 0
D123: D | E123: PSV | F123: Práce a dodávky PSV | J123: =BK123 -> 0 | P123: =P124 -> 0 | R123: =R124 -> 9e-05 | T123: =T124 -> 0 | AR123: 2 | AT123: D | AU123: 0 | AY123: ROZPOCET | BK123: =BK124 -> 0
D124: D | E124: 724 | F124: Zdravotechnika - strojné vybavenie | J124: =BK124 -> 0 | P124: =SUM(P125:P127) -> 0 | R124: =SUM(R125:R127) -> 9e-05 | T124: =SUM(T125:T127) -> 0 | AR124: 2 | AT124: D | AU124: 1 | AY124: ROZPOCET | BK124: =SUM(BK125:BK127) -> 0
C125: 1 | D125: K | E125: pc | F125: Montáž technologického zariadenia VDJ | G125: ks | H125: 1 | J125: =ROUND(I125*H125,2) -> 0 | N125: znížená | P125: =O125*H125 -> 0 | Q125: 3e-05 | R125: =Q125*H125 -> 3e-05 | S125: 0 | T125: =S125*H125 -> 0 | AR125: 16 | AT125: K | AU125: 2 | AY125: ROZPOCET | BE125: =IF(N125="základná",J125,0) -> 0 | BF125: =IF(N125="znížená",J125,0) -> 0 | BG125: =IF(N125="zákl. prenesená",J125,0) -> 0 | BH125: =IF(N125="zníž. prenesená",J125,0) -> 0 | BI125: =IF(N125="nulová",J125,0) -> 0 | BJ125: 2 | BK125: =ROUND(I125*H125,2) -> 0 | BL125: 16 | BM125: -244385536
C126: 2 | D126: K | E126: pc1a | F126: -dávkovacia zostava dezinfekcie | G126: ksl | H126: 1 | J126: =ROUND(I126*H126,2) -> 0 | N126: znížená | P126: =O126*H126 -> 0 | Q126: 3e-05 | R126: =Q126*H126 -> 3e-05 | S126: 0 | T126: =S126*H126 -> 0 | AR126: 16 | AT126: K | AU126: 2 | AY126: ROZPOCET | BE126: =IF(N126="základná",J126,0) -> 0 | BF126: =IF(N126="znížená",J126,0) -> 0 | BG126: =IF(N126="zákl. prenesená",J126,0) -> 0 | BH126: =IF(N126="zníž. prenesená",J126,0) -> 0 | BI126: =IF(N126="nulová",J126,0) -> 0 | BJ126: 2 | BK126: =ROUND(I126*H126,2) -> 0 | BL126: 16 | BM126: -2064813595
C127: 3 | D127: K | E127: pc1b | F127: -zostava kontinuálneho merania a regulácie voľného chlóru | G127: ksl | H127: 1 | J127: =ROUND(I127*H127,2) -> 0 | N127: znížená | P127: =O127*H127 -> 0 | Q127: 3e-05 | R127: =Q127*H127 -> 3e-05 | S127: 0 | T127: =S127*H127 -> 0 | AR127: 16 | AT127: K | AU127: 2 | AY127: ROZPOCET | BE127: =IF(N127="základná",J127,0) -> 0 | BF127: =IF(N127="znížená",J127,0) -> 0 | BG127: =IF(N127="zákl. prenesená",J127,0) -> 0 | BH127: =IF(N127="zníž. prenesená",J127,0) -> 0 | BI127: =IF(N127="nulová",J127,0) -> 0 | BJ127: 2 | BK127: =ROUND(I127*H127,2) -> 0 | BL127: 16 | BM127: 859800833

Sheet 17 - Telemetria
L2: >> skryté stĺpce << | AT2: {9f6b9d66-2a44-4cc8-aa1b-cc50c1f08a4e}
AT3: 0
D4: KRYCÍ LIST ROZPOČTU | M4: v --- nižšie sa nachádzajú doplnkové a pomocné údaje k zostavám --- v | AT4: False
D6: Stavba:
E7: ='Rekapitulácia stavby'!K6 -> Rokycany - Infraštruktúra, 100 Zásobovanie vodou
D8: Objekt:
E9: 1 - SO 111 Vodojem
D10: Časť:
E11: 17 - Telemetria
D13: JKSO: | I13: ČS:
D14: Miesto: | F14: Rokycany | I14: Dátum: | J14: ='Rekapitulácia stavby'!AN8 -> Vyplň údaj
D16: Objednávateľ: | I16: IČO: | J16: =IF('Rekapitulácia stavby'!AN10="","",'Rekapitulácia stavby'!AN10)
E17: =IF('Rekapitulácia stavby'!E11="","",'Rekapitulácia stavby'!E11) | I17: IČ DPH: | J17: =IF('Rekapitulácia stavby'!AN11="","",'Rekapitulácia stavby'!AN11)
D19: Zhotoviteľ: | I19: IČO: | J19: ='Rekapitulácia stavby'!AN13 -> Vyplň údaj
E20: ='Rekapitulácia stavby'!E14 -> Vyplň údaj | I20: IČ DPH: | J20: ='Rekapitulácia stavby'!AN14 -> Vyplň údaj
D22: Projektant: | I22: IČO: | J22: =IF('Rekapitulácia stavby'!AN16="","",'Rekapitulácia stavby'!AN16)
E23: =IF('Rekapitulácia stavby'!E17="","",'Rekapitulácia stavby'!E17) | I23: IČ DPH: | J23: =IF('Rekapitulácia stavby'!AN17="","",'Rekapitulácia stavby'!AN17)
D25: Spracovateľ: | I25: IČO: | J25: =IF('Rekapitulácia stavby'!AN19="","",'Rekapitulácia stavby'!AN19)
E26: =IF('Rekapitulácia stavby'!E20="","",'Rekapitulácia stavby'!E20) | I26: IČ DPH: | J26: =IF('Rekapitulácia stavby'!AN20="","",'Rekapitulácia stavby'!AN20)
D28: Poznámka:
D32: Cena bez DPH | J32: =ROUND(J123, 2) -> 0
F34: Základ dane | I34: Sadzba dane | J34: Výška dane
D35: DPH | E35: základná | F35: =ROUND((SUM(BE123:BE130)), 2) -> 0 | I35: 0.23 | J35: =ROUND(((SUM(BE123:BE130))*I35), 2) -> 0
E36: znížená | F36: =ROUND((SUM(BF123:BF130)), 2) -> 0 | I36: 0.23 | J36: =ROUND(((SUM(BF123:BF130))*I36), 2) -> 0
E37: zákl. prenesená | F37: =ROUND((SUM(BG123:BG130)), 2) -> 0 | I37: 0.23 | J37: =0 -> 0
E38: zníž. prenesená | F38: =ROUND((SUM(BH123:BH130)), 2) -> 0 | I38: 0.23 | J38: =0 -> 0
E39: nulová | F39: =ROUND((SUM(BI123:BI130)), 2) -> 0 | I39: 0 | J39: =0 -> 0
D41: Cena s DPH | G41: v | H41: EUR | J41: =SUM(J32:J39) -> 0
D50: Projektant | G50: Spracovateľ
D61: Dátum a podpis: | F61: Pečiatka | G61: Dátum a podpis: | J61: Pečiatka
D65: Objednávateľ | G65: Zhotoviteľ
D76: Dátum a podpis: | F76: Pečiatka | G76: Dátum a podpis: | J76: Pečiatka
C82: REKAPITULÁCIA ROZPOČTU
C84: Stavba:
E85: =E7 -> Rokycany - Infraštruktúra, 100 Zásobovanie vodou
C86: Objekt:
E87: 1 - SO 111 Vodojem
C88: Časť:
E89: =E11 -> 17 - Telemetria
C91: Miesto: | F91: =F14 -> Rokycany | I91: Dátum: | J91: =IF(J14="","",J14) -> Vyplň údaj
C93: Objednávateľ: | F93: =E17 | I93: Projektant: | J93: =E23
C94: Zhotoviteľ: | F94: =IF(E20="","",E20) -> Vyplň údaj | I94: Spracovateľ: | J94: =E26
C96: Kód dielu - Popis | J96: Cena celkom [EUR]
C98: Náklady z rozpočtu | J98: =J123 -> 0 | AU98: -1
D99: M - Práce a dodávky M | J99: =J124 -> 0
D100: 22-M - Montáže oznamovacích a zabezpečovacích zariadení | J100: =J125 -> 0
D101: 36-M - Montáž prevádzkových, meracích a regulačných zariadení | J101: =J127 -> 0
C108: ROZPOČET
C110: Stavba:
E111: =E7 -> Rokycany - Infraštruktúra, 100 Zásobovanie vodou
C112: Objekt:
E113: 1 - SO 111 Vodojem
C114: Časť:
E115: =E11 -> 17 - Telemetria
C117: Miesto: | F117: =F14 -> Rokycany | I117: Dátum: | J117: =IF(J14="","",J14) -> Vyplň údaj
C119: Objednávateľ: | F119: =E17 | I119: Projektant: | J119: =E23
C120: Zhotoviteľ: | F120: =IF(E20="","",E20) -> Vyplň údaj | I120: Spracovateľ: | J120: =E26
C122: PČ | D122: Typ | E122: Kód | F122: Popis | G122: MJ | H122: Množstvo | I122: J.cena [EUR] | J122: Cena celkom [EUR] | K122: Cenová sústava | N122: DPH | O122: J. Nh [h] | P122: Nh celkom [h] | Q122: J. hmotnosť [t] | R122: Hmotnosť celkom [t] | S122: J. suť [t] | T122: Suť Celkom [t]
C123: Náklady z rozpočtu | J123: =BK123 -> 0 | P123: =P124 -> 0 | R123: =R124 -> 0.00402 | T123: =T124 -> 0 | AT123: D | AU123: -1 | BK123: =BK124 -> 0
D124: D | E124: M | F124: Práce a dodávky M | J124: =BK124 -> 0 | P124: =P125+P127 -> 0 | R124: =R125+R127 -> 0.00402 | T124: =T125+T127 -> 0 | AR124: 3 | AT124: D | AU124: 0 | AY124: ROZPOCET | BK124: =BK125+BK127 -> 0
D125: D | E125: 22-M | F125: Montáže oznamovacích a zabezpečovacích zariadení | J125: =BK125 -> 0 | P125: =P126 -> 0 | R125: =R126 -> 0 | T125: =T126 -> 0 | AR125: 3 | AT125: D | AU125: 1 | AY125: ROZPOCET | BK125: =BK126 -> 0
C126: 1 | D126: K | E126: pcRS | F126: Telemetrická stanica ASR | G126: ks | H126: 1 | J126: =ROUND(I126*H126,2) -> 0 | N126: znížená | P126: =O126*H126 -> 0 | Q126: 0 | R126: =Q126*H126 -> 0 | S126: 0 | T126: =S126*H126 -> 0 | AR126: 1 | AT126: K | AU126: 2 | AY126: ROZPOCET | BE126: =IF(N126="základná",J126,0) -> 0 | BF126: =IF(N126="znížená",J126,0) -> 0 | BG126: =IF(N126="zákl. prenesená",J126,0) -> 0 | BH126: =IF(N126="zníž. prenesená",J126,0) -> 0 | BI126: =IF(N126="nulová",J126,0) -> 0 | BJ126: 2 | BK126: =ROUND(I126*H126,2) -> 0 | BL126: 1 | BM126: 1747796131
D127: D | E127: 36-M | F127: Montáž prevádzkových, meracích a regulačných zariadení | J127: =BK127 -> 0 | P127: =SUM(P128:P130) -> 0 | R127: =SUM(R128:R130) -> 0.00402 | T127: =SUM(T128:T130) -> 0 | AR127: 3 | AT127: D | AU127: 1 | AY127: ROZPOCET | BK127: =SUM(BK128:BK130) -> 0
C128: 2 | D128: K | E128: 357p | F128: Nástenný tg rozvádzač | G128: ks | H128: 1 | J128: =ROUND(I128*H128,2) -> 0 | N128: znížená | P128: =O128*H128 -> 0 | Q128: 0 | R128: =Q128*H128 -> 0 | S128: 0 | T128: =S128*H128 -> 0 | AR128: 64 | AT128: K | AU128: 2 | AY128: ROZPOCET | BE128: =IF(N128="základná",J128,0) -> 0 | BF128: =IF(N128="znížená",J128,0) -> 0 | BG128: =IF(N128="zákl. prenesená",J128,0) -> 0 | BH128: =IF(N128="zníž. prenesená",J128,0) -> 0 | BI128: =IF(N128="nulová",J128,0) -> 0 | BJ128: 2 | BK128: =ROUND(I128*H128,2) -> 0 | BL128: 64 | BM128: -625258861
C129: 3 | D129: K | E129: 361410231.Sp | F129: Montáž plavákového spínača | G129: ks | H129: 3 | J129: =ROUND(I129*H129,2) -> 0 | N129: znížená | P129: =O129*H129 -> 0 | Q129: 0 | R129: =Q129*H129 -> 0 | S129: 0 | T129: =S129*H129 -> 0 | AR129: 64 | AT129: K | AU129: 2 | AY129: ROZPOCET | BE129: =IF(N129="základná",J129,0) -> 0 | BF129: =IF(N129="znížená",J129,0) -> 0 | BG129: =IF(N129="zákl. prenesená",J129,0) -> 0 | BH129: =IF(N129="zníž. prenesená",J129,0) -> 0 | BI129: =IF(N129="nulová",J129,0) -> 0 | BJ129: 2 | BK129: =ROUND(I129*H129,2) -> 0 | BL129: 64 | BM129: -1812887456
C130: 4 | D130: M | E130: 374pcs | F130: Spínač plavakový s káblom | G130: ks | H130: 3 | J130: =ROUND(I130*H130,2) -> 0 | N130: znížená | P130: =O130*H130 -> 0 | Q130: 0.00134 | R130: =Q130*H130 -> 0.00402 | S130: 0 | T130: =S130*H130 -> 0 | AR130: 128 | AT130: M | AU130: 2 | AY130: ROZPOCET | BE130: =IF(N130="základná",J130,0) -> 0 | BF130: =IF(N130="znížená",J130,0) -> 0 | BG130: =IF(N130="zákl. prenesená",J130,0) -> 0 | BH130: =IF(N130="zníž. prenesená",J130,0) -> 0 | BI130: =IF(N130="nulová",J130,0) -> 0 | BJ130: 2 | BK130: =ROUND(I130*H130,2) -> 0 | BL130: 128 | BM130: -482333933

Sheet 2 - SO 112 Oplotenie vodo...
L2: >> skryté stĺpce << | AT2: {b9408be8-077a-41e1-8843-abe68094a0dc}
AT3: 0
D4: KRYCÍ LIST ROZPOČTU | M4: v --- nižšie sa nachádzajú doplnkové a pomocné údaje k zostavám --- v | AT4: False
D6: Stavba:
E7: ='Rekapitulácia stavby'!K6 -> Rokycany - Infraštruktúra, 100 Zásobovanie vodou
D8: Objekt:
E9: 2 - SO 112 Oplotenie vodojemu
D11: JKSO: | I11: ČS:
D12: Miesto: | F12: Rokycany | I12: Dátum: | J12: ='Rekapitulácia stavby'!AN8 -> Vyplň údaj
D14: Objednávateľ: | I14: IČO: | J14: =IF('Rekapitulácia stavby'!AN10="","",'Rekapitulácia stavby'!AN10)
E15: =IF('Rekapitulácia stavby'!E11="","",'Rekapitulácia stavby'!E11) | I15: IČ DPH: | J15: =IF('Rekapitulácia stavby'!AN11="","",'Rekapitulácia stavby'!AN11)
D17: Zhotoviteľ: | I17: IČO: | J17: ='Rekapitulácia stavby'!AN13 -> Vyplň údaj
E18: ='Rekapitulácia stavby'!E14 -> Vyplň údaj | I18: IČ DPH: | J18: ='Rekapitulácia stavby'!AN14 -> Vyplň údaj
D20: Projektant: | I20: IČO: | J20: =IF('Rekapitulácia stavby'!AN16="","",'Rekapitulácia stavby'!AN16)
E21: =IF('Rekapitulácia stavby'!E17="","",'Rekapitulácia stavby'!E17) | I21: IČ DPH: | J21: =IF('Rekapitulácia stavby'!AN17="","",'Rekapitulácia stavby'!AN17)
D23: Spracovateľ: | I23: IČO: | J23: =IF('Rekapitulácia stavby'!AN19="","",'Rekapitulácia stavby'!AN19)
E24: =IF('Rekapitulácia stavby'!E20="","",'Rekapitulácia stavby'!E20) | I24: IČ DPH: | J24: =IF('Rekapitulácia stavby'!AN20="","",'Rekapitulácia stavby'!AN20)
D26: Poznámka:
D30: Cena bez DPH | J30: =ROUND(J122, 2) -> 0
F32: Základ dane | I32: Sadzba dane | J32: Výška dane
D33: DPH | E33: základná | F33: =ROUND((SUM(BE122:BE148)), 2) -> 0 | I33: 0.23 | J33: =ROUND(((SUM(BE122:BE148))*I33), 2) -> 0
E34: znížená | F34: =ROUND((SUM(BF122:BF148)), 2) -> 0 | I34: 0.23 | J34: =ROUND(((SUM(BF122:BF148))*I34), 2) -> 0
E35: zákl. prenesená | F35: =ROUND((SUM(BG122:BG148)), 2) -> 0 | I35: 0.23 | J35: =0 -> 0
E36: zníž. prenesená | F36: =ROUND((SUM(BH122:BH148)), 2) -> 0 | I36: 0.23 | J36: =0 -> 0
E37: nulová | F37: =ROUND((SUM(BI122:BI148)), 2) -> 0 | I37: 0 | J37: =0 -> 0
D39: Cena s DPH | G39: v | H39: EUR | J39: =SUM(J30:J37) -> 0
D50: Projektant | G50: Spracovateľ
D61: Dátum a podpis: | F61: Pečiatka | G61: Dátum a podpis: | J61: Pečiatka
D65: Objednávateľ | G65: Zhotoviteľ
D76: Dátum a podpis: | F76: Pečiatka | G76: Dátum a podpis: | J76: Pečiatka
C82: REKAPITULÁCIA ROZPOČTU
C84: Stavba:
E85: =E7 -> Rokycany - Infraštruktúra, 100 Zásobovanie vodou
C86: Objekt:
E87: =E9 -> 2 - SO 112 Oplotenie vodojemu
C89: Miesto: | F89: =F12 -> Rokycany | I89: Dátum: | J89: =IF(J12="","",J12) -> Vyplň údaj
C91: Objednávateľ: | F91: =E15 | I91: Projektant: | J91: =E21
C92: Zhotoviteľ: | F92: =IF(E18="","",E18) -> Vyplň údaj | I92: Spracovateľ: | J92: =E24
C94: Kód dielu - Popis | J94: Cena celkom [EUR]
C96: Náklady z rozpočtu | J96: =J122 -> 0 | AU96: -1
D97: HSV - Práce a dodávky HSV | J97: =J123 -> 0
D98: 1 - Zemné práce | J98: =J124 -> 0
D99: 3 - Zvislé a kompletné konštrukcie | J99: =J129 -> 0
D100: 99 - Presun hmôt HSV | J100: =J134 -> 0
D101: PSV - Práce a dodávky PSV | J101: =J136 -> 0
D102: 767 - Konštrukcie doplnkové kovové | J102: =J137 -> 0
C109: ROZPOČET
C111: Stavba:
E112: =E7 -> Rokycany - Infraštruktúra, 100 Zásobovanie vodou
C113: Objekt:
E114: =E9 -> 2 - SO 112 Oplotenie vodojemu
C116: Miesto: | F116: =F12 -> Rokycany | I116: Dátum: | J116: =IF(J12="","",J12) -> Vyplň údaj
C118: Objednávateľ: | F118: =E15 | I118: Projektant: | J118: =E21
C119: Zhotoviteľ: | F119: =IF(E18="","",E18) -> Vyplň údaj | I119: Spracovateľ: | J119: =E24
C121: PČ | D121: Typ | E121: Kód | F121: Popis | G121: MJ | H121: Množstvo | I121: J.cena [EUR] | J121: Cena celkom [EUR] | K121: Cenová sústava | N121: DPH | O121: J. Nh [h] | P121: Nh celkom [h] | Q121: J. hmotnosť [t] | R121: Hmotnosť celkom [t] | S121: J. suť [t] | T121: Suť Celkom [t]
C122: Náklady z rozpočtu | J122: =BK122 -> 0 | P122: =P123+P136 -> 0 | R122: =R123+R136 -> 13.589358 | T122: =T123+T136 -> 0 | AT122: D | AU122: -1 | BK122: =BK123+BK136 -> 0
D123: D | E123: HSV | F123: Práce a dodávky HSV | J123: =BK123 -> 0 | P123: =P124+P129+P134 -> 0 | R123: =R124+R129+R134 -> 13.34418 | T123: =T124+T129+T134 -> 0 | AR123: 1 | AT123: D | AU123: 0 | AY123: ROZPOCET | BK123: =BK124+BK129+BK134 -> 0
D124: D | E124: 1 | F124: Zemné práce | J124: =BK124 -> 0 | P124: =SUM(P125:P128) -> 0 | R124: =SUM(R125:R128) -> 0 | T124: =SUM(T125:T128) -> 0 | AR124: 1 | AT124: D | AU124: 1 | AY124: ROZPOCET | BK124: =SUM(BK125:BK128) -> 0
C125: 1 | D125: K | E125: 131201101.S | F125: Výkop nezapaženej jamy v hornine 3, do 100 m3 | G125: m3 | H125: 11.106 | J125: =ROUND(I125*H125,2) -> 0 | N125: znížená | P125: =O125*H125 -> 0 | Q125: 0 | R125: =Q125*H125 -> 0 | S125: 0 | T125: =S125*H125 -> 0 | AR125: 4 | AT125: K | AU125: 2 | AY125: ROZPOCET | BE125: =IF(N125="základná",J125,0) -> 0 | BF125: =IF(N125="znížená",J125,0) -> 0 | BG125: =IF(N125="zákl. prenesená",J125,0) -> 0 | BH125: =IF(N125="zníž. prenesená",J125,0) -> 0 | BI125: =IF(N125="nulová",J125,0) -> 0 | BJ125: 2 | BK125: =ROUND(I125*H125,2) -> 0 | BL125: 4 | BM125: 593885184
C126: 2 | D126: K | E126: 131201109.S | F126: Hĺbenie nezapažených jám a zárezov. Príplatok za lepivosť horniny 3 | G126: m3 | H126: 11.106 | J126: =ROUND(I126*H126,2) -> 0 | N126: znížená | P126: =O126*H126 -> 0 | Q126: 0 | R126: =Q126*H126 -> 0 | S126: 0 | T126: =S126*H126 -> 0 | AR126: 4 | AT126: K | AU126: 2 | AY126: ROZPOCET | BE126: =IF(N126="základná",J126,0) -> 0 | BF126: =IF(N126="znížená",J126,0) -> 0 | BG126: =IF(N126="zákl. prenesená",J126,0) -> 0 | BH126: =IF(N126="zníž. prenesená",J126,0) -> 0 | BI126: =IF(N126="nulová",J126,0) -> 0 | BJ126: 2 | BK126: =ROUND(I126*H126,2) -> 0 | BL126: 4 | BM126: 541194073
C127: 3 | D127: K | E127: 162201102.S | F127: Vodorovné premiestnenie výkopku z horniny 1-4 nad 20-50m | G127: m3 | H127: 11.106 | J127: =ROUND(I127*H127,2) -> 0 | N127: znížená | P127: =O127*H127 -> 0 | Q127: 0 | R127: =Q127*H127 -> 0 | S127: 0 | T127: =S127*H127 -> 0 | AR127: 4 | AT127: K | AU127: 2 | AY127: ROZPOCET | BE127: =IF(N127="základná",J127,0) -> 0 | BF127: =IF(N127="znížená",J127,0) -> 0 | BG127: =IF(N127="zákl. prenesená",J127,0) -> 0 | BH127: =IF(N127="zníž. prenesená",J127,0) -> 0 | BI127: =IF(N127="nulová",J127,0) -> 0 | BJ127: 2 | BK127: =ROUND(I127*H127,2) -> 0 | BL127: 4 | BM127: -1030685712
C128: 4 | D128: K | E128: 171201101.S | F128: Uloženie sypaniny do násypov s rozprestretím sypaniny vo vrstvách a s hrubým urovnaním nezhutnených | G128: m3 | H128: 11.106 | J128: =ROUND(I128*H128,2) -> 0 | N128: znížená | P128: =O128*H128 -> 0 | Q128: 0 | R128: =Q128*H128 -> 0 | S128: 0 | T128: =S128*H128 -> 0 | AR128: 4 | AT128: K | AU128: 2 | AY128: ROZPOCET | BE128: =IF(N128="základná",J128,0) -> 0 | BF128: =IF(N128="znížená",J128,0) -> 0 | BG128: =IF(N128="zákl. prenesená",J128,0) -> 0 | BH128: =IF(N128="zníž. prenesená",J128,0) -> 0 | BI128: =IF(N128="nulová",J128,0) -> 0 | BJ128: 2 | BK128: =ROUND(I128*H128,2) -> 0 | BL128: 4 | BM128: 522963283
D129: D | E129: 3 | F129: Zvislé a kompletné konštrukcie | J129: =BK129 -> 0 | P129: =SUM(P130:P133) -> 0 | R129: =SUM(R130:R133) -> 13.34418 | T129: =SUM(T130:T133) -> 0 | AR129: 1 | AT129: D | AU129: 1 | AY129: ROZPOCET | BK129: =SUM(BK130:BK133) -> 0
C130: 5 | D130: K | E130: 338121123.S | F130: Osadenie stĺpika železobetónového so zabetónovaním pätky o objeme do 0.15 m3 | G130: ks | H130: 46 | J130: =ROUND(I130*H130,2) -> 0 | N130: znížená | P130: =O130*H130 -> 0 | Q130: 0.22183 | R130: =Q130*H130 -> 10.20418 | S130: 0 | T130: =S130*H130 -> 0 | AR130: 4 | AT130: K | AU130: 2 | AY130: ROZPOCET | BE130: =IF(N130="základná",J130,0) -> 0 | BF130: =IF(N130="znížená",J130,0) -> 0 | BG130: =IF(N130="zákl. prenesená",J130,0) -> 0 | BH130: =IF(N130="zníž. prenesená",J130,0) -> 0 | BI130: =IF(N130="nulová",J130,0) -> 0 | BJ130: 2 | BK130: =ROUND(I130*H130,2) -> 0 | BL130: 4 | BM130: 955531566
C131: 6 | D131: M | E131: 592310001300.S | F131: Stĺpik betónový plotový priebežný hladký, pre plot výšky 2000 mm, šxvxl 120x115x2750 mm, sivý | G131: ks | H131: 26 | J131: =ROUND(I131*H131,2) -> 0 | N131: znížená | P131: =O131*H131 -> 0 | Q131: 0.07 | R131: =Q131*H131 -> 1.82 | S131: 0 | T131: =S131*H131 -> 0 | AR131: 8 | AT131: M | AU131: 2 | AY131: ROZPOCET | BE131: =IF(N131="základná",J131,0) -> 0 | BF131: =IF(N131="znížená",J131,0) -> 0 | BG131: =IF(N131="zákl. prenesená",J131,0) -> 0 | BH131: =IF(N131="zníž. prenesená",J131,0) -> 0 | BI131: =IF(N131="nulová",J131,0) -> 0 | BJ131: 2 | BK131: =ROUND(I131*H131,2) -> 0 | BL131: 4 | BM131: 431239735
C132: 7 | D132: M | E132: 592310001500.S | F132: Stĺpik betónový plotový rohový hladký, pre plot výšky 2000 mm, šxvxl 145x150x2750 mm, sivý | G132: ks | H132: 4 | J132: =ROUND(I132*H132,2) -> 0 | N132: znížená | P132: =O132*H132 -> 0 | Q132: 0.09 | R132: =Q132*H132 -> 0.36 | S132: 0 | T132: =S132*H132 -> 0 | AR132: 8 | AT132: M | AU132: 2 | AY132: ROZPOCET | BE132: =IF(N132="základná",J132,0) -> 0 | BF132: =IF(N132="znížená",J132,0) -> 0 | BG132: =IF(N132="zákl. prenesená",J132,0) -> 0 | BH132: =IF(N132="zníž. prenesená",J132,0) -> 0 | BI132: =IF(N132="nulová",J132,0) -> 0 | BJ132: 2 | BK132: =ROUND(I132*H132,2) -> 0 | BL132: 4 | BM132: -246625355
C133: 8 | D133: M | E133: 592310001100.S | F133: Stĺpik betónový plotový koncový hladký, pre plot výšky 1500 mm, šxvxl 120x115x2200 mm, sivý | G133: ks | H133: 16 | J133: =ROUND(I133*H133,2) -> 0 | N133: znížená | P133: =O133*H133 -> 0 | Q133: 0.06 | R133: =Q133*H133 -> 0.96 | S133: 0 | T133: =S133*H133 -> 0 | AR133: 8 | AT133: M | AU133: 2 | AY133: ROZPOCET | BE133: =IF(N133="základná",J133,0) -> 0 | BF133: =IF(N133="znížená",J133,0) -> 0 | BG133: =IF(N133="zákl. prenesená",J133,0) -> 0 | BH133: =IF(N133="zníž. prenesená",J133,0) -> 0 | BI133: =IF(N133="nulová",J133,0) -> 0 | BJ133: 2 | BK133: =ROUND(I133*H133,2) -> 0 | BL133: 4 | BM133: -1709173197
D134: D | E134: 99 | F134: Presun hmôt HSV | J134: =BK134 -> 0 | P134: =P135 -> 0 | R134: =R135 -> 0 | T134: =T135 -> 0 | AR134: 1 | AT134: D | AU134: 1 | AY134: ROZPOCET | BK134: =BK135 -> 0
C135: 9 | D135: K | E135: 998151111.S | F135: Presun hmôt pre obj.8152, 8153,8159,zvislá nosná konštr.z tehál,tvárnic,blokov výšky do 10 m | G135: t | H135: 13.344 | J135: =ROUND(I135*H135,2) -> 0 | N135: znížená | P135: =O135*H135 -> 0 | Q135: 0 | R135: =Q135*H135 -> 0 | S135: 0 | T135: =S135*H135 -> 0 | AR135: 4 | AT135: K | AU135: 2 | AY135: ROZPOCET | BE135: =IF(N135="základná",J135,0) -> 0 | BF135: =IF(N135="znížená",J135,0) -> 0 | BG135: =IF(N135="zákl. prenesená",J135,0) -> 0 | BH135: =IF(N135="zníž. prenesená",J135,0) -> 0 | BI135: =IF(N135="nulová",J135,0) -> 0 | BJ135: 2 | BK135: =ROUND(I135*H135,2) -> 0 | BL135: 4 | BM135: 2113531682
D136: D | E136: PSV | F136: Práce a dodávky PSV | J136: =BK136 -> 0 | P136: =P137 -> 0 | R136: =R137 -> 0.24517756 | T136: =T137 -> 0 | AR136: 2 | AT136: D | AU136: 0 | AY136: ROZPOCET | BK136: =BK137 -> 0
D137: D | E137: 767 | F137: Konštrukcie doplnkové kovové | J137: =BK137 -> 0 | P137: =SUM(P138:P148) -> 0 | R137: =SUM(R138:R148) -> 0.24517756 | T137: =SUM(T138:T148) -> 0 | AR137: 2 | AT137: D | AU137: 1 | AY137: ROZPOCET | BK137: =SUM(BK138:BK148) -> 0
C138: 10 | D138: K | E138: 767911120.S | F138: Montáž oplotenia strojového pletiva, s výškou do 1,6 m | G138: m | H138: 67.5 | J138: =ROUND(I138*H138,2) -> 0 | N138: znížená | P138: =O138*H138 -> 0 | Q138: 0 | R138: =Q138*H138 -> 0 | S138: 0 | T138: =S138*H138 -> 0 | AR138: 16 | AT138: K | AU138: 2 | AY138: ROZPOCET | BE138: =IF(N138="základná",J138,0) -> 0 | BF138: =IF(N138="znížená",J138,0) -> 0 | BG138: =IF(N138="zákl. prenesená",J138,0) -> 0 | BH138: =IF(N138="zníž. prenesená",J138,0) -> 0 | BI138: =IF(N138="nulová",J138,0) -> 0 | BJ138: 2 | BK138: =ROUND(I138*H138,2) -> 0 | BL138: 16 | BM138: 2041905123
C139: 11 | D139: M | E139: 313290000200.S | F139: Pletivo poplastované pletené štvorhranné, oko 50 mm, drôt d 2,2 mm, vxl 1,5x25 m, bez napínacieho drôtu | G139: bal | H139: 2.7 | J139: =ROUND(I139*H139,2) -> 0 | N139: znížená | P139: =O139*H139 -> 0 | Q139: 0.0285 | R139: =Q139*H139 -> 0.07695 | S139: 0 | T139: =S139*H139 -> 0 | AR139: 32 | AT139: M | AU139: 2 | AY139: ROZPOCET | BE139: =IF(N139="základná",J139,0) -> 0 | BF139: =IF(N139="znížená",J139,0) -> 0 | BG139: =IF(N139="zákl. prenesená",J139,0) -> 0 | BH139: =IF(N139="zníž. prenesená",J139,0) -> 0 | BI139: =IF(N139="nulová",J139,0) -> 0 | BJ139: 2 | BK139: =ROUND(I139*H139,2) -> 0 | BL139: 16 | BM139: -1937389082
C140: 12 | D140: K | E140: 767912130.S | F140: Montáž napínacieho drôtu | G140: m | H140: 202.5 | J140: =ROUND(I140*H140,2) -> 0 | N140: znížená | P140: =O140*H140 -> 0 | Q140: 0 | R140: =Q140*H140 -> 0 | S140: 0 | T140: =S140*H140 -> 0 | AR140: 16 | AT140: K | AU140: 2 | AY140: ROZPOCET | BE140: =IF(N140="základná",J140,0) -> 0 | BF140: =IF(N140="znížená",J140,0) -> 0 | BG140: =IF(N140="zákl. prenesená",J140,0) -> 0 | BH140: =IF(N140="zníž. prenesená",J140,0) -> 0 | BI140: =IF(N140="nulová",J140,0) -> 0 | BJ140: 2 | BK140: =ROUND(I140*H140,2) -> 0 | BL140: 16 | BM140: -2055996801
C141: 13 | D141: M | E141: 156140002500.S | F141: Drôt napínací pozinkovaný d 3,5 mm, dĺžka 78 m | G141: ks | H141: 2.633 | J141: =ROUND(I141*H141,2) -> 0 | N141: znížená | P141: =O141*H141 -> 0 | Q141: 0.0033 | R141: =Q141*H141 -> 0.0086889 | S141: 0 | T141: =S141*H141 -> 0 | AR141: 32 | AT141: M | AU141: 2 | AY141: ROZPOCET | BE141: =IF(N141="základná",J141,0) -> 0 | BF141: =IF(N141="znížená",J141,0) -> 0 | BG141: =IF(N141="zákl. prenesená",J141,0) -> 0 | BH141: =IF(N141="zníž. prenesená",J141,0) -> 0 | BI141: =IF(N141="nulová",J141,0) -> 0 | BJ141: 2 | BK141: =ROUND(I141*H141,2) -> 0 | BL141: 16 | BM141: -334170661
C142: 14 | D142: M | E142: 553510009300.S | F142: Napinák PVC (biely, zelený) pre napínanie pletiva s napínacím drôtom | G142: ks | H142: 2.682 | J142: =ROUND(I142*H142,2) -> 0 | N142: znížená | P142: =O142*H142 -> 0 | Q142: 0.00013 | R142: =Q142*H142 -> 0.00034866 | S142: 0 | T142: =S142*H142 -> 0 | AR142: 32 | AT142: M | AU142: 2 | AY142: ROZPOCET | BE142: =IF(N142="základná",J142,0) -> 0 | BF142: =IF(N142="znížená",J142,0) -> 0 | BG142: =IF(N142="zákl. prenesená",J142,0) -> 0 | BH142: =IF(N142="zníž. prenesená",J142,0) -> 0 | BI142: =IF(N142="nulová",J142,0) -> 0 | BJ142: 2 | BK142: =ROUND(I142*H142,2) -> 0 | BL142: 16 | BM142: -1225132674
C143: 15 | D143: K | E143: 767912150.S | F143: Montáž ostnatého drôtu | G143: m | H143: 202.5 | J143: =ROUND(I143*H143,2) -> 0 | N143: znížená | P143: =O143*H143 -> 0 | Q143: 0 | R143: =Q143*H143 -> 0 | S143: 0 | T143: =S143*H143 -> 0 | AR143: 16 | AT143: K | AU143: 2 | AY143: ROZPOCET | BE143: =IF(N143="základná",J143,0) -> 0 | BF143: =IF(N143="znížená",J143,0) -> 0 | BG143: =IF(N143="zákl. prenesená",J143,0) -> 0 | BH143: =IF(N143="zníž. prenesená",J143,0) -> 0 | BI143: =IF(N143="nulová",J143,0) -> 0 | BJ143: 2 | BK143: =ROUND(I143*H143,2) -> 0 | BL143: 16 | BM143: -1755113171
C144: 16 | D144: M | E144: 156140003300.S | F144: Drôt ostnatý d 1,7 mm, dĺžka 250 m, pozinkovaný | G144: ks | H144: 0.81 | J144: =ROUND(I144*H144,2) -> 0 | N144: znížená | P144: =O144*H144 -> 0 | Q144: 0.013 | R144: =Q144*H144 -> 0.01053 | S144: 0 | T144: =S144*H144 -> 0 | AR144: 32 | AT144: M | AU144: 2 | AY144: ROZPOCET | BE144: =IF(N144="základná",J144,0) -> 0 | BF144: =IF(N144="znížená",J144,0) -> 0 | BG144: =IF(N144="zákl. prenesená",J144,0) -> 0 | BH144: =IF(N144="zníž. prenesená",J144,0) -> 0 | BI144: =IF(N144="nulová",J144,0) -> 0 | BJ144: 2 | BK144: =ROUND(I144*H144,2) -> 0 | BL144: 16 | BM144: 19476109
C145: 17 | D145: K | E145: 767920130.S | F145: Montáž vrát a vrátok k oploteniu osadzovaných na stĺpiky murované alebo betónované, 4-6 m2 | G145: ks | H145: 1 | J145: =ROUND(I145*H145,2) -> 0 | N145: znížená | P145: =O145*H145 -> 0 | Q145: 0 | R145: =Q145*H145 -> 0 | S145: 0 | T145: =S145*H145 -> 0 | AR145: 16 | AT145: K | AU145: 2 | AY145: ROZPOCET | BE145: =IF(N145="základná",J145,0) -> 0 | BF145: =IF(N145="znížená",J145,0) -> 0 | BG145: =IF(N145="zákl. prenesená",J145,0) -> 0 | BH145: =IF(N145="zníž. prenesená",J145,0) -> 0 | BI145: =IF(N145="nulová",J145,0) -> 0 | BJ145: 2 | BK145: =ROUND(I145*H145,2) -> 0 | BL145: 16 | BM145: 328010678
C146: 18 | D146: M | E146: 553510011000.S | F146: Brána dvojkrídlová, šxv 3,5x1,85 m, úprava ZN+PVC, výplň jokel, farba RAL 6005 | G146: ks | H146: 1 | J146: =ROUND(I146*H146,2) -> 0 | N146: znížená | P146: =O146*H146 -> 0 | Q146: 0.10946 | R146: =Q146*H146 -> 0.10946 | S146: 0 | T146: =S146*H146 -> 0 | AR146: 128 | AT146: M | AU146: 2 | AY146: ROZPOCET | BE146: =IF(N146="základná",J146,0) -> 0 | BF146: =IF(N146="znížená",J146,0) -> 0 | BG146: =IF(N146="zákl. prenesená",J146,0) -> 0 | BH146: =IF(N146="zníž. prenesená",J146,0) -> 0 | BI146: =IF(N146="nulová",J146,0) -> 0 | BJ146: 2 | BK146: =ROUND(I146*H146,2) -> 0 | BL146: 128 | BM146: -2131549828
C147: 19 | D147: M | E147: 553510010540.S | F147: Bránka jednokrídlová, šxv 1,0x1,8 m, úprava Zn+PVC, výplň jokel 25x25 mm, farba RAL | G147: ks | H147: 1 | J147: =ROUND(I147*H147,2) -> 0 | N147: znížená | P147: =O147*H147 -> 0 | Q147: 0.0392 | R147: =Q147*H147 -> 0.0392 | S147: 0 | T147: =S147*H147 -> 0 | AR147: 128 | AT147: M | AU147: 2 | AY147: ROZPOCET | BE147: =IF(N147="základná",J147,0) -> 0 | BF147: =IF(N147="znížená",J147,0) -> 0 | BG147: =IF(N147="zákl. prenesená",J147,0) -> 0 | BH147: =IF(N147="zníž. prenesená",J147,0) -> 0 | BI147: =IF(N147="nulová",J147,0) -> 0 | BJ147: 2 | BK147: =ROUND(I147*H147,2) -> 0 | BL147: 128 | BM147: -967825078
C148: 20 | D148: K | E148: 998767101.S | F148: Presun hmôt pre kovové stavebné doplnkové konštrukcie v objektoch výšky do 6 m | G148: t | H148: 0.097 | J148: =ROUND(I148*H148,2) -> 0 | N148: znížená | P148: =O148*H148 -> 0 | Q148: 0 | R148: =Q148*H148 -> 0 | S148: 0 | T148: =S148*H148 -> 0 | AR148: 16 | AT148: K | AU148: 2 | AY148: ROZPOCET | BE148: =IF(N148="základná",J148,0) -> 0 | BF148: =IF(N148="znížená",J148,0) -> 0 | BG148: =IF(N148="zákl. prenesená",J148,0) -> 0 | BH148: =IF(N148="zníž. prenesená",J148,0) -> 0 | BI148: =IF(N148="nulová",J148,0) -> 0 | BJ148: 2 | BK148: =ROUND(I148*H148,2) -> 0 | BL148: 16 | BM148: -309450972

Sheet 3 - SO 113 Privádzacie po...
L2: >> skryté stĺpce << | AT2: {dff174bb-6962-4643-bc9d-13f2ba5fbae1}
AT3: 0
D4: KRYCÍ LIST ROZPOČTU | M4: v --- nižšie sa nachádzajú doplnkové a pomocné údaje k zostavám --- v | AT4: False
D6: Stavba:
E7: ='Rekapitulácia stavby'!K6 -> Rokycany - Infraštruktúra, 100 Zásobovanie vodou
D8: Objekt:
E9: 3 - SO 113 Privádzacie potrubie do vodojemu
D11: JKSO: | I11: ČS:
D12: Miesto: | F12: Rokycany | I12: Dátum: | J12: ='Rekapitulácia stavby'!AN8 -> Vyplň údaj
D14: Objednávateľ: | I14: IČO: | J14: =IF('Rekapitulácia stavby'!AN10="","",'Rekapitulácia stavby'!AN10)
E15: =IF('Rekapitulácia stavby'!E11="","",'Rekapitulácia stavby'!E11) | I15: IČ DPH: | J15: =IF('Rekapitulácia stavby'!AN11="","",'Rekapitulácia stavby'!AN11)
D17: Zhotoviteľ: | I17: IČO: | J17: ='Rekapitulácia stavby'!AN13 -> Vyplň údaj
E18: ='Rekapitulácia stavby'!E14 -> Vyplň údaj | I18: IČ DPH: | J18: ='Rekapitulácia stavby'!AN14 -> Vyplň údaj
D20: Projektant: | I20: IČO: | J20: =IF('Rekapitulácia stavby'!AN16="","",'Rekapitulácia stavby'!AN16)
E21: =IF('Rekapitulácia stavby'!E17="","",'Rekapitulácia stavby'!E17) | I21: IČ DPH: | J21: =IF('Rekapitulácia stavby'!AN17="","",'Rekapitulácia stavby'!AN17)
D23: Spracovateľ: | I23: IČO: | J23: =IF('Rekapitulácia stavby'!AN19="","",'Rekapitulácia stavby'!AN19)
E24: =IF('Rekapitulácia stavby'!E20="","",'Rekapitulácia stavby'!E20) | I24: IČ DPH: | J24: =IF('Rekapitulácia stavby'!AN20="","",'Rekapitulácia stavby'!AN20)
D26: Poznámka:
D30: Cena bez DPH | J30: =ROUND(J132, 2) -> 0
F32: Základ dane | I32: Sadzba dane | J32: Výška dane
D33: DPH | E33: základná | F33: =ROUND((SUM(BE132:BE278)), 2) -> 0 | I33: 0.23 | J33: =ROUND(((SUM(BE132:BE278))*I33), 2) -> 0
E34: znížená | F34: =ROUND((SUM(BF132:BF278)), 2) -> 0 | I34: 0.23 | J34: =ROUND(((SUM(BF132:BF278))*I34), 2) -> 0
E35: zákl. prenesená | F35: =ROUND((SUM(BG132:BG278)), 2) -> 0 | I35: 0.23 | J35: =0 -> 0
E36: zníž. prenesená | F36: =ROUND((SUM(BH132:BH278)), 2) -> 0 | I36: 0.23 | J36: =0 -> 0
E37: nulová | F37: =ROUND((SUM(BI132:BI278)), 2) -> 0 | I37: 0 | J37: =0 -> 0
D39: Cena s DPH | G39: v | H39: EUR | J39: =SUM(J30:J37) -> 0
D50: Projektant | G50: Spracovateľ
D61: Dátum a podpis: | F61: Pečiatka | G61: Dátum a podpis: | J61: Pečiatka
D65: Objednávateľ | G65: Zhotoviteľ
D76: Dátum a podpis: | F76: Pečiatka | G76: Dátum a podpis: | J76: Pečiatka
C82: REKAPITULÁCIA ROZPOČTU
C84: Stavba:
E85: =E7 -> Rokycany - Infraštruktúra, 100 Zásobovanie vodou
C86: Objekt:
E87: =E9 -> 3 - SO 113 Privádzacie potrubie do vodojemu
C89: Miesto: | F89: =F12 -> Rokycany | I89: Dátum: | J89: =IF(J12="","",J12) -> Vyplň údaj
C91: Objednávateľ: | F91: =E15 | I91: Projektant: | J91: =E21
C92: Zhotoviteľ: | F92: =IF(E18="","",E18) -> Vyplň údaj | I92: Spracovateľ: | J92: =E24
C94: Kód dielu - Popis | J94: Cena celkom [EUR]
C96: Náklady z rozpočtu | J96: =J132 -> 0 | AU96: -1
D97: HSV - Práce a dodávky HSV | J97: =J133 -> 0
D98: 1 - Zemné práce | J98: =J134 -> 0
D99: 2 - Zakladanie | J99: =J166 -> 0
D100: 4 - Vodorovné konštrukcie | J100: =J171 -> 0
D101: 5 - Komunikácie | J101: =J175 -> 0
D102: 6 - Úpravy povrchov, podlahy, osadenie | J102: =J178 -> 0
D103: 8 - Rúrové vedenie | J103: =J182 -> 0
D104: 9 - Ostatné konštrukcie a práce-búranie | J104: =J225 -> 0
D105: 99 - Presun hmôt HSV | J105: =J231 -> 0
D106: PSV - Práce a dodávky PSV | J106: =J233 -> 0
D107: 711 - Izolácie proti vode a vlhkosti | J107: =J234 -> 0
D108: 722 - Zdravotechnika - vnútorný vodovod | J108: =J245 -> 0
D109: 767 - Konštrukcie doplnkové kovové | J109: =J250 -> 0
D110: M - Práce a dodávky M | J110: =J254 -> 0
D111: 21-M - Elektromontáže | J111: =J255 -> 0
D112: 23-M - Montáže potrubia | J112: =J257 -> 0
C119: ROZPOČET
C121: Stavba:
E122: =E7 -> Rokycany - Infraštruktúra, 100 Zásobovanie vodou
C123: Objekt:
E124: =E9 -> 3 - SO 113 Privádzacie potrubie do vodojemu
C126: Miesto: | F126: =F12 -> Rokycany | I126: Dátum: | J126: =IF(J12="","",J12) -> Vyplň údaj
C128: Objednávateľ: | F128: =E15 | I128: Projektant: | J128: =E21
C129: Zhotoviteľ: | F129: =IF(E18="","",E18) -> Vyplň údaj | I129: Spracovateľ: | J129: =E24
C131: PČ | D131: Typ | E131: Kód | F131: Popis | G131: MJ | H131: Množstvo | I131: J.cena [EUR] | J131: Cena celkom [EUR] | K131: Cenová sústava | N131: DPH | O131: J. Nh [h] | P131: Nh celkom [h] | Q131: J. hmotnosť [t] | R131: Hmotnosť celkom [t] | S131: J. suť [t] | T131: Suť Celkom [t]
C132: Náklady z rozpočtu | J132: =BK132 -> 0 | P132: =P133+P233+P254 -> 0 | R132: =R133+R233+R254 -> 2263.1737 | T132: =T133+T233+T254 -> 9.792 | AT132: D | AU132: -1 | BK132: =BK133+BK233+BK254 -> 0
D133: D | E133: HSV | F133: Práce a dodávky HSV | J133: =BK133 -> 0 | P133: =P134+P166+P171+P175+P178+P182+P225+P231 -> 0 | R133: =R134+R166+R171+R175+R178+R182+R225+R231 -> 2262.6706 | T133: =T134+T166+T171+T175+T178+T182+T225+T231 -> 9.792 | AR133: 1 | AT133: D | AU133: 0 | AY133: ROZPOCET | BK133: =BK134+BK166+BK171+BK175+BK178+BK182+BK225+BK231 -> 0
D134: D | E134: 1 | F134: Zemné práce | J134: =BK134 -> 0 | P134: =SUM(P135:P165) -> 0 | R134: =SUM(R135:R165) -> 1684.6663 | T134: =SUM(T135:T165) -> 9.792 | AR134: 1 | AT134: D | AU134: 1 | AY134: ROZPOCET | BK134: =SUM(BK135:BK165) -> 0
C135: 1 | D135: K | E135: 111101102.S | F135: Odstránenie travín a tŕstia s príp. premiestnením a uložením na hromady do 50 m, pri celk. ploche nad 1000 do 10000m2 | G135: m2 | H135: 2092 | J135: =ROUND(I135*H135,2) -> 0 | N135: znížená | P135: =O135*H135 -> 0 | Q135: 0 | R135: =Q135*H135 -> 0 | S135: 0 | T135: =S135*H135 -> 0 | AR135: 4 | AT135: K | AU135: 2 | AY135: ROZPOCET | BE135: =IF(N135="základná",J135,0) -> 0 | BF135: =IF(N135="znížená",J135,0) -> 0 | BG135: =IF(N135="zákl. prenesená",J135,0) -> 0 | BH135: =IF(N135="zníž. prenesená",J135,0) -> 0 | BI135: =IF(N135="nulová",J135,0) -> 0 | BJ135: 2 | BK135: =ROUND(I135*H135,2) -> 0 | BL135: 4 | BM135: 1804398786
C136: 2 | D136: K | E136: 111201101.S | F136: Odstránenie krovín a stromov s koreňom s priemerom kmeňa do 100 mm, do 1000 m2 | G136: m2 | H136: 896 | J136: =ROUND(I136*H136,2) -> 0 | N136: znížená | P136: =O136*H136 -> 0 | Q136: 0 | R136: =Q136*H136 -> 0 | S136: 0 | T136: =S136*H136 -> 0 | AR136: 4 | AT136: K | AU136: 2 | AY136: ROZPOCET | BE136: =IF(N136="základná",J136,0) -> 0 | BF136: =IF(N136="znížená",J136,0) -> 0 | BG136: =IF(N136="zákl. prenesená",J136,0) -> 0 | BH136: =IF(N136="zníž. prenesená",J136,0) -> 0 | BI136: =IF(N136="nulová",J136,0) -> 0 | BJ136: 2 | BK136: =ROUND(I136*H136,2) -> 0 | BL136: 4 | BM136: -797687314
C137: 3 | D137: K | E137: 113106241.S | F137: Rozoberanie vozovky a plochy z panelov so škárami zaliatymi asfaltovou alebo cementovou maltou, -0,40800t | G137: m2 | H137: 24 | J137: =ROUND(I137*H137,2) -> 0 | N137: znížená | P137: =O137*H137 -> 0 | Q137: 0 | R137: =Q137*H137 -> 0 | S137: 0.408 | T137: =S137*H137 -> 9.792 | AR137: 4 | AT137: K | AU137: 2 | AY137: ROZPOCET | BE137: =IF(N137="základná",J137,0) -> 0 | BF137: =IF(N137="znížená",J137,0) -> 0 | BG137: =IF(N137="zákl. prenesená",J137,0) -> 0 | BH137: =IF(N137="zníž. prenesená",J137,0) -> 0 | BI137: =IF(N137="nulová",J137,0) -> 0 | BJ137: 2 | BK137: =ROUND(I137*H137,2) -> 0 | BL137: 4 | BM137: -1185860694
C138: 4 | D138: K | E138: 115001101.S | F138: Odvedenie vody potrubím pri priemere potrubia DN do 100 | G138: m | H138: 15 | J138: =ROUND(I138*H138,2) -> 0 | N138: znížená | P138: =O138*H138 -> 0 | Q138: 0.00728924 | R138: =Q138*H138 -> 0.1093386 | S138: 0 | T138: =S138*H138 -> 0 | AR138: 4 | AT138: K | AU138: 2 | AY138: ROZPOCET | BE138: =IF(N138="základná",J138,0) -> 0 | BF138: =IF(N138="znížená",J138,0) -> 0 | BG138: =IF(N138="zákl. prenesená",J138,0) -> 0 | BH138: =IF(N138="zníž. prenesená",J138,0) -> 0 | BI138: =IF(N138="nulová",J138,0) -> 0 | BJ138: 2 | BK138: =ROUND(I138*H138,2) -> 0 | BL138: 4 | BM138: -830361791
C139: 5 | D139: K | E139: 115101201.S | F139: Čerpanie vody na dopravnú výšku do 10 m s priemerným prítokom litrov za minútu nad 100 do 500 l | G139: hod | H139: 240 | J139: =ROUND(I139*H139,2) -> 0 | N139: znížená | P139: =O139*H139 -> 0 | Q139: 0 | R139: =Q139*H139 -> 0 | S139: 0 | T139: =S139*H139 -> 0 | AR139: 4 | AT139: K | AU139: 2 | AY139: ROZPOCET | BE139: =IF(N139="základná",J139,0) -> 0 | BF139: =IF(N139="znížená",J139,0) -> 0 | BG139: =IF(N139="zákl. prenesená",J139,0) -> 0 | BH139: =IF(N139="zníž. prenesená",J139,0) -> 0 | BI139: =IF(N139="nulová",J139,0) -> 0 | BJ139: 2 | BK139: =ROUND(I139*H139,2) -> 0 | BL139: 4 | BM139: -1132339418
C140: 6 | D140: K | E140: 119001411.S | F140: Dočasné zaistenie podzemného potrubia DN do 200 | G140: m | H140: 4 | J140: =ROUND(I140*H140,2) -> 0 | N140: znížená | P140: =O140*H140 -> 0 | Q140: 0.01012 | R140: =Q140*H140 -> 0.04048 | S140: 0 | T140: =S140*H140 -> 0 | AR140: 4 | AT140: K | AU140: 2 | AY140: ROZPOCET | BE140: =IF(N140="základná",J140,0) -> 0 | BF140: =IF(N140="znížená",J140,0) -> 0 | BG140: =IF(N140="zákl. prenesená",J140,0) -> 0 | BH140: =IF(N140="zníž. prenesená",J140,0) -> 0 | BI140: =IF(N140="nulová",J140,0) -> 0 | BJ140: 2 | BK140: =ROUND(I140*H140,2) -> 0 | BL140: 4 | BM140: -1215212176
C141: 7 | D141: K | E141: 119001801.S | F141: Ochranné zábradlie okolo výkopu, drevené výšky 1,10 m dvojtyčové | G141: m | H141: 20 | J141: =ROUND(I141*H141,2) -> 0 | N141: znížená | P141: =O141*H141 -> 0 | Q141: 0.003595 | R141: =Q141*H141 -> 0.0719 | S141: 0 | T141: =S141*H141 -> 0 | AR141: 4 | AT141: K | AU141: 2 | AY141: ROZPOCET | BE141: =IF(N141="základná",J141,0) -> 0 | BF141: =IF(N141="znížená",J141,0) -> 0 | BG141: =IF(N141="zákl. prenesená",J141,0) -> 0 | BH141: =IF(N141="zníž. prenesená",J141,0) -> 0 | BI141: =IF(N141="nulová",J141,0) -> 0 | BJ141: 2 | BK141: =ROUND(I141*H141,2) -> 0 | BL141: 4 | BM141: -260826192
C142: 8 | D142: K | E142: 120001101.S | F142: Príplatok k cenám výkopov za sťaženie výkopu v blízkosti podzemného vedenia alebo výbušnín | G142: m3 | H142: 1.96 | J142: =ROUND(I142*H142,2) -> 0 | N142: znížená | P142: =O142*H142 -> 0 | Q142: 0 | R142: =Q142*H142 -> 0 | S142: 0 | T142: =S142*H142 -> 0 | AR142: 4 | AT142: K | AU142: 2 | AY142: ROZPOCET | BE142: =IF(N142="základná",J142,0) -> 0 | BF142: =IF(N142="znížená",J142,0) -> 0 | BG142: =IF(N142="zákl. prenesená",J142,0) -> 0 | BH142: =IF(N142="zníž. prenesená",J142,0) -> 0 | BI142: =IF(N142="nulová",J142,0) -> 0 | BJ142: 2 | BK142: =ROUND(I142*H142,2) -> 0 | BL142: 4 | BM142: 131660520
C143: 9 | D143: K | E143: 121101112.S | F143: Odstránenie ornice s premiestn. na hromady, so zložením na vzdialenosť do 100 m a do 1000 m3 | G143: m3 | H143: 1810.8 | J143: =ROUND(I143*H143,2) -> 0 | N143: znížená | P143: =O143*H143 -> 0 | Q143: 0 | R143: =Q143*H143 -> 0 | S143: 0 | T143: =S143*H143 -> 0 | AR143: 4 | AT143: K | AU143: 2 | AY143: ROZPOCET | BE143: =IF(N143="základná",J143,0) -> 0 | BF143: =IF(N143="znížená",J143,0) -> 0 | BG143: =IF(N143="zákl. prenesená",J143,0) -> 0 | BH143: =IF(N143="zníž. prenesená",J143,0) -> 0 | BI143: =IF(N143="nulová",J143,0) -> 0 | BJ143: 2 | BK143: =ROUND(I143*H143,2) -> 0 | BL143: 4 | BM143: 8588738
C144: 10 | D144: K | E144: 131201101.S | F144: Výkop nezapaženej jamy v hornine 3, do 100 m3 | G144: m3 | H144: 69.846 | J144: =ROUND(I144*H144,2) -> 0 | N144: znížená | P144: =O144*H144 -> 0 | Q144: 0 | R144: =Q144*H144 -> 0 | S144: 0 | T144: =S144*H144 -> 0 | AR144: 4 | AT144: K | AU144: 2 | AY144: ROZPOCET | BE144: =IF(N144="základná",J144,0) -> 0 | BF144: =IF(N144="znížená",J144,0) -> 0 | BG144: =IF(N144="zákl. prenesená",J144,0) -> 0 | BH144: =IF(N144="zníž. prenesená",J144,0) -> 0 | BI144: =IF(N144="nulová",J144,0) -> 0 | BJ144: 2 | BK144: =ROUND(I144*H144,2) -> 0 | BL144: 4 | BM144: -17852022
C145: 11 | D145: K | E145: 131201109.S | F145: Hĺbenie nezapažených jám a zárezov. Príplatok za lepivosť horniny 3 | G145: m3 | H145: 69.846 | J145: =ROUND(I145*H145,2) -> 0 | N145: znížená | P145: =O145*H145 -> 0 | Q145: 0 | R145: =Q145*H145 -> 0 | S145: 0 | T145: =S145*H145 -> 0 | AR145: 4 | AT145: K | AU145: 2 | AY145: ROZPOCET | BE145: =IF(N145="základná",J145,0) -> 0 | BF145: =IF(N145="znížená",J145,0) -> 0 | BG145: =IF(N145="zákl. prenesená",J145,0) -> 0 | BH145: =IF(N145="zníž. prenesená",J145,0) -> 0 | BI145: =IF(N145="nulová",J145,0) -> 0 | BJ145: 2 | BK145: =ROUND(I145*H145,2) -> 0 | BL145: 4 | BM145: -39777391
C146: 12 | D146: K | E146: 132201203.S | F146: Výkop ryhy šírky 600-2000mm horn.3 nad 1000 do 10000m3 | G146: m3 | H146: 3102.529 | J146: =ROUND(I146*H146,2) -> 0 | N146: znížená | P146: =O146*H146 -> 0 | Q146: 0 | R146: =Q146*H146 -> 0 | S146: 0 | T146: =S146*H146 -> 0 | AR146: 4 | AT146: K | AU146: 2 | AY146: ROZPOCET | BE146: =IF(N146="základná",J146,0) -> 0 | BF146: =IF(N146="znížená",J146,0) -> 0 | BG146: =IF(N146="zákl. prenesená",J146,0) -> 0 | BH146: =IF(N146="zníž. prenesená",J146,0) -> 0 | BI146: =IF(N146="nulová",J146,0) -> 0 | BJ146: 2 | BK146: =ROUND(I146*H146,2) -> 0 | BL146: 4 | BM146: 46343868
... C165: 31 | D165: K | E165: 181301115.S | F165: Rozprestretie ornice v rovine, plocha nad 500 m2, hr. do 300 mm | G165: m2 | H165: 6036 | J165: =ROUND(I165*H165,2) -> 0 | N165: znížená | P165: =O165*H165 -> 0 | Q165: 0 | R165: =Q165*H165 -> 0 | S165: 0 | T165: =S165*H165 -> 0 | AR165: 4 | AT165: K | AU165: 2 | AY165: ROZPOCET | BE165: =IF(N165="základná",J165,0) -> 0 | BF165: =IF(N165="znížená",J165,0) -> 0 | BG165: =IF(N165="zákl. prenesená",J165,0) -> 0 | BH165: =IF(N165="zníž. prenesená",J165,0) -> 0 | BI165: =IF(N165="nulová",J165,0) -> 0 | BJ165: 2 | BK165: =ROUND(I165*H165,2) -> 0 | BL165: 4 | BM165: 23909486
D166: D | E166: 2 | F166: Zakladanie | J166: =BK166 -> 0 | P166: =SUM(P167:P170) -> 0 | R166: =SUM(R167:R170) -> 5.9344456 | T166: =SUM(T167:T170) -> 0 | AR166: 1 | AT166: D | AU166: 1 | AY166: ROZPOCET | BK166: =SUM(BK167:BK170) -> 0
C167: 32 | D167: K | E167: 271571111.S | F167: Vankúše zhutnené pod základy zo štrkopiesku | G167: m3 | H167: 1.68 | J167: =ROUND(I167*H167,2) -> 0 | N167: znížená | P167: =O167*H167 -> 0 | Q167: 2.0664 | R167: =Q167*H167 -> 3.471552 | S167: 0 | T167: =S167*H167 -> 0 | AR167: 4 | AT167: K | AU167: 2 | AY167: ROZPOCET | BE167: =IF(N167="základná",J167,0) -> 0 | BF167: =IF(N167="znížená",J167,0) -> 0 | BG167: =IF(N167="zákl. prenesená",J167,0) -> 0 | BH167: =IF(N167="zníž. prenesená",J167,0) -> 0 | BI167: =IF(N167="nulová",J167,0) -> 0 | BJ167: 2 | BK167: =ROUND(I167*H167,2) -> 0 | BL167: 4 | BM167: -110825170
C168: 33 | D168: K | E168: 273313611.S | F168: Betón základových dosiek, prostý tr. C 16/20 | G168: m3 | H168: 1.12 | J168: =ROUND(I168*H168,2) -> 0 | N168: znížená | P168: =O168*H168 -> 0 | Q168: 2.19407 | R168: =Q168*H168 -> 2.4573584 | S168: 0 | T168: =S168*H168 -> 0 | AR168: 4 | AT168: K | AU168: 2 | AY168: ROZPOCET | BE168: =IF(N168="základná",J168,0) -> 0 | BF168: =IF(N168="znížená",J168,0) -> 0 | BG168: =IF(N168="zákl. prenesená",J168,0) -> 0 | BH168: =IF(N168="zníž. prenesená",J168,0) -> 0 | BI168: =IF(N168="nulová",J168,0) -> 0 | BJ168: 2 | BK168: =ROUND(I168*H168,2) -> 0 | BL168: 4 | BM168: -1500977886
C169: 34 | D169: K | E169: 273351217.S | F169: Debnenie stien základových dosiek, zhotovenie-tradičné | G169: m2 | H169: 1.36 | J169: =ROUND(I169*H169,2) -> 0 | N169: znížená | P169: =O169*H169 -> 0 | Q169: 0.00407 | R169: =Q169*H169 -> 0.0055352 | S169: 0 | T169: =S169*H169 -> 0 | AR169: 4 | AT169: K | AU169: 2 | AY169: ROZPOCET | BE169: =IF(N169="základná",J169,0) -> 0 | BF169: =IF(N169="znížená",J169,0) -> 0 | BG169: =IF(N169="zákl. prenesená",J169,0) -> 0 | BH169: =IF(N169="zníž. prenesená",J169,0) -> 0 | BI169: =IF(N169="nulová",J169,0) -> 0 | BJ169: 2 | BK169: =ROUND(I169*H169,2) -> 0 | BL169: 4 | BM169: 1529919419
C170: 35 | D170: K | E170: 273351218.S | F170: Debnenie stien základových dosiek, odstránenie-tradičné | G170: m2 | H170: 1.36 | J170: =ROUND(I170*H170,2) -> 0 | N170: znížená | P170: =O170*H170 -> 0 | Q170: 0 | R170: =Q170*H170 -> 0 | S170: 0 | T170: =S170*H170 -> 0 | AR170: 4 | AT170: K | AU170: 2 | AY170: ROZPOCET | BE170: =IF(N170="základná",J170,0) -> 0 | BF170: =IF(N170="znížená",J170,0) -> 0 | BG170: =IF(N170="zákl. prenesená",J170,0) -> 0 | BH170: =IF(N170="zníž. prenesená",J170,0) -> 0 | BI170: =IF(N170="nulová",J170,0) -> 0 | BJ170: 2 | BK170: =ROUND(I170*H170,2) -> 0 | BL170: 4 | BM170: 1302620904
D171: D | E171: 4 | F171: Vodorovné konštrukcie | J171: =BK171 -> 0 | P171: =SUM(P172:P174) -> 0 | R171: =SUM(R172:R174) -> 504.01955 | T171: =SUM(T172:T174) -> 0 | AR171: 1 | AT171: D | AU171: 1 | AY171: ROZPOCET | BK171: =SUM(BK172:BK174) -> 0
C172: 36 | D172: K | E172: 451572111.S | F172: Lôžko pod potrubie, stoky a drobné objekty, v otvorenom výkope z kameniva drobného ťaženého 0-4 mm | G172: m3 | H172: 265.925 | J172: =ROUND(I172*H172,2) -> 0 | N172: znížená | P172: =O172*H172 -> 0 | Q172: 1.89077 | R172: =Q172*H172 -> 502.80301 | S172: 0 | T172: =S172*H172 -> 0 | AR172: 4 | AT172: K | AU172: 2 | AY172: ROZPOCET | BE172: =IF(N172="základná",J172,0) -> 0 | BF172: =IF(N172="znížená",J172,0) -> 0 | BG172: =IF(N172="zákl. prenesená",J172,0) -> 0 | BH172: =IF(N172="zníž. prenesená",J172,0) -> 0 | BI172: =IF(N172="nulová",J172,0) -> 0 | BJ172: 2 | BK172: =ROUND(I172*H172,2) -> 0 | BL172: 4 | BM172: -1781742138
C173: 37 | D173: K | E173: 452311141.S | F173: Dosky, bloky, sedlá z betónu v otvorenom výkope tr. C 16/20 | G173: m3 | H173: 0.55 | J173: =ROUND(I173*H173,2) -> 0 | N173: znížená | P173: =O173*H173 -> 0 | Q173: 2.19228 | R173: =Q173*H173 -> 1.205754 | S173: 0 | T173: =S173*H173 -> 0 | AR173: 4 | AT173: K | AU173: 2 | AY173: ROZPOCET | BE173: =IF(N173="základná",J173,0) -> 0 | BF173: =IF(N173="znížená",J173,0) -> 0 | BG173: =IF(N173="zákl. prenesená",J173,0) -> 0 | BH173: =IF(N173="zníž. prenesená",J173,0) -> 0 | BI173: =IF(N173="nulová",J173,0) -> 0 | BJ173: 2 | BK173: =ROUND(I173*H173,2) -> 0 | BL173: 4 | BM173: -418878095
C174: 38 | D174: K | E174: 452351101.S | F174: Debnenie v otvorenom výkope dosiek, sedlových lôžok a blokov pod potrubie,stoky a drobné objekty | G174: m2 | H174: 2.48 | J174: =ROUND(I174*H174,2) -> 0 | N174: znížená | P174: =O174*H174 -> 0 | Q174: 0.00435 | R174: =Q174*H174 -> 0.010788 | S174: 0 | T174: =S174*H174 -> 0 | AR174: 4 | AT174: K | AU174: 2 | AY174: ROZPOCET | BE174: =IF(N174="základná",J174,0) -> 0 | BF174: =IF(N174="znížená",J174,0) -> 0 | BG174: =IF(N174="zákl. prenesená",J174,0) -> 0 | BH174: =IF(N174="zníž. prenesená",J174,0) -> 0 | BI174: =IF(N174="nulová",J174,0) -> 0 | BJ174: 2 | BK174: =ROUND(I174*H174,2) -> 0 | BL174: 4 | BM174: 1375197930
D175: D | E175: 5 | F175: Komunikácie | J175: =BK175 -> 0 | P175: =SUM(P176:P177) -> 0 | R175: =SUM(R176:R177) -> 11.004 | T175: =SUM(T176:T177) -> 0 | AR175: 1 | AT175: D | AU175: 1 | AY175: ROZPOCET | BK175: =SUM(BK176:BK177) -> 0
C176: 39 | D176: K | E176: 584921121.S | F176: Zhotovenie spevnenej plochy z cestných panelov osadených do lôžka z kameniva hr. 50 mm | G176: m2 | H176: 24 | J176: =ROUND(I176*H176,2) -> 0 | N176: znížená | P176: =O176*H176 -> 0 | Q176: 0.0835 | R176: =Q176*H176 -> 2.004 | S176: 0 | T176: =S176*H176 -> 0 | AR176: 4 | AT176: K | AU176: 2 | AY176: ROZPOCET | BE176: =IF(N176="základná",J176,0) -> 0 | BF176: =IF(N176="znížená",J176,0) -> 0 | BG176: =IF(N176="zákl. prenesená",J176,0) -> 0 | BH176: =IF(N176="zníž. prenesená",J176,0) -> 0 | BI176: =IF(N176="nulová",J176,0) -> 0 | BJ176: 2 | BK176: =ROUND(I176*H176,2) -> 0 | BL176: 4 | BM176: 1632446616
C177: 40 | D177: M | E177: 593810000700.S | F177: Cestný panel IZD 300/200/15 JP 20 ton, lxšxv 3000x2000x150 mm | G177: ks | H177: 4 | J177: =ROUND(I177*H177,2) -> 0 | N177: znížená | P177: =O177*H177 -> 0 | Q177: 2.25 | R177: =Q177*H177 -> 9 | S177: 0 | T177: =S177*H177 -> 0 | AR177: 8 | AT177: M | AU177: 2 | AY177: ROZPOCET | BE177: =IF(N177="základná",J177,0) -> 0 | BF177: =IF(N177="znížená",J177,0) -> 0 | BG177: =IF(N177="zákl. prenesená",J177,0) -> 0 | BH177: =IF(N177="zníž. prenesená",J177,0) -> 0 | BI177: =IF(N177="nulová",J177,0) -> 0 | BJ177: 2 | BK177: =ROUND(I177*H177,2) -> 0 | BL177: 4 | BM177: -2111511977
D178: D | E178: 6 | F178: Úpravy povrchov, podlahy, osadenie | J178: =BK178 -> 0 | P178: =SUM(P179:P181) -> 0 | R178: =SUM(R179:R181) -> 1.755807 | T178: =SUM(T179:T181) -> 0 | AR178: 1 | AT178: D | AU178: 1 | AY178: ROZPOCET | BK178: =SUM(BK179:BK181) -> 0
C179: 41 | D179: K | E179: 611459181.S | F179: Zatieranie škár stropov zo stropníc alebo dosiek maltou do roviny líca | G179: m2 | H179: 5.67 | J179: =ROUND(I179*H179,2) -> 0 | N179: znížená | P179: =O179*H179 -> 0 | Q179: 0.00621 | R179: =Q179*H179 -> 0.0352107 | S179: 0 | T179: =S179*H179 -> 0 | AR179: 4 | AT179: K | AU179: 2 | AY179: ROZPOCET | BE179: =IF(N179="základná",J179,0) -> 0 | BF179: =IF(N179="znížená",J179,0) -> 0 | BG179: =IF(N179="zákl. prenesená",J179,0) -> 0 | BH179: =IF(N179="zníž. prenesená",J179,0) -> 0 | BI179: =IF(N179="nulová",J179,0) -> 0 | BJ179: 2 | BK179: =ROUND(I179*H179,2) -> 0 | BL179: 4 | BM179: -23609513
C180: 42 | D180: K | E180: 612451071.S | F180: Vyspravenie povrchu neomietaných betónových stien vnútorných maltou cementovou pre omietky | G180: m2 | H180: 20.64 | J180: =ROUND(I180*H180,2) -> 0 | N180: znížená | P180: =O180*H180 -> 0 | Q180: 0.0064 | R180: =Q180*H180 -> 0.132096 | S180: 0 | T180: =S180*H180 -> 0 | AR180: 4 | AT180: K | AU180: 2 | AY180: ROZPOCET | BE180: =IF(N180="základná",J180,0) -> 0 | BF180: =IF(N180="znížená",J180,0) -> 0 | BG180: =IF(N180="zákl. prenesená",J180,0) -> 0 | BH180: =IF(N180="zníž. prenesená",J180,0) -> 0 | BI180: =IF(N180="nulová",J180,0) -> 0 | BJ180: 2 | BK180: =ROUND(I180*H180,2) -> 0 | BL180: 4 | BM180: -1679039559
C181: 43 | D181: K | E181: 631315661.S | F181: Mazanina z betónu prostého (m3) tr. C 20/25 hr.nad 120 do 240 mm | G181: m3 | H181: 0.709 | J181: =ROUND(I181*H181,2) -> 0 | N181: znížená | P181: =O181*H181 -> 0 | Q181: 2.24048 | R181: =Q181*H181 -> 1.5885003 | S181: 0 | T181: =S181*H181 -> 0 | AR181: 4 | AT181: K | AU181: 2 | AY181: ROZPOCET | BE181: =IF(N181="základná",J181,0) -> 0 | BF181: =IF(N181="znížená",J181,0) -> 0 | BG181: =IF(N181="zákl. prenesená",J181,0) -> 0 | BH181: =IF(N181="zníž. prenesená",J181,0) -> 0 | BI181: =IF(N181="nulová",J181,0) -> 0 | BJ181: 2 | BK181: =ROUND(I181*H181,2) -> 0 | BL181: 4 | BM181: -716181512
D182: D | E182: 8 | F182: Rúrové vedenie | J182: =BK182 -> 0 | P182: =SUM(P183:P224) -> 0 | R182: =SUM(R183:R224) -> 55.290486 | T182: =SUM(T183:T224) -> 0 | AR182: 1 | AT182: D | AU182: 1 | AY182: ROZPOCET | BK182: =SUM(BK183:BK224) -> 0
C183: 44 | D183: K | E183: 850315121.S | F183: Výrez alebo výsek na potrubí z rúr liatinových tlakových DN 150 | G183: ks | H183: 1 | J183: =ROUND(I183*H183,2) -> 0 | N183: znížená | P183: =O183*H183 -> 0 | Q183: 0 | R183: =Q183*H183 -> 0 | S183: 0 | T183: =S183*H183 -> 0 | AR183: 4 | AT183: K | AU183: 2 | AY183: ROZPOCET | BE183: =IF(N183="základná",J183,0) -> 0 | BF183: =IF(N183="znížená",J183,0) -> 0 | BG183: =IF(N183="zákl. prenesená",J183,0) -> 0 | BH183: =IF(N183="zníž. prenesená",J183,0) -> 0 | BI183: =IF(N183="nulová",J183,0) -> 0 | BJ183: 2 | BK183: =ROUND(I183*H183,2) -> 0 | BL183: 4 | BM183: -1879311146
C184: 45 | D184: K | E184: 857242121.S | F184: Montáž liatinovej tvarovky jednoosovej na potrubí z rúr prírubových DN 80 | G184: ks | H184: 1 | J184: =ROUND(I184*H184,2) -> 0 | N184: znížená | P184: =O184*H184 -> 0 | Q184: 0.003824 | R184: =Q184*H184 -> 0.003824 | S184: 0 | T184: =S184*H184 -> 0 | AR184: 4 | AT184: K | AU184: 2 | AY184: ROZPOCET | BE184: =IF(N184="základná",J184,0) -> 0 | BF184: =IF(N184="znížená",J184,0) -> 0 | BG184: =IF(N184="zákl. prenesená",J184,0) -> 0 | BH184: =IF(N184="zníž. prenesená",J184,0) -> 0 | BI184: =IF(N184="nulová",J184,0) -> 0 | BJ184: 2 | BK184: =ROUND(I184*H184,2) -> 0 | BL184: 4 | BM184: 2045162539
...

Sheet 4 - SO 114 Pristupová ces...
L2: >> skryté stĺpce << | AT2: {c38ff47b-7d04-4dbf-ac44-a1722eb8e5fd}
AT3: 0
D4: KRYCÍ LIST ROZPOČTU | M4: v --- nižšie sa nachádzajú doplnkové a pomocné údaje k zostavám --- v | AT4: False
D6: Stavba:
E7: ='Rekapitulácia stavby'!K6 -> Rokycany - Infraštruktúra, 100 Zásobovanie vodou
D8: Objekt:
E9: 4 - SO 114 Pristupová cesta k vodojemu
D11: JKSO: | I11: ČS:
D12: Miesto: | F12: Rokycany | I12: Dátum: | J12: ='Rekapitulácia stavby'!AN8 -> Vyplň údaj
D14: Objednávateľ: | I14: IČO: | J14: =IF('Rekapitulácia stavby'!AN10="","",'Rekapitulácia stavby'!AN10)
E15: =IF('Rekapitulácia stavby'!E11="","",'Rekapitulácia stavby'!E11) | I15: IČ DPH: | J15: =IF('Rekapitulácia stavby'!AN11="","",'Rekapitulácia stavby'!AN11)
D17: Zhotoviteľ: | I17: IČO: | J17: ='Rekapitulácia stavby'!AN13 -> Vyplň údaj
E18: ='Rekapitulácia stavby'!E14 -> Vyplň údaj | I18: IČ DPH: | J18: ='Rekapitulácia stavby'!AN14 -> Vyplň údaj
D20: Projektant: | I20: IČO: | J20: =IF('Rekapitulácia stavby'!AN16="","",'Rekapitulácia stavby'!AN16)
E21: =IF('Rekapitulácia stavby'!E17="","",'Rekapitulácia stavby'!E17) | I21: IČ DPH: | J21: =IF('Rekapitulácia stavby'!AN17="","",'Rekapitulácia stavby'!AN17)
D23: Spracovateľ: | I23: IČO: | J23: =IF('Rekapitulácia stavby'!AN19="","",'Rekapitulácia stavby'!AN19)
E24: =IF('Rekapitulácia stavby'!E20="","",'Rekapitulácia stavby'!E20) | I24: IČ DPH: | J24: =IF('Rekapitulácia stavby'!AN20="","",'Rekapitulácia stavby'!AN20)
D26: Poznámka:
D30: Cena bez DPH | J30: =ROUND(J120, 2) -> 0
F32: Základ dane | I32: Sadzba dane | J32: Výška dane
D33: DPH | E33: základná | F33: =ROUND((SUM(BE120:BE137)), 2) -> 0 | I33: 0.23 | J33: =ROUND(((SUM(BE120:BE137))*I33), 2) -> 0
E34: znížená | F34: =ROUND((SUM(BF120:BF137)), 2) -> 0 | I34: 0.23 | J34: =ROUND(((SUM(BF120:BF137))*I34), 2) -> 0
E35: zákl. prenesená | F35: =ROUND((SUM(BG120:BG137)), 2) -> 0 | I35: 0.23 | J35: =0 -> 0
E36: zníž. prenesená | F36: =ROUND((SUM(BH120:BH137)), 2) -> 0 | I36: 0.23 | J36: =0 -> 0
E37: nulová | F37: =ROUND((SUM(BI120:BI137)), 2) -> 0 | I37: 0 | J37: =0 -> 0
D39: Cena s DPH | G39: v | H39: EUR | J39: =SUM(J30:J37) -> 0
D50: Projektant | G50: Spracovateľ
D61: Dátum a podpis: | F61: Pečiatka | G61: Dátum a podpis: | J61: Pečiatka
D65: Objednávateľ | G65: Zhotoviteľ
D76: Dátum a podpis: | F76: Pečiatka | G76: Dátum a podpis: | J76: Pečiatka
C82: REKAPITULÁCIA ROZPOČTU
C84: Stavba:
E85: =E7 -> Rokycany - Infraštruktúra, 100 Zásobovanie vodou
C86: Objekt:
E87: =E9 -> 4 - SO 114 Pristupová cesta k vodojemu
C89: Miesto: | F89: =F12 -> Rokycany | I89: Dátum: | J89: =IF(J12="","",J12) -> Vyplň údaj
C91: Objednávateľ: | F91: =E15 | I91: Projektant: | J91: =E21
C92: Zhotoviteľ: | F92: =IF(E18="","",E18) -> Vyplň údaj | I92: Spracovateľ: | J92: =E24
C94: Kód dielu - Popis | J94: Cena celkom [EUR]
C96: Náklady z rozpočtu | J96: =J120 -> 0 | AU96: -1
D97: HSV - Práce a dodávky HSV | J97: =J121 -> 0
D98: 1 - Zemné práce | J98: =J122 -> 0
D99: 5 - Komunikácie | J99: =J131 -> 0
D100: 99 - Presun hmôt HSV | J100: =J136 -> 0
C107: ROZPOČET
C109: Stavba:
E110: =E7 -> Rokycany - Infraštruktúra, 100 Zásobovanie vodou
C111: Objekt:
E112: =E9 -> 4 - SO 114 Pristupová cesta k vodojemu
C114: Miesto: | F114: =F12 -> Rokycany | I114: Dátum: | J114: =IF(J12="","",J12) -> Vyplň údaj
C116: Objednávateľ: | F116: =E15 | I116: Projektant: | J116: =E21
C117: Zhotoviteľ: | F117: =IF(E18="","",E18) -> Vyplň údaj | I117: Spracovateľ: | J117: =E24
C119: PČ | D119: Typ | E119: Kód | F119: Popis | G119: MJ | H119: Množstvo | I119: J.cena [EUR] | J119: Cena celkom [EUR] | K119: Cenová sústava | N119: DPH | O119: J. Nh [h] | P119: Nh celkom [h] | Q119: J. hmotnosť [t] | R119: Hmotnosť celkom [t] | S119: J. suť [t] | T119: Suť Celkom [t]
C120: Náklady z rozpočtu | J120: =BK120 -> 0 | P120: =P121 -> 0 | R120: =R121 -> 191.7344 | T120: =T121 -> 0 | AT120: D | AU120: -1 | BK120: =BK121 -> 0
D121: D | E121: HSV | F121: Práce a dodávky HSV | J121: =BK121 -> 0 | P121: =P122+P131+P136 -> 0 | R121: =R122+R131+R136 -> 191.7344 | T121: =T122+T131+T136 -> 0 | AR121: 1 | AT121: D | AU121: 0 | AY121: ROZPOCET | BK121: =BK122+BK131+BK136 -> 0
D122: D | E122: 1 | F122: Zemné práce | J122: =BK122 -> 0 | P122: =SUM(P123:P130) -> 0 | R122: =SUM(R123:R130) -> 0 | T122: =SUM(T123:T130) -> 0 | AR122: 1 | AT122: D | AU122: 1 | AY122: ROZPOCET | BK122: =SUM(BK123:BK130) -> 0
C123: 1 | D123: K | E123: 122202201.S | F123: Odkopávka a prekopávka nezapažená pre cesty, v hornine 3 do 100 m3 | G123: m3 | H123: 93.6 | J123: =ROUND(I123*H123,2) -> 0 | N123: znížená | P123: =O123*H123 -> 0 | Q123: 0 | R123: =Q123*H123 -> 0 | S123: 0 | T123: =S123*H123 -> 0 | AR123: 4 | AT123: K | AU123: 2 | AY123: ROZPOCET | BE123: =IF(N123="základná",J123,0) -> 0 | BF123: =IF(N123="znížená",J123,0) -> 0 | BG123: =IF(N123="zákl. prenesená",J123,0) -> 0 | BH123: =IF(N123="zníž. prenesená",J123,0) -> 0 | BI123: =IF(N123="nulová",J123,0) -> 0 | BJ123: 2 | BK123: =ROUND(I123*H123,2) -> 0 | BL123: 4 | BM123: -343784141
C124: 2 | D124: K | E124: 122202209.S | F124: Odkopávky a prekopávky nezapažené pre cesty. Príplatok za lepivosť horniny 3 | G124: m3 | H124: 93.6 | J124: =ROUND(I124*H124,2) -> 0 | N124: znížená | P124: =O124*H124 -> 0 | Q124: 0 | R124: =Q124*H124 -> 0 | S124: 0 | T124: =S124*H124 -> 0 | AR124: 4 | AT124: K | AU124: 2 | AY124: ROZPOCET | BE124: =IF(N124="základná",J124,0) -> 0 | BF124: =IF(N124="znížená",J124,0) -> 0 | BG124: =IF(N124="zákl. prenesená",J124,0) -> 0 | BH124: =IF(N124="zníž. prenesená",J124,0) -> 0 | BI124: =IF(N124="nulová",J124,0) -> 0 | BJ124: 2 | BK124: =ROUND(I124*H124,2) -> 0 | BL124: 4 | BM124: 1474561497
C125: 3 | D125: K | E125: 123202101.S | F125: Výkop zárezov so šikmými stenami pre podzemné vedenia v horninách 3 do 1000 m3 | G125: m3 | H125: 23.4 | J125: =ROUND(I125*H125,2) -> 0 | N125: znížená | P125: =O125*H125 -> 0 | Q125: 0 | R125: =Q125*H125 -> 0 | S125: 0 | T125: =S125*H125 -> 0 | AR125: 4 | AT125: K | AU125: 2 | AY125: ROZPOCET | BE125: =IF(N125="základná",J125,0) -> 0 | BF125: =IF(N125="znížená",J125,0) -> 0 | BG125: =IF(N125="zákl. prenesená",J125,0) -> 0 | BH125: =IF(N125="zníž. prenesená",J125,0) -> 0 | BI125: =IF(N125="nulová",J125,0) -> 0 | BJ125: 2 | BK125: =ROUND(I125*H125,2) -> 0 | BL125: 4 | BM125: 944388812
C126: 4 | D126: K | E126: 162201102.S | F126: Vodorovné premiestnenie výkopku z horniny 1-4 nad 20-50m | G126: m3 | H126: 117 | J126: =ROUND(I126*H126,2) -> 0 | N126: znížená | P126: =O126*H126 -> 0 | Q126: 0 | R126: =Q126*H126 -> 0 | S126: 0 | T126: =S126*H126 -> 0 | AR126: 4 | AT126: K | AU126: 2 | AY126: ROZPOCET | BE126: =IF(N126="základná",J126,0) -> 0 | BF126: =IF(N126="znížená",J126,0) -> 0 | BG126: =IF(N126="zákl. prenesená",J126,0) -> 0 | BH126: =IF(N126="zníž. prenesená",J126,0) -> 0 | BI126: =IF(N126="nulová",J126,0) -> 0 | BJ126: 2 | BK126: =ROUND(I126*H126,2) -> 0 | BL126: 4 | BM126: 1760357319
C127: 5 | D127: K | E127: 171201101.S | F127: Uloženie sypaniny do násypov s rozprestretím sypaniny vo vrstvách a s hrubým urovnaním nezhutnených | G127: m3 | H127: 117 | J127: =ROUND(I127*H127,2) -> 0 | N127: znížená | P127: =O127*H127 -> 0 | Q127: 0 | R127: =Q127*H127 -> 0 | S127: 0 | T127: =S127*H127 -> 0 | AR127: 4 | AT127: K | AU127: 2 | AY127: ROZPOCET | BE127: =IF(N127="základná",J127,0) -> 0 | BF127: =IF(N127="znížená",J127,0) -> 0 | BG127: =IF(N127="zákl. prenesená",J127,0) -> 0 | BH127: =IF(N127="zníž. prenesená",J127,0) -> 0 | BI127: =IF(N127="nulová",J127,0) -> 0 | BJ127: 2 | BK127: =ROUND(I127*H127,2) -> 0 | BL127: 4 | BM127: 30182292
C128: 6 | D128: K | E128: 181101101.S | F128: Úprava pláne v zárezoch v hornine 1-4 bez zhutnenia | G128: m2 | H128: 39 | J128: =ROUND(I128*H128,2) -> 0 | N128: znížená | P128: =O128*H128 -> 0 | Q128: 0 | R128: =Q128*H128 -> 0 | S128: 0 | T128: =S128*H128 -> 0 | AR128: 4 | AT128: K | AU128: 2 | AY128: ROZPOCET | BE128: =IF(N128="základná",J128,0) -> 0 | BF128: =IF(N128="znížená",J128,0) -> 0 | BG128: =IF(N128="zákl. prenesená",J128,0) -> 0 | BH128: =IF(N128="zníž. prenesená",J128,0) -> 0 | BI128: =IF(N128="nulová",J128,0) -> 0 | BJ128: 2 | BK128: =ROUND(I128*H128,2) -> 0 | BL128: 4 | BM128: 1023914598
C129: 7 | D129: K | E129: 181101102.S | F129: Úprava pláne v zárezoch v hornine 1-4 so zhutnením | G129: m2 | H129: 234 | J129: =ROUND(I129*H129,2) -> 0 | N129: znížená | P129: =O129*H129 -> 0 | Q129: 0 | R129: =Q129*H129 -> 0 | S129: 0 | T129: =S129*H129 -> 0 | AR129: 4 | AT129: K | AU129: 2 | AY129: ROZPOCET | BE129: =IF(N129="základná",J129,0) -> 0 | BF129: =IF(N129="znížená",J129,0) -> 0 | BG129: =IF(N129="zákl. prenesená",J129,0) -> 0 | BH129: =IF(N129="zníž. prenesená",J129,0) -> 0 | BI129: =IF(N129="nulová",J129,0) -> 0 | BJ129: 2 | BK129: =ROUND(I129*H129,2) -> 0 | BL129: 4 | BM129: -76591001
C130: 8 | D130: K | E130: 182201101.S | F130: Svahovanie trvalých svahov v násype | G130: m2 | H130: 36.4 | J130: =ROUND(I130*H130,2) -> 0 | N130: znížená | P130: =O130*H130 -> 0 | Q130: 0 | R130: =Q130*H130 -> 0 | S130: 0 | T130: =S130*H130 -> 0 | AR130: 4 | AT130: K | AU130: 2 | AY130: ROZPOCET | BE130: =IF(N130="základná",J130,0) -> 0 | BF130: =IF(N130="znížená",J130,0) -> 0 | BG130: =IF(N130="zákl. prenesená",J130,0) -> 0 | BH130: =IF(N130="zníž. prenesená",J130,0) -> 0 | BI130: =IF(N130="nulová",J130,0) -> 0 | BJ130: 2 | BK130: =ROUND(I130*H130,2) -> 0 | BL130: 4 | BM130: -937505318
D131: D | E131: 5 | F131: Komunikácie | J131: =BK131 -> 0 | P131: =SUM(P132:P135) -> 0 | R131: =SUM(R132:R135) -> 191.7344 | T131: =SUM(T132:T135) -> 0 | AR131: 1 | AT131: D | AU131: 1 | AY131: ROZPOCET | BK131: =SUM(BK132:BK135) -> 0
C132: 9 | D132: K | E132: 564772111.S | F132: Podklad alebo kryt z kameniva hrubého drveného veľ. 32-63 mm (vibr.štrk) po zhut.hr. 250 mm | G132: m2 | H132: 260 | J132: =ROUND(I132*H132,2) -> 0 | N132: znížená | P132: =O132*H132 -> 0 | Q132: 0.60104 | R132: =Q132*H132 -> 156.2704 | S132: 0 | T132: =S132*H132 -> 0 | AR132: 4 | AT132: K | AU132: 2 | AY132: ROZPOCET | BE132: =IF(N132="základná",J132,0) -> 0 | BF132: =IF(N132="znížená",J132,0) -> 0 | BG132: =IF(N132="zákl. prenesená",J132,0) -> 0 | BH132: =IF(N132="zníž. prenesená",J132,0) -> 0 | BI132: =IF(N132="nulová",J132,0) -> 0 | BJ132: 2 | BK132: =ROUND(I132*H132,2) -> 0 | BL132: 4 | BM132: 876922362
C133: 10 | D133: K | E133: 569903311.S | F133: Zhotovenie zemných krajníc z hornín akejkoľvek triedy so zhutnením | G133: m3 | H133: 3.9 | J133: =ROUND(I133*H133,2) -> 0 | N133: znížená | P133: =O133*H133 -> 0 | Q133: 0 | R133: =Q133*H133 -> 0 | S133: 0 | T133: =S133*H133 -> 0 | AR133: 4 | AT133: K | AU133: 2 | AY133: ROZPOCET | BE133: =IF(N133="základná",J133,0) -> 0 | BF133: =IF(N133="znížená",J133,0) -> 0 | BG133: =IF(N133="zákl. prenesená",J133,0) -> 0 | BH133: =IF(N133="zníž. prenesená",J133,0) -> 0 | BI133: =IF(N133="nulová",J133,0) -> 0 | BJ133: 2 | BK133: =ROUND(I133*H133,2) -> 0 | BL133: 4 | BM133: 585457937
C134: 11 | D134: K | E134: 573231109.S | F134: Postrek asfaltový spojovací bez posypu kamenivom z cestnej emulzie v množstve 0,70 kg/m2 | G134: m2 | H134: 260 | J134: =ROUND(I134*H134,2) -> 0 | N134: znížená | P134: =O134*H134 -> 0 | Q134: 0.00071 | R134: =Q134*H134 -> 0.1846 | S134: 0 | T134: =S134*H134 -> 0 | AR134: 4 | AT134: K | AU134: 2 | AY134: ROZPOCET | BE134: =IF(N134="základná",J134,0) -> 0 | BF134: =IF(N134="znížená",J134,0) -> 0 | BG134: =IF(N134="zákl. prenesená",J134,0) -> 0 | BH134: =IF(N134="zníž. prenesená",J134,0) -> 0 | BI134: =IF(N134="nulová",J134,0) -> 0 | BJ134: 2 | BK134: =ROUND(I134*H134,2) -> 0 | BL134: 4 | BM134: -963397050
C135: 12 | D135: K | E135: 574391111.S | F135: Makadam asfaltový penetračný s postrekom zhutnený, z kamen. hrubého z asfaltu hr. 100 mm | G135: m2 | H135: 156 | J135: =ROUND(I135*H135,2) -> 0 | N135: znížená | P135: =O135*H135 -> 0 | Q135: 0.22615 | R135: =Q135*H135 -> 35.2794 | S135: 0 | T135: =S135*H135 -> 0 | AR135: 4 | AT135: K | AU135: 2 | AY135: ROZPOCET | BE135: =IF(N135="základná",J135,0) -> 0 | BF135: =IF(N135="znížená",J135,0) -> 0 | BG135: =IF(N135="zákl. prenesená",J135,0) -> 0 | BH135: =IF(N135="zníž. prenesená",J135,0) -> 0 | BI135: =IF(N135="nulová",J135,0) -> 0 | BJ135: 2 | BK135: =ROUND(I135*H135,2) -> 0 | BL135: 4 | BM135: -649217621
D136: D | E136: 99 | F136: Presun hmôt HSV | J136: =BK136 -> 0 | P136: =P137 -> 0 | R136: =R137 -> 0 | T136: =T137 -> 0 | AR136: 1 | AT136: D | AU136: 1 | AY136: ROZPOCET | BK136: =BK137 -> 0
C137: 13 | D137: K | E137: 998225111.S | F137: Presun hmôt pre pozemnú komunikáciu a letisko s krytom asfaltovým akejkoľvek dĺžky objektu | G137: t | H137: 191.734 | J137: =ROUND(I137*H137,2) -> 0 | N137: znížená | P137: =O137*H137 -> 0 | Q137: 0 | R137: =Q137*H137 -> 0 | S137: 0 | T137: =S137*H137 -> 0 | AR137: 4 | AT137: K | AU137: 2 | AY137: ROZPOCET | BE137: =IF(N137="základná",J137,0) -> 0 | BF137: =IF(N137="znížená",J137,0) -> 0 | BG137: =IF(N137="zákl. prenesená",J137,0) -> 0 | BH137: =IF(N137="zníž. prenesená",J137,0) -> 0 | BI137: =IF(N137="nulová",J137,0) -> 0 | BJ137: 2 | BK137: =ROUND(I137*H137,2) -> 0 | BL137: 4 | BM137: -1757915762

Sheet 5 - SO 115 Odpadové potru...
L2: >> skryté stĺpce << | AT2: {2860b8e8-f352-4f0d-8555-a25bf5b7fb9e}
AT3: 0
D4: KRYCÍ LIST ROZPOČTU | M4: v --- nižšie sa nachádzajú doplnkové a pomocné údaje k zostavám --- v | AT4: False
D6: Stavba:
E7: ='Rekapitulácia stavby'!K6 -> Rokycany - Infraštruktúra, 100 Zásobovanie vodou
D8: Objekt:
E9: 5 - SO 115 Odpadové potrubie z vodojemu
D11: JKSO: | I11: ČS:
D12: Miesto: | F12: Rokycany | I12: Dátum: | J12: ='Rekapitulácia stavby'!AN8 -> Vyplň údaj
D14: Objednávateľ: | I14: IČO: | J14: =IF('Rekapitulácia stavby'!AN10="","",'Rekapitulácia stavby'!AN10)
E15: =IF('Rekapitulácia stavby'!E11="","",'Rekapitulácia stavby'!E11) | I15: IČ DPH: | J15: =IF('Rekapitulácia stavby'!AN11="","",'Rekapitulácia stavby'!AN11)
D17: Zhotoviteľ: | I17: IČO: | J17: ='Rekapitulácia stavby'!AN13 -> Vyplň údaj
E18: ='Rekapitulácia stavby'!E14 -> Vyplň údaj | I18: IČ DPH: | J18: ='Rekapitulácia stavby'!AN14 -> Vyplň údaj
D20: Projektant: | I20: IČO: | J20: =IF('Rekapitulácia stavby'!AN16="","",'Rekapitulácia stavby'!AN16)
E21: =IF('Rekapitulácia stavby'!E17="","",'Rekapitulácia stavby'!E17) | I21: IČ DPH: | J21: =IF('Rekapitulácia stavby'!AN17="","",'Rekapitulácia stavby'!AN17)
D23: Spracovateľ: | I23: IČO: | J23: =IF('Rekapitulácia stavby'!AN19="","",'Rekapitulácia stavby'!AN19)
E24: =IF('Rekapitulácia stavby'!E20="","",'Rekapitulácia stavby'!E20) | I24: IČ DPH: | J24: =IF('Rekapitulácia stavby'!AN20="","",'Rekapitulácia stavby'!AN20)
D26: Poznámka:
D30: Cena bez DPH | J30: =ROUND(J122, 2) -> 0
F32: Základ dane | I32: Sadzba dane | J32: Výška dane
D33: DPH | E33: základná | F33: =ROUND((SUM(BE122:BE155)), 2) -> 0 | I33: 0.23 | J33: =ROUND(((SUM(BE122:BE155))*I33), 2) -> 0
E34: znížená | F34: =ROUND((SUM(BF122:BF155)), 2) -> 0 | I34: 0.23 | J34: =ROUND(((SUM(BF122:BF155))*I34), 2) -> 0
E35: zákl. prenesená | F35: =ROUND((SUM(BG122:BG155)), 2) -> 0 | I35: 0.23 | J35: =0 -> 0
E36: zníž. prenesená | F36: =ROUND((SUM(BH122:BH155)), 2) -> 0 | I36: 0.23 | J36: =0 -> 0
E37: nulová | F37: =ROUND((SUM(BI122:BI155)), 2) -> 0 | I37: 0 | J37: =0 -> 0
D39: Cena s DPH | G39: v | H39: EUR | J39: =SUM(J30:J37) -> 0
D50: Projektant | G50: Spracovateľ
D61: Dátum a podpis: | F61: Pečiatka | G61: Dátum a podpis: | J61: Pečiatka
D65: Objednávateľ | G65: Zhotoviteľ
D76: Dátum a podpis: | F76: Pečiatka | G76: Dátum a podpis: | J76: Pečiatka
C82: REKAPITULÁCIA ROZPOČTU
C84: Stavba:
E85: =E7 -> Rokycany - Infraštruktúra, 100 Zásobovanie vodou
C86: Objekt:
E87: =E9 -> 5 - SO 115 Odpadové potrubie z vodojemu
C89: Miesto: | F89: =F12 -> Rokycany | I89: Dátum: | J89: =IF(J12="","",J12) -> Vyplň údaj
C91: Objednávateľ: | F91: =E15 | I91: Projektant: | J91: =E21
C92: Zhotoviteľ: | F92: =IF(E18="","",E18) -> Vyplň údaj | I92: Spracovateľ: | J92: =E24
C94: Kód dielu - Popis | J94: Cena celkom [EUR]
C96: Náklady z rozpočtu | J96: =J122 -> 0 | AU96: -1
D97: HSV - Práce a dodávky HSV | J97: =J123 -> 0
D98: 1 - Zemné práce | J98: =J124 -> 0
D99: 2 - Zakladanie | J99: =J138 -> 0
D100: 4 - Vodorovné konštrukcie | J100: =J146 -> 0
D101: 8 - Rúrové vedenie | J101: =J148 -> 0
D102: 99 - Presun hmôt HSV | J102: =J154 -> 0
C109: ROZPOČET
C111: Stavba:
E112: =E7 -> Rokycany - Infraštruktúra, 100 Zásobovanie vodou
C113: Objekt:
E114: =E9 -> 5 - SO 115 Odpadové potrubie z vodojemu
C116: Miesto: | F116: =F12 -> Rokycany | I116: Dátum: | J116: =IF(J12="","",J12) -> Vyplň údaj
C118: Objednávateľ: | F118: =E15 | I118: Projektant: | J118: =E21
C119: Zhotoviteľ: | F119: =IF(E18="","",E18) -> Vyplň údaj | I119: Spracovateľ: | J119: =E24
C121: PČ | D121: Typ | E121: Kód | F121: Popis | G121: MJ | H121: Množstvo | I121: J.cena [EUR] | J121: Cena celkom [EUR] | K121: Cenová sústava | N121: DPH | O121: J. Nh [h] | P121: Nh celkom [h] | Q121: J. hmotnosť [t] | R121: Hmotnosť celkom [t] | S121: J. suť [t] | T121: Suť Celkom [t]
C122: Náklady z rozpočtu | J122: =BK122 -> 0 | P122: =P123 -> 0 | R122: =R123 -> 19.853923 | T122: =T123 -> 0 | AT122: D | AU122: -1 | BK122: =BK123 -> 0
D123: D | E123: HSV | F123: Práce a dodávky HSV | J123: =BK123 -> 0 | P123: =P124+P138+P146+P148+P154 -> 0 | R123: =R124+R138+R146+R148+R154 -> 19.853923 | T123: =T124+T138+T146+T148+T154 -> 0 | AR123: 1 | AT123: D | AU123: 0 | AY123: ROZPOCET | BK123: =BK124+BK138+BK146+BK148+BK154 -> 0
D124: D | E124: 1 | F124: Zemné práce | J124: =BK124 -> 0 | P124: =SUM(P125:P137) -> 0 | R124: =SUM(R125:R137) -> 12.675344 | T124: =SUM(T125:T137) -> 0 | AR124: 1 | AT124: D | AU124: 1 | AY124: ROZPOCET | BK124: =SUM(BK125:BK137) -> 0
C125: 1 | D125: K | E125: 111201101.S | F125: Odstránenie krovín a stromov s koreňom s priemerom kmeňa do 100 mm, do 1000 m2 | G125: m2 | H125: 20 | J125: =ROUND(I125*H125,2) -> 0 | N125: znížená | P125: =O125*H125 -> 0 | Q125: 0 | R125: =Q125*H125 -> 0 | S125: 0 | T125: =S125*H125 -> 0 | AR125: 4 | AT125: K | AU125: 2 | AY125: ROZPOCET | BE125: =IF(N125="základná",J125,0) -> 0 | BF125: =IF(N125="znížená",J125,0) -> 0 | BG125: =IF(N125="zákl. prenesená",J125,0) -> 0 | BH125: =IF(N125="zníž. prenesená",J125,0) -> 0 | BI125: =IF(N125="nulová",J125,0) -> 0 | BJ125: 2 | BK125: =ROUND(I125*H125,2) -> 0 | BL125: 4 | BM125: -598729125
C126: 2 | D126: K | E126: 132251205.S | F126: Výkop ryhy šírky nad 600 do 2000 mm strojne v hornine tr. 3, objem do 30 m3 | G126: m3 | H126: 24.775 | J126: =ROUND(I126*H126,2) -> 0 | N126: znížená | P126: =O126*H126 -> 0 | Q126: 0 | R126: =Q126*H126 -> 0 | S126: 0 | T126: =S126*H126 -> 0 | AR126: 4 | AT126: K | AU126: 2 | AY126: ROZPOCET | BE126: =IF(N126="základná",J126,0) -> 0 | BF126: =IF(N126="znížená",J126,0) -> 0 | BG126: =IF(N126="zákl. prenesená",J126,0) -> 0 | BH126: =IF(N126="zníž. prenesená",J126,0) -> 0 | BI126: =IF(N126="nulová",J126,0) -> 0 | BJ126: 2 | BK126: =ROUND(I126*H126,2) -> 0 | BL126: 4 | BM126: 1854660912
